{"text_format":"3","workbook":"xlsx","n_sheets":14,"sheets":["OPĆI DIO","Unos prihoda i primitaka","Unos rashoda i izdataka","Unos rashoda P4","Unos prijenosa","A.1 PRIHODI I RASHODI EK","A.2 PRIHODI I RASHODI IF","A.3 RASHODI FUNK","B.1 RAČUN FINANC EK","B.2 RAČUN FINANC IF","AKT","p4","prihodi","KORISNICI DP"],"not_rendered":{"defined_names":23},"read":"whole","date_system":"1900"}

{"sheet":"OPĆI DIO","index":0,"n_rows":138,"n_cols":21,"rows_kept":138,"merged":[[0,2,0,4],[1,2,1,4],[2,2,2,4],[3,2,3,4],[4,2,4,4],[6,1,6,4],[8,1,8,4],[10,1,10,4],[20,1,20,4],[21,1,21,4],[30,1,30,4]]}
[null,"RKP-NAZIV PRORAČUNSKOG KORISNIKA","38454 SVEUČILIŠTE U RIJECI - AKADEMIJA PRIMJENJENIH UMJETNOSTI"]
[null,"MJESTO I DATUM","Rijeka, 09. prosinca 2025. godine"]
[null,"OSOBA ZA KONTAKTIRANJE","Mirela Čirjak   ",{"$nulls":7},"R.\nBR.","RKPNaziv","RKP","NAZIV PRORAČUNSKOGA KORISNIKA","DODIJELI PRIPADNOST PREMA RKP-U: \nGLAVA I SVEUČILIŠTE/MZO","ADRESA \nPRORAČUNSKOGA KORISNIKA","POŠTANSKI BROJ I NAZIV\nGRADA/OPĆINE","MATIČNI BROJ","OIB","Tip","Glava"]
[null,"TELEFON ZA KONTAKT","051/228-883",{"$nulls":7},0,"odaberite -",{"$nulls":7},"-","-"]
[null,"E-MAIL ZA KONTAKT","mirela.cirjak@apuri.uniri.hr ",{"$nulls":7},{"$f":"+K4+1","v":{"v":1,"d":"1."}},{"$f":"M5&\" \"&N5","v":"1222 MINISTARSTVO ZNANOSTI, OBRAZOVANJA I MLADIH"},1222,"MINISTARSTVO ZNANOSTI, OBRAZOVANJA I MLADIH",null,"DONJE SVETICE 38","10000 ZAGREB",{"v":3271030,"d":"03271030"},"49508397045","MZO","08005"]
[{"$nulls":10},{"v":2,"d":"2."},"1757 SVEUČILIŠTE U ZAGREBU - FAKULTET ELEKTROTEHNIKE I RAČUNARSTVA",1757,"SVEUČILIŠTE U ZAGREBU - FAKULTET ELEKTROTEHNIKE I RAČUNARSTVA","SVEUČILIŠTE U ZAGREBU","UNSKA 3","10000 ZAGREB",{"v":3276643,"d":"03276643"},"57029260362","Sveučilišta i veleučilišta u Republici Hrvatskoj","08006"]
[null,"IZMJENE I DOPUNE FINANCIJSKOG PLANA\nZA 2025. ",{"$nulls":8},{"v":3,"d":"3."},"1781 SVEUČILIŠTE U ZAGREBU - PRIRODOSLOVNO-MATEMATIČKI FAKULTET",1781,"SVEUČILIŠTE U ZAGREBU - PRIRODOSLOVNO-MATEMATIČKI FAKULTET","SVEUČILIŠTE U ZAGREBU","HORVATOVAC 102A","10000 ZAGREB",{"v":3270149,"d":"03270149"},"28163265527","Sveučilišta i veleučilišta u Republici Hrvatskoj","08006"]
[{"$nulls":10},{"v":4,"d":"4."},"1790 SVEUČILIŠTE U ZAGREBU - FAKULTET KEMIJSKOG INŽENJERSTVA I TEHNOLOGIJE",1790,"SVEUČILIŠTE U ZAGREBU - FAKULTET KEMIJSKOG INŽENJERSTVA I TEHNOLOGIJE","SVEUČILIŠTE U ZAGREBU","MARULIĆEV TRG 19","10000 ZAGREB",{"v":3250270,"d":"03250270"},"71259740533","Sveučilišta i veleučilišta u Republici Hrvatskoj","08006"]
[null,"I. OPĆI DIO",{"$nulls":8},{"v":5,"d":"5."},"1804 SVEUČILIŠTE U ZAGREBU - TEKSTILNO TEHNOLOŠKI FAKULTET",1804,"SVEUČILIŠTE U ZAGREBU - TEKSTILNO TEHNOLOŠKI FAKULTET","SVEUČILIŠTE U ZAGREBU","PRILAZ BARUNA FILIPOVIĆA 28A","10000 ZAGREB",{"v":3207064,"d":"03207064"},"43097527965","Sveučilišta i veleučilišta u Republici Hrvatskoj","08006"]
[{"$nulls":10},{"v":6,"d":"6."},"1812 SVEUČILIŠTE U ZAGREBU - FAKULTET PROMETNIH ZNANOSTI",1812,"SVEUČILIŠTE U ZAGREBU - FAKULTET PROMETNIH ZNANOSTI","SVEUČILIŠTE U ZAGREBU","VUKELIĆEVA 4","10000 ZAGREB",{"v":3260771,"d":"03260771"},"25410051374","Sveučilišta i veleučilišta u Republici Hrvatskoj","08006"]
[null,"A. SAŽETAK RAČUNA PRIHODA I RASHODA",{"$nulls":8},{"v":7,"d":"7."},"1829 SVEUČILIŠTE U ZAGREBU - FAKULTET STROJARSTVA I BRODOGRADNJE",1829,"SVEUČILIŠTE U ZAGREBU - FAKULTET STROJARSTVA I BRODOGRADNJE","SVEUČILIŠTE U ZAGREBU","IVANA LUČIĆA 5","10000 ZAGREB",{"v":3276546,"d":"03276546"},"22910368449","Sveučilišta i veleučilišta u Republici Hrvatskoj","08006"]
[{"$nulls":4},"u EUR",{"$nulls":5},{"v":8,"d":"8."},"1837 SVEUČILIŠTE U ZAGREBU - GRAĐEVINSKI FAKULTET",1837,"SVEUČILIŠTE U ZAGREBU - GRAĐEVINSKI FAKULTET","SVEUČILIŠTE U ZAGREBU","FRA ANDRIJE KAČIĆA MIOŠIĆA 26","10000 ZAGREB",{"v":3227120,"d":"03227120"},"62924153420","Sveučilišta i veleučilišta u Republici Hrvatskoj","08006"]
[null,null,"PLAN 2025.","Povećanje/\nsmanjenje","NOVI PLAN 2025.",{"$nulls":5},{"v":9,"d":"9."},"1845 SVEUČILIŠTE U ZAGREBU - PREHRAMBENO BIOTEHNOLOŠKI FAKULTET",1845,"SVEUČILIŠTE U ZAGREBU - PREHRAMBENO BIOTEHNOLOŠKI FAKULTET","SVEUČILIŠTE U ZAGREBU","PIEROTTIJEVA 6","10000 ZAGREB",{"v":3207102,"d":"03207102"},"47824453867","Sveučilišta i veleučilišta u Republici Hrvatskoj","08006"]
[6,"PRIHODI POSLOVANJA",{"$f":"'A.1 PRIHODI I RASHODI EK'!D11","v":{"v":3376426,"d":"3,376,426"}},{"$f":"'A.1 PRIHODI I RASHODI EK'!E11","v":{"v":573955,"d":"573,955"}},{"$f":"'A.1 PRIHODI I RASHODI EK'!F11","v":{"v":3950381,"d":"3,950,381"}},{"$nulls":5},{"v":10,"d":"10."},"1853 SVEUČILIŠTE U ZAGREBU - GEODETSKI FAKULTET",1853,"SVEUČILIŠTE U ZAGREBU - GEODETSKI FAKULTET","SVEUČILIŠTE U ZAGREBU","A. KAČIĆA MIOŠIĆA 26","10000 ZAGREB",{"v":3204987,"d":"03204987"},"43594593297","Sveučilišta i veleučilišta u Republici Hrvatskoj","08006"]
[7,"PRIHODI OD NEFINANCIJSKE IMOVINE",{"$f":"'A.1 PRIHODI I RASHODI EK'!D19","v":0},{"$f":"'A.1 PRIHODI I RASHODI EK'!E19","v":0},{"$f":"'A.1 PRIHODI I RASHODI EK'!F19","v":0},{"$nulls":5},{"v":11,"d":"11."},"1861 SVEUČILIŠTE U ZAGREBU - ARHITEKTONSKI FAKULTET ",1861,"SVEUČILIŠTE U ZAGREBU - ARHITEKTONSKI FAKULTET ","SVEUČILIŠTE U ZAGREBU","KAČIĆEVA 26","10000 ZAGREB",{"v":3204952,"d":"03204952"},"42061107444","Sveučilišta i veleučilišta u Republici Hrvatskoj","08006"]
[null,"PRIHODI UKUPNO",{"$f":"SUM(C14:C15)","v":{"v":3376426,"d":"3,376,426"}},{"$f":"+D14+D15","v":{"v":573955,"d":"573,955"}},{"$f":"+E14+E15","v":{"v":3950381,"d":"3,950,381"}},{"$nulls":5},{"v":12,"d":"12."},"1870 SVEUČILIŠTE U ZAGREBU - STOMATOLOŠKI FAKULTET",1870,"SVEUČILIŠTE U ZAGREBU - STOMATOLOŠKI FAKULTET","SVEUČILIŠTE U ZAGREBU","GUNDULIĆEVA 5","10000 ZAGREB",{"v":3204995,"d":"03204995"},"70221464726","Sveučilišta i veleučilišta u Republici Hrvatskoj","08006"]
[3,"RASHODI  POSLOVANJA",{"$f":"'A.1 PRIHODI I RASHODI EK'!D27","v":{"v":3357710,"d":"3,357,710"}},{"$f":"'A.1 PRIHODI I RASHODI EK'!E27","v":{"v":469030,"d":"469,030"}},{"$f":"'A.1 PRIHODI I RASHODI EK'!F27","v":{"v":3826740,"d":"3,826,740"}},{"$nulls":5},{"v":13,"d":"13."},"1888 SVEUČILIŠTE U ZAGREBU - MEDICINSKI FAKULTET",1888,"SVEUČILIŠTE U ZAGREBU - MEDICINSKI FAKULTET","SVEUČILIŠTE U ZAGREBU","ŠALATA 3","10000 ZAGREB",{"v":3270211,"d":"03270211"},"45001686598","Sveučilišta i veleučilišta u Republici Hrvatskoj","08006"]
[4,"RASHODI ZA NEFINANCIJSKU IMOVINU",{"$f":"'A.1 PRIHODI I RASHODI EK'!D35","v":{"v":33299,"d":"33,299"}},{"$f":"'A.1 PRIHODI I RASHODI EK'!E35","v":{"v":78633,"d":"78,633"}},{"$f":"'A.1 PRIHODI I RASHODI EK'!F35","v":{"v":111932,"d":"111,932"}},{"$nulls":5},{"v":14,"d":"14."},"1896 SVEUČILIŠTE U ZAGREBU - FAKULTET ŠUMARSTVA I DRVNE TEHNOLOGIJE",1896,"SVEUČILIŠTE U ZAGREBU - FAKULTET ŠUMARSTVA I DRVNE TEHNOLOGIJE","SVEUČILIŠTE U ZAGREBU","SVETOŠIMUNSKA CESTA 25","10000 ZAGREB",{"v":3281485,"d":"03281485"},"07699719217","Sveučilišta i veleučilišta u Republici Hrvatskoj","08006"]
[null,"RASHODI UKUPNO",{"$f":"SUM(C17:C18)","v":{"v":3391009,"d":"3,391,009"}},{"$f":"+D17+D18","v":{"v":547663,"d":"547,663"}},{"$f":"+E17+E18","v":{"v":3938672,"d":"3,938,672"}},{"$nulls":5},{"v":15,"d":"15."},"1907 SVEUČILIŠTE U ZAGREBU - FAKULTET POLITIČKIH ZNANOSTI",1907,"SVEUČILIŠTE U ZAGREBU - FAKULTET POLITIČKIH ZNANOSTI","SVEUČILIŠTE U ZAGREBU","LEPUŠIĆEVA 6","10000 ZAGREB",{"v":3270262,"d":"03270262"},"28011548575","Sveučilišta i veleučilišta u Republici Hrvatskoj","08006"]
[null,"RAZLIKA - VIŠAK / MANJAK",{"$f":"+C16-C19","v":{"v":-14583,"d":"-14,583"}},{"$f":"+D16-D19","v":{"v":26292,"d":"26,292"}},{"$f":"+E16-E19","v":{"v":11709,"d":"11,709"}},{"$nulls":5},{"v":16,"d":"16."},"1915 SVEUČILIŠTE U ZAGREBU - PRAVNI FAKULTET",1915,"SVEUČILIŠTE U ZAGREBU - PRAVNI FAKULTET","SVEUČILIŠTE U ZAGREBU","TRG REPUBLIKE HRVATSKE 14","10000 ZAGREB",{"v":3225909,"d":"03225909"},"38583303160","Sveučilišta i veleučilišta u Republici Hrvatskoj","08006"]
[{"$nulls":10},{"v":17,"d":"17."},"1923 SVEUČILIŠTE U ZAGREBU - AGRONOMSKI FAKULTET",1923,"SVEUČILIŠTE U ZAGREBU - AGRONOMSKI FAKULTET","SVEUČILIŠTE U ZAGREBU","SVETOŠIMUNSKA CESTA 25","10000 ZAGREB",{"v":3283097,"d":"03283097"},"76023745044","Sveučilišta i veleučilišta u Republici Hrvatskoj","08006"]
[null,"B. SAŽETAK RAČUNA FINANCIRANJA",{"$nulls":8},{"v":18,"d":"18."},"1931 SVEUČILIŠTE U ZAGREBU - EKONOMSKI FAKULTET",1931,"SVEUČILIŠTE U ZAGREBU - EKONOMSKI FAKULTET","SVEUČILIŠTE U ZAGREBU","TRG J. F. KENNEDEYA 6","10000 ZAGREB",{"v":3272079,"d":"03272079"},"27208467122","Sveučilišta i veleučilišta u Republici Hrvatskoj","08006"]
[{"$nulls":4},"u EUR",{"$nulls":5},{"v":19,"d":"19."},"1940 SVEUČILIŠTE U ZAGREBU - UČITELJSKI FAKULTET",1940,"SVEUČILIŠTE U ZAGREBU - UČITELJSKI FAKULTET","SVEUČILIŠTE U ZAGREBU","SAVSKA CESTA 77","10000 ZAGREB",{"v":1422545,"d":"01422545"},"72226488129","Sveučilišta i veleučilišta u Republici Hrvatskoj","08006"]
[null,null,"PLAN 2025.","Povećanje/\nsmanjenje","NOVI PLAN 2025.",{"$nulls":5},{"v":20,"d":"20."},"1958 SVEUČILIŠTE U ZAGREBU - FILOZOFSKI FAKULTET",1958,"SVEUČILIŠTE U ZAGREBU - FILOZOFSKI FAKULTET","SVEUČILIŠTE U ZAGREBU","IVANA LUČIĆA 3","10000 ZAGREB",{"v":3254852,"d":"03254852"},"90633715804","Sveučilišta i veleučilišta u Republici Hrvatskoj","08006"]
[8,"PRIMICI OD FINANCIJSKE IMOVINE I ZADUŽIVANJA",{"$f":"'B.1 RAČUN FINANC EK'!D10","v":0},{"$f":"'B.1 RAČUN FINANC EK'!E10","v":0},{"$f":"'B.1 RAČUN FINANC EK'!F10","v":0},{"$nulls":5},{"v":21,"d":"21."},"1966 SVEUČILIŠTE U ZAGREBU - EDUKACIJSKO-REHABILITACIJSKI FAKULTET ",1966,"SVEUČILIŠTE U ZAGREBU - EDUKACIJSKO-REHABILITACIJSKI FAKULTET ","SVEUČILIŠTE U ZAGREBU","BORONGAJSKA CESTA 83F","10000 ZAGREB",{"v":3219780,"d":"03219780"},"34967762426","Sveučilišta i veleučilišta u Republici Hrvatskoj","08006"]
[5,"IZDACI ZA FINANCIJSKU IMOVINU I OTPLATE ZAJMOVA",{"$f":"'B.1 RAČUN FINANC EK'!D15","v":0},{"$f":"'B.1 RAČUN FINANC EK'!E15","v":0},{"$f":"'B.1 RAČUN FINANC EK'!F15","v":0},{"$nulls":5},{"v":22,"d":"22."},"1974 SVEUČILIŠTE U ZAGREBU - AKADEMIJA DRAMSKE UMJETNOSTI",1974,"SVEUČILIŠTE U ZAGREBU - AKADEMIJA DRAMSKE UMJETNOSTI","SVEUČILIŠTE U ZAGREBU","TRG REPUBLIKE HRVATSKE 5","10000 ZAGREB",{"v":3205029,"d":"03205029"},"52097842295","Sveučilišta i veleučilišta u Republici Hrvatskoj","08006"]
[null,"RAZLIKA PRIMITAKA I IZDATAKA",{"$f":"+C25-C26","v":0},{"$f":"+D25-D26","v":0},{"$f":"+E25-E26","v":0},{"$nulls":5},{"v":23,"d":"23."},"1982 SVEUČILIŠTE U ZAGREBU - AKADEMIJA LIKOVNIH UMJETNOSTI",1982,"SVEUČILIŠTE U ZAGREBU - AKADEMIJA LIKOVNIH UMJETNOSTI","SVEUČILIŠTE U ZAGREBU","ILICA 85","10000 ZAGREB",{"v":3207919,"d":"03207919"},"95847257607","Sveučilišta i veleučilišta u Republici Hrvatskoj","08006"]
["DONOS","PRIJENOS SREDSTAVA IZ PRETHODNE GODINE",{"$f":"+'Unos prijenosa'!D5","v":{"v":22078,"d":"22,078"}},{"$f":"+E28-C28","v":{"v":-4101,"d":"-4,101"}},{"$f":"+'Unos prijenosa'!D13","v":{"v":17977,"d":"17,977"}},{"$nulls":5},{"v":24,"d":"24."},"1999 SVEUČILIŠTE U ZAGREBU - MUZIČKA AKADEMIJA",1999,"SVEUČILIŠTE U ZAGREBU - MUZIČKA AKADEMIJA","SVEUČILIŠTE U ZAGREBU","TRG REPUBLIKE HRVATSKE 12","10000 ZAGREB",{"v":3205002,"d":"03205002"},"18422925218","Sveučilišta i veleučilišta u Republici Hrvatskoj","08006"]
["ODNOS","PRIJENOS SREDSTAVA U SLJEDEĆE RAZDOBLJE",{"$f":"+'Unos prijenosa'!D7","v":{"v":-7495,"d":"-7,495"}},{"$f":"+E29-C29","v":{"v":-22191,"d":"-22,191"}},{"$f":"+'Unos prijenosa'!D15","v":{"v":-29686,"d":"-29,686"}},{"$nulls":5},{"v":25,"d":"25."},"2006 SVEUČILIŠTE U ZAGREBU - KINEZIOLOŠKI FAKULTET",2006,"SVEUČILIŠTE U ZAGREBU - KINEZIOLOŠKI FAKULTET","SVEUČILIŠTE U ZAGREBU","HORVAĆANSKI ZAVOJ 15","10000 ZAGREB",{"v":3274080,"d":"03274080"},"25329931628","Sveučilišta i veleučilišta u Republici Hrvatskoj","08006"]
[null,"NETO FINANCIRANJE",{"$f":"+C27+C28+C29","v":{"v":14583,"d":"14,583"}},{"$f":"+D27+D28+D29","v":{"v":-26292,"d":"-26,292"}},{"$f":"+E27+E28+E29","v":{"v":-11709,"d":"-11,709"}},{"$nulls":5},{"v":26,"d":"26."},"2014 SVEUČILIŠTE U ZAGREBU - FARMACEUTSKO-BIOKEMIJSKI FAKULTET ",2014,"SVEUČILIŠTE U ZAGREBU - FARMACEUTSKO-BIOKEMIJSKI FAKULTET ","SVEUČILIŠTE U ZAGREBU","ANTE KOVAČIĆA 1","10000 ZAGREB",{"v":3205037,"d":"03205037"},"14509285435","Sveučilišta i veleučilišta u Republici Hrvatskoj","08006"]
[{"$nulls":10},{"v":27,"d":"27."},"2022 SVEUČILIŠTE U ZAGREBU - VETERINARSKI FAKULTET",2022,"SVEUČILIŠTE U ZAGREBU - VETERINARSKI FAKULTET","SVEUČILIŠTE U ZAGREBU","HEINZELOVA 55","10000 ZAGREB",{"v":3225755,"d":"03225755"},"36389528408","Sveučilišta i veleučilišta u Republici Hrvatskoj","08006"]
[null,"VIŠAK / MANJAK + NETO FINANCIRANJE",{"$f":"+C20+C30","v":0},{"$f":"+D20+D30","v":0},{"$f":"+E20+E30","v":0},{"$nulls":5},{"v":28,"d":"28."},"2047 SVEUČILIŠTE U ZAGREBU - RUDARSKO-GEOLOŠKO-NAFTNI FAKULTET",2047,"SVEUČILIŠTE U ZAGREBU - RUDARSKO-GEOLOŠKO-NAFTNI FAKULTET","SVEUČILIŠTE U ZAGREBU","PIEROTTIJEVA 6","10000 ZAGREB",{"v":3207005,"d":"03207005"},"99534693762","Sveučilišta i veleučilišta u Republici Hrvatskoj","08006"]
[{"$nulls":10},{"v":29,"d":"29."},"2063 FAKULTET ORGANIZACIJE I INFORMATIKE U VARAŽDINU",2063,"FAKULTET ORGANIZACIJE I INFORMATIKE U VARAŽDINU","SVEUČILIŠTE U ZAGREBU","PAVLINSKA 2","42000 VARAŽDIN",{"v":3006107,"d":"03006107"},"02024882310","Sveučilišta i veleučilišta u Republici Hrvatskoj","08006"]
[{"$nulls":10},{"v":30,"d":"30."},"2071 SVEUČILIŠTE U ZAGREBU - METALURŠKI FAKULTET SISAK",2071,"SVEUČILIŠTE U ZAGREBU - METALURŠKI FAKULTET SISAK","SVEUČILIŠTE U ZAGREBU","ALEJA NARODNIH HEROJA 3","44000 SISAK",{"v":3313786,"d":"03313786"},"48006703414","Sveučilišta i veleučilišta u Republici Hrvatskoj","08006"]
[{"$nulls":10},{"v":31,"d":"31."},"2080 SVEUČILIŠTE U ZAGREBU - GRAFIČKI FAKULTET",2080,"SVEUČILIŠTE U ZAGREBU - GRAFIČKI FAKULTET","SVEUČILIŠTE U ZAGREBU","GETALDIĆEVA 2","10000 ZAGREB",{"v":3219763,"d":"03219763"},"25564990903","Sveučilišta i veleučilišta u Republici Hrvatskoj","08006"]
[{"$nulls":10},{"v":32,"d":"32."},"2102 SVEUČILIŠTE U ZAGREBU - GEOTEHNIČKI FAKULTET",2102,"SVEUČILIŠTE U ZAGREBU - GEOTEHNIČKI FAKULTET","SVEUČILIŠTE U ZAGREBU","HALLEROVA ALEJA 7","42000 VARAŽDIN",{"v":3042316,"d":"03042316"},"16146181375","Sveučilišta i veleučilišta u Republici Hrvatskoj","08006"]
[{"$nulls":10},{"v":33,"d":"33."},{"$f":"M37&\" \"&N37","v":"2135 SVEUČILIŠTE U ZAGREBU - KATOLIČKI BOGOSLOVNI FAKULTET "},2135,"SVEUČILIŠTE U ZAGREBU - KATOLIČKI BOGOSLOVNI FAKULTET ","SVEUČILIŠTE U ZAGREBU","VLAŠKA 38 ","10000 ZAGREB",{"v":3703088,"d":"03703088"},48987767944,"Sveučilišta i veleučilišta u Republici Hrvatskoj","08006"]
[{"$nulls":10},{"v":34,"d":"34."},"2151 SVEUČILIŠTE U RIJECI - TEHNIČKI FAKULTET",2151,"SVEUČILIŠTE U RIJECI - TEHNIČKI FAKULTET","SVEUČILIŠTE U RIJECI","VUKOVARSKA 58","51000 RIJEKA",{"v":3334317,"d":"03334317"},"46319717480","Sveučilišta i veleučilišta u Republici Hrvatskoj","08006"]
[{"$nulls":10},{"v":35,"d":"35."},"2160 SVEUČILIŠTE U RIJECI - GRAĐEVINSKI FAKULTET",2160,"SVEUČILIŠTE U RIJECI - GRAĐEVINSKI FAKULTET","SVEUČILIŠTE U RIJECI","RADMILE MATEJČIĆ 3","51000 RIJEKA",{"v":3395855,"d":"03395855"},"92037849504","Sveučilišta i veleučilišta u Republici Hrvatskoj","08006"]
[{"$nulls":10},{"v":36,"d":"36."},"2186 SVEUČILIŠTE U RIJECI - EKONOMSKI FAKULTET",2186,"SVEUČILIŠTE U RIJECI - EKONOMSKI FAKULTET","SVEUČILIŠTE U RIJECI","IVANA FILIPOVIĆA 4","51000 RIJEKA",{"v":3328627,"d":"03328627"},"26093119930","Sveučilišta i veleučilišta u Republici Hrvatskoj","08006"]
[{"$nulls":10},{"v":37,"d":"37."},"2194 SVEUČILIŠTE U RIJECI - FAKULTET ZA MENADŽMENT U TURIZMU I UGOSTITELJSTVU",2194,"SVEUČILIŠTE U RIJECI - FAKULTET ZA MENADŽMENT U TURIZMU I UGOSTITELJSTVU","SVEUČILIŠTE U RIJECI","IKA PRIMORSKA 42","51410 OPATIJA",{"v":3091732,"d":"03091732"},"85799845149","Sveučilišta i veleučilišta u Republici Hrvatskoj","08006"]
[{"$nulls":10},{"v":38,"d":"38."},"2217 SVEUČILIŠTE U RIJECI - PRAVNI FAKULTET",2217,"SVEUČILIŠTE U RIJECI - PRAVNI FAKULTET","SVEUČILIŠTE U RIJECI","HAHLIĆ 6","51000 RIJEKA",{"v":3328562,"d":"03328562"},"43767699965","Sveučilišta i veleučilišta u Republici Hrvatskoj","08006"]
[{"$nulls":10},{"v":39,"d":"39."},"2225 SVEUČILIŠTE U RIJECI - MEDICINSKI FAKULTET",2225,"SVEUČILIŠTE U RIJECI - MEDICINSKI FAKULTET","SVEUČILIŠTE U RIJECI","BRAĆE BRANCHETTA 20","51000 RIJEKA",{"v":3328554,"d":"03328554"},"98164324541","Sveučilišta i veleučilišta u Republici Hrvatskoj","08006"]
[{"$nulls":10},{"v":40,"d":"40."},"2250 SVEUČILIŠTE J. J. STROSSMAYERA U OSIJEKU - GRAĐEVINSKI I ARHITEKTONSKI FAKULTET OSIJEK",2250,"SVEUČILIŠTE J. J. STROSSMAYERA U OSIJEKU - GRAĐEVINSKI I ARHITEKTONSKI FAKULTET OSIJEK","SVEUČILIŠTE J.J STROSSMAYERA U OSIJEKU","ULICA VLADIMIRA PRELOGA 3","31000 OSIJEK",{"v":3397335,"d":"03397335"},"04150850819","Sveučilišta i veleučilišta u Republici Hrvatskoj","08006"]
[{"$nulls":10},{"v":41,"d":"41."},"2268 SVEUČILIŠTE J. J. STROSSMAYERA U OSIJEKU - FAKULTET AGROBIOTEHNIČKIH ZNANOSTI OSIJEK",2268,"SVEUČILIŠTE J. J. STROSSMAYERA U OSIJEKU - FAKULTET AGROBIOTEHNIČKIH ZNANOSTI OSIJEK","SVEUČILIŠTE J.J STROSSMAYERA U OSIJEKU","VLADIMIRA PRELOGA 1","31000 OSIJEK",{"v":3058212,"d":"03058212"},"98816779821","Sveučilišta i veleučilišta u Republici Hrvatskoj","08006"]
[{"$nulls":10},{"v":42,"d":"42."},"2276 SVEUČILIŠTE J. J. STROSSMAYERA U OSIJEKU - PREHRAMBENO TEHNOLOŠKI FAKULTET",2276,"SVEUČILIŠTE J. J. STROSSMAYERA U OSIJEKU - PREHRAMBENO TEHNOLOŠKI FAKULTET","SVEUČILIŠTE J.J STROSSMAYERA U OSIJEKU","FRANJE KUHAČA 18","31000 OSIJEK",{"v":3058204,"d":"03058204"},"96371000697","Sveučilišta i veleučilišta u Republici Hrvatskoj","08006"]
[{"$nulls":10},{"v":43,"d":"43."},"2284 SVEUČILIŠTE J. J. STROSSMAYERA U OSIJEKU - EKONOMSKI FAKULTET",2284,"SVEUČILIŠTE J. J. STROSSMAYERA U OSIJEKU - EKONOMSKI FAKULTET","SVEUČILIŠTE J.J STROSSMAYERA U OSIJEKU","TRG LJUDEVITA GAJA 7","31000 OSIJEK",{"v":3021645,"d":"03021645"},"52778515544","Sveučilišta i veleučilišta u Republici Hrvatskoj","08006"]
[{"$nulls":10},{"v":44,"d":"44."},"2292 SVEUČILIŠTE J. J. STROSSMAYERA U OSIJEKU - PRAVNI FAKULTET",2292,"SVEUČILIŠTE J. J. STROSSMAYERA U OSIJEKU - PRAVNI FAKULTET","SVEUČILIŠTE J.J STROSSMAYERA U OSIJEKU","STJEPANA RADIĆA 13","31000 OSIJEK",{"v":3014193,"d":"03014193"},"26416570803","Sveučilišta i veleučilišta u Republici Hrvatskoj","08006"]
[{"$nulls":10},{"v":45,"d":"45."},"2313 SVEUČILIŠTE J. J. STROSSMAYERA U OSIJEKU - FAKULTET ELEKTROTEHNIKE, RAČUNARSTVA I INFORMACIJSKIH TEHNOLOGIJA OSIJEK",2313,"SVEUČILIŠTE J. J. STROSSMAYERA U OSIJEKU - FAKULTET ELEKTROTEHNIKE, RAČUNARSTVA I INFORMACIJSKIH TEHNOLOGIJA OSIJEK","SVEUČILIŠTE J.J STROSSMAYERA U OSIJEKU","KNEZA TRPIMIRA 2 B","31000 OSIJEK",{"v":3392589,"d":"03392589"},"95494259952","Sveučilišta i veleučilišta u Republici Hrvatskoj","08006"]
[{"$nulls":10},{"v":46,"d":"46."},"2321 SVEUČILIŠTE J. J. STROSSMAYERA U OSIJEKU - FILOZOFSKI FAKULTET",2321,"SVEUČILIŠTE J. J. STROSSMAYERA U OSIJEKU - FILOZOFSKI FAKULTET","SVEUČILIŠTE J.J STROSSMAYERA U OSIJEKU","LORENZA JAGERA 9","31000 OSIJEK",{"v":3014185,"d":"03014185"},"58868871646","Sveučilišta i veleučilišta u Republici Hrvatskoj","08006"]
[{"$nulls":10},{"v":47,"d":"47."},"2330 SVEUČILIŠTE U SPLITU - FAKULTET ELEKTROTEHNIKE, STROJARSTVA I BRODOGRADNJE",2330,"SVEUČILIŠTE U SPLITU - FAKULTET ELEKTROTEHNIKE, STROJARSTVA I BRODOGRADNJE","SVEUČILIŠTE U SPLITU","RUĐERA BOŠKOVIĆA 32","21000 SPLIT",{"v":3118339,"d":"03118339"},"00857144221","Sveučilišta i veleučilišta u Republici Hrvatskoj","08006"]
[{"$nulls":10},{"v":48,"d":"48."},"2348 SVEUČILIŠTE U SPLITU - FAKULTET GRAĐEVINARSTVA, ARHITEKTURE I GEODEZIJE",2348,"SVEUČILIŠTE U SPLITU - FAKULTET GRAĐEVINARSTVA, ARHITEKTURE I GEODEZIJE","SVEUČILIŠTE U SPLITU","MATICE HRVATSKE 15","21000 SPLIT",{"v":3149463,"d":"03149463"},"83615500218","Sveučilišta i veleučilišta u Republici Hrvatskoj","08006"]
[{"$nulls":10},{"v":49,"d":"49."},"2356 SVEUČILIŠTE U SPLITU - KEMIJSKO-TEHNOLOŠKI FAKULTET",2356,"SVEUČILIŠTE U SPLITU - KEMIJSKO-TEHNOLOŠKI FAKULTET","SVEUČILIŠTE U SPLITU","RUĐERA BOŠKOVIĆA 35","21000 SPLIT",{"v":3119068,"d":"03119068"},"99401575594","Sveučilišta i veleučilišta u Republici Hrvatskoj","08006"]
[{"$nulls":10},{"v":50,"d":"50."},"2372 SVEUČILIŠTE U SPLITU - EKONOMSKI FAKULTET",2372,"SVEUČILIŠTE U SPLITU - EKONOMSKI FAKULTET","SVEUČILIŠTE U SPLITU","CVITE FISKOVIĆA 5","21000 SPLIT",{"v":3119076,"d":"03119076"},"84477684422","Sveučilišta i veleučilišta u Republici Hrvatskoj","08006"]
[{"$nulls":10},{"v":51,"d":"51."},"2397 SVEUČILIŠTE U SPLITU - PRAVNI FAKULTET",2397,"SVEUČILIŠTE U SPLITU - PRAVNI FAKULTET","SVEUČILIŠTE U SPLITU","DOMOVINSKOG RATA 8","21000 SPLIT",{"v":3118347,"d":"03118347"},"03541568700","Sveučilišta i veleučilišta u Republici Hrvatskoj","08006"]
[{"$nulls":10},{"v":52,"d":"52."},"2410 SVEUČILIŠTE U SPLITU - PRIRODOSLOVNO - MATEMATIČKI FAKULTET",2410,"SVEUČILIŠTE U SPLITU - PRIRODOSLOVNO - MATEMATIČKI FAKULTET","SVEUČILIŠTE U SPLITU","RUĐERA BOŠKOVIĆA 33","21000 SPLIT",{"v":3199622,"d":"03199622"},"20858497843","Sveučilišta i veleučilišta u Republici Hrvatskoj","08006"]
[{"$nulls":10},{"v":53,"d":"53."},"2436 SVEUČILIŠTE U ZAGREBU",2436,"SVEUČILIŠTE U ZAGREBU","SVEUČILIŠTE U ZAGREBU","TRG REPUBLIKE HRVATSKE 14","10000 ZAGREB",{"v":3211592,"d":"03211592"},"36612267447","Sveučilišta i veleučilišta u Republici Hrvatskoj","08006"]
[{"$nulls":10},{"v":54,"d":"54."},"2444 SVEUČILIŠTE U RIJECI",2444,"SVEUČILIŠTE U RIJECI","SVEUČILIŠTE U RIJECI","TRG BRAĆE MAŽURANIĆA 10","51000 RIJEKA",{"v":3337413,"d":"03337413"},"64218323816","Sveučilišta i veleučilišta u Republici Hrvatskoj","08006"]
[{"$nulls":10},{"v":55,"d":"55."},"2452 SVEUČILIŠTE J. J. STROSSMAYERA U OSIJEKU",2452,"SVEUČILIŠTE J. J. STROSSMAYERA U OSIJEKU","SVEUČILIŠTE J.J STROSSMAYERA U OSIJEKU","TRG SV. TROJSTVA 3","31000 OSIJEK",{"v":3049779,"d":"03049779"},"78808975734","Sveučilišta i veleučilišta u Republici Hrvatskoj","08006"]
[{"$nulls":10},{"v":56,"d":"56."},"2469 SVEUČILIŠTE U SPLITU",2469,"SVEUČILIŠTE U SPLITU","SVEUČILIŠTE U SPLITU","POLJIČKA CESTA 35","21000 SPLIT",{"v":3129306,"d":"03129306"},"29845096215","Sveučilišta i veleučilišta u Republici Hrvatskoj","08006"]
[{"$nulls":10},{"v":57,"d":"57."},"2493 SVEUČILIŠTE U RIJECI - SVEUČILIŠNA KNJIŽNICA",2493,"SVEUČILIŠTE U RIJECI - SVEUČILIŠNA KNJIŽNICA","SVEUČILIŠTE U RIJECI"," DOLAC 1","51000 RIJEKA",{"v":3328686,"d":"03328686"},"84122581314","Sveučilišta i veleučilišta u Republici Hrvatskoj","08006"]
[{"$nulls":10},{"v":58,"d":"58."},"2508 SVEUČILIŠTE J. J. STROSSMAYERA U OSIJEKU - GRADSKA I SVEUČILIŠNA KNJIŽNICA",2508,"SVEUČILIŠTE J. J. STROSSMAYERA U OSIJEKU - GRADSKA I SVEUČILIŠNA KNJIŽNICA","SVEUČILIŠTE J.J STROSSMAYERA U OSIJEKU","EUROPSKA AVENIJA 24","31000 OSIJEK",{"v":3014347,"d":"03014347"},"46627536930","Sveučilišta i veleučilišta u Republici Hrvatskoj","08006"]
[{"$nulls":10},{"v":59,"d":"59."},"2524 SVEUČILIŠTE U SPLITU - SVEUČILIŠNA KNJIŽNICA",2524,"SVEUČILIŠTE U SPLITU - SVEUČILIŠNA KNJIŽNICA","SVEUČILIŠTE U SPLITU","RUĐERA BOŠKOVIĆA 31","21000 SPLIT",{"v":3118436,"d":"03118436"},"40099344720","Sveučilišta i veleučilišta u Republici Hrvatskoj","08006"]
[{"$nulls":10},{"v":60,"d":"60."},null,2532,"SVEUČILIŠTE U ZADRU, ZNANSTVENA KNJIŽNICA ","SVEUČILIŠTE U ZADRU",null,null,"03141993","94403503942","Sveučilišta i veleučilišta u Republici Hrvatskoj","08006"]
[{"$nulls":10},{"v":61,"d":"61."},{"$f":"M65&\" \"&N65","v":"2900 INSTITUT ZA OCEANOGRAFIJU I RIBARSTVO"},2900,"INSTITUT ZA OCEANOGRAFIJU I RIBARSTVO","JAVNI INSTITUTI","ŠETALIŠTE I. MEŠTROVIĆA 63","21000 SPLIT",{"v":3118355,"d":"03118355"},"86235185568","Javni instituti","08008"]
[{"$nulls":10},{"v":62,"d":"62."},"2918 EKONOMSKI INSTITUT ZAGREB",2918,"EKONOMSKI INSTITUT ZAGREB","JAVNI INSTITUTI","TRG JOHNA KENNEDYA 7","10000 ZAGREB",{"v":3219925,"d":"03219925"},"70925432731","Javni instituti","08008"]
[{"$nulls":10},{"v":63,"d":"63."},"2934 HRVATSKI INSTITUT ZA POVIJEST",2934,"HRVATSKI INSTITUT ZA POVIJEST","JAVNI INSTITUTI","OPATIČKA 10","10000 ZAGREB",{"v":3207153,"d":"03207153"},"23296176633","Javni instituti","08008"]
[{"$nulls":10},{"v":64,"d":"64."},"2942 INSTITUT ZA POVIJEST UMJETNOSTI",2942,"INSTITUT ZA POVIJEST UMJETNOSTI","JAVNI INSTITUTI","ULICA GRADA VUKOVARA 68","10000 ZAGREB",{"v":1339958,"d":"01339958"},"59451980348","Javni instituti","08008"]
[{"$nulls":10},{"v":65,"d":"65."},"2959 INSTITUT ZA MEDICINSKA ISTRAŽIVANJA I MEDICINU RADA",2959,"INSTITUT ZA MEDICINSKA ISTRAŽIVANJA I MEDICINU RADA","JAVNI INSTITUTI","KSAVERSKA CESTA 2","10000 ZAGREB",{"v":3270475,"d":"03270475"},"30285469659","Javni instituti","08008"]
[{"$nulls":10},{"v":66,"d":"66."},"2967 HRVATSKI ŠUMARSKI INSTITUT",2967,"HRVATSKI ŠUMARSKI INSTITUT","JAVNI INSTITUTI","CVJETNO NASELJE 41","10450 JASTREBARSKO",{"v":3115879,"d":"03115879"},"13579392023","Javni instituti","08008"]
[{"$nulls":10},{"v":67,"d":"67."},"2975 INSTITUT ZA FIZIKU",2975,"INSTITUT ZA FIZIKU","JAVNI INSTITUTI","BIJENIČKA CESTA 46","10000 ZAGREB",{"v":3270424,"d":"03270424"},"77627408491","Javni instituti","08008"]
[{"$nulls":10},{"$f":"+K71+1","v":{"v":68,"d":"68."}},"2991 POLJOPRIVREDNI INSTITUT OSIJEK",2991,"POLJOPRIVREDNI INSTITUT OSIJEK","JAVNI INSTITUTI","JUŽNO PREDGRAĐE 17","31000 OSIJEK",{"v":3058239,"d":"03058239"},"03665720049","Javni instituti","08008"]
[{"$nulls":10},{"v":69,"d":"69."},"3009 INSTITUT ZA MIGRACIJE I NARODNOSTI",3009,"INSTITUT ZA MIGRACIJE I NARODNOSTI","JAVNI INSTITUTI","TRG STJEPANA RADIĆA 3","10000 ZAGREB",{"v":3287572,"d":"03287572"},"80265403319","Javni instituti","08008"]
[{"$nulls":10},{"v":70,"d":"70."},"3025 INSTITUT ZA JADRANSKE KULTURE I MELIORACIJU KRŠA",3025,"INSTITUT ZA JADRANSKE KULTURE I MELIORACIJU KRŠA","JAVNI INSTITUTI","PUT DUILOVA 11","21000 SPLIT",{"v":3140792,"d":"03140792"},"90884993104","Javni instituti","08008"]
[{"$nulls":10},{"v":71,"d":"71."},"3041 INSTITUT RUĐER BOŠKOVIĆ",3041,"INSTITUT RUĐER BOŠKOVIĆ","JAVNI INSTITUTI","BIJENIČKA CESTA 46","10000 ZAGREB",{"v":3270289,"d":"03270289"},"69715301002","Javni instituti","08008"]
[{"$nulls":10},{"v":72,"d":"72."},"3050 INSTITUT ZA DRUŠTVENA ISTRAŽIVANJA",3050,"INSTITUT ZA DRUŠTVENA ISTRAŽIVANJA","JAVNI INSTITUTI","AMRUŠEVA 11","10000 ZAGREB",{"v":3205118,"d":"03205118"},"11986338639","Javni instituti","08008"]
[{"$nulls":10},{"v":73,"d":"73."},"3068 INSTITUT ZA TURIZAM",3068,"INSTITUT ZA TURIZAM","JAVNI INSTITUTI","VRHOVEC 5","10000 ZAGREB",{"v":3208001,"d":"03208001"},"10264179101","Javni instituti","08008"]
[{"$nulls":10},{"v":74,"d":"74."},"3076 INSTITUT ZA POLJOPRIVREDU I TURIZAM",3076,"INSTITUT ZA POLJOPRIVREDU I TURIZAM","JAVNI INSTITUTI","CARLA HUGUESA 8","52440 POREČ",{"v":3421031,"d":"03421031"},"03850982961","Javni instituti","08008"]
[{"$nulls":10},{"v":75,"d":"75."},"3084 INSTITUT ZA ETNOLOGIJU I FOLKLORISTIKU",3084,"INSTITUT ZA ETNOLOGIJU I FOLKLORISTIKU","JAVNI INSTITUTI","ŠUBIĆEVA 42","10000 ZAGREB",{"v":3724042,"d":"03724042"},"37781872772","Javni instituti","08008"]
[{"$nulls":10},{"v":76,"d":"76."},"3092 INSTITUT ZA FILOZOFIJU",3092,"INSTITUT ZA FILOZOFIJU","JAVNI INSTITUTI","UL. GRADA VUKOVARA 54","10000 ZAGREB",{"v":3772047,"d":"03772047"},"43667021597","Javni instituti","08008"]
[{"$nulls":10},{"v":77,"d":"77."},"3105 INSTITUT DRUŠTVENIH ZNANOSTI IVO PILAR",3105,"INSTITUT DRUŠTVENIH ZNANOSTI IVO PILAR","JAVNI INSTITUTI","MARULIĆEV TRG 19/I","10000 ZAGREB",{"v":3793028,"d":"03793028"},"32840574937","Javni instituti","08008"]
[{"$nulls":10},{"v":78,"d":"78."},"3113 INSTITUT ZA ANTROPOLOGIJU",3113,"INSTITUT ZA ANTROPOLOGIJU","JAVNI INSTITUTI","LJUDEVITA GAJA 32","10000 ZAGREB",{"v":3817121,"d":"03817121"},"93710699926","Javni instituti","08008"]
[{"$nulls":10},{"v":79,"d":"79."},"3121 INSTITUT ZA ARHEOLOGIJU",3121,"INSTITUT ZA ARHEOLOGIJU","JAVNI INSTITUTI","LJUDEVITA GAJA 32","10000 ZAGREB",{"v":3937658,"d":"03937658"},"59796264563","Javni instituti","08008"]
[{"$nulls":10},{"v":80,"d":"80."},"6154 SVEUČILIŠTE U ZAGREBU - FAKULTET FILOZOFIJE I RELIGIJSKIH ZNANOSTI",6154,"SVEUČILIŠTE U ZAGREBU - FAKULTET FILOZOFIJE I RELIGIJSKIH ZNANOSTI","SVEUČILIŠTE U ZAGREBU","JORDANOVAC 110","10000 ZAGREB",{"v":1235664,"d":"01235664"},"26975482530","Sveučilišta i veleučilišta u Republici Hrvatskoj","08006"]
[{"$nulls":10},{"v":81,"d":"81."},"6179 DRŽAVNI ZAVOD ZA INTELEKTUALNO VLASNIŠTVO",6179,"DRŽAVNI ZAVOD ZA INTELEKTUALNO VLASNIŠTVO","DZIV","ULICA GRADA VUKOVARA 78","10000 ZAGREB",{"v":3899772,"d":"03899772"},"89755384389","DZIV","08012"]
[{"$nulls":10},{"v":82,"d":"82."},"21053 VELEUČILIŠTE U KARLOVCU",21053,"VELEUČILIŠTE U KARLOVCU","VELEUČILIŠTA","TRG J. J. STROSSMAYERA 9","47000 KARLOVAC",{"v":1286030,"d":"01286030"},"62820859976","Sveučilišta i veleučilišta u Republici Hrvatskoj","08006"]
[{"$nulls":10},{"v":83,"d":"83."},"21061 INSTITUT ZA HRVATSKI JEZIK I JEZIKOSLOVLJE",21061,"INSTITUT ZA HRVATSKI JEZIK I JEZIKOSLOVLJE","JAVNI INSTITUTI","REPUBLIKE AUSTRIJE 16","10000 ZAGREB",{"v":1259571,"d":"01259571"},"12268324202","Javni instituti","08008"]
[{"$nulls":10},{"v":84,"d":"84."},"21070 STAROSLAVENSKI INSTITUT",21070,"STAROSLAVENSKI INSTITUT","JAVNI INSTITUTI","DEMETROVA 11","10000 ZAGREB",{"v":1259563,"d":"01259563"},"15291942541","Javni instituti","08008"]
[{"$nulls":10},{"v":85,"d":"85."},"21836 NACIONALNA I SVEUČILIŠNA KNJIŽNICA U ZAGREBU",21836,"NACIONALNA I SVEUČILIŠNA KNJIŽNICA U ZAGREBU","AGENCIJE","HRVATSKE BRATSKE ZAJEDNICE 4","10000 ZAGREB",{"v":3205363,"d":"03205363"},"84838770814","Agencije","08091"]
[{"$nulls":10},{"v":86,"d":"86."},"21852 HRVATSKA AKADEMSKA I ISTRAŽIVAČKA MREŽA - CARNET",21852,"HRVATSKA AKADEMSKA I ISTRAŽIVAČKA MREŽA - CARNET","AGENCIJE","JOSIPA MAROHNIĆA 5","10000 ZAGREB",{"v":1147820,"d":"01147820"},"58101996540","Agencije","08091"]
[{"$nulls":10},{"v":87,"d":"87."},"21869 LEKSIKOGRAFSKI ZAVOD MIROSLAV KRLEŽA",21869,"LEKSIKOGRAFSKI ZAVOD MIROSLAV KRLEŽA","AGENCIJE","FRANKOPANSKA 26","10000 ZAGREB",{"v":3211622,"d":"03211622"},"49894241709","Agencije","08091"]
[{"$nulls":10},{"v":88,"d":"88."},"22371 VISOKO GOSPODARSKO UČILIŠTE U KRIŽEVCIMA",22371,"VISOKO GOSPODARSKO UČILIŠTE U KRIŽEVCIMA","VELEUČILIŠTA","MILISLAVA DEMERCA 1","48260 KRIŽEVCI",{"v":1411942,"d":"01411942"},"75480885018","Sveučilišta i veleučilišta u Republici Hrvatskoj","08006"]
[{"$nulls":10},{"v":89,"d":"89."},"22427 TEHNIČKO VELEUČILIŠTE U ZAGREBU",22427,"TEHNIČKO VELEUČILIŠTE U ZAGREBU","VELEUČILIŠTA","VRBIK 8","10000 ZAGREB",{"v":1398270,"d":"01398270"},"08814003451","Sveučilišta i veleučilišta u Republici Hrvatskoj","08006"]
[{"$nulls":10},{"v":90,"d":"90."},"22435 SVEUČILIŠTE U SPLITU - FILOZOFSKI FAKULTET",22435,"SVEUČILIŠTE U SPLITU - FILOZOFSKI FAKULTET","SVEUČILIŠTE U SPLITU","POLJIČKA CESTA 35","21000 SPLIT",{"v":1413236,"d":"01413236"},"98004523293","Sveučilišta i veleučilišta u Republici Hrvatskoj","08006"]
[{"$nulls":10},{"v":91,"d":"91."},"22451 SVEUČILIŠTE U SPLITU - MEDICINSKI FAKULTET",22451,"SVEUČILIŠTE U SPLITU - MEDICINSKI FAKULTET","SVEUČILIŠTE U SPLITU","ŠOLTANSKA 2","21000 SPLIT",{"v":1315366,"d":"01315366"},"02879747067","Sveučilišta i veleučilišta u Republici Hrvatskoj","08006"]
[{"$nulls":10},{"v":92,"d":"92."},"22460 SVEUČILIŠTE U SPLITU - POMORSKI FAKULTET",22460,"SVEUČILIŠTE U SPLITU - POMORSKI FAKULTET","SVEUČILIŠTE U SPLITU","RUĐERA BOŠKOVIĆA 37","21000 SPLIT",{"v":1406043,"d":"01406043"},"24624257529","Sveučilišta i veleučilišta u Republici Hrvatskoj","08006"]
[{"$nulls":10},{"v":93,"d":"93."},{"$f":"M97&\" \"&N97","v":"22478 SVEUČILIŠTE U SPLITU - UMJETNIČKA AKADEMIJA"},22478,"SVEUČILIŠTE U SPLITU - UMJETNIČKA AKADEMIJA","SVEUČILIŠTE U SPLITU","ZAGREBAČKA 3","21000 SPLIT",{"v":1321358,"d":"01321358"},"38960125358","Sveučilišta i veleučilišta u Republici Hrvatskoj","08006"]
[{"$nulls":10},{"v":94,"d":"94."},"22486 SVEUČILIŠTE J. J. STROSSMAYERA U OSIJEKU - FAKULTET ZA ODGOJNE I OBRAZOVNE ZNANOSTI",22486,"SVEUČILIŠTE J. J. STROSSMAYERA U OSIJEKU - FAKULTET ZA ODGOJNE I OBRAZOVNE ZNANOSTI","SVEUČILIŠTE J.J STROSSMAYERA U OSIJEKU","CARA HADRIJANA 10","31000 OSIJEK",{"v":1404881,"d":"01404881"},"28082679513","Sveučilišta i veleučilišta u Republici Hrvatskoj","08006"]
[{"$nulls":10},{"v":95,"d":"95."},"22494 VELEUČILIŠTE U RIJECI",22494,"VELEUČILIŠTE U RIJECI","VELEUČILIŠTA","TRPIMIROVA 2/V","51000 RIJEKA",{"v":1387332,"d":"01387332"},"29573709870","Sveučilišta i veleučilišta u Republici Hrvatskoj","08006"]
[{"$nulls":10},{"v":96,"d":"96."},"22525 HRVATSKI GEOLOŠKI INSTITUT ",22525,"HRVATSKI GEOLOŠKI INSTITUT ","JAVNI INSTITUTI","SACHSOVA 2","10000 ZAGREB",{"v":3219518,"d":"03219518"},"43733878539","Javni instituti","08008"]
[{"$nulls":10},{"v":97,"d":"97."},"22568 SVEUČILIŠTE U RIJECI - POMORSKI FAKULTET",22568,"SVEUČILIŠTE U RIJECI - POMORSKI FAKULTET","SVEUČILIŠTE U RIJECI","STUDENTSKA 2","51000 RIJEKA",{"v":1580485,"d":"01580485"},"76722145702","Sveučilišta i veleučilišta u Republici Hrvatskoj","08006"]
[{"$nulls":10},{"v":98,"d":"98."},"22621 INSTITUT ZA RAZVOJ I MEĐUNARODNE ODNOSE",22621,"INSTITUT ZA RAZVOJ I MEĐUNARODNE ODNOSE","JAVNI INSTITUTI","LJ. F. VUKOTINOVIĆA 2","10000 ZAGREB",{"v":3205177,"d":"03205177"},"31120185175","Javni instituti","08008"]
[{"$nulls":10},{"v":99,"d":"99."},"22824 VELEUČILIŠTE U ŠIBENIKU",22824,"VELEUČILIŠTE U ŠIBENIKU","VELEUČILIŠTA","TRG A. HEBRANGA BR. 11","22000 ŠIBENIK",{"v":2100673,"d":"02100673"},"61727512157","Sveučilišta i veleučilišta u Republici Hrvatskoj","08006"]
[{"$nulls":10},{"v":100,"d":"100."},"22832 ZDRAVSTVENO VELEUČILIŠTE",22832,"ZDRAVSTVENO VELEUČILIŠTE","VELEUČILIŠTA","MLINARSKA CESTA 38","10000 ZAGREB",{"v":1274597,"d":"01274597"},"50952646228","Sveučilišta i veleučilišta u Republici Hrvatskoj","08006"]
[{"$nulls":10},{"v":101,"d":"101."},"22849 SVEUČILIŠTE J. J. STROSSMAYERA U OSIJEKU - MEDICINSKI FAKULTET",22849,"SVEUČILIŠTE J. J. STROSSMAYERA U OSIJEKU - MEDICINSKI FAKULTET","SVEUČILIŠTE J.J STROSSMAYERA U OSIJEKU","HUTTLEROVA 4","31000 OSIJEK",{"v":1388142,"d":"01388142"},"16214165873","Sveučilišta i veleučilišta u Republici Hrvatskoj","08006"]
[{"$nulls":10},{"v":102,"d":"102."},"22857 SVEUČILIŠTE U RIJECI - FILOZOFSKI FAKULTET",22857,"SVEUČILIŠTE U RIJECI - FILOZOFSKI FAKULTET","SVEUČILIŠTE U RIJECI","SVEUČILIŠNA AVENIJA 4","51000 RIJEKA",{"v":3368491,"d":"03368491"},"70505505759","Sveučilišta i veleučilišta u Republici Hrvatskoj","08006"]
[{"$nulls":10},{"v":103,"d":"103."},"23286 INSTITUT ZA JAVNE FINANCIJE",23286,"INSTITUT ZA JAVNE FINANCIJE","JAVNI INSTITUTI","SMIČIKLASOVA 21","10000 ZAGREB",{"v":3226344,"d":"03226344"},"41683226810","Javni instituti","08008"]
[{"$nulls":10},{"v":104,"d":"104."},"23368 SVEUČILIŠTE U SPLITU - KATOLIČKI BOGOSLOVNI FAKULTET",23368,"SVEUČILIŠTE U SPLITU - KATOLIČKI BOGOSLOVNI FAKULTET","SVEUČILIŠTE U SPLITU","ZRINSKOG FRANKOPANA 19 ","21000 SPLIT",{"v":1465643,"d":"01465643"},36149548625,"Sveučilišta i veleučilišta u Republici Hrvatskoj","08006"]
[{"$nulls":10},{"v":105,"d":"105."},"23665 SVEUČILIŠTE U ZAGREBU - SVEUČILIŠNI RAČUNSKI CENTAR - SRCE",23665,"SVEUČILIŠTE U ZAGREBU - SVEUČILIŠNI RAČUNSKI CENTAR - SRCE","AGENCIJE","JOSIPA MAROHNIĆA 5","10000 ZAGREB",{"v":3283020,"d":"03283020"},"34016189309","Agencije","08091"]
[{"$nulls":10},{"v":106,"d":"106."},"23815 SVEUČILIŠTE U ZADRU",23815,"SVEUČILIŠTE U ZADRU","SVEUČILIŠTE U ZADRU","MIHOVILA PAVLINOVIĆA 1","23000 ZADAR",{"v":1695525,"d":"01695525"},"10839679016","Sveučilišta i veleučilišta u Republici Hrvatskoj","08006"]
[{"$nulls":10},{"v":107,"d":"107."},"23962 AGENCIJA ZA ODGOJ I OBRAZOVANJE",23962,"AGENCIJA ZA ODGOJ I OBRAZOVANJE","AGENCIJE","DONJE SVETICE 38","10000 ZAGREB",{"v":1778129,"d":"01778129"},"72193628411","Agencije","08091"]
[{"$nulls":10},{"v":108,"d":"108."},"24141 SVEUČILIŠTE U DUBROVNIKU",24141,"SVEUČILIŠTE U DUBROVNIKU","SVEUČILIŠTE U DUBROVNIKU","BRANITELJA DUBROVNIKA 29","20000 DUBROVNIK",{"v":1787578,"d":"01787578"},"01338491514","Sveučilišta i veleučilišta u Republici Hrvatskoj","08006"]
[{"$nulls":10},{"v":109,"d":"109."},"38438 VELEUČILIŠTE MARKO MARULIĆ U KNINU",38438,"VELEUČILIŠTE MARKO MARULIĆ U KNINU","VELEUČILIŠTA","KRALJA PETRA KREŠIMIRA IV 30 ","22300 KNIN",{"v":1963813,"d":"01963813"},"13664089430","Sveučilišta i veleučilišta u Republici Hrvatskoj","08006"]
[{"$nulls":10},{"v":110,"d":"110."},"38446 VELEUČILIŠTE LAVOSLAV RUŽIČKA U VUKOVARU",38446,"VELEUČILIŠTE LAVOSLAV RUŽIČKA U VUKOVARU","VELEUČILIŠTA","ŽUPANIJSKA 50","32000 VUKOVAR",{"v":1970828,"d":"01970828"},"21720825730","Sveučilišta i veleučilišta u Republici Hrvatskoj","08006"]
[{"$nulls":10},{"v":111,"d":"111."},"38454 SVEUČILIŠTE U RIJECI - AKADEMIJA PRIMJENJENIH UMJETNOSTI",38454,"SVEUČILIŠTE U RIJECI - AKADEMIJA PRIMJENJENIH UMJETNOSTI","SVEUČILIŠTE U RIJECI","SLAVKA KRAUTZEKA 83","51000 RIJEKA",{"v":1954253,"d":"01954253"},"55704161999","Sveučilišta i veleučilišta u Republici Hrvatskoj","08006"]
[{"$nulls":10},{"v":112,"d":"112."},"38479 SVEUČILIŠTE J. J. STROSSMAYERA U OSIJEKU - KATOLIČKI BOGOSLOVNI FAKULTET U ĐAKOVU",38479,"SVEUČILIŠTE J. J. STROSSMAYERA U OSIJEKU - KATOLIČKI BOGOSLOVNI FAKULTET U ĐAKOVU","SVEUČILIŠTE J.J STROSSMAYERA U OSIJEKU","PETRA PRERADOVIĆA 17 ","31400 ĐAKOVO",{"v":1986490,"d":"01986490"},"05384220316","Sveučilišta i veleučilišta u Republici Hrvatskoj","08006"]
[{"$nulls":10},{"v":113,"d":"113."},"38487 AGENCIJA ZA ZNANOST I VISOKO OBRAZOVANJE",38487,"AGENCIJA ZA ZNANOST I VISOKO OBRAZOVANJE","AGENCIJE","DONJE SVETICE 38/5","10000 ZAGREB",{"v":1922548,"d":"01922548"},"83358955356","Agencije","08091"]
[{"$nulls":10},{"v":114,"d":"114."},"40883 NACIONALNI CENTAR ZA VANJSKO VREDNOVANJE OBRAZOVANJA",40883,"NACIONALNI CENTAR ZA VANJSKO VREDNOVANJE OBRAZOVANJA","AGENCIJE","ULICA D. TOMLJANOVIĆA GAVRANA 11","10020 ZAGREB",{"v":1943430,"d":"01943430"},"94833993984","Agencije","08091"]
[{"$nulls":10},{"v":115,"d":"115."},"40947 SVEUČILIŠTE U RIJECI - UČITELJSKI FAKULTET",40947,"SVEUČILIŠTE U RIJECI - UČITELJSKI FAKULTET","SVEUČILIŠTE U RIJECI","SVEUČILIŠNA AVENIJA 6","51000 RIJEKA",{"v":2116073,"d":"02116073"},"96996385705","Sveučilišta i veleučilišta u Republici Hrvatskoj","08006"]
[{"$nulls":10},{"v":116,"d":"116."},"41185 VELEUČILIŠTE NIKOLA TESLA U GOSPIĆU",41185,"VELEUČILIŠTE NIKOLA TESLA U GOSPIĆU","VELEUČILIŠTA","ULICA BANA IVANA KARLOVIĆA 16","53000 GOSPIĆ",{"v":2103133,"d":"02103133"},"42552392522","Sveučilišta i veleučilišta u Republici Hrvatskoj","08006"]
[{"$nulls":10},{"v":117,"d":"117."},"42024 SVEUČILIŠTE JURJA DOBRILE U PULI",42024,"SVEUČILIŠTE JURJA DOBRILE U PULI","SVEUČILIŠTE U PULI","ZAGREBAČKA 30","52100 PULA",{"v":2161753,"d":"02161753"},"61738073226","Sveučilišta i veleučilišta u Republici Hrvatskoj","08006"]
[{"$nulls":10},{"v":118,"d":"118."},"42993 VELEUČILIŠTE U VIROVITICI",42993,"VELEUČILIŠTE U VIROVITICI","VELEUČILIŠTA","ULICA MATIJE GUPCA 78","33000 VIROVITICA",{"v":2282208,"d":"02282208"},"46576407858","Sveučilišta i veleučilišta u Republici Hrvatskoj","08006"]
[{"$nulls":10},{"v":119,"d":"119."},"43335 AGENCIJA ZA MOBILNOST I PROGRAME EUROPSKE UNIJE",43335,"AGENCIJA ZA MOBILNOST I PROGRAME EUROPSKE UNIJE","AGENCIJE","FRANKOPANSKA 26","10000 ZAGREB",{"v":2298007,"d":"02298007"},"25385906011","Agencije","08091"]
[{"$nulls":10},{"v":120,"d":"120."},"43749 MEĐIMURSKO VELEUČILIŠTE U ČAKOVCU",43749,"MEĐIMURSKO VELEUČILIŠTE U ČAKOVCU","VELEUČILIŠTA","BANA JOSIPA JELAČIĆA 22/A","40000 ČAKOVEC",{"v":2382512,"d":"02382512"},"31444990605","Sveučilišta i veleučilišta u Republici Hrvatskoj","08006"]
[{"$nulls":10},{"v":121,"d":"121."},"43773 SVEUČILIŠTE U SPLITU - KINEZIOLOŠKI FAKULTET",43773,"SVEUČILIŠTE U SPLITU - KINEZIOLOŠKI FAKULTET","SVEUČILIŠTE U SPLITU","NIKOLE TESLE 6","21000 SPLIT",{"v":2393255,"d":"02393255"},"57848936921","Sveučilišta i veleučilišta u Republici Hrvatskoj","08006"]
[{"$nulls":10},{"v":122,"d":"122."},"46173 AGENCIJA ZA STRUKOVNO OBRAZOVANJE I OBRAZOVANJE ODRASLIH",46173,"AGENCIJA ZA STRUKOVNO OBRAZOVANJE I OBRAZOVANJE ODRASLIH","AGENCIJE","GARIĆGRADSKA ULICA 18","10000 ZAGREB",{"v":2650029,"d":"02650029"},"40719411729","Agencije","08091"]
[{"$nulls":10},{"v":123,"d":"123."},"48023 SVEUČILIŠTE U RIJECI - FAKULTET ZDRAVSTVENIH STUDIJA U RIJECI",48023,"SVEUČILIŠTE U RIJECI - FAKULTET ZDRAVSTVENIH STUDIJA U RIJECI","SVEUČILIŠTE U RIJECI","VIKTORA CARA EMINA 5","51000 RIJEKA","04052510","19213484918","Sveučilišta i veleučilišta u Republici Hrvatskoj","08006"]
[{"$nulls":10},{"v":124,"d":"124."},"48267 SVEUČILIŠTE SJEVER",48267,"SVEUČILIŠTE SJEVER","SVEUČILIŠTE SJEVER","TRG DR. ŽARKA DOLINARA 1","48000 KOPRIVNICA",{"v":2752298,"d":"02752298"},"59624928052","Sveučilišta i veleučilišta u Republici Hrvatskoj","08006"]
[{"$nulls":10},{"v":125,"d":"125."},{"$f":"M129&\" \"&N129","v":"49796 SVEUČILIŠTE J. J. STROSSMAYERA U OSIJEKU - FAKULTET ZA DENTALNU MEDICINU I ZDRAVSTVO"},49796,"SVEUČILIŠTE J. J. STROSSMAYERA U OSIJEKU - FAKULTET ZA DENTALNU MEDICINU I ZDRAVSTVO","SVEUČILIŠTE J.J STROSSMAYERA U OSIJEKU","CRKVENA 21","31000 OSIJEK",{"v":4748875,"d":"04748875"},"83830458507","Sveučilišta i veleučilišta u Republici Hrvatskoj","08006"]
[{"$nulls":10},{"v":126,"d":"126."},"50215 SVEUČILIŠTE J. J. STROSSMAYERA U OSIJEKU - AKADEMIJA ZA UMJETNOST I KULTURU U OSIJEKU",50215,"SVEUČILIŠTE J. J. STROSSMAYERA U OSIJEKU - AKADEMIJA ZA UMJETNOST I KULTURU U OSIJEKU","SVEUČILIŠTE J.J STROSSMAYERA U OSIJEKU","KRALJA PETRA SVAČIĆA 1/F","31000 OSIJEK",{"v":4907361,"d":"04907361"},"60277424315","Sveučilišta i veleučilišta u Republici Hrvatskoj","08006"]
[{"$nulls":10},{"v":127,"d":"127."},"50848 VELEUČILIŠTE HRVATSKO ZAGORJE KRAPINA",50848,"VELEUČILIŠTE HRVATSKO ZAGORJE KRAPINA","VELEUČILIŠTA","ŠETALIŠTE HRVATSKOG NARODNOG PREPORODA 6","49000 KRAPINA",{"v":2271354,"d":"02271354"},"16465214888","Sveučilišta i veleučilišta u Republici Hrvatskoj","08006"]
[{"$nulls":10},{"v":128,"d":"128."},"51191 SVEUČILIŠTE U ZAGREBU - FAKULTET HRVATSKIH STUDIJA",51191,"SVEUČILIŠTE U ZAGREBU - FAKULTET HRVATSKIH STUDIJA","SVEUČILIŠTE U ZAGREBU","BORONGAJSKA CESTA 83D","10000 ZAGREB",{"v":5214068,"d":"05214068"},"99454315441","Sveučilišta i veleučilišta u Republici Hrvatskoj","08006"]
[{"$nulls":10},{"v":129,"d":"129."},"51360 SVEUČILIŠTE U SLAVONSKOM BRODU",51360,"SVEUČILIŠTE U SLAVONSKOM BRODU","SVEUČILIŠTE U SLAVONSKOM BRODU","TRG IVANE BRLIĆ MAŽURANIĆ 2","35000 SLAVONSKI BROD",{"v":5290538,"d":"05290538"},"33027834374","Sveučilišta i veleučilišta u Republici Hrvatskoj","08006"]
[{"$nulls":10},{"v":130,"d":"130."},"51450 SVEUČILIŠTE J. J. STROSSMAYERA U OSIJEKU - KINEZIOLOŠKI FAKULTET OSIJEK",51450,"SVEUČILIŠTE J. J. STROSSMAYERA U OSIJEKU - KINEZIOLOŠKI FAKULTET OSIJEK","SVEUČILIŠTE J.J STROSSMAYERA U OSIJEKU","DRINSKA 16/A","31000 OSIJEK",{"v":5302099,"d":"05302099"},"70788591483","Sveučilišta i veleučilišta u Republici Hrvatskoj","08006"]
[{"$nulls":10},{"v":131,"d":"131."},"52209 HRVATSKA ZAKLADA ZA ZNANOST",52209,"HRVATSKA ZAKLADA ZA ZNANOST","AGENCIJE","ILICA 24","10000 ZAGREB",{"v":1626841,"d":"01626841"},88776522763,"Agencije","08091"]
[{"$nulls":10},{"$f":"+K135+1","v":{"v":132,"d":"132."}},"52565 SVEUČILIŠTE J. J. STROSSMAYERA U OSIJEKU - FAKULTET TURIZMA I RURALNOG RAZVOJA U POŽEGI",52565,"SVEUČILIŠTE J. J. STROSSMAYERA U OSIJEKU - FAKULTET TURIZMA I RURALNOG RAZVOJA U POŽEGI","SVEUČILIŠTE J.J STROSSMAYERA U OSIJEKU","VUKOVARSKA 17","31000 OSIJEK",{"v":5619696,"d":"05619696"},"11614501047","Sveučilišta i veleučilišta u Republici Hrvatskoj","08006"]
[{"$nulls":10},{"$f":"+K136+1","v":{"v":133,"d":"133."}},"53919 SVEUČILIŠTE J. J. STROSSMAYERA U OSIJEKU - FAKULTET PRIMIJENJENE MATEMATIKE I INFORMATIKE",53919,"SVEUČILIŠTE J. J. STROSSMAYERA U OSIJEKU - FAKULTET PRIMIJENJENE MATEMATIKE I INFORMATIKE","SVEUČILIŠTE J.J STROSSMAYERA U OSIJEKU",{"$nulls":4},"Sveučilišta i veleučilišta u Republici Hrvatskoj","08006"]
[{"$nulls":10},{"v":134,"d":"134."},"2532 SVEUČILIŠTE U ZADRU, ZNANSTVENA KNJIŽNICA",2532,"SVEUČILIŠTE U ZADRU, ZNANSTVENA KNJIŽNICA","SVEUČILIŠTE U ZADRU",{"$nulls":4},"Sveučilišta i veleučilišta u Republici Hrvatskoj","08006"]

{"sheet":"Unos prihoda i primitaka","index":1,"n_rows":1048576,"n_cols":23,"rows_kept":4500,"cut":true,"merged":[[0,0,0,3]],"bounds":{"rows_first":2000,"rows_last":500,"rows_between":2000,"halvings":0}}
["Plan za unos u SAP - prihodi i primici",{"$nulls":3},"",{"$nulls":3},"u EUR"]
["GLAVA","OPIS GLAVE","IZVOR","OPIS IZVORA","Stavka\n(odaberite)","OPIS STAVKE","PLAN \n2025.","Povećanje iznos u plusu /\nsmanjenje iznos u minusu","NOVI PLAN 2025.","Davatelj prijenosa","Ustanova","left3","left2",{"$nulls":4},"671 - izvor 11"]
[{"$f":"IF(E3=\"\",\"\",VLOOKUP('OPĆI DIO'!$C$1,'OPĆI DIO'!$L$4:$U$138,10,FALSE))","v":"08006"},{"$f":"IF(E3=\"\",\"\",VLOOKUP('OPĆI DIO'!$C$1,'OPĆI DIO'!$L$4:$U$138,9,FALSE))","v":"Sveučilišta i veleučilišta u Republici Hrvatskoj"},{"$f":"IFERROR(VLOOKUP(E3,$R$6:$U$113,3,FALSE),\"\")","v":11},{"$f":"IFERROR(VLOOKUP(E3,$R$6:$U$113,4,FALSE),\"\")","v":"Opći prihodi i primici"},"671 - izvor 11",{"$f":"IFERROR(VLOOKUP(E3,$R$6:$U$113,2,FALSE),\"\")","v":"Prihodi iz nadležnog proračuna za financiranje redovne djelatnosti proračunskih korisnika"},{"v":2863314,"d":"2,863,314"},{"v":154883,"d":"154,883"},{"$f":"+G3+H3","v":{"v":3018197,"d":"3,018,197"}},null,{"$f":"IF(C3=\"\",\"\",'OPĆI DIO'!$C$1)","v":"38454 SVEUČILIŠTE U RIJECI - AKADEMIJA PRIMJENJENIH UMJETNOSTI"},{"$f":"LEFT(E3,2)","v":"67"},{"$f":"LEFT(E3,3)","v":"671"},"glava za visoko 6",{"$nulls":3},"671 - izvor 12"]
[{"$f":"IF(E4=\"\",\"\",VLOOKUP('OPĆI DIO'!$C$1,'OPĆI DIO'!$L$4:$U$138,10,FALSE))","v":"08006"},{"$f":"IF(E4=\"\",\"\",VLOOKUP('OPĆI DIO'!$C$1,'OPĆI DIO'!$L$4:$U$138,9,FALSE))","v":"Sveučilišta i veleučilišta u Republici Hrvatskoj"},11,"Opći prihodi i primici","671 - izvor 11","Prihodi iz nadležnog proračuna za financiranje redovne djelatnosti proračunskih korisnika",{"v":1162,"d":"1,162"},-153,{"v":1009,"d":"1,009"},null,{"$f":"IF(C4=\"\",\"\",'OPĆI DIO'!$C$1)","v":"38454 SVEUČILIŠTE U RIJECI - AKADEMIJA PRIMJENJENIH UMJETNOSTI"},{"$f":"LEFT(E4,2)","v":"67"},{"$f":"LEFT(E4,3)","v":"671"}]
[{"$f":"IF(E5=\"\",\"\",VLOOKUP('OPĆI DIO'!$C$1,'OPĆI DIO'!$L$4:$U$138,10,FALSE))","v":"08006"},{"$f":"IF(E5=\"\",\"\",VLOOKUP('OPĆI DIO'!$C$1,'OPĆI DIO'!$L$4:$U$138,9,FALSE))","v":"Sveučilišta i veleučilišta u Republici Hrvatskoj"},11,"Opći prihodi i primici","671 - izvor 11","Prihodi iz nadležnog proračuna za financiranje redovne djelatnosti proračunskih korisnika",{"v":401850,"d":"401,850"},{"v":124752,"d":"124,752"},{"v":526602,"d":"526,602"},null,{"$f":"IF(C5=\"\",\"\",'OPĆI DIO'!$C$1)","v":"38454 SVEUČILIŠTE U RIJECI - AKADEMIJA PRIMJENJENIH UMJETNOSTI"},"67","671","IZVOR","OPIS IZVORA",null,null,"Konto","opis konta","izvor","OPIS IZVORA","3 konto","2 konto"]
[{"$f":"IF(E6=\"\",\"\",VLOOKUP('OPĆI DIO'!$C$1,'OPĆI DIO'!$L$4:$U$138,10,FALSE))","v":"08006"},{"$f":"IF(E6=\"\",\"\",VLOOKUP('OPĆI DIO'!$C$1,'OPĆI DIO'!$L$4:$U$138,9,FALSE))","v":"Sveučilišta i veleučilišta u Republici Hrvatskoj"},52,"Ostale pomoći i darovnice ",6391,"Tekući prijenosi između proračunskih korisnika istog proračuna",380,{"v":43609,"d":"43,609"},{"v":43989,"d":"43,989"},"2444 SVEUČILIŠTE U RIJECI",{"$f":"IF(C6=\"\",\"\",'OPĆI DIO'!$C$1)","v":"38454 SVEUČILIŠTE U RIJECI - AKADEMIJA PRIMJENJENIH UMJETNOSTI"},{"$f":"LEFT(E6,2)","v":"63"},"639",11,"Opći prihodi i primici",null,null,"671 - izvor 11","Prihodi iz nadležnog proračuna za financiranje redovne djelatnosti proračunskih korisnika",11,"Opći prihodi i primici",671,67]
[{"$f":"IF(E7=\"\",\"\",VLOOKUP('OPĆI DIO'!$C$1,'OPĆI DIO'!$L$4:$U$138,10,FALSE))","v":"08006"},{"$f":"IF(E7=\"\",\"\",VLOOKUP('OPĆI DIO'!$C$1,'OPĆI DIO'!$L$4:$U$138,9,FALSE))","v":"Sveučilišta i veleučilišta u Republici Hrvatskoj"},43,"Ostali prihodi za posebne namjene",65264,"Sufinanciranje cijene usluge, participacije i slično",{"v":80000,"d":"80,000"},0,{"v":80000,"d":"80,000"},null,{"$f":"IF(C7=\"\",\"\",'OPĆI DIO'!$C$1)","v":"38454 SVEUČILIŠTE U RIJECI - AKADEMIJA PRIMJENJENIH UMJETNOSTI"},"65","652",12,"Sredstva učešća za pomoći",null,null,"671 - izvor 12","Prihodi iz nadležnog proračuna za financiranje redovne djelatnosti proračunskih korisnika",12,"Sredstva učešća za pomoći",671,67]
[{"$f":"IF(E8=\"\",\"\",VLOOKUP('OPĆI DIO'!$C$1,'OPĆI DIO'!$L$4:$U$138,10,FALSE))","v":"08006"},{"$f":"IF(E8=\"\",\"\",VLOOKUP('OPĆI DIO'!$C$1,'OPĆI DIO'!$L$4:$U$138,9,FALSE))","v":"Sveučilišta i veleučilišta u Republici Hrvatskoj"},31,"Vlastiti prihodi",6614,"Prihodi od prodanih proizvoda i robe",{"v":15000,"d":"15,000"},{"v":-3000,"d":"-3,000"},{"v":12000,"d":"12,000"},null,{"$f":"IF(C8=\"\",\"\",'OPĆI DIO'!$C$1)","v":"38454 SVEUČILIŠTE U RIJECI - AKADEMIJA PRIMJENJENIH UMJETNOSTI"},"66","661",31,"Vlastiti prihodi",null,null,671110815,"Prihodi iz nadležnog proračuna za financiranje rashoda poslovanja - izvor 815",815,"Namjenski primitak - NPOO",671,67]
[{"$f":"IF(E9=\"\",\"\",VLOOKUP('OPĆI DIO'!$C$1,'OPĆI DIO'!$L$4:$U$138,10,FALSE))","v":"08006"},{"$f":"IF(E9=\"\",\"\",VLOOKUP('OPĆI DIO'!$C$1,'OPĆI DIO'!$L$4:$U$138,9,FALSE))","v":"Sveučilišta i veleučilišta u Republici Hrvatskoj"},31,"Vlastiti prihodi",6615,"Prihodi od pruženih usluga",{"v":8000,"d":"8,000"},{"v":16891,"d":"16,891"},{"v":24891,"d":"24,891"},null,{"$f":"IF(C9=\"\",\"\",'OPĆI DIO'!$C$1)","v":"38454 SVEUČILIŠTE U RIJECI - AKADEMIJA PRIMJENJENIH UMJETNOSTI"},"66","661",41,"Prihodi od igara na sreću",null,null,671210815,"Prihodi iz nadležnog proračuna za financiranje rashoda za nabavu nefinancijske imovine - izvor 815",815,"Namjenski primitak - NPOO",671,67]
[{"$f":"IF(E10=\"\",\"\",VLOOKUP('OPĆI DIO'!$C$1,'OPĆI DIO'!$L$4:$U$138,10,FALSE))","v":"08006"},{"$f":"IF(E10=\"\",\"\",VLOOKUP('OPĆI DIO'!$C$1,'OPĆI DIO'!$L$4:$U$138,9,FALSE))","v":"Sveučilišta i veleučilišta u Republici Hrvatskoj"},51,"Pomoći EU ",632411700,"Kapitalne pomoći od institucija i tijela EU - ostalo",{"v":6720,"d":"6,720"},0,{"v":6720,"d":"6,720"},null,{"$f":"IF(C10=\"\",\"\",'OPĆI DIO'!$C$1)","v":"38454 SVEUČILIŠTE U RIJECI - AKADEMIJA PRIMJENJENIH UMJETNOSTI"},"63","632",43,"Ostali prihodi za posebne namjene",null,null,641290031,"Kamate za ostale vrijednosne papire izvor 31",31,"Vlastiti prihodi",641,64]
[{"$f":"IF(E11=\"\",\"\",VLOOKUP('OPĆI DIO'!$C$1,'OPĆI DIO'!$L$4:$U$138,10,FALSE))","v":"08006"},{"$f":"IF(E11=\"\",\"\",VLOOKUP('OPĆI DIO'!$C$1,'OPĆI DIO'!$L$4:$U$138,9,FALSE))","v":"Sveučilišta i veleučilišta u Republici Hrvatskoj"},52,"Ostale pomoći i darovnice ",6361,"Tekuće pomoći proračunskim korisnicima iz proračuna JLP(R)S koji im nije nadležan",0,{"v":11100,"d":"11,100"},{"v":11100,"d":"11,100"},null,{"$f":"IF(C11=\"\",\"\",'OPĆI DIO'!$C$1)","v":"38454 SVEUČILIŠTE U RIJECI - AKADEMIJA PRIMJENJENIH UMJETNOSTI"},"63","636",51,"Pomoći EU",null,null,641310031,"Kamate na oročena sredstva izvor 31",31,"Vlastiti prihodi",641,64]
[{"$f":"IF(E12=\"\",\"\",VLOOKUP('OPĆI DIO'!$C$1,'OPĆI DIO'!$L$4:$U$138,10,FALSE))","v":"08006"},{"$f":"IF(E12=\"\",\"\",VLOOKUP('OPĆI DIO'!$C$1,'OPĆI DIO'!$L$4:$U$138,9,FALSE))","v":"Sveučilišta i veleučilišta u Republici Hrvatskoj"},52,"Ostale pomoći i darovnice ",6391,"Tekući prijenosi između proračunskih korisnika istog proračuna",0,{"v":8000,"d":"8,000"},{"v":8000,"d":"8,000"},"756 MINISTARSTVO KULTURE I MEDIJA",{"$f":"IF(C12=\"\",\"\",'OPĆI DIO'!$C$1)","v":"38454 SVEUČILIŠTE U RIJECI - AKADEMIJA PRIMJENJENIH UMJETNOSTI"},"63","639",52,"Ostale pomoći",null,null,641320031,"Kamate na depozite po viđenju izvor 31",31,"Vlastiti prihodi",641,64]
[{"$f":"IF(E13=\"\",\"\",VLOOKUP('OPĆI DIO'!$C$1,'OPĆI DIO'!$L$4:$U$138,10,FALSE))","v":"08006"},{"$f":"IF(E13=\"\",\"\",VLOOKUP('OPĆI DIO'!$C$1,'OPĆI DIO'!$L$4:$U$138,9,FALSE))","v":"Sveučilišta i veleučilišta u Republici Hrvatskoj"},581,"Mehanizam za oporavak i otpornost",671110581,"Tek.pom.od instit. tijela EU - Mehanizam za oporavak i otpornost",0,{"v":4530,"d":"4,530"},{"v":4530,"d":"4,530"},null,{"$f":"IF(C13=\"\",\"\",'OPĆI DIO'!$C$1)","v":"38454 SVEUČILIŠTE U RIJECI - AKADEMIJA PRIMJENJENIH UMJETNOSTI"},"67","671",552,"Švicarski instrument",null,null,641630031,"Prihod od dividendi na dionice u kreditnim i ostalim financijskim institucijama izvan javnog sektora izvor 31",31,"Vlastiti prihodi",641,64]
[{"$f":"IF(E14=\"\",\"\",VLOOKUP('OPĆI DIO'!$C$1,'OPĆI DIO'!$L$4:$U$138,10,FALSE))","v":"08006"},{"$f":"IF(E14=\"\",\"\",VLOOKUP('OPĆI DIO'!$C$1,'OPĆI DIO'!$L$4:$U$138,9,FALSE))","v":"Sveučilišta i veleučilišta u Republici Hrvatskoj"},11,"Opći prihodi i primici","671 - izvor 11","Prihodi iz nadležnog proračuna za financiranje redovne djelatnosti proračunskih korisnika",null,{"v":213343,"d":"213,343"},{"v":213343,"d":"213,343"},null,{"$f":"IF(C14=\"\",\"\",'OPĆI DIO'!$C$1)","v":"38454 SVEUČILIŠTE U RIJECI - AKADEMIJA PRIMJENJENIH UMJETNOSTI"},"67","671",559,"Ostale refundacije iz pomoći EU",null,null,642510031,"Prihodi od prodaje kratkotrajne nefinancijske imovine izvor 31",31,"Vlastiti prihodi",642,64]
[{"$f":"IF(E15=\"\",\"\",VLOOKUP('OPĆI DIO'!$C$1,'OPĆI DIO'!$L$4:$U$138,10,FALSE))","v":""},{"$f":"IF(E15=\"\",\"\",VLOOKUP('OPĆI DIO'!$C$1,'OPĆI DIO'!$L$4:$U$138,9,FALSE))","v":""},"","",null,"",null,0,0,null,{"$f":"IF(C15=\"\",\"\",'OPĆI DIO'!$C$1)","v":""},"","",561,"Europski socijalni fond (ESF)",null,null,642990031,"Ostali prihodi od nefinancijske imovine izvor 31",31,"Vlastiti prihodi",642,64]
[{"$f":"IF(E16=\"\",\"\",VLOOKUP('OPĆI DIO'!$C$1,'OPĆI DIO'!$L$4:$U$138,10,FALSE))","v":""},{"$f":"IF(E16=\"\",\"\",VLOOKUP('OPĆI DIO'!$C$1,'OPĆI DIO'!$L$4:$U$138,9,FALSE))","v":""},"","",null,"",null,0,0,null,{"$f":"IF(C16=\"\",\"\",'OPĆI DIO'!$C$1)","v":""},"","",563,"Europski fond za regionalni razvoj (ERDF)",null,null,6614,"Prihodi od prodanih proizvoda i robe",31,"Vlastiti prihodi",661,66]
[{"$f":"IF(E17=\"\",\"\",VLOOKUP('OPĆI DIO'!$C$1,'OPĆI DIO'!$L$4:$U$138,10,FALSE))","v":""},{"$f":"IF(E17=\"\",\"\",VLOOKUP('OPĆI DIO'!$C$1,'OPĆI DIO'!$L$4:$U$138,9,FALSE))","v":""},"","",null,"",null,0,{"$f":"+G17+H17","v":0},null,{"$f":"IF(C17=\"\",\"\",'OPĆI DIO'!$C$1)","v":""},"","",573,"Instrumenti Europskog gospodarskog prostora i ostali instrumenti",null,null,6615,"Prihodi od pruženih usluga",31,"Vlastiti prihodi",661,66]
[{"$f":"IF(E18=\"\",\"\",VLOOKUP('OPĆI DIO'!$C$1,'OPĆI DIO'!$L$4:$U$138,10,FALSE))","v":""},{"$f":"IF(E18=\"\",\"\",VLOOKUP('OPĆI DIO'!$C$1,'OPĆI DIO'!$L$4:$U$138,9,FALSE))","v":""},"","",null,"",null,0,0,null,{"$f":"IF(C18=\"\",\"\",'OPĆI DIO'!$C$1)","v":""},"","",581,"Mehanizam za oporavak i otpornost",null,null,683110031,"Ostali prihodi izvor 31",31,"Vlastiti prihodi",683,68]
[{"$f":"IF(E19=\"\",\"\",VLOOKUP('OPĆI DIO'!$C$1,'OPĆI DIO'!$L$4:$U$138,10,FALSE))","v":""},{"$f":"IF(E19=\"\",\"\",VLOOKUP('OPĆI DIO'!$C$1,'OPĆI DIO'!$L$4:$U$138,9,FALSE))","v":""},"","",null,"",null,0,0,null,{"$f":"IF(C19=\"\",\"\",'OPĆI DIO'!$C$1)","v":""},"","",61,"Donacije",null,null,6541,"Naknade za priređivanje igara na sreću",41,"Prihodi od igara na sreću",614,61]
[{"$f":"IF(E20=\"\",\"\",VLOOKUP('OPĆI DIO'!$C$1,'OPĆI DIO'!$L$4:$U$138,10,FALSE))","v":""},{"$f":"IF(E20=\"\",\"\",VLOOKUP('OPĆI DIO'!$C$1,'OPĆI DIO'!$L$4:$U$138,9,FALSE))","v":""},"","",null,"",null,0,0,null,{"$f":"IF(C20=\"\",\"\",'OPĆI DIO'!$C$1)","v":""},"","",63,"Inozemne donacije",null,null,"654110041","Naknada za priređivanje lutrijskih igara, izvor 41",41,"Prihodi od igara na sreću",614,61]
[{"$f":"IF(E21=\"\",\"\",VLOOKUP('OPĆI DIO'!$C$1,'OPĆI DIO'!$L$4:$U$138,10,FALSE))","v":""},{"$f":"IF(E21=\"\",\"\",VLOOKUP('OPĆI DIO'!$C$1,'OPĆI DIO'!$L$4:$U$138,9,FALSE))","v":""},"","",null,"",null,0,0,null,{"$f":"IF(C21=\"\",\"\",'OPĆI DIO'!$C$1)","v":""},"","",71,"Prihodi od nefin. imovine i nadoknade štete s osnova osig.",null,null,"654120041","Naknade za priređivanje igara na sreću u casinima, izvor 41",41,"Prihodi od igara na sreću",614,61]
[{"$f":"IF(E22=\"\",\"\",VLOOKUP('OPĆI DIO'!$C$1,'OPĆI DIO'!$L$4:$U$138,10,FALSE))","v":""},{"$f":"IF(E22=\"\",\"\",VLOOKUP('OPĆI DIO'!$C$1,'OPĆI DIO'!$L$4:$U$138,9,FALSE))","v":""},"","",null,"",null,0,0,null,{"$f":"IF(C22=\"\",\"\",'OPĆI DIO'!$C$1)","v":""},"","",810,"Namjenski primici od zaduživanja",null,null,"654130041","Naknade za priređivanje klađenja, izvor 41",41,"Prihodi od igara na sreću",614,61]
[{"$f":"IF(E23=\"\",\"\",VLOOKUP('OPĆI DIO'!$C$1,'OPĆI DIO'!$L$4:$U$138,10,FALSE))","v":""},{"$f":"IF(E23=\"\",\"\",VLOOKUP('OPĆI DIO'!$C$1,'OPĆI DIO'!$L$4:$U$138,9,FALSE))","v":""},"","",null,"",null,0,0,null,{"$f":"IF(C23=\"\",\"\",'OPĆI DIO'!$C$1)","v":""},"","",815,"Namjenski primitak - NPOO",null,null,"654140041","Naknade za priređivanje igara na sreću na automatima, izvor 41",41,"Prihodi od igara na sreću",614,61]
[{"$f":"IF(E24=\"\",\"\",VLOOKUP('OPĆI DIO'!$C$1,'OPĆI DIO'!$L$4:$U$138,10,FALSE))","v":""},{"$f":"IF(E24=\"\",\"\",VLOOKUP('OPĆI DIO'!$C$1,'OPĆI DIO'!$L$4:$U$138,9,FALSE))","v":""},"","",null,"",null,0,0,null,{"$f":"IF(C24=\"\",\"\",'OPĆI DIO'!$C$1)","v":""},"","",{"$nulls":4},"654150041","Naknada za prigodno jednokratno priređivanje igara na sreću",41,"Prihodi od igara na sreću",614,61]
[{"$f":"IF(E25=\"\",\"\",VLOOKUP('OPĆI DIO'!$C$1,'OPĆI DIO'!$L$4:$U$138,10,FALSE))","v":""},{"$f":"IF(E25=\"\",\"\",VLOOKUP('OPĆI DIO'!$C$1,'OPĆI DIO'!$L$4:$U$138,9,FALSE))","v":""},"","",null,"",null,0,0,null,{"$f":"IF(C25=\"\",\"\",'OPĆI DIO'!$C$1)","v":""},"","",{"$nulls":4},"654160041","Ostale naknade od igara na sreću",41,"Prihodi od igara na sreću",614,61]
[{"$f":"IF(E26=\"\",\"\",VLOOKUP('OPĆI DIO'!$C$1,'OPĆI DIO'!$L$4:$U$138,10,FALSE))","v":""},{"$f":"IF(E26=\"\",\"\",VLOOKUP('OPĆI DIO'!$C$1,'OPĆI DIO'!$L$4:$U$138,9,FALSE))","v":""},"","",null,"",null,0,0,null,{"$f":"IF(C26=\"\",\"\",'OPĆI DIO'!$C$1)","v":""},"","",{"$nulls":4},"641770041","Prihodi iz dobiti Hrvatske lutrije, izvor 41",41,"Prihodi od igara na sreću",614,61]
[{"$f":"IF(E27=\"\",\"\",VLOOKUP('OPĆI DIO'!$C$1,'OPĆI DIO'!$L$4:$U$138,10,FALSE))","v":""},{"$f":"IF(E27=\"\",\"\",VLOOKUP('OPĆI DIO'!$C$1,'OPĆI DIO'!$L$4:$U$138,9,FALSE))","v":""},"","",null,"",null,0,0,null,{"$f":"IF(C27=\"\",\"\",'OPĆI DIO'!$C$1)","v":""},"","",{"$nulls":4},641320043,"Kamate na depozite po viđenju izvor 43",43,"Ostali prihodi za posebne namjene",641,64]
[{"$f":"IF(E28=\"\",\"\",VLOOKUP('OPĆI DIO'!$C$1,'OPĆI DIO'!$L$4:$U$138,10,FALSE))","v":""},{"$f":"IF(E28=\"\",\"\",VLOOKUP('OPĆI DIO'!$C$1,'OPĆI DIO'!$L$4:$U$138,9,FALSE))","v":""},"","",null,"",null,0,0,null,{"$f":"IF(C28=\"\",\"\",'OPĆI DIO'!$C$1)","v":""},"","",{"$nulls":4},641720043,"Prihodi iz dobiti trgovačkih društava u javnom sektoru izvor 43",43,"Ostali prihodi za posebne namjene",641,64]
[{"$f":"IF(E29=\"\",\"\",VLOOKUP('OPĆI DIO'!$C$1,'OPĆI DIO'!$L$4:$U$138,10,FALSE))","v":""},{"$f":"IF(E29=\"\",\"\",VLOOKUP('OPĆI DIO'!$C$1,'OPĆI DIO'!$L$4:$U$138,9,FALSE))","v":""},"","",null,"",null,0,0,null,{"$f":"IF(C29=\"\",\"\",'OPĆI DIO'!$C$1)","v":""},"","",{"$nulls":4},641990043,"Ostali prihodi od financijske imovine izvor 43",43,"Ostali prihodi za posebne namjene",641,64]
[{"$f":"IF(E30=\"\",\"\",VLOOKUP('OPĆI DIO'!$C$1,'OPĆI DIO'!$L$4:$U$138,10,FALSE))","v":""},{"$f":"IF(E30=\"\",\"\",VLOOKUP('OPĆI DIO'!$C$1,'OPĆI DIO'!$L$4:$U$138,9,FALSE))","v":""},"","",null,"",null,0,0,null,{"$f":"IF(C30=\"\",\"\",'OPĆI DIO'!$C$1)","v":""},"","",{"$nulls":4},65148,"Ostale naknade i pristojbe za posebne namjene",43,"Ostali prihodi za posebne namjene",651,65]
[{"$f":"IF(E31=\"\",\"\",VLOOKUP('OPĆI DIO'!$C$1,'OPĆI DIO'!$L$4:$U$138,10,FALSE))","v":""},{"$f":"IF(E31=\"\",\"\",VLOOKUP('OPĆI DIO'!$C$1,'OPĆI DIO'!$L$4:$U$138,9,FALSE))","v":""},"","",null,"",null,0,0,null,{"$f":"IF(C31=\"\",\"\",'OPĆI DIO'!$C$1)","v":""},"","",{"$nulls":4},65218,"Ostali prihodi državne uprave za posebne namjene ",43,"Ostali prihodi za posebne namjene",652,65]
[{"$f":"IF(E32=\"\",\"\",VLOOKUP('OPĆI DIO'!$C$1,'OPĆI DIO'!$L$4:$U$138,10,FALSE))","v":""},{"$f":"IF(E32=\"\",\"\",VLOOKUP('OPĆI DIO'!$C$1,'OPĆI DIO'!$L$4:$U$138,9,FALSE))","v":""},"","",null,"",null,0,0,null,{"$f":"IF(C32=\"\",\"\",'OPĆI DIO'!$C$1)","v":""},"","",{"$nulls":4},65264,"Sufinanciranje cijene usluge, participacije i slično",43,"Ostali prihodi za posebne namjene",652,65]
[{"$f":"IF(E33=\"\",\"\",VLOOKUP('OPĆI DIO'!$C$1,'OPĆI DIO'!$L$4:$U$138,10,FALSE))","v":""},{"$f":"IF(E33=\"\",\"\",VLOOKUP('OPĆI DIO'!$C$1,'OPĆI DIO'!$L$4:$U$138,9,FALSE))","v":""},"","",null,"",null,0,0,null,{"$f":"IF(C33=\"\",\"\",'OPĆI DIO'!$C$1)","v":""},"","",{"$nulls":4},652670043,"Prihodi s naslova osiguranja, refundacije štete i totalne štete izvor 43",43,"Ostali prihodi za posebne namjene",652,65]
[{"$f":"IF(E34=\"\",\"\",VLOOKUP('OPĆI DIO'!$C$1,'OPĆI DIO'!$L$4:$U$138,10,FALSE))","v":""},{"$f":"IF(E34=\"\",\"\",VLOOKUP('OPĆI DIO'!$C$1,'OPĆI DIO'!$L$4:$U$138,9,FALSE))","v":""},"","",null,"",null,0,0,null,{"$f":"IF(C34=\"\",\"\",'OPĆI DIO'!$C$1)","v":""},"","",{"$nulls":4},65268,"Ostali prihodi za posebne namjene ",43,"Ostali prihodi za posebne namjene",652,65]
[{"$f":"IF(E35=\"\",\"\",VLOOKUP('OPĆI DIO'!$C$1,'OPĆI DIO'!$L$4:$U$138,10,FALSE))","v":""},{"$f":"IF(E35=\"\",\"\",VLOOKUP('OPĆI DIO'!$C$1,'OPĆI DIO'!$L$4:$U$138,9,FALSE))","v":""},{"$f":"IFERROR(VLOOKUP(E35,$R$6:$U$113,3,FALSE),\"\")","v":""},{"$f":"IFERROR(VLOOKUP(E35,$R$6:$U$113,4,FALSE),\"\")","v":""},null,{"$f":"IFERROR(VLOOKUP(E35,$R$6:$U$113,2,FALSE),\"\")","v":""},null,0,0,null,{"$f":"IF(C35=\"\",\"\",'OPĆI DIO'!$C$1)","v":""},"","",{"$nulls":4},681910043,"Ostale nespomenute kazne izvor 43",43,"Ostali prihodi za posebne namjene",681,68]
[{"$f":"IF(E36=\"\",\"\",VLOOKUP('OPĆI DIO'!$C$1,'OPĆI DIO'!$L$4:$U$138,10,FALSE))","v":""},{"$f":"IF(E36=\"\",\"\",VLOOKUP('OPĆI DIO'!$C$1,'OPĆI DIO'!$L$4:$U$138,9,FALSE))","v":""},"","",null,"",null,0,0,null,{"$f":"IF(C36=\"\",\"\",'OPĆI DIO'!$C$1)","v":""},"","",{"$nulls":4},683110043,"Ostali prihodi izvor 43",43,"Ostali prihodi za posebne namjene",683,68]
[{"$f":"IF(E37=\"\",\"\",VLOOKUP('OPĆI DIO'!$C$1,'OPĆI DIO'!$L$4:$U$138,10,FALSE))","v":""},{"$f":"IF(E37=\"\",\"\",VLOOKUP('OPĆI DIO'!$C$1,'OPĆI DIO'!$L$4:$U$138,9,FALSE))","v":""},"","",null,"",null,0,0,null,{"$f":"IF(C37=\"\",\"\",'OPĆI DIO'!$C$1)","v":""},"","",{"$nulls":4},818110043,"Primici od povr.depozita od tuz.kred.inst.-krat.43",43,"Ostali prihodi za posebne namjene",818,81]
[{"$f":"IF(E38=\"\",\"\",VLOOKUP('OPĆI DIO'!$C$1,'OPĆI DIO'!$L$4:$U$138,10,FALSE))","v":""},{"$f":"IF(E38=\"\",\"\",VLOOKUP('OPĆI DIO'!$C$1,'OPĆI DIO'!$L$4:$U$138,9,FALSE))","v":""},"","",null,"",null,0,0,null,{"$f":"IF(C38=\"\",\"\",'OPĆI DIO'!$C$1)","v":""},"","",{"$nulls":4},818120043,"Primici od povrata depozita od tuzemnih kreditnih i ostalih institucija - dugoročni - namjenski",43,"Ostali prihodi za posebne namjene",818,81]
[{"$f":"IF(E39=\"\",\"\",VLOOKUP('OPĆI DIO'!$C$1,'OPĆI DIO'!$L$4:$U$138,10,FALSE))","v":""},{"$f":"IF(E39=\"\",\"\",VLOOKUP('OPĆI DIO'!$C$1,'OPĆI DIO'!$L$4:$U$138,9,FALSE))","v":""},"","",null,"",null,0,0,null,{"$f":"IF(C39=\"\",\"\",'OPĆI DIO'!$C$1)","v":""},"","",{"$nulls":4},832120043,"Dionice i udjeli u glavnici trgovačkih društava u javnom sektoru - izvor 43",43,"Ostali prihodi za posebne namjene",832,83]
[{"$f":"IF(E40=\"\",\"\",VLOOKUP('OPĆI DIO'!$C$1,'OPĆI DIO'!$L$4:$U$138,10,FALSE))","v":""},{"$f":"IF(E40=\"\",\"\",VLOOKUP('OPĆI DIO'!$C$1,'OPĆI DIO'!$L$4:$U$138,9,FALSE))","v":""},"","",null,"",null,0,0,null,{"$f":"IF(C40=\"\",\"\",'OPĆI DIO'!$C$1)","v":""},"","",{"$nulls":4},833130043,"Dionice i udjeli u glavnici tuzemnih kreditnih institucija izvan javnog sektora - izvor 43",43,"Ostali prihodi za posebne namjene",833,83]
[{"$f":"IF(E41=\"\",\"\",VLOOKUP('OPĆI DIO'!$C$1,'OPĆI DIO'!$L$4:$U$138,10,FALSE))","v":""},{"$f":"IF(E41=\"\",\"\",VLOOKUP('OPĆI DIO'!$C$1,'OPĆI DIO'!$L$4:$U$138,9,FALSE))","v":""},"","",null,"",null,0,0,null,{"$f":"IF(C41=\"\",\"\",'OPĆI DIO'!$C$1)","v":""},"","",{"$nulls":4},632311700,"Tekuće pomoći od institucija i tijela EU - ostalo",51,"Pomoći EU ",632,63]
[{"$f":"IF(E42=\"\",\"\",VLOOKUP('OPĆI DIO'!$C$1,'OPĆI DIO'!$L$4:$U$138,10,FALSE))","v":""},{"$f":"IF(E42=\"\",\"\",VLOOKUP('OPĆI DIO'!$C$1,'OPĆI DIO'!$L$4:$U$138,9,FALSE))","v":""},"","",null,"",null,0,0,null,{"$f":"IF(C42=\"\",\"\",'OPĆI DIO'!$C$1)","v":""},"","",{"$nulls":4},632311800,"Tekuće pomoći od institucija i tijela EU - refundacije putnih troškova",51,"Pomoći EU ",632,63]
[{"$f":"IF(E43=\"\",\"\",VLOOKUP('OPĆI DIO'!$C$1,'OPĆI DIO'!$L$4:$U$138,10,FALSE))","v":""},{"$f":"IF(E43=\"\",\"\",VLOOKUP('OPĆI DIO'!$C$1,'OPĆI DIO'!$L$4:$U$138,9,FALSE))","v":""},"","",null,"",null,0,0,null,{"$f":"IF(C43=\"\",\"\",'OPĆI DIO'!$C$1)","v":""},"","",{"$nulls":4},632411700,"Kapitalne pomoći od institucija i tijela EU - ostalo",51,"Pomoći EU ",632,63]
[{"$f":"IF(E44=\"\",\"\",VLOOKUP('OPĆI DIO'!$C$1,'OPĆI DIO'!$L$4:$U$138,10,FALSE))","v":""},{"$f":"IF(E44=\"\",\"\",VLOOKUP('OPĆI DIO'!$C$1,'OPĆI DIO'!$L$4:$U$138,9,FALSE))","v":""},"","",null,"",null,0,0,null,{"$f":"IF(C44=\"\",\"\",'OPĆI DIO'!$C$1)","v":""},"","",{"$nulls":4},631110000,"Tekuće pomoći od inozemnih vlada u EU",52,"Ostale pomoći i darovnice ",631,63]
[{"$f":"IF(E45=\"\",\"\",VLOOKUP('OPĆI DIO'!$C$1,'OPĆI DIO'!$L$4:$U$138,10,FALSE))","v":""},{"$f":"IF(E45=\"\",\"\",VLOOKUP('OPĆI DIO'!$C$1,'OPĆI DIO'!$L$4:$U$138,9,FALSE))","v":""},"","",null,"",null,0,0,null,{"$f":"IF(C45=\"\",\"\",'OPĆI DIO'!$C$1)","v":""},"","",{"$nulls":4},631120000,"Tekuće pomoći od inozemnih vlada izvan EU",52,"Ostale pomoći i darovnice ",631,63]
[{"$f":"IF(E46=\"\",\"\",VLOOKUP('OPĆI DIO'!$C$1,'OPĆI DIO'!$L$4:$U$138,10,FALSE))","v":""},{"$f":"IF(E46=\"\",\"\",VLOOKUP('OPĆI DIO'!$C$1,'OPĆI DIO'!$L$4:$U$138,9,FALSE))","v":""},"","",null,"",null,0,0,null,{"$f":"IF(C46=\"\",\"\",'OPĆI DIO'!$C$1)","v":""},"","",{"$nulls":4},631210000,"Kapitalne pomoći od inozemnih vlada u EU",52,"Ostale pomoći i darovnice ",631,63]
[{"$f":"IF(E47=\"\",\"\",VLOOKUP('OPĆI DIO'!$C$1,'OPĆI DIO'!$L$4:$U$138,10,FALSE))","v":""},{"$f":"IF(E47=\"\",\"\",VLOOKUP('OPĆI DIO'!$C$1,'OPĆI DIO'!$L$4:$U$138,9,FALSE))","v":""},"","",null,"",null,0,0,null,{"$f":"IF(C47=\"\",\"\",'OPĆI DIO'!$C$1)","v":""},"","",{"$nulls":4},631220000,"Kapitalne pomoći od inozemnih vlada izvan EU",52,"Ostale pomoći i darovnice ",631,63]
[{"$f":"IF(E48=\"\",\"\",VLOOKUP('OPĆI DIO'!$C$1,'OPĆI DIO'!$L$4:$U$138,10,FALSE))","v":""},{"$f":"IF(E48=\"\",\"\",VLOOKUP('OPĆI DIO'!$C$1,'OPĆI DIO'!$L$4:$U$138,9,FALSE))","v":""},"","",null,"",null,0,0,null,{"$f":"IF(C48=\"\",\"\",'OPĆI DIO'!$C$1)","v":""},"","",{"$nulls":4},632112000,"Tekuće pomoći od međunarodnih organizacija",52,"Ostale pomoći i darovnice ",632,63]
[{"$f":"IF(E49=\"\",\"\",VLOOKUP('OPĆI DIO'!$C$1,'OPĆI DIO'!$L$4:$U$138,10,FALSE))","v":""},{"$f":"IF(E49=\"\",\"\",VLOOKUP('OPĆI DIO'!$C$1,'OPĆI DIO'!$L$4:$U$138,9,FALSE))","v":""},"","",null,"",null,0,0,null,{"$f":"IF(C49=\"\",\"\",'OPĆI DIO'!$C$1)","v":""},"","",{"$nulls":4},632212000,"Kapitalne pomoći od međunarodnih organizacija ",52,"Ostale pomoći i darovnice ",632,63]
[{"$f":"IF(E50=\"\",\"\",VLOOKUP('OPĆI DIO'!$C$1,'OPĆI DIO'!$L$4:$U$138,10,FALSE))","v":""},{"$f":"IF(E50=\"\",\"\",VLOOKUP('OPĆI DIO'!$C$1,'OPĆI DIO'!$L$4:$U$138,9,FALSE))","v":""},"","",null,"",null,0,0,null,{"$f":"IF(C50=\"\",\"\",'OPĆI DIO'!$C$1)","v":""},"","",{"$nulls":4},6341,"Tekuće pomoći od izvanproračunskih korisnika ",52,"Ostale pomoći i darovnice ",634,63]
[{"$f":"IF(E51=\"\",\"\",VLOOKUP('OPĆI DIO'!$C$1,'OPĆI DIO'!$L$4:$U$138,10,FALSE))","v":""},{"$f":"IF(E51=\"\",\"\",VLOOKUP('OPĆI DIO'!$C$1,'OPĆI DIO'!$L$4:$U$138,9,FALSE))","v":""},"","",null,"",null,0,0,null,{"$f":"IF(C51=\"\",\"\",'OPĆI DIO'!$C$1)","v":""},"","",{"$nulls":4},6342,"Kapitalne pomoći od izvanproračunskih korisnika",52,"Ostale pomoći i darovnice ",634,63]
[{"$f":"IF(E52=\"\",\"\",VLOOKUP('OPĆI DIO'!$C$1,'OPĆI DIO'!$L$4:$U$138,10,FALSE))","v":""},{"$f":"IF(E52=\"\",\"\",VLOOKUP('OPĆI DIO'!$C$1,'OPĆI DIO'!$L$4:$U$138,9,FALSE))","v":""},"","",null,"",null,0,0,null,{"$f":"IF(C52=\"\",\"\",'OPĆI DIO'!$C$1)","v":""},"","",{"$nulls":4},6361,"Tekuće pomoći proračunskim korisnicima iz proračuna JLP(R)S koji im nije nadležan",52,"Ostale pomoći i darovnice ",636,63]
[{"$f":"IF(E53=\"\",\"\",VLOOKUP('OPĆI DIO'!$C$1,'OPĆI DIO'!$L$4:$U$138,10,FALSE))","v":""},{"$f":"IF(E53=\"\",\"\",VLOOKUP('OPĆI DIO'!$C$1,'OPĆI DIO'!$L$4:$U$138,9,FALSE))","v":""},"","",null,"",null,0,0,null,{"$f":"IF(C53=\"\",\"\",'OPĆI DIO'!$C$1)","v":""},"","",{"$nulls":4},6362,"Kapitalne pomoći proračunskim korisnicima iz proračuna JLP(R)S koji im nije nadležan",52,"Ostale pomoći i darovnice ",636,63]
[{"$f":"IF(E54=\"\",\"\",VLOOKUP('OPĆI DIO'!$C$1,'OPĆI DIO'!$L$4:$U$138,10,FALSE))","v":""},{"$f":"IF(E54=\"\",\"\",VLOOKUP('OPĆI DIO'!$C$1,'OPĆI DIO'!$L$4:$U$138,9,FALSE))","v":""},"","",null,"",null,0,0,null,{"$f":"IF(C54=\"\",\"\",'OPĆI DIO'!$C$1)","v":""},"","",{"$nulls":4},6381,"Tekuće pomoći temeljem prijenosa EU sredstava iz proračuna JLP(R)S, korisnika JLPRS ili izvanproračunskog korisnika",52,"Ostale pomoći i darovnice ",638,63]
[{"$f":"IF(E55=\"\",\"\",VLOOKUP('OPĆI DIO'!$C$1,'OPĆI DIO'!$L$4:$U$138,10,FALSE))","v":""},{"$f":"IF(E55=\"\",\"\",VLOOKUP('OPĆI DIO'!$C$1,'OPĆI DIO'!$L$4:$U$138,9,FALSE))","v":""},"","",null,"",null,0,0,null,{"$f":"IF(C55=\"\",\"\",'OPĆI DIO'!$C$1)","v":""},"","",{"$nulls":4},6382,"Kapitalne pomoći temeljem prijenosa EU sredstava iz proračuna JLP(R)S, korisnika JLPRS ili izvanproračunskog korisnika",52,"Ostale pomoći i darovnice ",638,63]
[{"$f":"IF(E56=\"\",\"\",VLOOKUP('OPĆI DIO'!$C$1,'OPĆI DIO'!$L$4:$U$138,10,FALSE))","v":""},{"$f":"IF(E56=\"\",\"\",VLOOKUP('OPĆI DIO'!$C$1,'OPĆI DIO'!$L$4:$U$138,9,FALSE))","v":""},"","",null,"",null,0,0,null,{"$f":"IF(C56=\"\",\"\",'OPĆI DIO'!$C$1)","v":""},"","",{"$nulls":4},6391,"Tekući prijenosi između proračunskih korisnika istog proračuna",52,"Ostale pomoći i darovnice ",639,63]
[{"$f":"IF(E57=\"\",\"\",VLOOKUP('OPĆI DIO'!$C$1,'OPĆI DIO'!$L$4:$U$138,10,FALSE))","v":""},{"$f":"IF(E57=\"\",\"\",VLOOKUP('OPĆI DIO'!$C$1,'OPĆI DIO'!$L$4:$U$138,9,FALSE))","v":""},"","",null,"",null,0,0,null,{"$f":"IF(C57=\"\",\"\",'OPĆI DIO'!$C$1)","v":""},"","",{"$nulls":4},6392,"Kapitalni prijenosi između proračunskih korisnika istog proračuna",52,"Ostale pomoći i darovnice ",639,63]
[{"$f":"IF(E58=\"\",\"\",VLOOKUP('OPĆI DIO'!$C$1,'OPĆI DIO'!$L$4:$U$138,10,FALSE))","v":""},{"$f":"IF(E58=\"\",\"\",VLOOKUP('OPĆI DIO'!$C$1,'OPĆI DIO'!$L$4:$U$138,9,FALSE))","v":""},"","",null,"",null,0,0,null,{"$f":"IF(C58=\"\",\"\",'OPĆI DIO'!$C$1)","v":""},"","",{"$nulls":4},6393,"Tekući prijenosi između proračunskih korisnika istog proračuna temeljem prijenosa EU sredstava",52,"Ostale pomoći i darovnice ",639,63]
[{"$f":"IF(E59=\"\",\"\",VLOOKUP('OPĆI DIO'!$C$1,'OPĆI DIO'!$L$4:$U$138,10,FALSE))","v":""},{"$f":"IF(E59=\"\",\"\",VLOOKUP('OPĆI DIO'!$C$1,'OPĆI DIO'!$L$4:$U$138,9,FALSE))","v":""},"","",null,"",null,0,0,null,{"$f":"IF(C59=\"\",\"\",'OPĆI DIO'!$C$1)","v":""},"","",{"$nulls":4},6394,"Kapitalni prijenosi između proračunskih korisnika istog proračuna temeljem prijenosa EU sredstava",52,"Ostale pomoći i darovnice ",639,63]
[{"$f":"IF(E60=\"\",\"\",VLOOKUP('OPĆI DIO'!$C$1,'OPĆI DIO'!$L$4:$U$138,10,FALSE))","v":""},{"$f":"IF(E60=\"\",\"\",VLOOKUP('OPĆI DIO'!$C$1,'OPĆI DIO'!$L$4:$U$138,9,FALSE))","v":""},"","",null,"",null,0,0,null,{"$f":"IF(C60=\"\",\"\",'OPĆI DIO'!$C$1)","v":""},"","",{"$nulls":4},663110000,"Tekuće donacije od fizičkih osoba",61,"Donacije ",663,66]
[{"$f":"IF(E61=\"\",\"\",VLOOKUP('OPĆI DIO'!$C$1,'OPĆI DIO'!$L$4:$U$138,10,FALSE))","v":""},{"$f":"IF(E61=\"\",\"\",VLOOKUP('OPĆI DIO'!$C$1,'OPĆI DIO'!$L$4:$U$138,9,FALSE))","v":""},"","",null,"",null,0,0,null,{"$f":"IF(C61=\"\",\"\",'OPĆI DIO'!$C$1)","v":""},"","",{"$nulls":4},663120000,"Tekuće donacije od neprofitnih organizacija",61,"Donacije ",663,66]
[{"$f":"IF(E62=\"\",\"\",VLOOKUP('OPĆI DIO'!$C$1,'OPĆI DIO'!$L$4:$U$138,10,FALSE))","v":""},{"$f":"IF(E62=\"\",\"\",VLOOKUP('OPĆI DIO'!$C$1,'OPĆI DIO'!$L$4:$U$138,9,FALSE))","v":""},"","",null,"",null,0,0,null,{"$f":"IF(C62=\"\",\"\",'OPĆI DIO'!$C$1)","v":""},"","",{"$nulls":4},663130000,"Tekuće donacije od trgovačkih društava",61,"Donacije ",663,66]
[{"$f":"IF(E63=\"\",\"\",VLOOKUP('OPĆI DIO'!$C$1,'OPĆI DIO'!$L$4:$U$138,10,FALSE))","v":""},{"$f":"IF(E63=\"\",\"\",VLOOKUP('OPĆI DIO'!$C$1,'OPĆI DIO'!$L$4:$U$138,9,FALSE))","v":""},"","",null,"",null,0,0,null,{"$f":"IF(C63=\"\",\"\",'OPĆI DIO'!$C$1)","v":""},"","",{"$nulls":4},663140000,"Tekuće donacije od ostalih subjekata izvan općeg proračuna",61,"Donacije ",663,66]
[{"$f":"IF(E64=\"\",\"\",VLOOKUP('OPĆI DIO'!$C$1,'OPĆI DIO'!$L$4:$U$138,10,FALSE))","v":""},{"$f":"IF(E64=\"\",\"\",VLOOKUP('OPĆI DIO'!$C$1,'OPĆI DIO'!$L$4:$U$138,9,FALSE))","v":""},"","",null,"",null,0,0,null,{"$f":"IF(C64=\"\",\"\",'OPĆI DIO'!$C$1)","v":""},"","",{"$nulls":4},663210000,"Kapitalne donacije od fizičkih osoba",61,"Donacije ",663,66]
[{"$f":"IF(E65=\"\",\"\",VLOOKUP('OPĆI DIO'!$C$1,'OPĆI DIO'!$L$4:$U$138,10,FALSE))","v":""},{"$f":"IF(E65=\"\",\"\",VLOOKUP('OPĆI DIO'!$C$1,'OPĆI DIO'!$L$4:$U$138,9,FALSE))","v":""},"","",null,"",null,0,0,null,{"$f":"IF(C65=\"\",\"\",'OPĆI DIO'!$C$1)","v":""},"","",{"$nulls":4},663220000,"Kapitalne donacije od neprofitnih organizacija",61,"Donacije ",663,66]
[{"$f":"IF(E66=\"\",\"\",VLOOKUP('OPĆI DIO'!$C$1,'OPĆI DIO'!$L$4:$U$138,10,FALSE))","v":""},{"$f":"IF(E66=\"\",\"\",VLOOKUP('OPĆI DIO'!$C$1,'OPĆI DIO'!$L$4:$U$138,9,FALSE))","v":""},"","",null,"",null,0,0,null,{"$f":"IF(C66=\"\",\"\",'OPĆI DIO'!$C$1)","v":""},"","",{"$nulls":4},663230000,"Kapitalne donacije od trgovačkih društava",61,"Donacije ",663,66]
[{"$f":"IF(E67=\"\",\"\",VLOOKUP('OPĆI DIO'!$C$1,'OPĆI DIO'!$L$4:$U$138,10,FALSE))","v":""},{"$f":"IF(E67=\"\",\"\",VLOOKUP('OPĆI DIO'!$C$1,'OPĆI DIO'!$L$4:$U$138,9,FALSE))","v":""},"",{"$f":"IFERROR(VLOOKUP(E67,$R$6:$U$113,4,FALSE),\"\")","v":""},null,{"$f":"IFERROR(VLOOKUP(E67,$R$6:$U$113,2,FALSE),\"\")","v":""},null,0,0,null,{"$f":"IF(C67=\"\",\"\",'OPĆI DIO'!$C$1)","v":""},"","",{"$nulls":4},663240000,"Kapitalne donacije od ostalih subjekata izvan općeg proračuna",61,"Donacije ",663,66]
[{"$f":"IF(E68=\"\",\"\",VLOOKUP('OPĆI DIO'!$C$1,'OPĆI DIO'!$L$4:$U$138,10,FALSE))","v":""},{"$f":"IF(E68=\"\",\"\",VLOOKUP('OPĆI DIO'!$C$1,'OPĆI DIO'!$L$4:$U$138,9,FALSE))","v":""},"",{"$f":"IFERROR(VLOOKUP(E68,$R$6:$U$113,4,FALSE),\"\")","v":""},null,{"$f":"IFERROR(VLOOKUP(E68,$R$6:$U$113,2,FALSE),\"\")","v":""},null,0,{"$f":"+G68+H68","v":0},null,{"$f":"IF(C68=\"\",\"\",'OPĆI DIO'!$C$1)","v":""},{"$f":"LEFT(E68,2)","v":""},{"$f":"LEFT(E68,3)","v":""},{"$nulls":4},663121000,"Tekuće donacije od neprofitnih organizacija - ostale",63,"Inozemne donacija",663,66]
[{"$f":"IF(E69=\"\",\"\",VLOOKUP('OPĆI DIO'!$C$1,'OPĆI DIO'!$L$4:$U$138,10,FALSE))","v":""},{"$f":"IF(E69=\"\",\"\",VLOOKUP('OPĆI DIO'!$C$1,'OPĆI DIO'!$L$4:$U$138,9,FALSE))","v":""},{"$nulls":5},0,0,null,{"$f":"IF(C69=\"\",\"\",'OPĆI DIO'!$C$1)","v":""},"","",{"$nulls":4},663131000,"Tekuće donacije od trgovačkih društava - ostale",63,"Inozemne donacija",663,66]
[{"$f":"IF(E70=\"\",\"\",VLOOKUP('OPĆI DIO'!$C$1,'OPĆI DIO'!$L$4:$U$138,10,FALSE))","v":""},{"$f":"IF(E70=\"\",\"\",VLOOKUP('OPĆI DIO'!$C$1,'OPĆI DIO'!$L$4:$U$138,9,FALSE))","v":""},{"$f":"IFERROR(VLOOKUP(E70,$R$6:$U$113,3,FALSE),\"\")","v":""},{"$f":"IFERROR(VLOOKUP(E70,$R$6:$U$113,4,FALSE),\"\")","v":""},null,{"$f":"IFERROR(VLOOKUP(E70,$R$6:$U$113,2,FALSE),\"\")","v":""},null,0,0,null,{"$f":"IF(C70=\"\",\"\",'OPĆI DIO'!$C$1)","v":""},"","",{"$nulls":4},663221000,"Kapitalne donacije od neprofitnih organizacija - ostale",63,"Inozemne donacija",663,66]
[{"$f":"IF(E71=\"\",\"\",VLOOKUP('OPĆI DIO'!$C$1,'OPĆI DIO'!$L$4:$U$138,10,FALSE))","v":""},{"$f":"IF(E71=\"\",\"\",VLOOKUP('OPĆI DIO'!$C$1,'OPĆI DIO'!$L$4:$U$138,9,FALSE))","v":""},"","",null,"",null,0,0,null,{"$f":"IF(C71=\"\",\"\",'OPĆI DIO'!$C$1)","v":""},"","",{"$nulls":4},663231000,"Kapitalne donacije od trgovačkih društava - ostale",63,"Inozemne donacija",663,66]
[{"$f":"IF(E72=\"\",\"\",VLOOKUP('OPĆI DIO'!$C$1,'OPĆI DIO'!$L$4:$U$138,10,FALSE))","v":""},{"$f":"IF(E72=\"\",\"\",VLOOKUP('OPĆI DIO'!$C$1,'OPĆI DIO'!$L$4:$U$138,9,FALSE))","v":""},"","",null,"",null,0,0,null,{"$f":"IF(C72=\"\",\"\",'OPĆI DIO'!$C$1)","v":""},"","",{"$nulls":4},652670071,"Prihodi s naslova osiguranja, refundacije štete i totalne štete izvor 71",71,"Prihodi od nefin. imovine i nadoknade štete s osnova osig.",652,65]
[{"$f":"IF(E73=\"\",\"\",VLOOKUP('OPĆI DIO'!$C$1,'OPĆI DIO'!$L$4:$U$138,10,FALSE))","v":""},{"$f":"IF(E73=\"\",\"\",VLOOKUP('OPĆI DIO'!$C$1,'OPĆI DIO'!$L$4:$U$138,9,FALSE))","v":""},"","",null,"",null,0,0,null,{"$f":"IF(C73=\"\",\"\",'OPĆI DIO'!$C$1)","v":""},"","",{"$nulls":4},711110071,"Poljoprivredno zemljište izvor 71",71,"Prihodi od prodaje ili zamjene nefinancijske imovine i naknade s naslova osiguranja",711,71]
[{"$f":"IF(E74=\"\",\"\",VLOOKUP('OPĆI DIO'!$C$1,'OPĆI DIO'!$L$4:$U$138,10,FALSE))","v":""},{"$f":"IF(E74=\"\",\"\",VLOOKUP('OPĆI DIO'!$C$1,'OPĆI DIO'!$L$4:$U$138,9,FALSE))","v":""},"","",null,"",null,0,0,null,{"$f":"IF(C74=\"\",\"\",'OPĆI DIO'!$C$1)","v":""},"","",{"$nulls":4},711120071,"Građevinsko zemljište izvor 71",71,"Prihodi od prodaje ili zamjene nefinancijske imovine i naknade s naslova osiguranja",711,71]
[{"$f":"IF(E75=\"\",\"\",VLOOKUP('OPĆI DIO'!$C$1,'OPĆI DIO'!$L$4:$U$138,10,FALSE))","v":""},{"$f":"IF(E75=\"\",\"\",VLOOKUP('OPĆI DIO'!$C$1,'OPĆI DIO'!$L$4:$U$138,9,FALSE))","v":""},"","",null,"",null,0,0,null,{"$f":"IF(C75=\"\",\"\",'OPĆI DIO'!$C$1)","v":""},"","",{"$nulls":4},712410071,"Ulaganja na tuđoj imovini radi prava korištenja izvor 71",71,"Prihodi od prodaje ili zamjene nefinancijske imovine i naknade s naslova osiguranja",712,71]
[{"$f":"IF(E76=\"\",\"\",VLOOKUP('OPĆI DIO'!$C$1,'OPĆI DIO'!$L$4:$U$138,10,FALSE))","v":""},{"$f":"IF(E76=\"\",\"\",VLOOKUP('OPĆI DIO'!$C$1,'OPĆI DIO'!$L$4:$U$138,9,FALSE))","v":""},"","",null,"",null,0,0,null,{"$f":"IF(C76=\"\",\"\",'OPĆI DIO'!$C$1)","v":""},"","",{"$nulls":4},712490071,"Ostala nespomenuta prava izvor 71",71,"Prihodi od prodaje ili zamjene nefinancijske imovine i naknade s naslova osiguranja",712,71]
[{"$f":"IF(E77=\"\",\"\",VLOOKUP('OPĆI DIO'!$C$1,'OPĆI DIO'!$L$4:$U$138,10,FALSE))","v":""},{"$f":"IF(E77=\"\",\"\",VLOOKUP('OPĆI DIO'!$C$1,'OPĆI DIO'!$L$4:$U$138,9,FALSE))","v":""},"","",null,"",null,0,0,null,{"$f":"IF(C77=\"\",\"\",'OPĆI DIO'!$C$1)","v":""},"","",{"$nulls":4},721110071,"Stambeni objekti za zaposlene izvor 71",71,"Prihodi od prodaje ili zamjene nefinancijske imovine i naknade s naslova osiguranja",721,72]
[{"$f":"IF(E78=\"\",\"\",VLOOKUP('OPĆI DIO'!$C$1,'OPĆI DIO'!$L$4:$U$138,10,FALSE))","v":""},{"$f":"IF(E78=\"\",\"\",VLOOKUP('OPĆI DIO'!$C$1,'OPĆI DIO'!$L$4:$U$138,9,FALSE))","v":""},"","",null,"",null,0,0,null,{"$f":"IF(C78=\"\",\"\",'OPĆI DIO'!$C$1)","v":""},"","",{"$nulls":4},721190071,"Ostali stambeni objekti izvor 71",71,"Prihodi od prodaje ili zamjene nefinancijske imovine i naknade s naslova osiguranja",721,72]
[{"$f":"IF(E79=\"\",\"\",VLOOKUP('OPĆI DIO'!$C$1,'OPĆI DIO'!$L$4:$U$138,10,FALSE))","v":""},{"$f":"IF(E79=\"\",\"\",VLOOKUP('OPĆI DIO'!$C$1,'OPĆI DIO'!$L$4:$U$138,9,FALSE))","v":""},"","",null,"",null,0,0,null,{"$f":"IF(C79=\"\",\"\",'OPĆI DIO'!$C$1)","v":""},"","",{"$nulls":4},721230071,"Zgrade znanstvenih i obrazovnih institucija (fakulteti, škole, vrtići i slično) izvor 71",71,"Prihodi od prodaje ili zamjene nefinancijske imovine i naknade s naslova osiguranja",721,72]
[{"$f":"IF(E80=\"\",\"\",VLOOKUP('OPĆI DIO'!$C$1,'OPĆI DIO'!$L$4:$U$138,10,FALSE))","v":""},{"$f":"IF(E80=\"\",\"\",VLOOKUP('OPĆI DIO'!$C$1,'OPĆI DIO'!$L$4:$U$138,9,FALSE))","v":""},"","",null,"",null,0,0,null,{"$f":"IF(C80=\"\",\"\",'OPĆI DIO'!$C$1)","v":""},"","",{"$nulls":4},721290071,"Ostali poslovni građevinski objekti izvor 71",71,"Prihodi od prodaje ili zamjene nefinancijske imovine i naknade s naslova osiguranja",721,72]
[{"$f":"IF(E81=\"\",\"\",VLOOKUP('OPĆI DIO'!$C$1,'OPĆI DIO'!$L$4:$U$138,10,FALSE))","v":""},{"$f":"IF(E81=\"\",\"\",VLOOKUP('OPĆI DIO'!$C$1,'OPĆI DIO'!$L$4:$U$138,9,FALSE))","v":""},"","",null,"",null,0,0,null,{"$f":"IF(C81=\"\",\"\",'OPĆI DIO'!$C$1)","v":""},"","",{"$nulls":4},722110071,"Računala i računalna oprema izvor 71",71,"Prihodi od prodaje ili zamjene nefinancijske imovine i naknade s naslova osiguranja",722,72]
[{"$f":"IF(E82=\"\",\"\",VLOOKUP('OPĆI DIO'!$C$1,'OPĆI DIO'!$L$4:$U$138,10,FALSE))","v":""},{"$f":"IF(E82=\"\",\"\",VLOOKUP('OPĆI DIO'!$C$1,'OPĆI DIO'!$L$4:$U$138,9,FALSE))","v":""},"","",null,"",null,0,0,null,{"$f":"IF(C82=\"\",\"\",'OPĆI DIO'!$C$1)","v":""},"","",{"$nulls":4},722120071,"Uredski namještaj izvor 71",71,"Prihodi od prodaje ili zamjene nefinancijske imovine i naknade s naslova osiguranja",722,72]
[{"$f":"IF(E83=\"\",\"\",VLOOKUP('OPĆI DIO'!$C$1,'OPĆI DIO'!$L$4:$U$138,10,FALSE))","v":""},{"$f":"IF(E83=\"\",\"\",VLOOKUP('OPĆI DIO'!$C$1,'OPĆI DIO'!$L$4:$U$138,9,FALSE))","v":""},"","",null,"",null,0,0,null,{"$f":"IF(C83=\"\",\"\",'OPĆI DIO'!$C$1)","v":""},"","",{"$nulls":4},722190071,"Ostala uredska oprema izvor 71",71,"Prihodi od prodaje ili zamjene nefinancijske imovine i naknade s naslova osiguranja",722,72]
[{"$f":"IF(E84=\"\",\"\",VLOOKUP('OPĆI DIO'!$C$1,'OPĆI DIO'!$L$4:$U$138,10,FALSE))","v":""},{"$f":"IF(E84=\"\",\"\",VLOOKUP('OPĆI DIO'!$C$1,'OPĆI DIO'!$L$4:$U$138,9,FALSE))","v":""},"","",null,"",null,0,0,null,{"$f":"IF(C84=\"\",\"\",'OPĆI DIO'!$C$1)","v":""},"","",{"$nulls":4},"722410071","Medicinska oprema - izvor 71",71,"Prihodi od prodaje ili zamjene nefinancijske imovine i naknade s naslova osiguranja",722,72]
[{"$f":"IF(E85=\"\",\"\",VLOOKUP('OPĆI DIO'!$C$1,'OPĆI DIO'!$L$4:$U$138,10,FALSE))","v":""},{"$f":"IF(E85=\"\",\"\",VLOOKUP('OPĆI DIO'!$C$1,'OPĆI DIO'!$L$4:$U$138,9,FALSE))","v":""},"","",null,"",null,0,0,null,{"$f":"IF(C85=\"\",\"\",'OPĆI DIO'!$C$1)","v":""},"","",{"$nulls":4},722620071,"Glazbeni instrumenti i oprema izvor 71",71,"Prihodi od prodaje ili zamjene nefinancijske imovine i naknade s naslova osiguranja",722,72]
[{"$f":"IF(E86=\"\",\"\",VLOOKUP('OPĆI DIO'!$C$1,'OPĆI DIO'!$L$4:$U$138,10,FALSE))","v":""},{"$f":"IF(E86=\"\",\"\",VLOOKUP('OPĆI DIO'!$C$1,'OPĆI DIO'!$L$4:$U$138,9,FALSE))","v":""},"","",null,"",null,0,0,null,{"$f":"IF(C86=\"\",\"\",'OPĆI DIO'!$C$1)","v":""},"","",{"$nulls":4},722720071,"Strojevi - izvor 71",71,"Prihodi od nefin. imovine i nadoknade štete s osnova osig.",722,72]
[{"$f":"IF(E87=\"\",\"\",VLOOKUP('OPĆI DIO'!$C$1,'OPĆI DIO'!$L$4:$U$138,10,FALSE))","v":""},{"$f":"IF(E87=\"\",\"\",VLOOKUP('OPĆI DIO'!$C$1,'OPĆI DIO'!$L$4:$U$138,9,FALSE))","v":""},"","",null,"",null,0,0,null,{"$f":"IF(C87=\"\",\"\",'OPĆI DIO'!$C$1)","v":""},"","",{"$nulls":4},722730071,"Oprema izvor 71",71,"Prihodi od prodaje ili zamjene nefinancijske imovine i naknade s naslova osiguranja",722,72]
[{"$f":"IF(E88=\"\",\"\",VLOOKUP('OPĆI DIO'!$C$1,'OPĆI DIO'!$L$4:$U$138,10,FALSE))","v":""},{"$f":"IF(E88=\"\",\"\",VLOOKUP('OPĆI DIO'!$C$1,'OPĆI DIO'!$L$4:$U$138,9,FALSE))","v":""},"","",null,"",null,0,0,null,{"$f":"IF(C88=\"\",\"\",'OPĆI DIO'!$C$1)","v":""},"","",{"$nulls":4},723110071,"Osobni automobili izvor 71",71,"Prihodi od prodaje ili zamjene nefinancijske imovine i naknade s naslova osiguranja",723,72]
[{"$f":"IF(E89=\"\",\"\",VLOOKUP('OPĆI DIO'!$C$1,'OPĆI DIO'!$L$4:$U$138,10,FALSE))","v":""},{"$f":"IF(E89=\"\",\"\",VLOOKUP('OPĆI DIO'!$C$1,'OPĆI DIO'!$L$4:$U$138,9,FALSE))","v":""},"","",null,"",null,0,0,null,{"$f":"IF(C89=\"\",\"\",'OPĆI DIO'!$C$1)","v":""},"","",{"$nulls":4},723130071,"Kombi vozila izvor 71",71,"Prihodi od prodaje ili zamjene nefinancijske imovine i naknade s naslova osiguranja",723,72]
[{"$f":"IF(E90=\"\",\"\",VLOOKUP('OPĆI DIO'!$C$1,'OPĆI DIO'!$L$4:$U$138,10,FALSE))","v":""},{"$f":"IF(E90=\"\",\"\",VLOOKUP('OPĆI DIO'!$C$1,'OPĆI DIO'!$L$4:$U$138,9,FALSE))","v":""},"","",null,"",null,0,0,null,{"$f":"IF(C90=\"\",\"\",'OPĆI DIO'!$C$1)","v":""},"","",{"$nulls":4},723140071,"Kamioni izvor 71",71,"Prihodi od prodaje ili zamjene nefinancijske imovine i naknade s naslova osiguranja",723,72]
[{"$f":"IF(E91=\"\",\"\",VLOOKUP('OPĆI DIO'!$C$1,'OPĆI DIO'!$L$4:$U$138,10,FALSE))","v":""},{"$f":"IF(E91=\"\",\"\",VLOOKUP('OPĆI DIO'!$C$1,'OPĆI DIO'!$L$4:$U$138,9,FALSE))","v":""},"","",null,"",null,0,0,null,{"$f":"IF(C91=\"\",\"\",'OPĆI DIO'!$C$1)","v":""},"","",{"$nulls":4},723150071,"Traktori izvor 71",71,"Prihodi od prodaje ili zamjene nefinancijske imovine i naknade s naslova osiguranja",723,72]
[{"$f":"IF(E92=\"\",\"\",VLOOKUP('OPĆI DIO'!$C$1,'OPĆI DIO'!$L$4:$U$138,10,FALSE))","v":""},{"$f":"IF(E92=\"\",\"\",VLOOKUP('OPĆI DIO'!$C$1,'OPĆI DIO'!$L$4:$U$138,9,FALSE))","v":""},"","",null,"",null,0,0,null,{"$f":"IF(C92=\"\",\"\",'OPĆI DIO'!$C$1)","v":""},"","",{"$nulls":4},723160071,"Terenska vozila (protupožarna, vojna i slično) izvor 71",71,"Prihodi od prodaje ili zamjene nefinancijske imovine i naknade s naslova osiguranja",723,72]
[{"$f":"IF(E93=\"\",\"\",VLOOKUP('OPĆI DIO'!$C$1,'OPĆI DIO'!$L$4:$U$138,10,FALSE))","v":""},{"$f":"IF(E93=\"\",\"\",VLOOKUP('OPĆI DIO'!$C$1,'OPĆI DIO'!$L$4:$U$138,9,FALSE))","v":""},"","",null,"",null,0,0,null,{"$f":"IF(C93=\"\",\"\",'OPĆI DIO'!$C$1)","v":""},"","",{"$nulls":4},723190071,"Ostala prijevozna sr. u cest.prometu - izvor 71",71,"Prihodi od nefin. imovine i nadoknade štete s osnova osig.",723,72]
[{"$f":"IF(E94=\"\",\"\",VLOOKUP('OPĆI DIO'!$C$1,'OPĆI DIO'!$L$4:$U$138,10,FALSE))","v":""},{"$f":"IF(E94=\"\",\"\",VLOOKUP('OPĆI DIO'!$C$1,'OPĆI DIO'!$L$4:$U$138,9,FALSE))","v":""},"","",null,"",null,0,0,null,{"$f":"IF(C94=\"\",\"\",'OPĆI DIO'!$C$1)","v":""},"","",{"$nulls":4},723310071,"Plovila izvor 71",71,"Prihodi od prodaje ili zamjene nefinancijske imovine i naknade s naslova osiguranja",723,72]
[{"$f":"IF(E95=\"\",\"\",VLOOKUP('OPĆI DIO'!$C$1,'OPĆI DIO'!$L$4:$U$138,10,FALSE))","v":""},{"$f":"IF(E95=\"\",\"\",VLOOKUP('OPĆI DIO'!$C$1,'OPĆI DIO'!$L$4:$U$138,9,FALSE))","v":""},"","",null,"",null,0,0,null,{"$f":"IF(C95=\"\",\"\",'OPĆI DIO'!$C$1)","v":""},"","",{"$nulls":4},725210071,"Osnovno stado izvor 71",71,"Prihodi od prodaje ili zamjene nefinancijske imovine i naknade s naslova osiguranja",725,72]
[{"$f":"IF(E96=\"\",\"\",VLOOKUP('OPĆI DIO'!$C$1,'OPĆI DIO'!$L$4:$U$138,10,FALSE))","v":""},{"$f":"IF(E96=\"\",\"\",VLOOKUP('OPĆI DIO'!$C$1,'OPĆI DIO'!$L$4:$U$138,9,FALSE))","v":""},"","",null,"",null,0,0,null,{"$f":"IF(C96=\"\",\"\",'OPĆI DIO'!$C$1)","v":""},"","",{"$nulls":4},671110552,"Tekuće pomoći od institucija i tijela EU Švicarski instrument",552,"Švicarski instrument",632,63]
[{"$f":"IF(E97=\"\",\"\",VLOOKUP('OPĆI DIO'!$C$1,'OPĆI DIO'!$L$4:$U$138,10,FALSE))","v":""},{"$f":"IF(E97=\"\",\"\",VLOOKUP('OPĆI DIO'!$C$1,'OPĆI DIO'!$L$4:$U$138,9,FALSE))","v":""},"","",null,"",null,0,0,null,{"$f":"IF(C97=\"\",\"\",'OPĆI DIO'!$C$1)","v":""},"","",{"$nulls":4},671210552,"Kapitalne pomoći od institucija i tijela EU Švicarski instrument",552,"Švicarski instrument",632,63]
[{"$f":"IF(E98=\"\",\"\",VLOOKUP('OPĆI DIO'!$C$1,'OPĆI DIO'!$L$4:$U$138,10,FALSE))","v":""},{"$f":"IF(E98=\"\",\"\",VLOOKUP('OPĆI DIO'!$C$1,'OPĆI DIO'!$L$4:$U$138,9,FALSE))","v":""},"","",null,"",null,0,0,null,{"$f":"IF(C98=\"\",\"\",'OPĆI DIO'!$C$1)","v":""},"","",{"$nulls":4},671110559,"Tekuće pomoći od institucija i tijela EU – ostale refundacije",559,"Ostale refundacije iz pomoći EU",632,63]
[{"$f":"IF(E99=\"\",\"\",VLOOKUP('OPĆI DIO'!$C$1,'OPĆI DIO'!$L$4:$U$138,10,FALSE))","v":""},{"$f":"IF(E99=\"\",\"\",VLOOKUP('OPĆI DIO'!$C$1,'OPĆI DIO'!$L$4:$U$138,9,FALSE))","v":""},"","",null,"",null,0,0,null,{"$f":"IF(C99=\"\",\"\",'OPĆI DIO'!$C$1)","v":""},"","",{"$nulls":4},671210559,"Kapitalne pomoći od institucija i tijela EU - ostale refundacije",559,"Ostale refundacije iz pomoći EU",632,63]
[{"$f":"IF(E100=\"\",\"\",VLOOKUP('OPĆI DIO'!$C$1,'OPĆI DIO'!$L$4:$U$138,10,FALSE))","v":""},{"$f":"IF(E100=\"\",\"\",VLOOKUP('OPĆI DIO'!$C$1,'OPĆI DIO'!$L$4:$U$138,9,FALSE))","v":""},"","",null,"",null,0,0,null,{"$f":"IF(C100=\"\",\"\",'OPĆI DIO'!$C$1)","v":""},"","",{"$nulls":4},671110561,"Europski socijalni fond (ESF)",561,"Europski socijalni fond (ESF)",632,63]
[{"$f":"IF(E101=\"\",\"\",VLOOKUP('OPĆI DIO'!$C$1,'OPĆI DIO'!$L$4:$U$138,10,FALSE))","v":""},{"$f":"IF(E101=\"\",\"\",VLOOKUP('OPĆI DIO'!$C$1,'OPĆI DIO'!$L$4:$U$138,9,FALSE))","v":""},"","",null,"",null,0,0,null,{"$f":"IF(C101=\"\",\"\",'OPĆI DIO'!$C$1)","v":""},"","",{"$nulls":4},671210561,"Europski socijalni fond (ESF)",561,"Europski socijalni fond (ESF)",632,63]
[{"$f":"IF(E102=\"\",\"\",VLOOKUP('OPĆI DIO'!$C$1,'OPĆI DIO'!$L$4:$U$138,10,FALSE))","v":""},{"$f":"IF(E102=\"\",\"\",VLOOKUP('OPĆI DIO'!$C$1,'OPĆI DIO'!$L$4:$U$138,9,FALSE))","v":""},"","",null,"",null,0,0,null,{"$f":"IF(C102=\"\",\"\",'OPĆI DIO'!$C$1)","v":""},"","",{"$nulls":4},671110563,"Europski fond za regionalni razvoj (EFRR)",563,"Europski fond za regionalni razvoj (ERDF)",632,63]
[{"$f":"IF(E103=\"\",\"\",VLOOKUP('OPĆI DIO'!$C$1,'OPĆI DIO'!$L$4:$U$138,10,FALSE))","v":""},{"$f":"IF(E103=\"\",\"\",VLOOKUP('OPĆI DIO'!$C$1,'OPĆI DIO'!$L$4:$U$138,9,FALSE))","v":""},"","",null,"",null,0,0,null,{"$f":"IF(C103=\"\",\"\",'OPĆI DIO'!$C$1)","v":""},"","",{"$nulls":4},671210563,"Europski fond za regionalni razvoj (EFRR)",563,"Europski fond za regionalni razvoj (ERDF)",632,63]
[{"$f":"IF(E104=\"\",\"\",VLOOKUP('OPĆI DIO'!$C$1,'OPĆI DIO'!$L$4:$U$138,10,FALSE))","v":""},{"$f":"IF(E104=\"\",\"\",VLOOKUP('OPĆI DIO'!$C$1,'OPĆI DIO'!$L$4:$U$138,9,FALSE))","v":""},"","",null,"",null,0,0,null,{"$f":"IF(C104=\"\",\"\",'OPĆI DIO'!$C$1)","v":""},"","",{"$nulls":4},671110573,"Tekuće pomoći od institucija i tijela EU – Instrumenti europskog gospodarskog prostora",573,"Instrumenti Europskog gospodarskog prostora i ostali instrumenti",632,63]
[{"$f":"IF(E105=\"\",\"\",VLOOKUP('OPĆI DIO'!$C$1,'OPĆI DIO'!$L$4:$U$138,10,FALSE))","v":""},{"$f":"IF(E105=\"\",\"\",VLOOKUP('OPĆI DIO'!$C$1,'OPĆI DIO'!$L$4:$U$138,9,FALSE))","v":""},"","",null,"",null,0,0,null,{"$f":"IF(C105=\"\",\"\",'OPĆI DIO'!$C$1)","v":""},"","",{"$nulls":4},671210573,"Kapitalne pomoći od institucija i tijela EU - Instrumenti europskog gospodarskog prostora",573,"Instrumenti Europskog gospodarskog prostora i ostali instrumenti",632,63]
[{"$f":"IF(E106=\"\",\"\",VLOOKUP('OPĆI DIO'!$C$1,'OPĆI DIO'!$L$4:$U$138,10,FALSE))","v":""},{"$f":"IF(E106=\"\",\"\",VLOOKUP('OPĆI DIO'!$C$1,'OPĆI DIO'!$L$4:$U$138,9,FALSE))","v":""},"","",null,"",null,0,0,null,{"$f":"IF(C106=\"\",\"\",'OPĆI DIO'!$C$1)","v":""},"","",{"$nulls":4},671110581,"Tek.pom.od instit. tijela EU - Mehanizam za oporavak i otpornost",581,"Mehanizam za oporavak i otpornost",632,63]
[{"$f":"IF(E107=\"\",\"\",VLOOKUP('OPĆI DIO'!$C$1,'OPĆI DIO'!$L$4:$U$138,10,FALSE))","v":""},{"$f":"IF(E107=\"\",\"\",VLOOKUP('OPĆI DIO'!$C$1,'OPĆI DIO'!$L$4:$U$138,9,FALSE))","v":""},"","",null,"",null,0,0,null,{"$f":"IF(C107=\"\",\"\",'OPĆI DIO'!$C$1)","v":""},"","",{"$nulls":4},671210581,"Kapitalne pom.od instit. tijela EU - Mehanizam za oporavak i otpornost",581,"Mehanizam za oporavak i otpornost",632,63]
[{"$f":"IF(E108=\"\",\"\",VLOOKUP('OPĆI DIO'!$C$1,'OPĆI DIO'!$L$4:$U$138,10,FALSE))","v":""},{"$f":"IF(E108=\"\",\"\",VLOOKUP('OPĆI DIO'!$C$1,'OPĆI DIO'!$L$4:$U$138,9,FALSE))","v":""},"","",null,"",null,0,0,null,{"$f":"IF(C108=\"\",\"\",'OPĆI DIO'!$C$1)","v":""},"","",{"$nulls":4},841320000,"Primljeni zajmovi od međunarodnih organizacija - dugoročni",810,"Namjenski primici od zaduživanja ",841,84]
[{"$f":"IF(E109=\"\",\"\",VLOOKUP('OPĆI DIO'!$C$1,'OPĆI DIO'!$L$4:$U$138,10,FALSE))","v":""},{"$f":"IF(E109=\"\",\"\",VLOOKUP('OPĆI DIO'!$C$1,'OPĆI DIO'!$L$4:$U$138,9,FALSE))","v":""},"","",null,"",null,0,0,null,{"$f":"IF(C109=\"\",\"\",'OPĆI DIO'!$C$1)","v":""},"","",{"$nulls":4},84431,"Primljeni krediti od tuzemnih kreditnih institucija izvan javnog sektora - kratkoročni",810,"Namjenski primici od zaduživanja ",844,84]
[{"$f":"IF(E110=\"\",\"\",VLOOKUP('OPĆI DIO'!$C$1,'OPĆI DIO'!$L$4:$U$138,10,FALSE))","v":""},{"$f":"IF(E110=\"\",\"\",VLOOKUP('OPĆI DIO'!$C$1,'OPĆI DIO'!$L$4:$U$138,9,FALSE))","v":""},"","",null,"",null,0,0,null,{"$f":"IF(C110=\"\",\"\",'OPĆI DIO'!$C$1)","v":""},"","",{"$nulls":4},844320000,"Primljeni krediti od tuzemnih kreditnih institucija izvan javnog sektora - dugoročni namjenski",810,"Namjenski primici od zaduživanja ",844,84]
[{"$f":"IF(E111=\"\",\"\",VLOOKUP('OPĆI DIO'!$C$1,'OPĆI DIO'!$L$4:$U$138,10,FALSE))","v":""},{"$f":"IF(E111=\"\",\"\",VLOOKUP('OPĆI DIO'!$C$1,'OPĆI DIO'!$L$4:$U$138,9,FALSE))","v":""},"","",null,"",null,0,0,null,{"$f":"IF(C111=\"\",\"\",'OPĆI DIO'!$C$1)","v":""},"","",{"$nulls":4},842220081,"Primljeni krediti od kreditnih institucija u javnom sektoru - dugoročni - namjenski",810,"Namjenski primici od zaduživanja ",842,84]
[{"$f":"IF(E112=\"\",\"\",VLOOKUP('OPĆI DIO'!$C$1,'OPĆI DIO'!$L$4:$U$138,10,FALSE))","v":""},{"$f":"IF(E112=\"\",\"\",VLOOKUP('OPĆI DIO'!$C$1,'OPĆI DIO'!$L$4:$U$138,9,FALSE))","v":""},"","",null,"",null,0,0,null,{"$f":"IF(C112=\"\",\"\",'OPĆI DIO'!$C$1)","v":""},"","",{"$nulls":4},841320150,"Proj.održivog, prav. i učink.obrazov. IBRD 93030",810,"Namjenski primici od zaduživanja ",841,84]
[{"$f":"IF(E113=\"\",\"\",VLOOKUP('OPĆI DIO'!$C$1,'OPĆI DIO'!$L$4:$U$138,10,FALSE))","v":""},{"$f":"IF(E113=\"\",\"\",VLOOKUP('OPĆI DIO'!$C$1,'OPĆI DIO'!$L$4:$U$138,9,FALSE))","v":""},"","",null,"",null,0,0,null,{"$f":"IF(C113=\"\",\"\",'OPĆI DIO'!$C$1)","v":""},"","",{"$nulls":4},841320151,"Proj.digitalne inovat. i zelene tehnol. IBRD 95580",810,"Namjenski primici od zaduživanja ",841,84]
[{"$f":"IF(E114=\"\",\"\",VLOOKUP('OPĆI DIO'!$C$1,'OPĆI DIO'!$L$4:$U$138,10,FALSE))","v":""},{"$f":"IF(E114=\"\",\"\",VLOOKUP('OPĆI DIO'!$C$1,'OPĆI DIO'!$L$4:$U$138,9,FALSE))","v":""},"","",null,"",null,0,0,null,{"$f":"IF(C114=\"\",\"\",'OPĆI DIO'!$C$1)","v":""},"",""]
[{"$f":"IF(E115=\"\",\"\",VLOOKUP('OPĆI DIO'!$C$1,'OPĆI DIO'!$L$4:$U$138,10,FALSE))","v":""},{"$f":"IF(E115=\"\",\"\",VLOOKUP('OPĆI DIO'!$C$1,'OPĆI DIO'!$L$4:$U$138,9,FALSE))","v":""},"","",null,"",null,0,0,null,{"$f":"IF(C115=\"\",\"\",'OPĆI DIO'!$C$1)","v":""},"",""]
[{"$f":"IF(E116=\"\",\"\",VLOOKUP('OPĆI DIO'!$C$1,'OPĆI DIO'!$L$4:$U$138,10,FALSE))","v":""},{"$f":"IF(E116=\"\",\"\",VLOOKUP('OPĆI DIO'!$C$1,'OPĆI DIO'!$L$4:$U$138,9,FALSE))","v":""},"","",null,"",null,0,0,null,{"$f":"IF(C116=\"\",\"\",'OPĆI DIO'!$C$1)","v":""},"",""]
[{"$f":"IF(E117=\"\",\"\",VLOOKUP('OPĆI DIO'!$C$1,'OPĆI DIO'!$L$4:$U$138,10,FALSE))","v":""},{"$f":"IF(E117=\"\",\"\",VLOOKUP('OPĆI DIO'!$C$1,'OPĆI DIO'!$L$4:$U$138,9,FALSE))","v":""},"","",null,"",null,0,0,null,{"$f":"IF(C117=\"\",\"\",'OPĆI DIO'!$C$1)","v":""},"",""]
[{"$f":"IF(E118=\"\",\"\",VLOOKUP('OPĆI DIO'!$C$1,'OPĆI DIO'!$L$4:$U$138,10,FALSE))","v":""},{"$f":"IF(E118=\"\",\"\",VLOOKUP('OPĆI DIO'!$C$1,'OPĆI DIO'!$L$4:$U$138,9,FALSE))","v":""},"","",null,"",null,0,0,null,{"$f":"IF(C118=\"\",\"\",'OPĆI DIO'!$C$1)","v":""},"",""]
[{"$f":"IF(E119=\"\",\"\",VLOOKUP('OPĆI DIO'!$C$1,'OPĆI DIO'!$L$4:$U$138,10,FALSE))","v":""},{"$f":"IF(E119=\"\",\"\",VLOOKUP('OPĆI DIO'!$C$1,'OPĆI DIO'!$L$4:$U$138,9,FALSE))","v":""},"","",null,"",null,0,0,null,{"$f":"IF(C119=\"\",\"\",'OPĆI DIO'!$C$1)","v":""},"",""]
[{"$f":"IF(E120=\"\",\"\",VLOOKUP('OPĆI DIO'!$C$1,'OPĆI DIO'!$L$4:$U$138,10,FALSE))","v":""},{"$f":"IF(E120=\"\",\"\",VLOOKUP('OPĆI DIO'!$C$1,'OPĆI DIO'!$L$4:$U$138,9,FALSE))","v":""},"","",null,"",null,0,0,null,{"$f":"IF(C120=\"\",\"\",'OPĆI DIO'!$C$1)","v":""},"",""]
[{"$f":"IF(E121=\"\",\"\",VLOOKUP('OPĆI DIO'!$C$1,'OPĆI DIO'!$L$4:$U$138,10,FALSE))","v":""},{"$f":"IF(E121=\"\",\"\",VLOOKUP('OPĆI DIO'!$C$1,'OPĆI DIO'!$L$4:$U$138,9,FALSE))","v":""},"","",null,"",null,0,0,null,{"$f":"IF(C121=\"\",\"\",'OPĆI DIO'!$C$1)","v":""},"",""]
[{"$f":"IF(E122=\"\",\"\",VLOOKUP('OPĆI DIO'!$C$1,'OPĆI DIO'!$L$4:$U$138,10,FALSE))","v":""},{"$f":"IF(E122=\"\",\"\",VLOOKUP('OPĆI DIO'!$C$1,'OPĆI DIO'!$L$4:$U$138,9,FALSE))","v":""},"","",null,"",null,0,0,null,{"$f":"IF(C122=\"\",\"\",'OPĆI DIO'!$C$1)","v":""},"",""]
[{"$f":"IF(E123=\"\",\"\",VLOOKUP('OPĆI DIO'!$C$1,'OPĆI DIO'!$L$4:$U$138,10,FALSE))","v":""},{"$f":"IF(E123=\"\",\"\",VLOOKUP('OPĆI DIO'!$C$1,'OPĆI DIO'!$L$4:$U$138,9,FALSE))","v":""},"","",null,"",null,0,0,null,{"$f":"IF(C123=\"\",\"\",'OPĆI DIO'!$C$1)","v":""},"",""]
[{"$f":"IF(E124=\"\",\"\",VLOOKUP('OPĆI DIO'!$C$1,'OPĆI DIO'!$L$4:$U$138,10,FALSE))","v":""},{"$f":"IF(E124=\"\",\"\",VLOOKUP('OPĆI DIO'!$C$1,'OPĆI DIO'!$L$4:$U$138,9,FALSE))","v":""},"","",null,"",null,0,0,null,{"$f":"IF(C124=\"\",\"\",'OPĆI DIO'!$C$1)","v":""},"",""]
[{"$f":"IF(E125=\"\",\"\",VLOOKUP('OPĆI DIO'!$C$1,'OPĆI DIO'!$L$4:$U$138,10,FALSE))","v":""},{"$f":"IF(E125=\"\",\"\",VLOOKUP('OPĆI DIO'!$C$1,'OPĆI DIO'!$L$4:$U$138,9,FALSE))","v":""},"","",null,"",null,0,0,null,{"$f":"IF(C125=\"\",\"\",'OPĆI DIO'!$C$1)","v":""},"",""]
[{"$f":"IF(E126=\"\",\"\",VLOOKUP('OPĆI DIO'!$C$1,'OPĆI DIO'!$L$4:$U$138,10,FALSE))","v":""},{"$f":"IF(E126=\"\",\"\",VLOOKUP('OPĆI DIO'!$C$1,'OPĆI DIO'!$L$4:$U$138,9,FALSE))","v":""},"","",null,"",null,0,0,null,{"$f":"IF(C126=\"\",\"\",'OPĆI DIO'!$C$1)","v":""},"",""]
[{"$f":"IF(E127=\"\",\"\",VLOOKUP('OPĆI DIO'!$C$1,'OPĆI DIO'!$L$4:$U$138,10,FALSE))","v":""},{"$f":"IF(E127=\"\",\"\",VLOOKUP('OPĆI DIO'!$C$1,'OPĆI DIO'!$L$4:$U$138,9,FALSE))","v":""},"","",null,"",null,0,0,null,{"$f":"IF(C127=\"\",\"\",'OPĆI DIO'!$C$1)","v":""},"",""]
[{"$f":"IF(E128=\"\",\"\",VLOOKUP('OPĆI DIO'!$C$1,'OPĆI DIO'!$L$4:$U$138,10,FALSE))","v":""},{"$f":"IF(E128=\"\",\"\",VLOOKUP('OPĆI DIO'!$C$1,'OPĆI DIO'!$L$4:$U$138,9,FALSE))","v":""},"","",null,"",null,0,0,null,{"$f":"IF(C128=\"\",\"\",'OPĆI DIO'!$C$1)","v":""},"",""]
[{"$f":"IF(E129=\"\",\"\",VLOOKUP('OPĆI DIO'!$C$1,'OPĆI DIO'!$L$4:$U$138,10,FALSE))","v":""},{"$f":"IF(E129=\"\",\"\",VLOOKUP('OPĆI DIO'!$C$1,'OPĆI DIO'!$L$4:$U$138,9,FALSE))","v":""},"","",null,"",null,0,0,null,{"$f":"IF(C129=\"\",\"\",'OPĆI DIO'!$C$1)","v":""},"",""]
[{"$f":"IF(E130=\"\",\"\",VLOOKUP('OPĆI DIO'!$C$1,'OPĆI DIO'!$L$4:$U$138,10,FALSE))","v":""},{"$f":"IF(E130=\"\",\"\",VLOOKUP('OPĆI DIO'!$C$1,'OPĆI DIO'!$L$4:$U$138,9,FALSE))","v":""},"","",null,"",null,0,0,null,{"$f":"IF(C130=\"\",\"\",'OPĆI DIO'!$C$1)","v":""},"",""]
[{"$f":"IF(E131=\"\",\"\",VLOOKUP('OPĆI DIO'!$C$1,'OPĆI DIO'!$L$4:$U$138,10,FALSE))","v":""},{"$f":"IF(E131=\"\",\"\",VLOOKUP('OPĆI DIO'!$C$1,'OPĆI DIO'!$L$4:$U$138,9,FALSE))","v":""},"","",null,"",null,0,0,null,{"$f":"IF(C131=\"\",\"\",'OPĆI DIO'!$C$1)","v":""},"",""]
[{"$f":"IF(E132=\"\",\"\",VLOOKUP('OPĆI DIO'!$C$1,'OPĆI DIO'!$L$4:$U$138,10,FALSE))","v":""},{"$f":"IF(E132=\"\",\"\",VLOOKUP('OPĆI DIO'!$C$1,'OPĆI DIO'!$L$4:$U$138,9,FALSE))","v":""},"","",null,"",null,0,{"$f":"+G132+H132","v":0},null,{"$f":"IF(C132=\"\",\"\",'OPĆI DIO'!$C$1)","v":""},{"$f":"LEFT(E132,2)","v":""},{"$f":"LEFT(E132,3)","v":""}]
[{"$f":"IF(E133=\"\",\"\",VLOOKUP('OPĆI DIO'!$C$1,'OPĆI DIO'!$L$4:$U$138,10,FALSE))","v":""},{"$f":"IF(E133=\"\",\"\",VLOOKUP('OPĆI DIO'!$C$1,'OPĆI DIO'!$L$4:$U$138,9,FALSE))","v":""},"","",null,"",null,0,0,null,{"$f":"IF(C133=\"\",\"\",'OPĆI DIO'!$C$1)","v":""},"",""]
[{"$f":"IF(E134=\"\",\"\",VLOOKUP('OPĆI DIO'!$C$1,'OPĆI DIO'!$L$4:$U$138,10,FALSE))","v":""},{"$f":"IF(E134=\"\",\"\",VLOOKUP('OPĆI DIO'!$C$1,'OPĆI DIO'!$L$4:$U$138,9,FALSE))","v":""},{"$f":"IFERROR(VLOOKUP(E134,$R$6:$U$113,3,FALSE),\"\")","v":""},{"$f":"IFERROR(VLOOKUP(E134,$R$6:$U$113,4,FALSE),\"\")","v":""},null,{"$f":"IFERROR(VLOOKUP(E134,$R$6:$U$113,2,FALSE),\"\")","v":""},null,0,0,null,{"$f":"IF(C134=\"\",\"\",'OPĆI DIO'!$C$1)","v":""},"",""]
[{"$f":"IF(E135=\"\",\"\",VLOOKUP('OPĆI DIO'!$C$1,'OPĆI DIO'!$L$4:$U$138,10,FALSE))","v":""},{"$f":"IF(E135=\"\",\"\",VLOOKUP('OPĆI DIO'!$C$1,'OPĆI DIO'!$L$4:$U$138,9,FALSE))","v":""},"","",null,"",null,0,0,null,{"$f":"IF(C135=\"\",\"\",'OPĆI DIO'!$C$1)","v":""},"",""]
[{"$f":"IF(E136=\"\",\"\",VLOOKUP('OPĆI DIO'!$C$1,'OPĆI DIO'!$L$4:$U$138,10,FALSE))","v":""},{"$f":"IF(E136=\"\",\"\",VLOOKUP('OPĆI DIO'!$C$1,'OPĆI DIO'!$L$4:$U$138,9,FALSE))","v":""},"","",null,"",null,0,0,null,{"$f":"IF(C136=\"\",\"\",'OPĆI DIO'!$C$1)","v":""},"",""]
[{"$f":"IF(E137=\"\",\"\",VLOOKUP('OPĆI DIO'!$C$1,'OPĆI DIO'!$L$4:$U$138,10,FALSE))","v":""},{"$f":"IF(E137=\"\",\"\",VLOOKUP('OPĆI DIO'!$C$1,'OPĆI DIO'!$L$4:$U$138,9,FALSE))","v":""},"","",null,"",null,0,0,null,{"$f":"IF(C137=\"\",\"\",'OPĆI DIO'!$C$1)","v":""},"",""]
[{"$f":"IF(E138=\"\",\"\",VLOOKUP('OPĆI DIO'!$C$1,'OPĆI DIO'!$L$4:$U$138,10,FALSE))","v":""},{"$f":"IF(E138=\"\",\"\",VLOOKUP('OPĆI DIO'!$C$1,'OPĆI DIO'!$L$4:$U$138,9,FALSE))","v":""},"","",null,"",null,0,0,null,{"$f":"IF(C138=\"\",\"\",'OPĆI DIO'!$C$1)","v":""},"",""]
[{"$f":"IF(E139=\"\",\"\",VLOOKUP('OPĆI DIO'!$C$1,'OPĆI DIO'!$L$4:$U$138,10,FALSE))","v":""},{"$f":"IF(E139=\"\",\"\",VLOOKUP('OPĆI DIO'!$C$1,'OPĆI DIO'!$L$4:$U$138,9,FALSE))","v":""},"","",null,"",null,0,0,null,{"$f":"IF(C139=\"\",\"\",'OPĆI DIO'!$C$1)","v":""},"",""]
[{"$f":"IF(E140=\"\",\"\",VLOOKUP('OPĆI DIO'!$C$1,'OPĆI DIO'!$L$4:$U$138,10,FALSE))","v":""},{"$f":"IF(E140=\"\",\"\",VLOOKUP('OPĆI DIO'!$C$1,'OPĆI DIO'!$L$4:$U$138,9,FALSE))","v":""},"","",null,"",null,0,0,null,{"$f":"IF(C140=\"\",\"\",'OPĆI DIO'!$C$1)","v":""},"",""]
[{"$f":"IF(E141=\"\",\"\",VLOOKUP('OPĆI DIO'!$C$1,'OPĆI DIO'!$L$4:$U$138,10,FALSE))","v":""},{"$f":"IF(E141=\"\",\"\",VLOOKUP('OPĆI DIO'!$C$1,'OPĆI DIO'!$L$4:$U$138,9,FALSE))","v":""},"","",null,"",null,0,0,null,{"$f":"IF(C141=\"\",\"\",'OPĆI DIO'!$C$1)","v":""},"",""]
[{"$f":"IF(E142=\"\",\"\",VLOOKUP('OPĆI DIO'!$C$1,'OPĆI DIO'!$L$4:$U$138,10,FALSE))","v":""},{"$f":"IF(E142=\"\",\"\",VLOOKUP('OPĆI DIO'!$C$1,'OPĆI DIO'!$L$4:$U$138,9,FALSE))","v":""},"","",null,"",null,0,0,null,{"$f":"IF(C142=\"\",\"\",'OPĆI DIO'!$C$1)","v":""},"",""]
[{"$f":"IF(E143=\"\",\"\",VLOOKUP('OPĆI DIO'!$C$1,'OPĆI DIO'!$L$4:$U$138,10,FALSE))","v":""},{"$f":"IF(E143=\"\",\"\",VLOOKUP('OPĆI DIO'!$C$1,'OPĆI DIO'!$L$4:$U$138,9,FALSE))","v":""},"","",null,"",null,0,0,null,{"$f":"IF(C143=\"\",\"\",'OPĆI DIO'!$C$1)","v":""},"",""]
[{"$f":"IF(E144=\"\",\"\",VLOOKUP('OPĆI DIO'!$C$1,'OPĆI DIO'!$L$4:$U$138,10,FALSE))","v":""},{"$f":"IF(E144=\"\",\"\",VLOOKUP('OPĆI DIO'!$C$1,'OPĆI DIO'!$L$4:$U$138,9,FALSE))","v":""},"","",null,"",null,0,0,null,{"$f":"IF(C144=\"\",\"\",'OPĆI DIO'!$C$1)","v":""},"",""]
[{"$f":"IF(E145=\"\",\"\",VLOOKUP('OPĆI DIO'!$C$1,'OPĆI DIO'!$L$4:$U$138,10,FALSE))","v":""},{"$f":"IF(E145=\"\",\"\",VLOOKUP('OPĆI DIO'!$C$1,'OPĆI DIO'!$L$4:$U$138,9,FALSE))","v":""},"","",null,"",null,0,0,null,{"$f":"IF(C145=\"\",\"\",'OPĆI DIO'!$C$1)","v":""},"",""]
[{"$f":"IF(E146=\"\",\"\",VLOOKUP('OPĆI DIO'!$C$1,'OPĆI DIO'!$L$4:$U$138,10,FALSE))","v":""},{"$f":"IF(E146=\"\",\"\",VLOOKUP('OPĆI DIO'!$C$1,'OPĆI DIO'!$L$4:$U$138,9,FALSE))","v":""},"","",null,"",null,0,0,null,{"$f":"IF(C146=\"\",\"\",'OPĆI DIO'!$C$1)","v":""},"",""]
[{"$f":"IF(E147=\"\",\"\",VLOOKUP('OPĆI DIO'!$C$1,'OPĆI DIO'!$L$4:$U$138,10,FALSE))","v":""},{"$f":"IF(E147=\"\",\"\",VLOOKUP('OPĆI DIO'!$C$1,'OPĆI DIO'!$L$4:$U$138,9,FALSE))","v":""},"","",null,"",null,0,0,null,{"$f":"IF(C147=\"\",\"\",'OPĆI DIO'!$C$1)","v":""},"",""]
[{"$f":"IF(E148=\"\",\"\",VLOOKUP('OPĆI DIO'!$C$1,'OPĆI DIO'!$L$4:$U$138,10,FALSE))","v":""},{"$f":"IF(E148=\"\",\"\",VLOOKUP('OPĆI DIO'!$C$1,'OPĆI DIO'!$L$4:$U$138,9,FALSE))","v":""},"","",null,"",null,0,0,null,{"$f":"IF(C148=\"\",\"\",'OPĆI DIO'!$C$1)","v":""},"",""]
[{"$f":"IF(E149=\"\",\"\",VLOOKUP('OPĆI DIO'!$C$1,'OPĆI DIO'!$L$4:$U$138,10,FALSE))","v":""},{"$f":"IF(E149=\"\",\"\",VLOOKUP('OPĆI DIO'!$C$1,'OPĆI DIO'!$L$4:$U$138,9,FALSE))","v":""},"","",null,"",null,0,0,null,{"$f":"IF(C149=\"\",\"\",'OPĆI DIO'!$C$1)","v":""},"",""]
[{"$f":"IF(E150=\"\",\"\",VLOOKUP('OPĆI DIO'!$C$1,'OPĆI DIO'!$L$4:$U$138,10,FALSE))","v":""},{"$f":"IF(E150=\"\",\"\",VLOOKUP('OPĆI DIO'!$C$1,'OPĆI DIO'!$L$4:$U$138,9,FALSE))","v":""},"","",null,"",null,0,0,null,{"$f":"IF(C150=\"\",\"\",'OPĆI DIO'!$C$1)","v":""},"",""]
[{"$f":"IF(E151=\"\",\"\",VLOOKUP('OPĆI DIO'!$C$1,'OPĆI DIO'!$L$4:$U$138,10,FALSE))","v":""},{"$f":"IF(E151=\"\",\"\",VLOOKUP('OPĆI DIO'!$C$1,'OPĆI DIO'!$L$4:$U$138,9,FALSE))","v":""},"","",null,"",null,0,0,null,{"$f":"IF(C151=\"\",\"\",'OPĆI DIO'!$C$1)","v":""},"",""]
[{"$f":"IF(E152=\"\",\"\",VLOOKUP('OPĆI DIO'!$C$1,'OPĆI DIO'!$L$4:$U$138,10,FALSE))","v":""},{"$f":"IF(E152=\"\",\"\",VLOOKUP('OPĆI DIO'!$C$1,'OPĆI DIO'!$L$4:$U$138,9,FALSE))","v":""},"","",null,"",null,0,0,null,{"$f":"IF(C152=\"\",\"\",'OPĆI DIO'!$C$1)","v":""},"",""]
[{"$f":"IF(E153=\"\",\"\",VLOOKUP('OPĆI DIO'!$C$1,'OPĆI DIO'!$L$4:$U$138,10,FALSE))","v":""},{"$f":"IF(E153=\"\",\"\",VLOOKUP('OPĆI DIO'!$C$1,'OPĆI DIO'!$L$4:$U$138,9,FALSE))","v":""},"","",null,"",null,0,0,null,{"$f":"IF(C153=\"\",\"\",'OPĆI DIO'!$C$1)","v":""},"",""]
[{"$f":"IF(E154=\"\",\"\",VLOOKUP('OPĆI DIO'!$C$1,'OPĆI DIO'!$L$4:$U$138,10,FALSE))","v":""},{"$f":"IF(E154=\"\",\"\",VLOOKUP('OPĆI DIO'!$C$1,'OPĆI DIO'!$L$4:$U$138,9,FALSE))","v":""},"","",null,"",null,0,0,null,{"$f":"IF(C154=\"\",\"\",'OPĆI DIO'!$C$1)","v":""},"",""]
[{"$f":"IF(E155=\"\",\"\",VLOOKUP('OPĆI DIO'!$C$1,'OPĆI DIO'!$L$4:$U$138,10,FALSE))","v":""},{"$f":"IF(E155=\"\",\"\",VLOOKUP('OPĆI DIO'!$C$1,'OPĆI DIO'!$L$4:$U$138,9,FALSE))","v":""},"","",null,"",null,0,0,null,{"$f":"IF(C155=\"\",\"\",'OPĆI DIO'!$C$1)","v":""},"",""]
[{"$f":"IF(E156=\"\",\"\",VLOOKUP('OPĆI DIO'!$C$1,'OPĆI DIO'!$L$4:$U$138,10,FALSE))","v":""},{"$f":"IF(E156=\"\",\"\",VLOOKUP('OPĆI DIO'!$C$1,'OPĆI DIO'!$L$4:$U$138,9,FALSE))","v":""},"","",null,"",null,0,0,null,{"$f":"IF(C156=\"\",\"\",'OPĆI DIO'!$C$1)","v":""},"",""]
[{"$f":"IF(E157=\"\",\"\",VLOOKUP('OPĆI DIO'!$C$1,'OPĆI DIO'!$L$4:$U$138,10,FALSE))","v":""},{"$f":"IF(E157=\"\",\"\",VLOOKUP('OPĆI DIO'!$C$1,'OPĆI DIO'!$L$4:$U$138,9,FALSE))","v":""},"","",null,"",null,0,0,null,{"$f":"IF(C157=\"\",\"\",'OPĆI DIO'!$C$1)","v":""},"",""]
[{"$f":"IF(E158=\"\",\"\",VLOOKUP('OPĆI DIO'!$C$1,'OPĆI DIO'!$L$4:$U$138,10,FALSE))","v":""},{"$f":"IF(E158=\"\",\"\",VLOOKUP('OPĆI DIO'!$C$1,'OPĆI DIO'!$L$4:$U$138,9,FALSE))","v":""},"","",null,"",null,0,0,null,{"$f":"IF(C158=\"\",\"\",'OPĆI DIO'!$C$1)","v":""},"",""]
[{"$f":"IF(E159=\"\",\"\",VLOOKUP('OPĆI DIO'!$C$1,'OPĆI DIO'!$L$4:$U$138,10,FALSE))","v":""},{"$f":"IF(E159=\"\",\"\",VLOOKUP('OPĆI DIO'!$C$1,'OPĆI DIO'!$L$4:$U$138,9,FALSE))","v":""},"","",null,"",null,0,0,null,{"$f":"IF(C159=\"\",\"\",'OPĆI DIO'!$C$1)","v":""},"",""]
[{"$f":"IF(E160=\"\",\"\",VLOOKUP('OPĆI DIO'!$C$1,'OPĆI DIO'!$L$4:$U$138,10,FALSE))","v":""},{"$f":"IF(E160=\"\",\"\",VLOOKUP('OPĆI DIO'!$C$1,'OPĆI DIO'!$L$4:$U$138,9,FALSE))","v":""},"","",null,"",null,0,0,null,{"$f":"IF(C160=\"\",\"\",'OPĆI DIO'!$C$1)","v":""},"",""]
[{"$f":"IF(E161=\"\",\"\",VLOOKUP('OPĆI DIO'!$C$1,'OPĆI DIO'!$L$4:$U$138,10,FALSE))","v":""},{"$f":"IF(E161=\"\",\"\",VLOOKUP('OPĆI DIO'!$C$1,'OPĆI DIO'!$L$4:$U$138,9,FALSE))","v":""},"","",null,"",null,0,0,null,{"$f":"IF(C161=\"\",\"\",'OPĆI DIO'!$C$1)","v":""},"",""]
[{"$f":"IF(E162=\"\",\"\",VLOOKUP('OPĆI DIO'!$C$1,'OPĆI DIO'!$L$4:$U$138,10,FALSE))","v":""},{"$f":"IF(E162=\"\",\"\",VLOOKUP('OPĆI DIO'!$C$1,'OPĆI DIO'!$L$4:$U$138,9,FALSE))","v":""},"","",null,"",null,0,0,null,{"$f":"IF(C162=\"\",\"\",'OPĆI DIO'!$C$1)","v":""},"",""]
[{"$f":"IF(E163=\"\",\"\",VLOOKUP('OPĆI DIO'!$C$1,'OPĆI DIO'!$L$4:$U$138,10,FALSE))","v":""},{"$f":"IF(E163=\"\",\"\",VLOOKUP('OPĆI DIO'!$C$1,'OPĆI DIO'!$L$4:$U$138,9,FALSE))","v":""},"","",null,"",null,0,0,null,{"$f":"IF(C163=\"\",\"\",'OPĆI DIO'!$C$1)","v":""},"",""]
[{"$f":"IF(E164=\"\",\"\",VLOOKUP('OPĆI DIO'!$C$1,'OPĆI DIO'!$L$4:$U$138,10,FALSE))","v":""},{"$f":"IF(E164=\"\",\"\",VLOOKUP('OPĆI DIO'!$C$1,'OPĆI DIO'!$L$4:$U$138,9,FALSE))","v":""},"","",null,"",null,0,0,null,{"$f":"IF(C164=\"\",\"\",'OPĆI DIO'!$C$1)","v":""},"",""]
[{"$f":"IF(E165=\"\",\"\",VLOOKUP('OPĆI DIO'!$C$1,'OPĆI DIO'!$L$4:$U$138,10,FALSE))","v":""},{"$f":"IF(E165=\"\",\"\",VLOOKUP('OPĆI DIO'!$C$1,'OPĆI DIO'!$L$4:$U$138,9,FALSE))","v":""},"","",null,"",null,0,0,null,{"$f":"IF(C165=\"\",\"\",'OPĆI DIO'!$C$1)","v":""},"",""]
[{"$f":"IF(E166=\"\",\"\",VLOOKUP('OPĆI DIO'!$C$1,'OPĆI DIO'!$L$4:$U$138,10,FALSE))","v":""},{"$f":"IF(E166=\"\",\"\",VLOOKUP('OPĆI DIO'!$C$1,'OPĆI DIO'!$L$4:$U$138,9,FALSE))","v":""},"","",null,"",null,0,0,null,{"$f":"IF(C166=\"\",\"\",'OPĆI DIO'!$C$1)","v":""},"",""]
[{"$f":"IF(E167=\"\",\"\",VLOOKUP('OPĆI DIO'!$C$1,'OPĆI DIO'!$L$4:$U$138,10,FALSE))","v":""},{"$f":"IF(E167=\"\",\"\",VLOOKUP('OPĆI DIO'!$C$1,'OPĆI DIO'!$L$4:$U$138,9,FALSE))","v":""},"","",null,"",null,0,0,null,{"$f":"IF(C167=\"\",\"\",'OPĆI DIO'!$C$1)","v":""},"",""]
[{"$f":"IF(E168=\"\",\"\",VLOOKUP('OPĆI DIO'!$C$1,'OPĆI DIO'!$L$4:$U$138,10,FALSE))","v":""},{"$f":"IF(E168=\"\",\"\",VLOOKUP('OPĆI DIO'!$C$1,'OPĆI DIO'!$L$4:$U$138,9,FALSE))","v":""},"","",null,"",null,0,0,null,{"$f":"IF(C168=\"\",\"\",'OPĆI DIO'!$C$1)","v":""},"",""]
[{"$f":"IF(E169=\"\",\"\",VLOOKUP('OPĆI DIO'!$C$1,'OPĆI DIO'!$L$4:$U$138,10,FALSE))","v":""},{"$f":"IF(E169=\"\",\"\",VLOOKUP('OPĆI DIO'!$C$1,'OPĆI DIO'!$L$4:$U$138,9,FALSE))","v":""},"","",null,"",null,0,0,null,{"$f":"IF(C169=\"\",\"\",'OPĆI DIO'!$C$1)","v":""},"",""]
[{"$f":"IF(E170=\"\",\"\",VLOOKUP('OPĆI DIO'!$C$1,'OPĆI DIO'!$L$4:$U$138,10,FALSE))","v":""},{"$f":"IF(E170=\"\",\"\",VLOOKUP('OPĆI DIO'!$C$1,'OPĆI DIO'!$L$4:$U$138,9,FALSE))","v":""},"","",null,"",null,0,0,null,{"$f":"IF(C170=\"\",\"\",'OPĆI DIO'!$C$1)","v":""},"",""]
[{"$f":"IF(E171=\"\",\"\",VLOOKUP('OPĆI DIO'!$C$1,'OPĆI DIO'!$L$4:$U$138,10,FALSE))","v":""},{"$f":"IF(E171=\"\",\"\",VLOOKUP('OPĆI DIO'!$C$1,'OPĆI DIO'!$L$4:$U$138,9,FALSE))","v":""},"","",null,"",null,0,0,null,{"$f":"IF(C171=\"\",\"\",'OPĆI DIO'!$C$1)","v":""},"",""]
[{"$f":"IF(E172=\"\",\"\",VLOOKUP('OPĆI DIO'!$C$1,'OPĆI DIO'!$L$4:$U$138,10,FALSE))","v":""},{"$f":"IF(E172=\"\",\"\",VLOOKUP('OPĆI DIO'!$C$1,'OPĆI DIO'!$L$4:$U$138,9,FALSE))","v":""},"","",null,"",null,0,0,null,{"$f":"IF(C172=\"\",\"\",'OPĆI DIO'!$C$1)","v":""},"",""]
[{"$f":"IF(E173=\"\",\"\",VLOOKUP('OPĆI DIO'!$C$1,'OPĆI DIO'!$L$4:$U$138,10,FALSE))","v":""},{"$f":"IF(E173=\"\",\"\",VLOOKUP('OPĆI DIO'!$C$1,'OPĆI DIO'!$L$4:$U$138,9,FALSE))","v":""},"","",null,"",null,0,0,null,{"$f":"IF(C173=\"\",\"\",'OPĆI DIO'!$C$1)","v":""},"",""]
[{"$f":"IF(E174=\"\",\"\",VLOOKUP('OPĆI DIO'!$C$1,'OPĆI DIO'!$L$4:$U$138,10,FALSE))","v":""},{"$f":"IF(E174=\"\",\"\",VLOOKUP('OPĆI DIO'!$C$1,'OPĆI DIO'!$L$4:$U$138,9,FALSE))","v":""},"","",null,"",null,0,0,null,{"$f":"IF(C174=\"\",\"\",'OPĆI DIO'!$C$1)","v":""},"",""]
[{"$f":"IF(E175=\"\",\"\",VLOOKUP('OPĆI DIO'!$C$1,'OPĆI DIO'!$L$4:$U$138,10,FALSE))","v":""},{"$f":"IF(E175=\"\",\"\",VLOOKUP('OPĆI DIO'!$C$1,'OPĆI DIO'!$L$4:$U$138,9,FALSE))","v":""},"","",null,"",null,0,0,null,{"$f":"IF(C175=\"\",\"\",'OPĆI DIO'!$C$1)","v":""},"",""]
[{"$f":"IF(E176=\"\",\"\",VLOOKUP('OPĆI DIO'!$C$1,'OPĆI DIO'!$L$4:$U$138,10,FALSE))","v":""},{"$f":"IF(E176=\"\",\"\",VLOOKUP('OPĆI DIO'!$C$1,'OPĆI DIO'!$L$4:$U$138,9,FALSE))","v":""},"","",null,"",null,0,0,null,{"$f":"IF(C176=\"\",\"\",'OPĆI DIO'!$C$1)","v":""},"",""]
[{"$f":"IF(E177=\"\",\"\",VLOOKUP('OPĆI DIO'!$C$1,'OPĆI DIO'!$L$4:$U$138,10,FALSE))","v":""},{"$f":"IF(E177=\"\",\"\",VLOOKUP('OPĆI DIO'!$C$1,'OPĆI DIO'!$L$4:$U$138,9,FALSE))","v":""},"","",null,"",null,0,0,null,{"$f":"IF(C177=\"\",\"\",'OPĆI DIO'!$C$1)","v":""},"",""]
[{"$f":"IF(E178=\"\",\"\",VLOOKUP('OPĆI DIO'!$C$1,'OPĆI DIO'!$L$4:$U$138,10,FALSE))","v":""},{"$f":"IF(E178=\"\",\"\",VLOOKUP('OPĆI DIO'!$C$1,'OPĆI DIO'!$L$4:$U$138,9,FALSE))","v":""},"","",null,"",null,0,0,null,{"$f":"IF(C178=\"\",\"\",'OPĆI DIO'!$C$1)","v":""},"",""]
[{"$f":"IF(E179=\"\",\"\",VLOOKUP('OPĆI DIO'!$C$1,'OPĆI DIO'!$L$4:$U$138,10,FALSE))","v":""},{"$f":"IF(E179=\"\",\"\",VLOOKUP('OPĆI DIO'!$C$1,'OPĆI DIO'!$L$4:$U$138,9,FALSE))","v":""},"","",null,"",null,0,0,null,{"$f":"IF(C179=\"\",\"\",'OPĆI DIO'!$C$1)","v":""},"",""]
[{"$f":"IF(E180=\"\",\"\",VLOOKUP('OPĆI DIO'!$C$1,'OPĆI DIO'!$L$4:$U$138,10,FALSE))","v":""},{"$f":"IF(E180=\"\",\"\",VLOOKUP('OPĆI DIO'!$C$1,'OPĆI DIO'!$L$4:$U$138,9,FALSE))","v":""},"","",null,"",null,0,0,null,{"$f":"IF(C180=\"\",\"\",'OPĆI DIO'!$C$1)","v":""},"",""]
[{"$f":"IF(E181=\"\",\"\",VLOOKUP('OPĆI DIO'!$C$1,'OPĆI DIO'!$L$4:$U$138,10,FALSE))","v":""},{"$f":"IF(E181=\"\",\"\",VLOOKUP('OPĆI DIO'!$C$1,'OPĆI DIO'!$L$4:$U$138,9,FALSE))","v":""},"","",null,"",null,0,0,null,{"$f":"IF(C181=\"\",\"\",'OPĆI DIO'!$C$1)","v":""},"",""]
[{"$f":"IF(E182=\"\",\"\",VLOOKUP('OPĆI DIO'!$C$1,'OPĆI DIO'!$L$4:$U$138,10,FALSE))","v":""},{"$f":"IF(E182=\"\",\"\",VLOOKUP('OPĆI DIO'!$C$1,'OPĆI DIO'!$L$4:$U$138,9,FALSE))","v":""},"","",null,"",null,0,0,null,{"$f":"IF(C182=\"\",\"\",'OPĆI DIO'!$C$1)","v":""},"",""]
[{"$f":"IF(E183=\"\",\"\",VLOOKUP('OPĆI DIO'!$C$1,'OPĆI DIO'!$L$4:$U$138,10,FALSE))","v":""},{"$f":"IF(E183=\"\",\"\",VLOOKUP('OPĆI DIO'!$C$1,'OPĆI DIO'!$L$4:$U$138,9,FALSE))","v":""},"","",null,"",null,0,0,null,{"$f":"IF(C183=\"\",\"\",'OPĆI DIO'!$C$1)","v":""},"",""]
[{"$f":"IF(E184=\"\",\"\",VLOOKUP('OPĆI DIO'!$C$1,'OPĆI DIO'!$L$4:$U$138,10,FALSE))","v":""},{"$f":"IF(E184=\"\",\"\",VLOOKUP('OPĆI DIO'!$C$1,'OPĆI DIO'!$L$4:$U$138,9,FALSE))","v":""},"","",null,"",null,0,0,null,{"$f":"IF(C184=\"\",\"\",'OPĆI DIO'!$C$1)","v":""},"",""]
[{"$f":"IF(E185=\"\",\"\",VLOOKUP('OPĆI DIO'!$C$1,'OPĆI DIO'!$L$4:$U$138,10,FALSE))","v":""},{"$f":"IF(E185=\"\",\"\",VLOOKUP('OPĆI DIO'!$C$1,'OPĆI DIO'!$L$4:$U$138,9,FALSE))","v":""},"","",null,"",null,0,0,null,{"$f":"IF(C185=\"\",\"\",'OPĆI DIO'!$C$1)","v":""},"",""]
[{"$f":"IF(E186=\"\",\"\",VLOOKUP('OPĆI DIO'!$C$1,'OPĆI DIO'!$L$4:$U$138,10,FALSE))","v":""},{"$f":"IF(E186=\"\",\"\",VLOOKUP('OPĆI DIO'!$C$1,'OPĆI DIO'!$L$4:$U$138,9,FALSE))","v":""},"","",null,"",null,0,0,null,{"$f":"IF(C186=\"\",\"\",'OPĆI DIO'!$C$1)","v":""},"",""]
[{"$f":"IF(E187=\"\",\"\",VLOOKUP('OPĆI DIO'!$C$1,'OPĆI DIO'!$L$4:$U$138,10,FALSE))","v":""},{"$f":"IF(E187=\"\",\"\",VLOOKUP('OPĆI DIO'!$C$1,'OPĆI DIO'!$L$4:$U$138,9,FALSE))","v":""},"","",null,"",null,0,0,null,{"$f":"IF(C187=\"\",\"\",'OPĆI DIO'!$C$1)","v":""},"",""]
[{"$f":"IF(E188=\"\",\"\",VLOOKUP('OPĆI DIO'!$C$1,'OPĆI DIO'!$L$4:$U$138,10,FALSE))","v":""},{"$f":"IF(E188=\"\",\"\",VLOOKUP('OPĆI DIO'!$C$1,'OPĆI DIO'!$L$4:$U$138,9,FALSE))","v":""},"","",null,"",null,0,0,null,{"$f":"IF(C188=\"\",\"\",'OPĆI DIO'!$C$1)","v":""},"",""]
[{"$f":"IF(E189=\"\",\"\",VLOOKUP('OPĆI DIO'!$C$1,'OPĆI DIO'!$L$4:$U$138,10,FALSE))","v":""},{"$f":"IF(E189=\"\",\"\",VLOOKUP('OPĆI DIO'!$C$1,'OPĆI DIO'!$L$4:$U$138,9,FALSE))","v":""},"","",null,"",null,0,0,null,{"$f":"IF(C189=\"\",\"\",'OPĆI DIO'!$C$1)","v":""},"",""]
[{"$f":"IF(E190=\"\",\"\",VLOOKUP('OPĆI DIO'!$C$1,'OPĆI DIO'!$L$4:$U$138,10,FALSE))","v":""},{"$f":"IF(E190=\"\",\"\",VLOOKUP('OPĆI DIO'!$C$1,'OPĆI DIO'!$L$4:$U$138,9,FALSE))","v":""},"","",null,"",null,0,0,null,{"$f":"IF(C190=\"\",\"\",'OPĆI DIO'!$C$1)","v":""},"",""]
[{"$f":"IF(E191=\"\",\"\",VLOOKUP('OPĆI DIO'!$C$1,'OPĆI DIO'!$L$4:$U$138,10,FALSE))","v":""},{"$f":"IF(E191=\"\",\"\",VLOOKUP('OPĆI DIO'!$C$1,'OPĆI DIO'!$L$4:$U$138,9,FALSE))","v":""},"","",null,"",null,0,0,null,{"$f":"IF(C191=\"\",\"\",'OPĆI DIO'!$C$1)","v":""},"",""]
[{"$f":"IF(E192=\"\",\"\",VLOOKUP('OPĆI DIO'!$C$1,'OPĆI DIO'!$L$4:$U$138,10,FALSE))","v":""},{"$f":"IF(E192=\"\",\"\",VLOOKUP('OPĆI DIO'!$C$1,'OPĆI DIO'!$L$4:$U$138,9,FALSE))","v":""},"","",null,"",null,0,0,null,{"$f":"IF(C192=\"\",\"\",'OPĆI DIO'!$C$1)","v":""},"",""]
[{"$f":"IF(E193=\"\",\"\",VLOOKUP('OPĆI DIO'!$C$1,'OPĆI DIO'!$L$4:$U$138,10,FALSE))","v":""},{"$f":"IF(E193=\"\",\"\",VLOOKUP('OPĆI DIO'!$C$1,'OPĆI DIO'!$L$4:$U$138,9,FALSE))","v":""},"","",null,"",null,0,0,null,{"$f":"IF(C193=\"\",\"\",'OPĆI DIO'!$C$1)","v":""},"",""]
[{"$f":"IF(E194=\"\",\"\",VLOOKUP('OPĆI DIO'!$C$1,'OPĆI DIO'!$L$4:$U$138,10,FALSE))","v":""},{"$f":"IF(E194=\"\",\"\",VLOOKUP('OPĆI DIO'!$C$1,'OPĆI DIO'!$L$4:$U$138,9,FALSE))","v":""},"","",null,"",null,0,0,null,{"$f":"IF(C194=\"\",\"\",'OPĆI DIO'!$C$1)","v":""},"",""]
[{"$f":"IF(E195=\"\",\"\",VLOOKUP('OPĆI DIO'!$C$1,'OPĆI DIO'!$L$4:$U$138,10,FALSE))","v":""},{"$f":"IF(E195=\"\",\"\",VLOOKUP('OPĆI DIO'!$C$1,'OPĆI DIO'!$L$4:$U$138,9,FALSE))","v":""},"","",null,"",null,0,0,null,{"$f":"IF(C195=\"\",\"\",'OPĆI DIO'!$C$1)","v":""},"",""]
[{"$f":"IF(E196=\"\",\"\",VLOOKUP('OPĆI DIO'!$C$1,'OPĆI DIO'!$L$4:$U$138,10,FALSE))","v":""},{"$f":"IF(E196=\"\",\"\",VLOOKUP('OPĆI DIO'!$C$1,'OPĆI DIO'!$L$4:$U$138,9,FALSE))","v":""},"","",null,"",null,0,{"$f":"+G196+H196","v":0},null,{"$f":"IF(C196=\"\",\"\",'OPĆI DIO'!$C$1)","v":""},{"$f":"LEFT(E196,2)","v":""},{"$f":"LEFT(E196,3)","v":""}]
[{"$f":"IF(E197=\"\",\"\",VLOOKUP('OPĆI DIO'!$C$1,'OPĆI DIO'!$L$4:$U$138,10,FALSE))","v":""},{"$f":"IF(E197=\"\",\"\",VLOOKUP('OPĆI DIO'!$C$1,'OPĆI DIO'!$L$4:$U$138,9,FALSE))","v":""},"","",null,"",null,0,0,null,{"$f":"IF(C197=\"\",\"\",'OPĆI DIO'!$C$1)","v":""},"",""]
[{"$f":"IF(E198=\"\",\"\",VLOOKUP('OPĆI DIO'!$C$1,'OPĆI DIO'!$L$4:$U$138,10,FALSE))","v":""},{"$f":"IF(E198=\"\",\"\",VLOOKUP('OPĆI DIO'!$C$1,'OPĆI DIO'!$L$4:$U$138,9,FALSE))","v":""},{"$f":"IFERROR(VLOOKUP(E198,$R$6:$U$113,3,FALSE),\"\")","v":""},{"$f":"IFERROR(VLOOKUP(E198,$R$6:$U$113,4,FALSE),\"\")","v":""},null,{"$f":"IFERROR(VLOOKUP(E198,$R$6:$U$113,2,FALSE),\"\")","v":""},null,0,0,null,{"$f":"IF(C198=\"\",\"\",'OPĆI DIO'!$C$1)","v":""},"",""]
[{"$f":"IF(E199=\"\",\"\",VLOOKUP('OPĆI DIO'!$C$1,'OPĆI DIO'!$L$4:$U$138,10,FALSE))","v":""},{"$f":"IF(E199=\"\",\"\",VLOOKUP('OPĆI DIO'!$C$1,'OPĆI DIO'!$L$4:$U$138,9,FALSE))","v":""},"","",null,"",null,0,0,null,{"$f":"IF(C199=\"\",\"\",'OPĆI DIO'!$C$1)","v":""},"",""]
[{"$f":"IF(E200=\"\",\"\",VLOOKUP('OPĆI DIO'!$C$1,'OPĆI DIO'!$L$4:$U$138,10,FALSE))","v":""},{"$f":"IF(E200=\"\",\"\",VLOOKUP('OPĆI DIO'!$C$1,'OPĆI DIO'!$L$4:$U$138,9,FALSE))","v":""},"","",null,"",null,0,0,null,{"$f":"IF(C200=\"\",\"\",'OPĆI DIO'!$C$1)","v":""},"",""]
[{"$f":"IF(E201=\"\",\"\",VLOOKUP('OPĆI DIO'!$C$1,'OPĆI DIO'!$L$4:$U$138,10,FALSE))","v":""},{"$f":"IF(E201=\"\",\"\",VLOOKUP('OPĆI DIO'!$C$1,'OPĆI DIO'!$L$4:$U$138,9,FALSE))","v":""},"","",null,"",null,0,0,null,{"$f":"IF(C201=\"\",\"\",'OPĆI DIO'!$C$1)","v":""},"",""]
[{"$f":"IF(E202=\"\",\"\",VLOOKUP('OPĆI DIO'!$C$1,'OPĆI DIO'!$L$4:$U$138,10,FALSE))","v":""},{"$f":"IF(E202=\"\",\"\",VLOOKUP('OPĆI DIO'!$C$1,'OPĆI DIO'!$L$4:$U$138,9,FALSE))","v":""},"","",null,"",null,0,0,null,{"$f":"IF(C202=\"\",\"\",'OPĆI DIO'!$C$1)","v":""},"",""]
[{"$f":"IF(E203=\"\",\"\",VLOOKUP('OPĆI DIO'!$C$1,'OPĆI DIO'!$L$4:$U$138,10,FALSE))","v":""},{"$f":"IF(E203=\"\",\"\",VLOOKUP('OPĆI DIO'!$C$1,'OPĆI DIO'!$L$4:$U$138,9,FALSE))","v":""},"","",null,"",null,0,0,null,{"$f":"IF(C203=\"\",\"\",'OPĆI DIO'!$C$1)","v":""},"",""]
[{"$f":"IF(E204=\"\",\"\",VLOOKUP('OPĆI DIO'!$C$1,'OPĆI DIO'!$L$4:$U$138,10,FALSE))","v":""},{"$f":"IF(E204=\"\",\"\",VLOOKUP('OPĆI DIO'!$C$1,'OPĆI DIO'!$L$4:$U$138,9,FALSE))","v":""},"","",null,"",null,0,0,null,{"$f":"IF(C204=\"\",\"\",'OPĆI DIO'!$C$1)","v":""},"",""]
[{"$f":"IF(E205=\"\",\"\",VLOOKUP('OPĆI DIO'!$C$1,'OPĆI DIO'!$L$4:$U$138,10,FALSE))","v":""},{"$f":"IF(E205=\"\",\"\",VLOOKUP('OPĆI DIO'!$C$1,'OPĆI DIO'!$L$4:$U$138,9,FALSE))","v":""},"","",null,"",null,0,0,null,{"$f":"IF(C205=\"\",\"\",'OPĆI DIO'!$C$1)","v":""},"",""]
[{"$f":"IF(E206=\"\",\"\",VLOOKUP('OPĆI DIO'!$C$1,'OPĆI DIO'!$L$4:$U$138,10,FALSE))","v":""},{"$f":"IF(E206=\"\",\"\",VLOOKUP('OPĆI DIO'!$C$1,'OPĆI DIO'!$L$4:$U$138,9,FALSE))","v":""},"","",null,"",null,0,0,null,{"$f":"IF(C206=\"\",\"\",'OPĆI DIO'!$C$1)","v":""},"",""]
[{"$f":"IF(E207=\"\",\"\",VLOOKUP('OPĆI DIO'!$C$1,'OPĆI DIO'!$L$4:$U$138,10,FALSE))","v":""},{"$f":"IF(E207=\"\",\"\",VLOOKUP('OPĆI DIO'!$C$1,'OPĆI DIO'!$L$4:$U$138,9,FALSE))","v":""},"","",null,"",null,0,0,null,{"$f":"IF(C207=\"\",\"\",'OPĆI DIO'!$C$1)","v":""},"",""]
[{"$f":"IF(E208=\"\",\"\",VLOOKUP('OPĆI DIO'!$C$1,'OPĆI DIO'!$L$4:$U$138,10,FALSE))","v":""},{"$f":"IF(E208=\"\",\"\",VLOOKUP('OPĆI DIO'!$C$1,'OPĆI DIO'!$L$4:$U$138,9,FALSE))","v":""},"","",null,"",null,0,0,null,{"$f":"IF(C208=\"\",\"\",'OPĆI DIO'!$C$1)","v":""},"",""]
[{"$f":"IF(E209=\"\",\"\",VLOOKUP('OPĆI DIO'!$C$1,'OPĆI DIO'!$L$4:$U$138,10,FALSE))","v":""},{"$f":"IF(E209=\"\",\"\",VLOOKUP('OPĆI DIO'!$C$1,'OPĆI DIO'!$L$4:$U$138,9,FALSE))","v":""},"","",null,"",null,0,0,null,{"$f":"IF(C209=\"\",\"\",'OPĆI DIO'!$C$1)","v":""},"",""]
[{"$f":"IF(E210=\"\",\"\",VLOOKUP('OPĆI DIO'!$C$1,'OPĆI DIO'!$L$4:$U$138,10,FALSE))","v":""},{"$f":"IF(E210=\"\",\"\",VLOOKUP('OPĆI DIO'!$C$1,'OPĆI DIO'!$L$4:$U$138,9,FALSE))","v":""},"","",null,"",null,0,0,null,{"$f":"IF(C210=\"\",\"\",'OPĆI DIO'!$C$1)","v":""},"",""]
[{"$f":"IF(E211=\"\",\"\",VLOOKUP('OPĆI DIO'!$C$1,'OPĆI DIO'!$L$4:$U$138,10,FALSE))","v":""},{"$f":"IF(E211=\"\",\"\",VLOOKUP('OPĆI DIO'!$C$1,'OPĆI DIO'!$L$4:$U$138,9,FALSE))","v":""},"","",null,"",null,0,0,null,{"$f":"IF(C211=\"\",\"\",'OPĆI DIO'!$C$1)","v":""},"",""]
[{"$f":"IF(E212=\"\",\"\",VLOOKUP('OPĆI DIO'!$C$1,'OPĆI DIO'!$L$4:$U$138,10,FALSE))","v":""},{"$f":"IF(E212=\"\",\"\",VLOOKUP('OPĆI DIO'!$C$1,'OPĆI DIO'!$L$4:$U$138,9,FALSE))","v":""},"","",null,"",null,0,0,null,{"$f":"IF(C212=\"\",\"\",'OPĆI DIO'!$C$1)","v":""},"",""]
[{"$f":"IF(E213=\"\",\"\",VLOOKUP('OPĆI DIO'!$C$1,'OPĆI DIO'!$L$4:$U$138,10,FALSE))","v":""},{"$f":"IF(E213=\"\",\"\",VLOOKUP('OPĆI DIO'!$C$1,'OPĆI DIO'!$L$4:$U$138,9,FALSE))","v":""},"","",null,"",null,0,0,null,{"$f":"IF(C213=\"\",\"\",'OPĆI DIO'!$C$1)","v":""},"",""]
[{"$f":"IF(E214=\"\",\"\",VLOOKUP('OPĆI DIO'!$C$1,'OPĆI DIO'!$L$4:$U$138,10,FALSE))","v":""},{"$f":"IF(E214=\"\",\"\",VLOOKUP('OPĆI DIO'!$C$1,'OPĆI DIO'!$L$4:$U$138,9,FALSE))","v":""},"","",null,"",null,0,0,null,{"$f":"IF(C214=\"\",\"\",'OPĆI DIO'!$C$1)","v":""},"",""]
[{"$f":"IF(E215=\"\",\"\",VLOOKUP('OPĆI DIO'!$C$1,'OPĆI DIO'!$L$4:$U$138,10,FALSE))","v":""},{"$f":"IF(E215=\"\",\"\",VLOOKUP('OPĆI DIO'!$C$1,'OPĆI DIO'!$L$4:$U$138,9,FALSE))","v":""},"","",null,"",null,0,0,null,{"$f":"IF(C215=\"\",\"\",'OPĆI DIO'!$C$1)","v":""},"",""]
[{"$f":"IF(E216=\"\",\"\",VLOOKUP('OPĆI DIO'!$C$1,'OPĆI DIO'!$L$4:$U$138,10,FALSE))","v":""},{"$f":"IF(E216=\"\",\"\",VLOOKUP('OPĆI DIO'!$C$1,'OPĆI DIO'!$L$4:$U$138,9,FALSE))","v":""},"","",null,"",null,0,0,null,{"$f":"IF(C216=\"\",\"\",'OPĆI DIO'!$C$1)","v":""},"",""]
[{"$f":"IF(E217=\"\",\"\",VLOOKUP('OPĆI DIO'!$C$1,'OPĆI DIO'!$L$4:$U$138,10,FALSE))","v":""},{"$f":"IF(E217=\"\",\"\",VLOOKUP('OPĆI DIO'!$C$1,'OPĆI DIO'!$L$4:$U$138,9,FALSE))","v":""},"","",null,"",null,0,0,null,{"$f":"IF(C217=\"\",\"\",'OPĆI DIO'!$C$1)","v":""},"",""]
[{"$f":"IF(E218=\"\",\"\",VLOOKUP('OPĆI DIO'!$C$1,'OPĆI DIO'!$L$4:$U$138,10,FALSE))","v":""},{"$f":"IF(E218=\"\",\"\",VLOOKUP('OPĆI DIO'!$C$1,'OPĆI DIO'!$L$4:$U$138,9,FALSE))","v":""},"","",null,"",null,0,0,null,{"$f":"IF(C218=\"\",\"\",'OPĆI DIO'!$C$1)","v":""},"",""]
[{"$f":"IF(E219=\"\",\"\",VLOOKUP('OPĆI DIO'!$C$1,'OPĆI DIO'!$L$4:$U$138,10,FALSE))","v":""},{"$f":"IF(E219=\"\",\"\",VLOOKUP('OPĆI DIO'!$C$1,'OPĆI DIO'!$L$4:$U$138,9,FALSE))","v":""},"","",null,"",null,0,0,null,{"$f":"IF(C219=\"\",\"\",'OPĆI DIO'!$C$1)","v":""},"",""]
[{"$f":"IF(E220=\"\",\"\",VLOOKUP('OPĆI DIO'!$C$1,'OPĆI DIO'!$L$4:$U$138,10,FALSE))","v":""},{"$f":"IF(E220=\"\",\"\",VLOOKUP('OPĆI DIO'!$C$1,'OPĆI DIO'!$L$4:$U$138,9,FALSE))","v":""},"","",null,"",null,0,0,null,{"$f":"IF(C220=\"\",\"\",'OPĆI DIO'!$C$1)","v":""},"",""]
[{"$f":"IF(E221=\"\",\"\",VLOOKUP('OPĆI DIO'!$C$1,'OPĆI DIO'!$L$4:$U$138,10,FALSE))","v":""},{"$f":"IF(E221=\"\",\"\",VLOOKUP('OPĆI DIO'!$C$1,'OPĆI DIO'!$L$4:$U$138,9,FALSE))","v":""},"","",null,"",null,0,0,null,{"$f":"IF(C221=\"\",\"\",'OPĆI DIO'!$C$1)","v":""},"",""]
[{"$f":"IF(E222=\"\",\"\",VLOOKUP('OPĆI DIO'!$C$1,'OPĆI DIO'!$L$4:$U$138,10,FALSE))","v":""},{"$f":"IF(E222=\"\",\"\",VLOOKUP('OPĆI DIO'!$C$1,'OPĆI DIO'!$L$4:$U$138,9,FALSE))","v":""},"","",null,"",null,0,0,null,{"$f":"IF(C222=\"\",\"\",'OPĆI DIO'!$C$1)","v":""},"",""]
[{"$f":"IF(E223=\"\",\"\",VLOOKUP('OPĆI DIO'!$C$1,'OPĆI DIO'!$L$4:$U$138,10,FALSE))","v":""},{"$f":"IF(E223=\"\",\"\",VLOOKUP('OPĆI DIO'!$C$1,'OPĆI DIO'!$L$4:$U$138,9,FALSE))","v":""},"","",null,"",null,0,0,null,{"$f":"IF(C223=\"\",\"\",'OPĆI DIO'!$C$1)","v":""},"",""]
[{"$f":"IF(E224=\"\",\"\",VLOOKUP('OPĆI DIO'!$C$1,'OPĆI DIO'!$L$4:$U$138,10,FALSE))","v":""},{"$f":"IF(E224=\"\",\"\",VLOOKUP('OPĆI DIO'!$C$1,'OPĆI DIO'!$L$4:$U$138,9,FALSE))","v":""},"","",null,"",null,0,0,null,{"$f":"IF(C224=\"\",\"\",'OPĆI DIO'!$C$1)","v":""},"",""]
[{"$f":"IF(E225=\"\",\"\",VLOOKUP('OPĆI DIO'!$C$1,'OPĆI DIO'!$L$4:$U$138,10,FALSE))","v":""},{"$f":"IF(E225=\"\",\"\",VLOOKUP('OPĆI DIO'!$C$1,'OPĆI DIO'!$L$4:$U$138,9,FALSE))","v":""},"","",null,"",null,0,0,null,{"$f":"IF(C225=\"\",\"\",'OPĆI DIO'!$C$1)","v":""},"",""]
[{"$f":"IF(E226=\"\",\"\",VLOOKUP('OPĆI DIO'!$C$1,'OPĆI DIO'!$L$4:$U$138,10,FALSE))","v":""},{"$f":"IF(E226=\"\",\"\",VLOOKUP('OPĆI DIO'!$C$1,'OPĆI DIO'!$L$4:$U$138,9,FALSE))","v":""},"","",null,"",null,0,0,null,{"$f":"IF(C226=\"\",\"\",'OPĆI DIO'!$C$1)","v":""},"",""]
[{"$f":"IF(E227=\"\",\"\",VLOOKUP('OPĆI DIO'!$C$1,'OPĆI DIO'!$L$4:$U$138,10,FALSE))","v":""},{"$f":"IF(E227=\"\",\"\",VLOOKUP('OPĆI DIO'!$C$1,'OPĆI DIO'!$L$4:$U$138,9,FALSE))","v":""},"","",null,"",null,0,0,null,{"$f":"IF(C227=\"\",\"\",'OPĆI DIO'!$C$1)","v":""},"",""]
[{"$f":"IF(E228=\"\",\"\",VLOOKUP('OPĆI DIO'!$C$1,'OPĆI DIO'!$L$4:$U$138,10,FALSE))","v":""},{"$f":"IF(E228=\"\",\"\",VLOOKUP('OPĆI DIO'!$C$1,'OPĆI DIO'!$L$4:$U$138,9,FALSE))","v":""},"","",null,"",null,0,0,null,{"$f":"IF(C228=\"\",\"\",'OPĆI DIO'!$C$1)","v":""},"",""]
[{"$f":"IF(E229=\"\",\"\",VLOOKUP('OPĆI DIO'!$C$1,'OPĆI DIO'!$L$4:$U$138,10,FALSE))","v":""},{"$f":"IF(E229=\"\",\"\",VLOOKUP('OPĆI DIO'!$C$1,'OPĆI DIO'!$L$4:$U$138,9,FALSE))","v":""},"","",null,"",null,0,0,null,{"$f":"IF(C229=\"\",\"\",'OPĆI DIO'!$C$1)","v":""},"",""]
[{"$f":"IF(E230=\"\",\"\",VLOOKUP('OPĆI DIO'!$C$1,'OPĆI DIO'!$L$4:$U$138,10,FALSE))","v":""},{"$f":"IF(E230=\"\",\"\",VLOOKUP('OPĆI DIO'!$C$1,'OPĆI DIO'!$L$4:$U$138,9,FALSE))","v":""},"","",null,"",null,0,0,null,{"$f":"IF(C230=\"\",\"\",'OPĆI DIO'!$C$1)","v":""},"",""]
[{"$f":"IF(E231=\"\",\"\",VLOOKUP('OPĆI DIO'!$C$1,'OPĆI DIO'!$L$4:$U$138,10,FALSE))","v":""},{"$f":"IF(E231=\"\",\"\",VLOOKUP('OPĆI DIO'!$C$1,'OPĆI DIO'!$L$4:$U$138,9,FALSE))","v":""},"","",null,"",null,0,0,null,{"$f":"IF(C231=\"\",\"\",'OPĆI DIO'!$C$1)","v":""},"",""]
[{"$f":"IF(E232=\"\",\"\",VLOOKUP('OPĆI DIO'!$C$1,'OPĆI DIO'!$L$4:$U$138,10,FALSE))","v":""},{"$f":"IF(E232=\"\",\"\",VLOOKUP('OPĆI DIO'!$C$1,'OPĆI DIO'!$L$4:$U$138,9,FALSE))","v":""},"","",null,"",null,0,0,null,{"$f":"IF(C232=\"\",\"\",'OPĆI DIO'!$C$1)","v":""},"",""]
[{"$f":"IF(E233=\"\",\"\",VLOOKUP('OPĆI DIO'!$C$1,'OPĆI DIO'!$L$4:$U$138,10,FALSE))","v":""},{"$f":"IF(E233=\"\",\"\",VLOOKUP('OPĆI DIO'!$C$1,'OPĆI DIO'!$L$4:$U$138,9,FALSE))","v":""},"","",null,"",null,0,0,null,{"$f":"IF(C233=\"\",\"\",'OPĆI DIO'!$C$1)","v":""},"",""]
[{"$f":"IF(E234=\"\",\"\",VLOOKUP('OPĆI DIO'!$C$1,'OPĆI DIO'!$L$4:$U$138,10,FALSE))","v":""},{"$f":"IF(E234=\"\",\"\",VLOOKUP('OPĆI DIO'!$C$1,'OPĆI DIO'!$L$4:$U$138,9,FALSE))","v":""},"","",null,"",null,0,0,null,{"$f":"IF(C234=\"\",\"\",'OPĆI DIO'!$C$1)","v":""},"",""]
[{"$f":"IF(E235=\"\",\"\",VLOOKUP('OPĆI DIO'!$C$1,'OPĆI DIO'!$L$4:$U$138,10,FALSE))","v":""},{"$f":"IF(E235=\"\",\"\",VLOOKUP('OPĆI DIO'!$C$1,'OPĆI DIO'!$L$4:$U$138,9,FALSE))","v":""},"","",null,"",null,0,0,null,{"$f":"IF(C235=\"\",\"\",'OPĆI DIO'!$C$1)","v":""},"",""]
[{"$f":"IF(E236=\"\",\"\",VLOOKUP('OPĆI DIO'!$C$1,'OPĆI DIO'!$L$4:$U$138,10,FALSE))","v":""},{"$f":"IF(E236=\"\",\"\",VLOOKUP('OPĆI DIO'!$C$1,'OPĆI DIO'!$L$4:$U$138,9,FALSE))","v":""},"","",null,"",null,0,0,null,{"$f":"IF(C236=\"\",\"\",'OPĆI DIO'!$C$1)","v":""},"",""]
[{"$f":"IF(E237=\"\",\"\",VLOOKUP('OPĆI DIO'!$C$1,'OPĆI DIO'!$L$4:$U$138,10,FALSE))","v":""},{"$f":"IF(E237=\"\",\"\",VLOOKUP('OPĆI DIO'!$C$1,'OPĆI DIO'!$L$4:$U$138,9,FALSE))","v":""},"","",null,"",null,0,0,null,{"$f":"IF(C237=\"\",\"\",'OPĆI DIO'!$C$1)","v":""},"",""]
[{"$f":"IF(E238=\"\",\"\",VLOOKUP('OPĆI DIO'!$C$1,'OPĆI DIO'!$L$4:$U$138,10,FALSE))","v":""},{"$f":"IF(E238=\"\",\"\",VLOOKUP('OPĆI DIO'!$C$1,'OPĆI DIO'!$L$4:$U$138,9,FALSE))","v":""},"","",null,"",null,0,0,null,{"$f":"IF(C238=\"\",\"\",'OPĆI DIO'!$C$1)","v":""},"",""]
[{"$f":"IF(E239=\"\",\"\",VLOOKUP('OPĆI DIO'!$C$1,'OPĆI DIO'!$L$4:$U$138,10,FALSE))","v":""},{"$f":"IF(E239=\"\",\"\",VLOOKUP('OPĆI DIO'!$C$1,'OPĆI DIO'!$L$4:$U$138,9,FALSE))","v":""},"","",null,"",null,0,0,null,{"$f":"IF(C239=\"\",\"\",'OPĆI DIO'!$C$1)","v":""},"",""]
[{"$f":"IF(E240=\"\",\"\",VLOOKUP('OPĆI DIO'!$C$1,'OPĆI DIO'!$L$4:$U$138,10,FALSE))","v":""},{"$f":"IF(E240=\"\",\"\",VLOOKUP('OPĆI DIO'!$C$1,'OPĆI DIO'!$L$4:$U$138,9,FALSE))","v":""},"","",null,"",null,0,0,null,{"$f":"IF(C240=\"\",\"\",'OPĆI DIO'!$C$1)","v":""},"",""]
[{"$f":"IF(E241=\"\",\"\",VLOOKUP('OPĆI DIO'!$C$1,'OPĆI DIO'!$L$4:$U$138,10,FALSE))","v":""},{"$f":"IF(E241=\"\",\"\",VLOOKUP('OPĆI DIO'!$C$1,'OPĆI DIO'!$L$4:$U$138,9,FALSE))","v":""},"","",null,"",null,0,0,null,{"$f":"IF(C241=\"\",\"\",'OPĆI DIO'!$C$1)","v":""},"",""]
[{"$f":"IF(E242=\"\",\"\",VLOOKUP('OPĆI DIO'!$C$1,'OPĆI DIO'!$L$4:$U$138,10,FALSE))","v":""},{"$f":"IF(E242=\"\",\"\",VLOOKUP('OPĆI DIO'!$C$1,'OPĆI DIO'!$L$4:$U$138,9,FALSE))","v":""},"","",null,"",null,0,0,null,{"$f":"IF(C242=\"\",\"\",'OPĆI DIO'!$C$1)","v":""},"",""]
[{"$f":"IF(E243=\"\",\"\",VLOOKUP('OPĆI DIO'!$C$1,'OPĆI DIO'!$L$4:$U$138,10,FALSE))","v":""},{"$f":"IF(E243=\"\",\"\",VLOOKUP('OPĆI DIO'!$C$1,'OPĆI DIO'!$L$4:$U$138,9,FALSE))","v":""},"","",null,"",null,0,0,null,{"$f":"IF(C243=\"\",\"\",'OPĆI DIO'!$C$1)","v":""},"",""]
[{"$f":"IF(E244=\"\",\"\",VLOOKUP('OPĆI DIO'!$C$1,'OPĆI DIO'!$L$4:$U$138,10,FALSE))","v":""},{"$f":"IF(E244=\"\",\"\",VLOOKUP('OPĆI DIO'!$C$1,'OPĆI DIO'!$L$4:$U$138,9,FALSE))","v":""},"","",null,"",null,0,0,null,{"$f":"IF(C244=\"\",\"\",'OPĆI DIO'!$C$1)","v":""},"",""]
[{"$f":"IF(E245=\"\",\"\",VLOOKUP('OPĆI DIO'!$C$1,'OPĆI DIO'!$L$4:$U$138,10,FALSE))","v":""},{"$f":"IF(E245=\"\",\"\",VLOOKUP('OPĆI DIO'!$C$1,'OPĆI DIO'!$L$4:$U$138,9,FALSE))","v":""},"","",null,"",null,0,0,null,{"$f":"IF(C245=\"\",\"\",'OPĆI DIO'!$C$1)","v":""},"",""]
[{"$f":"IF(E246=\"\",\"\",VLOOKUP('OPĆI DIO'!$C$1,'OPĆI DIO'!$L$4:$U$138,10,FALSE))","v":""},{"$f":"IF(E246=\"\",\"\",VLOOKUP('OPĆI DIO'!$C$1,'OPĆI DIO'!$L$4:$U$138,9,FALSE))","v":""},"","",null,"",null,0,0,null,{"$f":"IF(C246=\"\",\"\",'OPĆI DIO'!$C$1)","v":""},"",""]
[{"$f":"IF(E247=\"\",\"\",VLOOKUP('OPĆI DIO'!$C$1,'OPĆI DIO'!$L$4:$U$138,10,FALSE))","v":""},{"$f":"IF(E247=\"\",\"\",VLOOKUP('OPĆI DIO'!$C$1,'OPĆI DIO'!$L$4:$U$138,9,FALSE))","v":""},"","",null,"",null,0,0,null,{"$f":"IF(C247=\"\",\"\",'OPĆI DIO'!$C$1)","v":""},"",""]
[{"$f":"IF(E248=\"\",\"\",VLOOKUP('OPĆI DIO'!$C$1,'OPĆI DIO'!$L$4:$U$138,10,FALSE))","v":""},{"$f":"IF(E248=\"\",\"\",VLOOKUP('OPĆI DIO'!$C$1,'OPĆI DIO'!$L$4:$U$138,9,FALSE))","v":""},"","",null,"",null,0,0,null,{"$f":"IF(C248=\"\",\"\",'OPĆI DIO'!$C$1)","v":""},"",""]
[{"$f":"IF(E249=\"\",\"\",VLOOKUP('OPĆI DIO'!$C$1,'OPĆI DIO'!$L$4:$U$138,10,FALSE))","v":""},{"$f":"IF(E249=\"\",\"\",VLOOKUP('OPĆI DIO'!$C$1,'OPĆI DIO'!$L$4:$U$138,9,FALSE))","v":""},"","",null,"",null,0,0,null,{"$f":"IF(C249=\"\",\"\",'OPĆI DIO'!$C$1)","v":""},"",""]
[{"$f":"IF(E250=\"\",\"\",VLOOKUP('OPĆI DIO'!$C$1,'OPĆI DIO'!$L$4:$U$138,10,FALSE))","v":""},{"$f":"IF(E250=\"\",\"\",VLOOKUP('OPĆI DIO'!$C$1,'OPĆI DIO'!$L$4:$U$138,9,FALSE))","v":""},"","",null,"",null,0,0,null,{"$f":"IF(C250=\"\",\"\",'OPĆI DIO'!$C$1)","v":""},"",""]
[{"$f":"IF(E251=\"\",\"\",VLOOKUP('OPĆI DIO'!$C$1,'OPĆI DIO'!$L$4:$U$138,10,FALSE))","v":""},{"$f":"IF(E251=\"\",\"\",VLOOKUP('OPĆI DIO'!$C$1,'OPĆI DIO'!$L$4:$U$138,9,FALSE))","v":""},"","",null,"",null,0,0,null,{"$f":"IF(C251=\"\",\"\",'OPĆI DIO'!$C$1)","v":""},"",""]
[{"$f":"IF(E252=\"\",\"\",VLOOKUP('OPĆI DIO'!$C$1,'OPĆI DIO'!$L$4:$U$138,10,FALSE))","v":""},{"$f":"IF(E252=\"\",\"\",VLOOKUP('OPĆI DIO'!$C$1,'OPĆI DIO'!$L$4:$U$138,9,FALSE))","v":""},"","",null,"",null,0,0,null,{"$f":"IF(C252=\"\",\"\",'OPĆI DIO'!$C$1)","v":""},"",""]
[{"$f":"IF(E253=\"\",\"\",VLOOKUP('OPĆI DIO'!$C$1,'OPĆI DIO'!$L$4:$U$138,10,FALSE))","v":""},{"$f":"IF(E253=\"\",\"\",VLOOKUP('OPĆI DIO'!$C$1,'OPĆI DIO'!$L$4:$U$138,9,FALSE))","v":""},"","",null,"",null,0,0,null,{"$f":"IF(C253=\"\",\"\",'OPĆI DIO'!$C$1)","v":""},"",""]
[{"$f":"IF(E254=\"\",\"\",VLOOKUP('OPĆI DIO'!$C$1,'OPĆI DIO'!$L$4:$U$138,10,FALSE))","v":""},{"$f":"IF(E254=\"\",\"\",VLOOKUP('OPĆI DIO'!$C$1,'OPĆI DIO'!$L$4:$U$138,9,FALSE))","v":""},"","",null,"",null,0,0,null,{"$f":"IF(C254=\"\",\"\",'OPĆI DIO'!$C$1)","v":""},"",""]
[{"$f":"IF(E255=\"\",\"\",VLOOKUP('OPĆI DIO'!$C$1,'OPĆI DIO'!$L$4:$U$138,10,FALSE))","v":""},{"$f":"IF(E255=\"\",\"\",VLOOKUP('OPĆI DIO'!$C$1,'OPĆI DIO'!$L$4:$U$138,9,FALSE))","v":""},"","",null,"",null,0,0,null,{"$f":"IF(C255=\"\",\"\",'OPĆI DIO'!$C$1)","v":""},"",""]
[{"$f":"IF(E256=\"\",\"\",VLOOKUP('OPĆI DIO'!$C$1,'OPĆI DIO'!$L$4:$U$138,10,FALSE))","v":""},{"$f":"IF(E256=\"\",\"\",VLOOKUP('OPĆI DIO'!$C$1,'OPĆI DIO'!$L$4:$U$138,9,FALSE))","v":""},"","",null,"",null,0,0,null,{"$f":"IF(C256=\"\",\"\",'OPĆI DIO'!$C$1)","v":""},"",""]
[{"$f":"IF(E257=\"\",\"\",VLOOKUP('OPĆI DIO'!$C$1,'OPĆI DIO'!$L$4:$U$138,10,FALSE))","v":""},{"$f":"IF(E257=\"\",\"\",VLOOKUP('OPĆI DIO'!$C$1,'OPĆI DIO'!$L$4:$U$138,9,FALSE))","v":""},"","",null,"",null,0,0,null,{"$f":"IF(C257=\"\",\"\",'OPĆI DIO'!$C$1)","v":""},"",""]
[{"$f":"IF(E258=\"\",\"\",VLOOKUP('OPĆI DIO'!$C$1,'OPĆI DIO'!$L$4:$U$138,10,FALSE))","v":""},{"$f":"IF(E258=\"\",\"\",VLOOKUP('OPĆI DIO'!$C$1,'OPĆI DIO'!$L$4:$U$138,9,FALSE))","v":""},"","",null,"",null,0,0,null,{"$f":"IF(C258=\"\",\"\",'OPĆI DIO'!$C$1)","v":""},"",""]
[{"$f":"IF(E259=\"\",\"\",VLOOKUP('OPĆI DIO'!$C$1,'OPĆI DIO'!$L$4:$U$138,10,FALSE))","v":""},{"$f":"IF(E259=\"\",\"\",VLOOKUP('OPĆI DIO'!$C$1,'OPĆI DIO'!$L$4:$U$138,9,FALSE))","v":""},"","",null,"",null,0,0,null,{"$f":"IF(C259=\"\",\"\",'OPĆI DIO'!$C$1)","v":""},"",""]
[{"$f":"IF(E260=\"\",\"\",VLOOKUP('OPĆI DIO'!$C$1,'OPĆI DIO'!$L$4:$U$138,10,FALSE))","v":""},{"$f":"IF(E260=\"\",\"\",VLOOKUP('OPĆI DIO'!$C$1,'OPĆI DIO'!$L$4:$U$138,9,FALSE))","v":""},"","",null,"",null,0,{"$f":"+G260+H260","v":0},null,{"$f":"IF(C260=\"\",\"\",'OPĆI DIO'!$C$1)","v":""},{"$f":"LEFT(E260,2)","v":""},{"$f":"LEFT(E260,3)","v":""}]
[{"$f":"IF(E261=\"\",\"\",VLOOKUP('OPĆI DIO'!$C$1,'OPĆI DIO'!$L$4:$U$138,10,FALSE))","v":""},{"$f":"IF(E261=\"\",\"\",VLOOKUP('OPĆI DIO'!$C$1,'OPĆI DIO'!$L$4:$U$138,9,FALSE))","v":""},"","",null,"",null,0,0,null,{"$f":"IF(C261=\"\",\"\",'OPĆI DIO'!$C$1)","v":""},"",""]
[{"$f":"IF(E262=\"\",\"\",VLOOKUP('OPĆI DIO'!$C$1,'OPĆI DIO'!$L$4:$U$138,10,FALSE))","v":""},{"$f":"IF(E262=\"\",\"\",VLOOKUP('OPĆI DIO'!$C$1,'OPĆI DIO'!$L$4:$U$138,9,FALSE))","v":""},{"$f":"IFERROR(VLOOKUP(E262,$R$6:$U$113,3,FALSE),\"\")","v":""},{"$f":"IFERROR(VLOOKUP(E262,$R$6:$U$113,4,FALSE),\"\")","v":""},null,{"$f":"IFERROR(VLOOKUP(E262,$R$6:$U$113,2,FALSE),\"\")","v":""},null,0,0,null,{"$f":"IF(C262=\"\",\"\",'OPĆI DIO'!$C$1)","v":""},"",""]
[{"$f":"IF(E263=\"\",\"\",VLOOKUP('OPĆI DIO'!$C$1,'OPĆI DIO'!$L$4:$U$138,10,FALSE))","v":""},{"$f":"IF(E263=\"\",\"\",VLOOKUP('OPĆI DIO'!$C$1,'OPĆI DIO'!$L$4:$U$138,9,FALSE))","v":""},"","",null,"",null,0,0,null,{"$f":"IF(C263=\"\",\"\",'OPĆI DIO'!$C$1)","v":""},"",""]
[{"$f":"IF(E264=\"\",\"\",VLOOKUP('OPĆI DIO'!$C$1,'OPĆI DIO'!$L$4:$U$138,10,FALSE))","v":""},{"$f":"IF(E264=\"\",\"\",VLOOKUP('OPĆI DIO'!$C$1,'OPĆI DIO'!$L$4:$U$138,9,FALSE))","v":""},"","",null,"",null,0,0,null,{"$f":"IF(C264=\"\",\"\",'OPĆI DIO'!$C$1)","v":""},"",""]
[{"$f":"IF(E265=\"\",\"\",VLOOKUP('OPĆI DIO'!$C$1,'OPĆI DIO'!$L$4:$U$138,10,FALSE))","v":""},{"$f":"IF(E265=\"\",\"\",VLOOKUP('OPĆI DIO'!$C$1,'OPĆI DIO'!$L$4:$U$138,9,FALSE))","v":""},"","",null,"",null,0,0,null,{"$f":"IF(C265=\"\",\"\",'OPĆI DIO'!$C$1)","v":""},"",""]
[{"$f":"IF(E266=\"\",\"\",VLOOKUP('OPĆI DIO'!$C$1,'OPĆI DIO'!$L$4:$U$138,10,FALSE))","v":""},{"$f":"IF(E266=\"\",\"\",VLOOKUP('OPĆI DIO'!$C$1,'OPĆI DIO'!$L$4:$U$138,9,FALSE))","v":""},"","",null,"",null,0,0,null,{"$f":"IF(C266=\"\",\"\",'OPĆI DIO'!$C$1)","v":""},"",""]
[{"$f":"IF(E267=\"\",\"\",VLOOKUP('OPĆI DIO'!$C$1,'OPĆI DIO'!$L$4:$U$138,10,FALSE))","v":""},{"$f":"IF(E267=\"\",\"\",VLOOKUP('OPĆI DIO'!$C$1,'OPĆI DIO'!$L$4:$U$138,9,FALSE))","v":""},"","",null,"",null,0,0,null,{"$f":"IF(C267=\"\",\"\",'OPĆI DIO'!$C$1)","v":""},"",""]
[{"$f":"IF(E268=\"\",\"\",VLOOKUP('OPĆI DIO'!$C$1,'OPĆI DIO'!$L$4:$U$138,10,FALSE))","v":""},{"$f":"IF(E268=\"\",\"\",VLOOKUP('OPĆI DIO'!$C$1,'OPĆI DIO'!$L$4:$U$138,9,FALSE))","v":""},"","",null,"",null,0,0,null,{"$f":"IF(C268=\"\",\"\",'OPĆI DIO'!$C$1)","v":""},"",""]
[{"$f":"IF(E269=\"\",\"\",VLOOKUP('OPĆI DIO'!$C$1,'OPĆI DIO'!$L$4:$U$138,10,FALSE))","v":""},{"$f":"IF(E269=\"\",\"\",VLOOKUP('OPĆI DIO'!$C$1,'OPĆI DIO'!$L$4:$U$138,9,FALSE))","v":""},"","",null,"",null,0,0,null,{"$f":"IF(C269=\"\",\"\",'OPĆI DIO'!$C$1)","v":""},"",""]
[{"$f":"IF(E270=\"\",\"\",VLOOKUP('OPĆI DIO'!$C$1,'OPĆI DIO'!$L$4:$U$138,10,FALSE))","v":""},{"$f":"IF(E270=\"\",\"\",VLOOKUP('OPĆI DIO'!$C$1,'OPĆI DIO'!$L$4:$U$138,9,FALSE))","v":""},"","",null,"",null,0,0,null,{"$f":"IF(C270=\"\",\"\",'OPĆI DIO'!$C$1)","v":""},"",""]
[{"$f":"IF(E271=\"\",\"\",VLOOKUP('OPĆI DIO'!$C$1,'OPĆI DIO'!$L$4:$U$138,10,FALSE))","v":""},{"$f":"IF(E271=\"\",\"\",VLOOKUP('OPĆI DIO'!$C$1,'OPĆI DIO'!$L$4:$U$138,9,FALSE))","v":""},"","",null,"",null,0,0,null,{"$f":"IF(C271=\"\",\"\",'OPĆI DIO'!$C$1)","v":""},"",""]
[{"$f":"IF(E272=\"\",\"\",VLOOKUP('OPĆI DIO'!$C$1,'OPĆI DIO'!$L$4:$U$138,10,FALSE))","v":""},{"$f":"IF(E272=\"\",\"\",VLOOKUP('OPĆI DIO'!$C$1,'OPĆI DIO'!$L$4:$U$138,9,FALSE))","v":""},"","",null,"",null,0,0,null,{"$f":"IF(C272=\"\",\"\",'OPĆI DIO'!$C$1)","v":""},"",""]
[{"$f":"IF(E273=\"\",\"\",VLOOKUP('OPĆI DIO'!$C$1,'OPĆI DIO'!$L$4:$U$138,10,FALSE))","v":""},{"$f":"IF(E273=\"\",\"\",VLOOKUP('OPĆI DIO'!$C$1,'OPĆI DIO'!$L$4:$U$138,9,FALSE))","v":""},"","",null,"",null,0,0,null,{"$f":"IF(C273=\"\",\"\",'OPĆI DIO'!$C$1)","v":""},"",""]
[{"$f":"IF(E274=\"\",\"\",VLOOKUP('OPĆI DIO'!$C$1,'OPĆI DIO'!$L$4:$U$138,10,FALSE))","v":""},{"$f":"IF(E274=\"\",\"\",VLOOKUP('OPĆI DIO'!$C$1,'OPĆI DIO'!$L$4:$U$138,9,FALSE))","v":""},"","",null,"",null,0,0,null,{"$f":"IF(C274=\"\",\"\",'OPĆI DIO'!$C$1)","v":""},"",""]
[{"$f":"IF(E275=\"\",\"\",VLOOKUP('OPĆI DIO'!$C$1,'OPĆI DIO'!$L$4:$U$138,10,FALSE))","v":""},{"$f":"IF(E275=\"\",\"\",VLOOKUP('OPĆI DIO'!$C$1,'OPĆI DIO'!$L$4:$U$138,9,FALSE))","v":""},"","",null,"",null,0,0,null,{"$f":"IF(C275=\"\",\"\",'OPĆI DIO'!$C$1)","v":""},"",""]
[{"$f":"IF(E276=\"\",\"\",VLOOKUP('OPĆI DIO'!$C$1,'OPĆI DIO'!$L$4:$U$138,10,FALSE))","v":""},{"$f":"IF(E276=\"\",\"\",VLOOKUP('OPĆI DIO'!$C$1,'OPĆI DIO'!$L$4:$U$138,9,FALSE))","v":""},"","",null,"",null,0,0,null,{"$f":"IF(C276=\"\",\"\",'OPĆI DIO'!$C$1)","v":""},"",""]
[{"$f":"IF(E277=\"\",\"\",VLOOKUP('OPĆI DIO'!$C$1,'OPĆI DIO'!$L$4:$U$138,10,FALSE))","v":""},{"$f":"IF(E277=\"\",\"\",VLOOKUP('OPĆI DIO'!$C$1,'OPĆI DIO'!$L$4:$U$138,9,FALSE))","v":""},"","",null,"",null,0,0,null,{"$f":"IF(C277=\"\",\"\",'OPĆI DIO'!$C$1)","v":""},"",""]
[{"$f":"IF(E278=\"\",\"\",VLOOKUP('OPĆI DIO'!$C$1,'OPĆI DIO'!$L$4:$U$138,10,FALSE))","v":""},{"$f":"IF(E278=\"\",\"\",VLOOKUP('OPĆI DIO'!$C$1,'OPĆI DIO'!$L$4:$U$138,9,FALSE))","v":""},"","",null,"",null,0,0,null,{"$f":"IF(C278=\"\",\"\",'OPĆI DIO'!$C$1)","v":""},"",""]
[{"$f":"IF(E279=\"\",\"\",VLOOKUP('OPĆI DIO'!$C$1,'OPĆI DIO'!$L$4:$U$138,10,FALSE))","v":""},{"$f":"IF(E279=\"\",\"\",VLOOKUP('OPĆI DIO'!$C$1,'OPĆI DIO'!$L$4:$U$138,9,FALSE))","v":""},"","",null,"",null,0,0,null,{"$f":"IF(C279=\"\",\"\",'OPĆI DIO'!$C$1)","v":""},"",""]
[{"$f":"IF(E280=\"\",\"\",VLOOKUP('OPĆI DIO'!$C$1,'OPĆI DIO'!$L$4:$U$138,10,FALSE))","v":""},{"$f":"IF(E280=\"\",\"\",VLOOKUP('OPĆI DIO'!$C$1,'OPĆI DIO'!$L$4:$U$138,9,FALSE))","v":""},"","",null,"",null,0,0,null,{"$f":"IF(C280=\"\",\"\",'OPĆI DIO'!$C$1)","v":""},"",""]
[{"$f":"IF(E281=\"\",\"\",VLOOKUP('OPĆI DIO'!$C$1,'OPĆI DIO'!$L$4:$U$138,10,FALSE))","v":""},{"$f":"IF(E281=\"\",\"\",VLOOKUP('OPĆI DIO'!$C$1,'OPĆI DIO'!$L$4:$U$138,9,FALSE))","v":""},"","",null,"",null,0,0,null,{"$f":"IF(C281=\"\",\"\",'OPĆI DIO'!$C$1)","v":""},"",""]
[{"$f":"IF(E282=\"\",\"\",VLOOKUP('OPĆI DIO'!$C$1,'OPĆI DIO'!$L$4:$U$138,10,FALSE))","v":""},{"$f":"IF(E282=\"\",\"\",VLOOKUP('OPĆI DIO'!$C$1,'OPĆI DIO'!$L$4:$U$138,9,FALSE))","v":""},"","",null,"",null,0,0,null,{"$f":"IF(C282=\"\",\"\",'OPĆI DIO'!$C$1)","v":""},"",""]
[{"$f":"IF(E283=\"\",\"\",VLOOKUP('OPĆI DIO'!$C$1,'OPĆI DIO'!$L$4:$U$138,10,FALSE))","v":""},{"$f":"IF(E283=\"\",\"\",VLOOKUP('OPĆI DIO'!$C$1,'OPĆI DIO'!$L$4:$U$138,9,FALSE))","v":""},"","",null,"",null,0,0,null,{"$f":"IF(C283=\"\",\"\",'OPĆI DIO'!$C$1)","v":""},"",""]
[{"$f":"IF(E284=\"\",\"\",VLOOKUP('OPĆI DIO'!$C$1,'OPĆI DIO'!$L$4:$U$138,10,FALSE))","v":""},{"$f":"IF(E284=\"\",\"\",VLOOKUP('OPĆI DIO'!$C$1,'OPĆI DIO'!$L$4:$U$138,9,FALSE))","v":""},"","",null,"",null,0,0,null,{"$f":"IF(C284=\"\",\"\",'OPĆI DIO'!$C$1)","v":""},"",""]
[{"$f":"IF(E285=\"\",\"\",VLOOKUP('OPĆI DIO'!$C$1,'OPĆI DIO'!$L$4:$U$138,10,FALSE))","v":""},{"$f":"IF(E285=\"\",\"\",VLOOKUP('OPĆI DIO'!$C$1,'OPĆI DIO'!$L$4:$U$138,9,FALSE))","v":""},"","",null,"",null,0,0,null,{"$f":"IF(C285=\"\",\"\",'OPĆI DIO'!$C$1)","v":""},"",""]
[{"$f":"IF(E286=\"\",\"\",VLOOKUP('OPĆI DIO'!$C$1,'OPĆI DIO'!$L$4:$U$138,10,FALSE))","v":""},{"$f":"IF(E286=\"\",\"\",VLOOKUP('OPĆI DIO'!$C$1,'OPĆI DIO'!$L$4:$U$138,9,FALSE))","v":""},"","",null,"",null,0,0,null,{"$f":"IF(C286=\"\",\"\",'OPĆI DIO'!$C$1)","v":""},"",""]
[{"$f":"IF(E287=\"\",\"\",VLOOKUP('OPĆI DIO'!$C$1,'OPĆI DIO'!$L$4:$U$138,10,FALSE))","v":""},{"$f":"IF(E287=\"\",\"\",VLOOKUP('OPĆI DIO'!$C$1,'OPĆI DIO'!$L$4:$U$138,9,FALSE))","v":""},"","",null,"",null,0,0,null,{"$f":"IF(C287=\"\",\"\",'OPĆI DIO'!$C$1)","v":""},"",""]
[{"$f":"IF(E288=\"\",\"\",VLOOKUP('OPĆI DIO'!$C$1,'OPĆI DIO'!$L$4:$U$138,10,FALSE))","v":""},{"$f":"IF(E288=\"\",\"\",VLOOKUP('OPĆI DIO'!$C$1,'OPĆI DIO'!$L$4:$U$138,9,FALSE))","v":""},"","",null,"",null,0,0,null,{"$f":"IF(C288=\"\",\"\",'OPĆI DIO'!$C$1)","v":""},"",""]
[{"$f":"IF(E289=\"\",\"\",VLOOKUP('OPĆI DIO'!$C$1,'OPĆI DIO'!$L$4:$U$138,10,FALSE))","v":""},{"$f":"IF(E289=\"\",\"\",VLOOKUP('OPĆI DIO'!$C$1,'OPĆI DIO'!$L$4:$U$138,9,FALSE))","v":""},"","",null,"",null,0,0,null,{"$f":"IF(C289=\"\",\"\",'OPĆI DIO'!$C$1)","v":""},"",""]
[{"$f":"IF(E290=\"\",\"\",VLOOKUP('OPĆI DIO'!$C$1,'OPĆI DIO'!$L$4:$U$138,10,FALSE))","v":""},{"$f":"IF(E290=\"\",\"\",VLOOKUP('OPĆI DIO'!$C$1,'OPĆI DIO'!$L$4:$U$138,9,FALSE))","v":""},"","",null,"",null,0,0,null,{"$f":"IF(C290=\"\",\"\",'OPĆI DIO'!$C$1)","v":""},"",""]
[{"$f":"IF(E291=\"\",\"\",VLOOKUP('OPĆI DIO'!$C$1,'OPĆI DIO'!$L$4:$U$138,10,FALSE))","v":""},{"$f":"IF(E291=\"\",\"\",VLOOKUP('OPĆI DIO'!$C$1,'OPĆI DIO'!$L$4:$U$138,9,FALSE))","v":""},"","",null,"",null,0,0,null,{"$f":"IF(C291=\"\",\"\",'OPĆI DIO'!$C$1)","v":""},"",""]
[{"$f":"IF(E292=\"\",\"\",VLOOKUP('OPĆI DIO'!$C$1,'OPĆI DIO'!$L$4:$U$138,10,FALSE))","v":""},{"$f":"IF(E292=\"\",\"\",VLOOKUP('OPĆI DIO'!$C$1,'OPĆI DIO'!$L$4:$U$138,9,FALSE))","v":""},"","",null,"",null,0,0,null,{"$f":"IF(C292=\"\",\"\",'OPĆI DIO'!$C$1)","v":""},"",""]
[{"$f":"IF(E293=\"\",\"\",VLOOKUP('OPĆI DIO'!$C$1,'OPĆI DIO'!$L$4:$U$138,10,FALSE))","v":""},{"$f":"IF(E293=\"\",\"\",VLOOKUP('OPĆI DIO'!$C$1,'OPĆI DIO'!$L$4:$U$138,9,FALSE))","v":""},"","",null,"",null,0,0,null,{"$f":"IF(C293=\"\",\"\",'OPĆI DIO'!$C$1)","v":""},"",""]
[{"$f":"IF(E294=\"\",\"\",VLOOKUP('OPĆI DIO'!$C$1,'OPĆI DIO'!$L$4:$U$138,10,FALSE))","v":""},{"$f":"IF(E294=\"\",\"\",VLOOKUP('OPĆI DIO'!$C$1,'OPĆI DIO'!$L$4:$U$138,9,FALSE))","v":""},"","",null,"",null,0,0,null,{"$f":"IF(C294=\"\",\"\",'OPĆI DIO'!$C$1)","v":""},"",""]
[{"$f":"IF(E295=\"\",\"\",VLOOKUP('OPĆI DIO'!$C$1,'OPĆI DIO'!$L$4:$U$138,10,FALSE))","v":""},{"$f":"IF(E295=\"\",\"\",VLOOKUP('OPĆI DIO'!$C$1,'OPĆI DIO'!$L$4:$U$138,9,FALSE))","v":""},"","",null,"",null,0,0,null,{"$f":"IF(C295=\"\",\"\",'OPĆI DIO'!$C$1)","v":""},"",""]
[{"$f":"IF(E296=\"\",\"\",VLOOKUP('OPĆI DIO'!$C$1,'OPĆI DIO'!$L$4:$U$138,10,FALSE))","v":""},{"$f":"IF(E296=\"\",\"\",VLOOKUP('OPĆI DIO'!$C$1,'OPĆI DIO'!$L$4:$U$138,9,FALSE))","v":""},"","",null,"",null,0,0,null,{"$f":"IF(C296=\"\",\"\",'OPĆI DIO'!$C$1)","v":""},"",""]
[{"$f":"IF(E297=\"\",\"\",VLOOKUP('OPĆI DIO'!$C$1,'OPĆI DIO'!$L$4:$U$138,10,FALSE))","v":""},{"$f":"IF(E297=\"\",\"\",VLOOKUP('OPĆI DIO'!$C$1,'OPĆI DIO'!$L$4:$U$138,9,FALSE))","v":""},"","",null,"",null,0,0,null,{"$f":"IF(C297=\"\",\"\",'OPĆI DIO'!$C$1)","v":""},"",""]
[{"$f":"IF(E298=\"\",\"\",VLOOKUP('OPĆI DIO'!$C$1,'OPĆI DIO'!$L$4:$U$138,10,FALSE))","v":""},{"$f":"IF(E298=\"\",\"\",VLOOKUP('OPĆI DIO'!$C$1,'OPĆI DIO'!$L$4:$U$138,9,FALSE))","v":""},"","",null,"",null,0,0,null,{"$f":"IF(C298=\"\",\"\",'OPĆI DIO'!$C$1)","v":""},"",""]
[{"$f":"IF(E299=\"\",\"\",VLOOKUP('OPĆI DIO'!$C$1,'OPĆI DIO'!$L$4:$U$138,10,FALSE))","v":""},{"$f":"IF(E299=\"\",\"\",VLOOKUP('OPĆI DIO'!$C$1,'OPĆI DIO'!$L$4:$U$138,9,FALSE))","v":""},"","",null,"",null,0,0,null,{"$f":"IF(C299=\"\",\"\",'OPĆI DIO'!$C$1)","v":""},"",""]
[{"$f":"IF(E300=\"\",\"\",VLOOKUP('OPĆI DIO'!$C$1,'OPĆI DIO'!$L$4:$U$138,10,FALSE))","v":""},{"$f":"IF(E300=\"\",\"\",VLOOKUP('OPĆI DIO'!$C$1,'OPĆI DIO'!$L$4:$U$138,9,FALSE))","v":""},"","",null,"",null,0,0,null,{"$f":"IF(C300=\"\",\"\",'OPĆI DIO'!$C$1)","v":""},"",""]
[{"$f":"IF(E301=\"\",\"\",VLOOKUP('OPĆI DIO'!$C$1,'OPĆI DIO'!$L$4:$U$138,10,FALSE))","v":""},{"$f":"IF(E301=\"\",\"\",VLOOKUP('OPĆI DIO'!$C$1,'OPĆI DIO'!$L$4:$U$138,9,FALSE))","v":""},"","",null,"",null,0,0,null,{"$f":"IF(C301=\"\",\"\",'OPĆI DIO'!$C$1)","v":""},"",""]
[{"$f":"IF(E302=\"\",\"\",VLOOKUP('OPĆI DIO'!$C$1,'OPĆI DIO'!$L$4:$U$138,10,FALSE))","v":""},{"$f":"IF(E302=\"\",\"\",VLOOKUP('OPĆI DIO'!$C$1,'OPĆI DIO'!$L$4:$U$138,9,FALSE))","v":""},"","",null,"",null,0,0,null,{"$f":"IF(C302=\"\",\"\",'OPĆI DIO'!$C$1)","v":""},"",""]
[{"$f":"IF(E303=\"\",\"\",VLOOKUP('OPĆI DIO'!$C$1,'OPĆI DIO'!$L$4:$U$138,10,FALSE))","v":""},{"$f":"IF(E303=\"\",\"\",VLOOKUP('OPĆI DIO'!$C$1,'OPĆI DIO'!$L$4:$U$138,9,FALSE))","v":""},"","",null,"",null,0,0,null,{"$f":"IF(C303=\"\",\"\",'OPĆI DIO'!$C$1)","v":""},"",""]
[{"$f":"IF(E304=\"\",\"\",VLOOKUP('OPĆI DIO'!$C$1,'OPĆI DIO'!$L$4:$U$138,10,FALSE))","v":""},{"$f":"IF(E304=\"\",\"\",VLOOKUP('OPĆI DIO'!$C$1,'OPĆI DIO'!$L$4:$U$138,9,FALSE))","v":""},"","",null,"",null,0,0,null,{"$f":"IF(C304=\"\",\"\",'OPĆI DIO'!$C$1)","v":""},"",""]
[{"$f":"IF(E305=\"\",\"\",VLOOKUP('OPĆI DIO'!$C$1,'OPĆI DIO'!$L$4:$U$138,10,FALSE))","v":""},{"$f":"IF(E305=\"\",\"\",VLOOKUP('OPĆI DIO'!$C$1,'OPĆI DIO'!$L$4:$U$138,9,FALSE))","v":""},"","",null,"",null,0,0,null,{"$f":"IF(C305=\"\",\"\",'OPĆI DIO'!$C$1)","v":""},"",""]
[{"$f":"IF(E306=\"\",\"\",VLOOKUP('OPĆI DIO'!$C$1,'OPĆI DIO'!$L$4:$U$138,10,FALSE))","v":""},{"$f":"IF(E306=\"\",\"\",VLOOKUP('OPĆI DIO'!$C$1,'OPĆI DIO'!$L$4:$U$138,9,FALSE))","v":""},"","",null,"",null,0,0,null,{"$f":"IF(C306=\"\",\"\",'OPĆI DIO'!$C$1)","v":""},"",""]
[{"$f":"IF(E307=\"\",\"\",VLOOKUP('OPĆI DIO'!$C$1,'OPĆI DIO'!$L$4:$U$138,10,FALSE))","v":""},{"$f":"IF(E307=\"\",\"\",VLOOKUP('OPĆI DIO'!$C$1,'OPĆI DIO'!$L$4:$U$138,9,FALSE))","v":""},"","",null,"",null,0,0,null,{"$f":"IF(C307=\"\",\"\",'OPĆI DIO'!$C$1)","v":""},"",""]
[{"$f":"IF(E308=\"\",\"\",VLOOKUP('OPĆI DIO'!$C$1,'OPĆI DIO'!$L$4:$U$138,10,FALSE))","v":""},{"$f":"IF(E308=\"\",\"\",VLOOKUP('OPĆI DIO'!$C$1,'OPĆI DIO'!$L$4:$U$138,9,FALSE))","v":""},"","",null,"",null,0,0,null,{"$f":"IF(C308=\"\",\"\",'OPĆI DIO'!$C$1)","v":""},"",""]
[{"$f":"IF(E309=\"\",\"\",VLOOKUP('OPĆI DIO'!$C$1,'OPĆI DIO'!$L$4:$U$138,10,FALSE))","v":""},{"$f":"IF(E309=\"\",\"\",VLOOKUP('OPĆI DIO'!$C$1,'OPĆI DIO'!$L$4:$U$138,9,FALSE))","v":""},"","",null,"",null,0,0,null,{"$f":"IF(C309=\"\",\"\",'OPĆI DIO'!$C$1)","v":""},"",""]
[{"$f":"IF(E310=\"\",\"\",VLOOKUP('OPĆI DIO'!$C$1,'OPĆI DIO'!$L$4:$U$138,10,FALSE))","v":""},{"$f":"IF(E310=\"\",\"\",VLOOKUP('OPĆI DIO'!$C$1,'OPĆI DIO'!$L$4:$U$138,9,FALSE))","v":""},"","",null,"",null,0,0,null,{"$f":"IF(C310=\"\",\"\",'OPĆI DIO'!$C$1)","v":""},"",""]
[{"$f":"IF(E311=\"\",\"\",VLOOKUP('OPĆI DIO'!$C$1,'OPĆI DIO'!$L$4:$U$138,10,FALSE))","v":""},{"$f":"IF(E311=\"\",\"\",VLOOKUP('OPĆI DIO'!$C$1,'OPĆI DIO'!$L$4:$U$138,9,FALSE))","v":""},"","",null,"",null,0,0,null,{"$f":"IF(C311=\"\",\"\",'OPĆI DIO'!$C$1)","v":""},"",""]
[{"$f":"IF(E312=\"\",\"\",VLOOKUP('OPĆI DIO'!$C$1,'OPĆI DIO'!$L$4:$U$138,10,FALSE))","v":""},{"$f":"IF(E312=\"\",\"\",VLOOKUP('OPĆI DIO'!$C$1,'OPĆI DIO'!$L$4:$U$138,9,FALSE))","v":""},"","",null,"",null,0,0,null,{"$f":"IF(C312=\"\",\"\",'OPĆI DIO'!$C$1)","v":""},"",""]
[{"$f":"IF(E313=\"\",\"\",VLOOKUP('OPĆI DIO'!$C$1,'OPĆI DIO'!$L$4:$U$138,10,FALSE))","v":""},{"$f":"IF(E313=\"\",\"\",VLOOKUP('OPĆI DIO'!$C$1,'OPĆI DIO'!$L$4:$U$138,9,FALSE))","v":""},"","",null,"",null,0,0,null,{"$f":"IF(C313=\"\",\"\",'OPĆI DIO'!$C$1)","v":""},"",""]
[{"$f":"IF(E314=\"\",\"\",VLOOKUP('OPĆI DIO'!$C$1,'OPĆI DIO'!$L$4:$U$138,10,FALSE))","v":""},{"$f":"IF(E314=\"\",\"\",VLOOKUP('OPĆI DIO'!$C$1,'OPĆI DIO'!$L$4:$U$138,9,FALSE))","v":""},"","",null,"",null,0,0,null,{"$f":"IF(C314=\"\",\"\",'OPĆI DIO'!$C$1)","v":""},"",""]
[{"$f":"IF(E315=\"\",\"\",VLOOKUP('OPĆI DIO'!$C$1,'OPĆI DIO'!$L$4:$U$138,10,FALSE))","v":""},{"$f":"IF(E315=\"\",\"\",VLOOKUP('OPĆI DIO'!$C$1,'OPĆI DIO'!$L$4:$U$138,9,FALSE))","v":""},"","",null,"",null,0,0,null,{"$f":"IF(C315=\"\",\"\",'OPĆI DIO'!$C$1)","v":""},"",""]
[{"$f":"IF(E316=\"\",\"\",VLOOKUP('OPĆI DIO'!$C$1,'OPĆI DIO'!$L$4:$U$138,10,FALSE))","v":""},{"$f":"IF(E316=\"\",\"\",VLOOKUP('OPĆI DIO'!$C$1,'OPĆI DIO'!$L$4:$U$138,9,FALSE))","v":""},"","",null,"",null,0,0,null,{"$f":"IF(C316=\"\",\"\",'OPĆI DIO'!$C$1)","v":""},"",""]
[{"$f":"IF(E317=\"\",\"\",VLOOKUP('OPĆI DIO'!$C$1,'OPĆI DIO'!$L$4:$U$138,10,FALSE))","v":""},{"$f":"IF(E317=\"\",\"\",VLOOKUP('OPĆI DIO'!$C$1,'OPĆI DIO'!$L$4:$U$138,9,FALSE))","v":""},"","",null,"",null,0,0,null,{"$f":"IF(C317=\"\",\"\",'OPĆI DIO'!$C$1)","v":""},"",""]
[{"$f":"IF(E318=\"\",\"\",VLOOKUP('OPĆI DIO'!$C$1,'OPĆI DIO'!$L$4:$U$138,10,FALSE))","v":""},{"$f":"IF(E318=\"\",\"\",VLOOKUP('OPĆI DIO'!$C$1,'OPĆI DIO'!$L$4:$U$138,9,FALSE))","v":""},"","",null,"",null,0,0,null,{"$f":"IF(C318=\"\",\"\",'OPĆI DIO'!$C$1)","v":""},"",""]
[{"$f":"IF(E319=\"\",\"\",VLOOKUP('OPĆI DIO'!$C$1,'OPĆI DIO'!$L$4:$U$138,10,FALSE))","v":""},{"$f":"IF(E319=\"\",\"\",VLOOKUP('OPĆI DIO'!$C$1,'OPĆI DIO'!$L$4:$U$138,9,FALSE))","v":""},"","",null,"",null,0,0,null,{"$f":"IF(C319=\"\",\"\",'OPĆI DIO'!$C$1)","v":""},"",""]
[{"$f":"IF(E320=\"\",\"\",VLOOKUP('OPĆI DIO'!$C$1,'OPĆI DIO'!$L$4:$U$138,10,FALSE))","v":""},{"$f":"IF(E320=\"\",\"\",VLOOKUP('OPĆI DIO'!$C$1,'OPĆI DIO'!$L$4:$U$138,9,FALSE))","v":""},"","",null,"",null,0,0,null,{"$f":"IF(C320=\"\",\"\",'OPĆI DIO'!$C$1)","v":""},"",""]
[{"$f":"IF(E321=\"\",\"\",VLOOKUP('OPĆI DIO'!$C$1,'OPĆI DIO'!$L$4:$U$138,10,FALSE))","v":""},{"$f":"IF(E321=\"\",\"\",VLOOKUP('OPĆI DIO'!$C$1,'OPĆI DIO'!$L$4:$U$138,9,FALSE))","v":""},"","",null,"",null,0,0,null,{"$f":"IF(C321=\"\",\"\",'OPĆI DIO'!$C$1)","v":""},"",""]
[{"$f":"IF(E322=\"\",\"\",VLOOKUP('OPĆI DIO'!$C$1,'OPĆI DIO'!$L$4:$U$138,10,FALSE))","v":""},{"$f":"IF(E322=\"\",\"\",VLOOKUP('OPĆI DIO'!$C$1,'OPĆI DIO'!$L$4:$U$138,9,FALSE))","v":""},"","",null,"",null,0,0,null,{"$f":"IF(C322=\"\",\"\",'OPĆI DIO'!$C$1)","v":""},"",""]
[{"$f":"IF(E323=\"\",\"\",VLOOKUP('OPĆI DIO'!$C$1,'OPĆI DIO'!$L$4:$U$138,10,FALSE))","v":""},{"$f":"IF(E323=\"\",\"\",VLOOKUP('OPĆI DIO'!$C$1,'OPĆI DIO'!$L$4:$U$138,9,FALSE))","v":""},"","",null,"",null,0,0,null,{"$f":"IF(C323=\"\",\"\",'OPĆI DIO'!$C$1)","v":""},"",""]
[{"$f":"IF(E324=\"\",\"\",VLOOKUP('OPĆI DIO'!$C$1,'OPĆI DIO'!$L$4:$U$138,10,FALSE))","v":""},{"$f":"IF(E324=\"\",\"\",VLOOKUP('OPĆI DIO'!$C$1,'OPĆI DIO'!$L$4:$U$138,9,FALSE))","v":""},"","",null,"",null,0,{"$f":"+G324+H324","v":0},null,{"$f":"IF(C324=\"\",\"\",'OPĆI DIO'!$C$1)","v":""},{"$f":"LEFT(E324,2)","v":""},{"$f":"LEFT(E324,3)","v":""}]
[{"$f":"IF(E325=\"\",\"\",VLOOKUP('OPĆI DIO'!$C$1,'OPĆI DIO'!$L$4:$U$138,10,FALSE))","v":""},{"$f":"IF(E325=\"\",\"\",VLOOKUP('OPĆI DIO'!$C$1,'OPĆI DIO'!$L$4:$U$138,9,FALSE))","v":""},"","",null,"",null,0,0,null,{"$f":"IF(C325=\"\",\"\",'OPĆI DIO'!$C$1)","v":""},"",""]
[{"$f":"IF(E326=\"\",\"\",VLOOKUP('OPĆI DIO'!$C$1,'OPĆI DIO'!$L$4:$U$138,10,FALSE))","v":""},{"$f":"IF(E326=\"\",\"\",VLOOKUP('OPĆI DIO'!$C$1,'OPĆI DIO'!$L$4:$U$138,9,FALSE))","v":""},{"$f":"IFERROR(VLOOKUP(E326,$R$6:$U$113,3,FALSE),\"\")","v":""},{"$f":"IFERROR(VLOOKUP(E326,$R$6:$U$113,4,FALSE),\"\")","v":""},null,{"$f":"IFERROR(VLOOKUP(E326,$R$6:$U$113,2,FALSE),\"\")","v":""},null,0,0,null,{"$f":"IF(C326=\"\",\"\",'OPĆI DIO'!$C$1)","v":""},"",""]
[{"$f":"IF(E327=\"\",\"\",VLOOKUP('OPĆI DIO'!$C$1,'OPĆI DIO'!$L$4:$U$138,10,FALSE))","v":""},{"$f":"IF(E327=\"\",\"\",VLOOKUP('OPĆI DIO'!$C$1,'OPĆI DIO'!$L$4:$U$138,9,FALSE))","v":""},"","",null,"",null,0,0,null,{"$f":"IF(C327=\"\",\"\",'OPĆI DIO'!$C$1)","v":""},"",""]
[{"$f":"IF(E328=\"\",\"\",VLOOKUP('OPĆI DIO'!$C$1,'OPĆI DIO'!$L$4:$U$138,10,FALSE))","v":""},{"$f":"IF(E328=\"\",\"\",VLOOKUP('OPĆI DIO'!$C$1,'OPĆI DIO'!$L$4:$U$138,9,FALSE))","v":""},"","",null,"",null,0,0,null,{"$f":"IF(C328=\"\",\"\",'OPĆI DIO'!$C$1)","v":""},"",""]
[{"$f":"IF(E329=\"\",\"\",VLOOKUP('OPĆI DIO'!$C$1,'OPĆI DIO'!$L$4:$U$138,10,FALSE))","v":""},{"$f":"IF(E329=\"\",\"\",VLOOKUP('OPĆI DIO'!$C$1,'OPĆI DIO'!$L$4:$U$138,9,FALSE))","v":""},"","",null,"",null,0,0,null,{"$f":"IF(C329=\"\",\"\",'OPĆI DIO'!$C$1)","v":""},"",""]
[{"$f":"IF(E330=\"\",\"\",VLOOKUP('OPĆI DIO'!$C$1,'OPĆI DIO'!$L$4:$U$138,10,FALSE))","v":""},{"$f":"IF(E330=\"\",\"\",VLOOKUP('OPĆI DIO'!$C$1,'OPĆI DIO'!$L$4:$U$138,9,FALSE))","v":""},"","",null,"",null,0,0,null,{"$f":"IF(C330=\"\",\"\",'OPĆI DIO'!$C$1)","v":""},"",""]
[{"$f":"IF(E331=\"\",\"\",VLOOKUP('OPĆI DIO'!$C$1,'OPĆI DIO'!$L$4:$U$138,10,FALSE))","v":""},{"$f":"IF(E331=\"\",\"\",VLOOKUP('OPĆI DIO'!$C$1,'OPĆI DIO'!$L$4:$U$138,9,FALSE))","v":""},"","",null,"",null,0,0,null,{"$f":"IF(C331=\"\",\"\",'OPĆI DIO'!$C$1)","v":""},"",""]
[{"$f":"IF(E332=\"\",\"\",VLOOKUP('OPĆI DIO'!$C$1,'OPĆI DIO'!$L$4:$U$138,10,FALSE))","v":""},{"$f":"IF(E332=\"\",\"\",VLOOKUP('OPĆI DIO'!$C$1,'OPĆI DIO'!$L$4:$U$138,9,FALSE))","v":""},"","",null,"",null,0,0,null,{"$f":"IF(C332=\"\",\"\",'OPĆI DIO'!$C$1)","v":""},"",""]
[{"$f":"IF(E333=\"\",\"\",VLOOKUP('OPĆI DIO'!$C$1,'OPĆI DIO'!$L$4:$U$138,10,FALSE))","v":""},{"$f":"IF(E333=\"\",\"\",VLOOKUP('OPĆI DIO'!$C$1,'OPĆI DIO'!$L$4:$U$138,9,FALSE))","v":""},"","",null,"",null,0,0,null,{"$f":"IF(C333=\"\",\"\",'OPĆI DIO'!$C$1)","v":""},"",""]
[{"$f":"IF(E334=\"\",\"\",VLOOKUP('OPĆI DIO'!$C$1,'OPĆI DIO'!$L$4:$U$138,10,FALSE))","v":""},{"$f":"IF(E334=\"\",\"\",VLOOKUP('OPĆI DIO'!$C$1,'OPĆI DIO'!$L$4:$U$138,9,FALSE))","v":""},"","",null,"",null,0,0,null,{"$f":"IF(C334=\"\",\"\",'OPĆI DIO'!$C$1)","v":""},"",""]
[{"$f":"IF(E335=\"\",\"\",VLOOKUP('OPĆI DIO'!$C$1,'OPĆI DIO'!$L$4:$U$138,10,FALSE))","v":""},{"$f":"IF(E335=\"\",\"\",VLOOKUP('OPĆI DIO'!$C$1,'OPĆI DIO'!$L$4:$U$138,9,FALSE))","v":""},"","",null,"",null,0,0,null,{"$f":"IF(C335=\"\",\"\",'OPĆI DIO'!$C$1)","v":""},"",""]
[{"$f":"IF(E336=\"\",\"\",VLOOKUP('OPĆI DIO'!$C$1,'OPĆI DIO'!$L$4:$U$138,10,FALSE))","v":""},{"$f":"IF(E336=\"\",\"\",VLOOKUP('OPĆI DIO'!$C$1,'OPĆI DIO'!$L$4:$U$138,9,FALSE))","v":""},"","",null,"",null,0,0,null,{"$f":"IF(C336=\"\",\"\",'OPĆI DIO'!$C$1)","v":""},"",""]
[{"$f":"IF(E337=\"\",\"\",VLOOKUP('OPĆI DIO'!$C$1,'OPĆI DIO'!$L$4:$U$138,10,FALSE))","v":""},{"$f":"IF(E337=\"\",\"\",VLOOKUP('OPĆI DIO'!$C$1,'OPĆI DIO'!$L$4:$U$138,9,FALSE))","v":""},"","",null,"",null,0,0,null,{"$f":"IF(C337=\"\",\"\",'OPĆI DIO'!$C$1)","v":""},"",""]
[{"$f":"IF(E338=\"\",\"\",VLOOKUP('OPĆI DIO'!$C$1,'OPĆI DIO'!$L$4:$U$138,10,FALSE))","v":""},{"$f":"IF(E338=\"\",\"\",VLOOKUP('OPĆI DIO'!$C$1,'OPĆI DIO'!$L$4:$U$138,9,FALSE))","v":""},"","",null,"",null,0,0,null,{"$f":"IF(C338=\"\",\"\",'OPĆI DIO'!$C$1)","v":""},"",""]
[{"$f":"IF(E339=\"\",\"\",VLOOKUP('OPĆI DIO'!$C$1,'OPĆI DIO'!$L$4:$U$138,10,FALSE))","v":""},{"$f":"IF(E339=\"\",\"\",VLOOKUP('OPĆI DIO'!$C$1,'OPĆI DIO'!$L$4:$U$138,9,FALSE))","v":""},"","",null,"",null,0,0,null,{"$f":"IF(C339=\"\",\"\",'OPĆI DIO'!$C$1)","v":""},"",""]
[{"$f":"IF(E340=\"\",\"\",VLOOKUP('OPĆI DIO'!$C$1,'OPĆI DIO'!$L$4:$U$138,10,FALSE))","v":""},{"$f":"IF(E340=\"\",\"\",VLOOKUP('OPĆI DIO'!$C$1,'OPĆI DIO'!$L$4:$U$138,9,FALSE))","v":""},"","",null,"",null,0,0,null,{"$f":"IF(C340=\"\",\"\",'OPĆI DIO'!$C$1)","v":""},"",""]
[{"$f":"IF(E341=\"\",\"\",VLOOKUP('OPĆI DIO'!$C$1,'OPĆI DIO'!$L$4:$U$138,10,FALSE))","v":""},{"$f":"IF(E341=\"\",\"\",VLOOKUP('OPĆI DIO'!$C$1,'OPĆI DIO'!$L$4:$U$138,9,FALSE))","v":""},"","",null,"",null,0,0,null,{"$f":"IF(C341=\"\",\"\",'OPĆI DIO'!$C$1)","v":""},"",""]
[{"$f":"IF(E342=\"\",\"\",VLOOKUP('OPĆI DIO'!$C$1,'OPĆI DIO'!$L$4:$U$138,10,FALSE))","v":""},{"$f":"IF(E342=\"\",\"\",VLOOKUP('OPĆI DIO'!$C$1,'OPĆI DIO'!$L$4:$U$138,9,FALSE))","v":""},"","",null,"",null,0,0,null,{"$f":"IF(C342=\"\",\"\",'OPĆI DIO'!$C$1)","v":""},"",""]
[{"$f":"IF(E343=\"\",\"\",VLOOKUP('OPĆI DIO'!$C$1,'OPĆI DIO'!$L$4:$U$138,10,FALSE))","v":""},{"$f":"IF(E343=\"\",\"\",VLOOKUP('OPĆI DIO'!$C$1,'OPĆI DIO'!$L$4:$U$138,9,FALSE))","v":""},"","",null,"",null,0,0,null,{"$f":"IF(C343=\"\",\"\",'OPĆI DIO'!$C$1)","v":""},"",""]
[{"$f":"IF(E344=\"\",\"\",VLOOKUP('OPĆI DIO'!$C$1,'OPĆI DIO'!$L$4:$U$138,10,FALSE))","v":""},{"$f":"IF(E344=\"\",\"\",VLOOKUP('OPĆI DIO'!$C$1,'OPĆI DIO'!$L$4:$U$138,9,FALSE))","v":""},"","",null,"",null,0,0,null,{"$f":"IF(C344=\"\",\"\",'OPĆI DIO'!$C$1)","v":""},"",""]
[{"$f":"IF(E345=\"\",\"\",VLOOKUP('OPĆI DIO'!$C$1,'OPĆI DIO'!$L$4:$U$138,10,FALSE))","v":""},{"$f":"IF(E345=\"\",\"\",VLOOKUP('OPĆI DIO'!$C$1,'OPĆI DIO'!$L$4:$U$138,9,FALSE))","v":""},"","",null,"",null,0,0,null,{"$f":"IF(C345=\"\",\"\",'OPĆI DIO'!$C$1)","v":""},"",""]
[{"$f":"IF(E346=\"\",\"\",VLOOKUP('OPĆI DIO'!$C$1,'OPĆI DIO'!$L$4:$U$138,10,FALSE))","v":""},{"$f":"IF(E346=\"\",\"\",VLOOKUP('OPĆI DIO'!$C$1,'OPĆI DIO'!$L$4:$U$138,9,FALSE))","v":""},"","",null,"",null,0,0,null,{"$f":"IF(C346=\"\",\"\",'OPĆI DIO'!$C$1)","v":""},"",""]
[{"$f":"IF(E347=\"\",\"\",VLOOKUP('OPĆI DIO'!$C$1,'OPĆI DIO'!$L$4:$U$138,10,FALSE))","v":""},{"$f":"IF(E347=\"\",\"\",VLOOKUP('OPĆI DIO'!$C$1,'OPĆI DIO'!$L$4:$U$138,9,FALSE))","v":""},"","",null,"",null,0,0,null,{"$f":"IF(C347=\"\",\"\",'OPĆI DIO'!$C$1)","v":""},"",""]
[{"$f":"IF(E348=\"\",\"\",VLOOKUP('OPĆI DIO'!$C$1,'OPĆI DIO'!$L$4:$U$138,10,FALSE))","v":""},{"$f":"IF(E348=\"\",\"\",VLOOKUP('OPĆI DIO'!$C$1,'OPĆI DIO'!$L$4:$U$138,9,FALSE))","v":""},"","",null,"",null,0,0,null,{"$f":"IF(C348=\"\",\"\",'OPĆI DIO'!$C$1)","v":""},"",""]
[{"$f":"IF(E349=\"\",\"\",VLOOKUP('OPĆI DIO'!$C$1,'OPĆI DIO'!$L$4:$U$138,10,FALSE))","v":""},{"$f":"IF(E349=\"\",\"\",VLOOKUP('OPĆI DIO'!$C$1,'OPĆI DIO'!$L$4:$U$138,9,FALSE))","v":""},"","",null,"",null,0,0,null,{"$f":"IF(C349=\"\",\"\",'OPĆI DIO'!$C$1)","v":""},"",""]
[{"$f":"IF(E350=\"\",\"\",VLOOKUP('OPĆI DIO'!$C$1,'OPĆI DIO'!$L$4:$U$138,10,FALSE))","v":""},{"$f":"IF(E350=\"\",\"\",VLOOKUP('OPĆI DIO'!$C$1,'OPĆI DIO'!$L$4:$U$138,9,FALSE))","v":""},"","",null,"",null,0,0,null,{"$f":"IF(C350=\"\",\"\",'OPĆI DIO'!$C$1)","v":""},"",""]
[{"$f":"IF(E351=\"\",\"\",VLOOKUP('OPĆI DIO'!$C$1,'OPĆI DIO'!$L$4:$U$138,10,FALSE))","v":""},{"$f":"IF(E351=\"\",\"\",VLOOKUP('OPĆI DIO'!$C$1,'OPĆI DIO'!$L$4:$U$138,9,FALSE))","v":""},"","",null,"",null,0,0,null,{"$f":"IF(C351=\"\",\"\",'OPĆI DIO'!$C$1)","v":""},"",""]
[{"$f":"IF(E352=\"\",\"\",VLOOKUP('OPĆI DIO'!$C$1,'OPĆI DIO'!$L$4:$U$138,10,FALSE))","v":""},{"$f":"IF(E352=\"\",\"\",VLOOKUP('OPĆI DIO'!$C$1,'OPĆI DIO'!$L$4:$U$138,9,FALSE))","v":""},"","",null,"",null,0,0,null,{"$f":"IF(C352=\"\",\"\",'OPĆI DIO'!$C$1)","v":""},"",""]
[{"$f":"IF(E353=\"\",\"\",VLOOKUP('OPĆI DIO'!$C$1,'OPĆI DIO'!$L$4:$U$138,10,FALSE))","v":""},{"$f":"IF(E353=\"\",\"\",VLOOKUP('OPĆI DIO'!$C$1,'OPĆI DIO'!$L$4:$U$138,9,FALSE))","v":""},"","",null,"",null,0,0,null,{"$f":"IF(C353=\"\",\"\",'OPĆI DIO'!$C$1)","v":""},"",""]
[{"$f":"IF(E354=\"\",\"\",VLOOKUP('OPĆI DIO'!$C$1,'OPĆI DIO'!$L$4:$U$138,10,FALSE))","v":""},{"$f":"IF(E354=\"\",\"\",VLOOKUP('OPĆI DIO'!$C$1,'OPĆI DIO'!$L$4:$U$138,9,FALSE))","v":""},"","",null,"",null,0,0,null,{"$f":"IF(C354=\"\",\"\",'OPĆI DIO'!$C$1)","v":""},"",""]
[{"$f":"IF(E355=\"\",\"\",VLOOKUP('OPĆI DIO'!$C$1,'OPĆI DIO'!$L$4:$U$138,10,FALSE))","v":""},{"$f":"IF(E355=\"\",\"\",VLOOKUP('OPĆI DIO'!$C$1,'OPĆI DIO'!$L$4:$U$138,9,FALSE))","v":""},"","",null,"",null,0,0,null,{"$f":"IF(C355=\"\",\"\",'OPĆI DIO'!$C$1)","v":""},"",""]
[{"$f":"IF(E356=\"\",\"\",VLOOKUP('OPĆI DIO'!$C$1,'OPĆI DIO'!$L$4:$U$138,10,FALSE))","v":""},{"$f":"IF(E356=\"\",\"\",VLOOKUP('OPĆI DIO'!$C$1,'OPĆI DIO'!$L$4:$U$138,9,FALSE))","v":""},"","",null,"",null,0,0,null,{"$f":"IF(C356=\"\",\"\",'OPĆI DIO'!$C$1)","v":""},"",""]
[{"$f":"IF(E357=\"\",\"\",VLOOKUP('OPĆI DIO'!$C$1,'OPĆI DIO'!$L$4:$U$138,10,FALSE))","v":""},{"$f":"IF(E357=\"\",\"\",VLOOKUP('OPĆI DIO'!$C$1,'OPĆI DIO'!$L$4:$U$138,9,FALSE))","v":""},"","",null,"",null,0,0,null,{"$f":"IF(C357=\"\",\"\",'OPĆI DIO'!$C$1)","v":""},"",""]
[{"$f":"IF(E358=\"\",\"\",VLOOKUP('OPĆI DIO'!$C$1,'OPĆI DIO'!$L$4:$U$138,10,FALSE))","v":""},{"$f":"IF(E358=\"\",\"\",VLOOKUP('OPĆI DIO'!$C$1,'OPĆI DIO'!$L$4:$U$138,9,FALSE))","v":""},"","",null,"",null,0,0,null,{"$f":"IF(C358=\"\",\"\",'OPĆI DIO'!$C$1)","v":""},"",""]
[{"$f":"IF(E359=\"\",\"\",VLOOKUP('OPĆI DIO'!$C$1,'OPĆI DIO'!$L$4:$U$138,10,FALSE))","v":""},{"$f":"IF(E359=\"\",\"\",VLOOKUP('OPĆI DIO'!$C$1,'OPĆI DIO'!$L$4:$U$138,9,FALSE))","v":""},"","",null,"",null,0,0,null,{"$f":"IF(C359=\"\",\"\",'OPĆI DIO'!$C$1)","v":""},"",""]
[{"$f":"IF(E360=\"\",\"\",VLOOKUP('OPĆI DIO'!$C$1,'OPĆI DIO'!$L$4:$U$138,10,FALSE))","v":""},{"$f":"IF(E360=\"\",\"\",VLOOKUP('OPĆI DIO'!$C$1,'OPĆI DIO'!$L$4:$U$138,9,FALSE))","v":""},"","",null,"",null,0,0,null,{"$f":"IF(C360=\"\",\"\",'OPĆI DIO'!$C$1)","v":""},"",""]
[{"$f":"IF(E361=\"\",\"\",VLOOKUP('OPĆI DIO'!$C$1,'OPĆI DIO'!$L$4:$U$138,10,FALSE))","v":""},{"$f":"IF(E361=\"\",\"\",VLOOKUP('OPĆI DIO'!$C$1,'OPĆI DIO'!$L$4:$U$138,9,FALSE))","v":""},"","",null,"",null,0,0,null,{"$f":"IF(C361=\"\",\"\",'OPĆI DIO'!$C$1)","v":""},"",""]
[{"$f":"IF(E362=\"\",\"\",VLOOKUP('OPĆI DIO'!$C$1,'OPĆI DIO'!$L$4:$U$138,10,FALSE))","v":""},{"$f":"IF(E362=\"\",\"\",VLOOKUP('OPĆI DIO'!$C$1,'OPĆI DIO'!$L$4:$U$138,9,FALSE))","v":""},"","",null,"",null,0,0,null,{"$f":"IF(C362=\"\",\"\",'OPĆI DIO'!$C$1)","v":""},"",""]
[{"$f":"IF(E363=\"\",\"\",VLOOKUP('OPĆI DIO'!$C$1,'OPĆI DIO'!$L$4:$U$138,10,FALSE))","v":""},{"$f":"IF(E363=\"\",\"\",VLOOKUP('OPĆI DIO'!$C$1,'OPĆI DIO'!$L$4:$U$138,9,FALSE))","v":""},"","",null,"",null,0,0,null,{"$f":"IF(C363=\"\",\"\",'OPĆI DIO'!$C$1)","v":""},"",""]
[{"$f":"IF(E364=\"\",\"\",VLOOKUP('OPĆI DIO'!$C$1,'OPĆI DIO'!$L$4:$U$138,10,FALSE))","v":""},{"$f":"IF(E364=\"\",\"\",VLOOKUP('OPĆI DIO'!$C$1,'OPĆI DIO'!$L$4:$U$138,9,FALSE))","v":""},"","",null,"",null,0,0,null,{"$f":"IF(C364=\"\",\"\",'OPĆI DIO'!$C$1)","v":""},"",""]
[{"$f":"IF(E365=\"\",\"\",VLOOKUP('OPĆI DIO'!$C$1,'OPĆI DIO'!$L$4:$U$138,10,FALSE))","v":""},{"$f":"IF(E365=\"\",\"\",VLOOKUP('OPĆI DIO'!$C$1,'OPĆI DIO'!$L$4:$U$138,9,FALSE))","v":""},"","",null,"",null,0,0,null,{"$f":"IF(C365=\"\",\"\",'OPĆI DIO'!$C$1)","v":""},"",""]
[{"$f":"IF(E366=\"\",\"\",VLOOKUP('OPĆI DIO'!$C$1,'OPĆI DIO'!$L$4:$U$138,10,FALSE))","v":""},{"$f":"IF(E366=\"\",\"\",VLOOKUP('OPĆI DIO'!$C$1,'OPĆI DIO'!$L$4:$U$138,9,FALSE))","v":""},"","",null,"",null,0,0,null,{"$f":"IF(C366=\"\",\"\",'OPĆI DIO'!$C$1)","v":""},"",""]
[{"$f":"IF(E367=\"\",\"\",VLOOKUP('OPĆI DIO'!$C$1,'OPĆI DIO'!$L$4:$U$138,10,FALSE))","v":""},{"$f":"IF(E367=\"\",\"\",VLOOKUP('OPĆI DIO'!$C$1,'OPĆI DIO'!$L$4:$U$138,9,FALSE))","v":""},"","",null,"",null,0,0,null,{"$f":"IF(C367=\"\",\"\",'OPĆI DIO'!$C$1)","v":""},"",""]
[{"$f":"IF(E368=\"\",\"\",VLOOKUP('OPĆI DIO'!$C$1,'OPĆI DIO'!$L$4:$U$138,10,FALSE))","v":""},{"$f":"IF(E368=\"\",\"\",VLOOKUP('OPĆI DIO'!$C$1,'OPĆI DIO'!$L$4:$U$138,9,FALSE))","v":""},"","",null,"",null,0,0,null,{"$f":"IF(C368=\"\",\"\",'OPĆI DIO'!$C$1)","v":""},"",""]
[{"$f":"IF(E369=\"\",\"\",VLOOKUP('OPĆI DIO'!$C$1,'OPĆI DIO'!$L$4:$U$138,10,FALSE))","v":""},{"$f":"IF(E369=\"\",\"\",VLOOKUP('OPĆI DIO'!$C$1,'OPĆI DIO'!$L$4:$U$138,9,FALSE))","v":""},"","",null,"",null,0,0,null,{"$f":"IF(C369=\"\",\"\",'OPĆI DIO'!$C$1)","v":""},"",""]
[{"$f":"IF(E370=\"\",\"\",VLOOKUP('OPĆI DIO'!$C$1,'OPĆI DIO'!$L$4:$U$138,10,FALSE))","v":""},{"$f":"IF(E370=\"\",\"\",VLOOKUP('OPĆI DIO'!$C$1,'OPĆI DIO'!$L$4:$U$138,9,FALSE))","v":""},"","",null,"",null,0,0,null,{"$f":"IF(C370=\"\",\"\",'OPĆI DIO'!$C$1)","v":""},"",""]
[{"$f":"IF(E371=\"\",\"\",VLOOKUP('OPĆI DIO'!$C$1,'OPĆI DIO'!$L$4:$U$138,10,FALSE))","v":""},{"$f":"IF(E371=\"\",\"\",VLOOKUP('OPĆI DIO'!$C$1,'OPĆI DIO'!$L$4:$U$138,9,FALSE))","v":""},"","",null,"",null,0,0,null,{"$f":"IF(C371=\"\",\"\",'OPĆI DIO'!$C$1)","v":""},"",""]
[{"$f":"IF(E372=\"\",\"\",VLOOKUP('OPĆI DIO'!$C$1,'OPĆI DIO'!$L$4:$U$138,10,FALSE))","v":""},{"$f":"IF(E372=\"\",\"\",VLOOKUP('OPĆI DIO'!$C$1,'OPĆI DIO'!$L$4:$U$138,9,FALSE))","v":""},"","",null,"",null,0,0,null,{"$f":"IF(C372=\"\",\"\",'OPĆI DIO'!$C$1)","v":""},"",""]
[{"$f":"IF(E373=\"\",\"\",VLOOKUP('OPĆI DIO'!$C$1,'OPĆI DIO'!$L$4:$U$138,10,FALSE))","v":""},{"$f":"IF(E373=\"\",\"\",VLOOKUP('OPĆI DIO'!$C$1,'OPĆI DIO'!$L$4:$U$138,9,FALSE))","v":""},"","",null,"",null,0,0,null,{"$f":"IF(C373=\"\",\"\",'OPĆI DIO'!$C$1)","v":""},"",""]
[{"$f":"IF(E374=\"\",\"\",VLOOKUP('OPĆI DIO'!$C$1,'OPĆI DIO'!$L$4:$U$138,10,FALSE))","v":""},{"$f":"IF(E374=\"\",\"\",VLOOKUP('OPĆI DIO'!$C$1,'OPĆI DIO'!$L$4:$U$138,9,FALSE))","v":""},"","",null,"",null,0,0,null,{"$f":"IF(C374=\"\",\"\",'OPĆI DIO'!$C$1)","v":""},"",""]
[{"$f":"IF(E375=\"\",\"\",VLOOKUP('OPĆI DIO'!$C$1,'OPĆI DIO'!$L$4:$U$138,10,FALSE))","v":""},{"$f":"IF(E375=\"\",\"\",VLOOKUP('OPĆI DIO'!$C$1,'OPĆI DIO'!$L$4:$U$138,9,FALSE))","v":""},"","",null,"",null,0,0,null,{"$f":"IF(C375=\"\",\"\",'OPĆI DIO'!$C$1)","v":""},"",""]
[{"$f":"IF(E376=\"\",\"\",VLOOKUP('OPĆI DIO'!$C$1,'OPĆI DIO'!$L$4:$U$138,10,FALSE))","v":""},{"$f":"IF(E376=\"\",\"\",VLOOKUP('OPĆI DIO'!$C$1,'OPĆI DIO'!$L$4:$U$138,9,FALSE))","v":""},"","",null,"",null,0,0,null,{"$f":"IF(C376=\"\",\"\",'OPĆI DIO'!$C$1)","v":""},"",""]
[{"$f":"IF(E377=\"\",\"\",VLOOKUP('OPĆI DIO'!$C$1,'OPĆI DIO'!$L$4:$U$138,10,FALSE))","v":""},{"$f":"IF(E377=\"\",\"\",VLOOKUP('OPĆI DIO'!$C$1,'OPĆI DIO'!$L$4:$U$138,9,FALSE))","v":""},"","",null,"",null,0,0,null,{"$f":"IF(C377=\"\",\"\",'OPĆI DIO'!$C$1)","v":""},"",""]
[{"$f":"IF(E378=\"\",\"\",VLOOKUP('OPĆI DIO'!$C$1,'OPĆI DIO'!$L$4:$U$138,10,FALSE))","v":""},{"$f":"IF(E378=\"\",\"\",VLOOKUP('OPĆI DIO'!$C$1,'OPĆI DIO'!$L$4:$U$138,9,FALSE))","v":""},"","",null,"",null,0,0,null,{"$f":"IF(C378=\"\",\"\",'OPĆI DIO'!$C$1)","v":""},"",""]
[{"$f":"IF(E379=\"\",\"\",VLOOKUP('OPĆI DIO'!$C$1,'OPĆI DIO'!$L$4:$U$138,10,FALSE))","v":""},{"$f":"IF(E379=\"\",\"\",VLOOKUP('OPĆI DIO'!$C$1,'OPĆI DIO'!$L$4:$U$138,9,FALSE))","v":""},"","",null,"",null,0,0,null,{"$f":"IF(C379=\"\",\"\",'OPĆI DIO'!$C$1)","v":""},"",""]
[{"$f":"IF(E380=\"\",\"\",VLOOKUP('OPĆI DIO'!$C$1,'OPĆI DIO'!$L$4:$U$138,10,FALSE))","v":""},{"$f":"IF(E380=\"\",\"\",VLOOKUP('OPĆI DIO'!$C$1,'OPĆI DIO'!$L$4:$U$138,9,FALSE))","v":""},"","",null,"",null,0,0,null,{"$f":"IF(C380=\"\",\"\",'OPĆI DIO'!$C$1)","v":""},"",""]
[{"$f":"IF(E381=\"\",\"\",VLOOKUP('OPĆI DIO'!$C$1,'OPĆI DIO'!$L$4:$U$138,10,FALSE))","v":""},{"$f":"IF(E381=\"\",\"\",VLOOKUP('OPĆI DIO'!$C$1,'OPĆI DIO'!$L$4:$U$138,9,FALSE))","v":""},"","",null,"",null,0,0,null,{"$f":"IF(C381=\"\",\"\",'OPĆI DIO'!$C$1)","v":""},"",""]
[{"$f":"IF(E382=\"\",\"\",VLOOKUP('OPĆI DIO'!$C$1,'OPĆI DIO'!$L$4:$U$138,10,FALSE))","v":""},{"$f":"IF(E382=\"\",\"\",VLOOKUP('OPĆI DIO'!$C$1,'OPĆI DIO'!$L$4:$U$138,9,FALSE))","v":""},"","",null,"",null,0,0,null,{"$f":"IF(C382=\"\",\"\",'OPĆI DIO'!$C$1)","v":""},"",""]
[{"$f":"IF(E383=\"\",\"\",VLOOKUP('OPĆI DIO'!$C$1,'OPĆI DIO'!$L$4:$U$138,10,FALSE))","v":""},{"$f":"IF(E383=\"\",\"\",VLOOKUP('OPĆI DIO'!$C$1,'OPĆI DIO'!$L$4:$U$138,9,FALSE))","v":""},"","",null,"",null,0,0,null,{"$f":"IF(C383=\"\",\"\",'OPĆI DIO'!$C$1)","v":""},"",""]
[{"$f":"IF(E384=\"\",\"\",VLOOKUP('OPĆI DIO'!$C$1,'OPĆI DIO'!$L$4:$U$138,10,FALSE))","v":""},{"$f":"IF(E384=\"\",\"\",VLOOKUP('OPĆI DIO'!$C$1,'OPĆI DIO'!$L$4:$U$138,9,FALSE))","v":""},"","",null,"",null,0,0,null,{"$f":"IF(C384=\"\",\"\",'OPĆI DIO'!$C$1)","v":""},"",""]
[{"$f":"IF(E385=\"\",\"\",VLOOKUP('OPĆI DIO'!$C$1,'OPĆI DIO'!$L$4:$U$138,10,FALSE))","v":""},{"$f":"IF(E385=\"\",\"\",VLOOKUP('OPĆI DIO'!$C$1,'OPĆI DIO'!$L$4:$U$138,9,FALSE))","v":""},"","",null,"",null,0,0,null,{"$f":"IF(C385=\"\",\"\",'OPĆI DIO'!$C$1)","v":""},"",""]
[{"$f":"IF(E386=\"\",\"\",VLOOKUP('OPĆI DIO'!$C$1,'OPĆI DIO'!$L$4:$U$138,10,FALSE))","v":""},{"$f":"IF(E386=\"\",\"\",VLOOKUP('OPĆI DIO'!$C$1,'OPĆI DIO'!$L$4:$U$138,9,FALSE))","v":""},"","",null,"",null,0,0,null,{"$f":"IF(C386=\"\",\"\",'OPĆI DIO'!$C$1)","v":""},"",""]
[{"$f":"IF(E387=\"\",\"\",VLOOKUP('OPĆI DIO'!$C$1,'OPĆI DIO'!$L$4:$U$138,10,FALSE))","v":""},{"$f":"IF(E387=\"\",\"\",VLOOKUP('OPĆI DIO'!$C$1,'OPĆI DIO'!$L$4:$U$138,9,FALSE))","v":""},"","",null,"",null,0,0,null,{"$f":"IF(C387=\"\",\"\",'OPĆI DIO'!$C$1)","v":""},"",""]
[{"$f":"IF(E388=\"\",\"\",VLOOKUP('OPĆI DIO'!$C$1,'OPĆI DIO'!$L$4:$U$138,10,FALSE))","v":""},{"$f":"IF(E388=\"\",\"\",VLOOKUP('OPĆI DIO'!$C$1,'OPĆI DIO'!$L$4:$U$138,9,FALSE))","v":""},"","",null,"",null,0,{"$f":"+G388+H388","v":0},null,{"$f":"IF(C388=\"\",\"\",'OPĆI DIO'!$C$1)","v":""},{"$f":"LEFT(E388,2)","v":""},{"$f":"LEFT(E388,3)","v":""}]
[{"$f":"IF(E389=\"\",\"\",VLOOKUP('OPĆI DIO'!$C$1,'OPĆI DIO'!$L$4:$U$138,10,FALSE))","v":""},{"$f":"IF(E389=\"\",\"\",VLOOKUP('OPĆI DIO'!$C$1,'OPĆI DIO'!$L$4:$U$138,9,FALSE))","v":""},"","",null,"",null,0,0,null,{"$f":"IF(C389=\"\",\"\",'OPĆI DIO'!$C$1)","v":""},"",""]
[{"$f":"IF(E390=\"\",\"\",VLOOKUP('OPĆI DIO'!$C$1,'OPĆI DIO'!$L$4:$U$138,10,FALSE))","v":""},{"$f":"IF(E390=\"\",\"\",VLOOKUP('OPĆI DIO'!$C$1,'OPĆI DIO'!$L$4:$U$138,9,FALSE))","v":""},{"$f":"IFERROR(VLOOKUP(E390,$R$6:$U$113,3,FALSE),\"\")","v":""},{"$f":"IFERROR(VLOOKUP(E390,$R$6:$U$113,4,FALSE),\"\")","v":""},null,{"$f":"IFERROR(VLOOKUP(E390,$R$6:$U$113,2,FALSE),\"\")","v":""},null,0,0,null,{"$f":"IF(C390=\"\",\"\",'OPĆI DIO'!$C$1)","v":""},"",""]
[{"$f":"IF(E391=\"\",\"\",VLOOKUP('OPĆI DIO'!$C$1,'OPĆI DIO'!$L$4:$U$138,10,FALSE))","v":""},{"$f":"IF(E391=\"\",\"\",VLOOKUP('OPĆI DIO'!$C$1,'OPĆI DIO'!$L$4:$U$138,9,FALSE))","v":""},"","",null,"",null,0,0,null,{"$f":"IF(C391=\"\",\"\",'OPĆI DIO'!$C$1)","v":""},"",""]
[{"$f":"IF(E392=\"\",\"\",VLOOKUP('OPĆI DIO'!$C$1,'OPĆI DIO'!$L$4:$U$138,10,FALSE))","v":""},{"$f":"IF(E392=\"\",\"\",VLOOKUP('OPĆI DIO'!$C$1,'OPĆI DIO'!$L$4:$U$138,9,FALSE))","v":""},"","",null,"",null,0,0,null,{"$f":"IF(C392=\"\",\"\",'OPĆI DIO'!$C$1)","v":""},"",""]
[{"$f":"IF(E393=\"\",\"\",VLOOKUP('OPĆI DIO'!$C$1,'OPĆI DIO'!$L$4:$U$138,10,FALSE))","v":""},{"$f":"IF(E393=\"\",\"\",VLOOKUP('OPĆI DIO'!$C$1,'OPĆI DIO'!$L$4:$U$138,9,FALSE))","v":""},"","",null,"",null,0,0,null,{"$f":"IF(C393=\"\",\"\",'OPĆI DIO'!$C$1)","v":""},"",""]
[{"$f":"IF(E394=\"\",\"\",VLOOKUP('OPĆI DIO'!$C$1,'OPĆI DIO'!$L$4:$U$138,10,FALSE))","v":""},{"$f":"IF(E394=\"\",\"\",VLOOKUP('OPĆI DIO'!$C$1,'OPĆI DIO'!$L$4:$U$138,9,FALSE))","v":""},"","",null,"",null,0,0,null,{"$f":"IF(C394=\"\",\"\",'OPĆI DIO'!$C$1)","v":""},"",""]
[{"$f":"IF(E395=\"\",\"\",VLOOKUP('OPĆI DIO'!$C$1,'OPĆI DIO'!$L$4:$U$138,10,FALSE))","v":""},{"$f":"IF(E395=\"\",\"\",VLOOKUP('OPĆI DIO'!$C$1,'OPĆI DIO'!$L$4:$U$138,9,FALSE))","v":""},"","",null,"",null,0,0,null,{"$f":"IF(C395=\"\",\"\",'OPĆI DIO'!$C$1)","v":""},"",""]
[{"$f":"IF(E396=\"\",\"\",VLOOKUP('OPĆI DIO'!$C$1,'OPĆI DIO'!$L$4:$U$138,10,FALSE))","v":""},{"$f":"IF(E396=\"\",\"\",VLOOKUP('OPĆI DIO'!$C$1,'OPĆI DIO'!$L$4:$U$138,9,FALSE))","v":""},"","",null,"",null,0,0,null,{"$f":"IF(C396=\"\",\"\",'OPĆI DIO'!$C$1)","v":""},"",""]
[{"$f":"IF(E397=\"\",\"\",VLOOKUP('OPĆI DIO'!$C$1,'OPĆI DIO'!$L$4:$U$138,10,FALSE))","v":""},{"$f":"IF(E397=\"\",\"\",VLOOKUP('OPĆI DIO'!$C$1,'OPĆI DIO'!$L$4:$U$138,9,FALSE))","v":""},"","",null,"",null,0,0,null,{"$f":"IF(C397=\"\",\"\",'OPĆI DIO'!$C$1)","v":""},"",""]
[{"$f":"IF(E398=\"\",\"\",VLOOKUP('OPĆI DIO'!$C$1,'OPĆI DIO'!$L$4:$U$138,10,FALSE))","v":""},{"$f":"IF(E398=\"\",\"\",VLOOKUP('OPĆI DIO'!$C$1,'OPĆI DIO'!$L$4:$U$138,9,FALSE))","v":""},"","",null,"",null,0,0,null,{"$f":"IF(C398=\"\",\"\",'OPĆI DIO'!$C$1)","v":""},"",""]
[{"$f":"IF(E399=\"\",\"\",VLOOKUP('OPĆI DIO'!$C$1,'OPĆI DIO'!$L$4:$U$138,10,FALSE))","v":""},{"$f":"IF(E399=\"\",\"\",VLOOKUP('OPĆI DIO'!$C$1,'OPĆI DIO'!$L$4:$U$138,9,FALSE))","v":""},"","",null,"",null,0,0,null,{"$f":"IF(C399=\"\",\"\",'OPĆI DIO'!$C$1)","v":""},"",""]
[{"$f":"IF(E400=\"\",\"\",VLOOKUP('OPĆI DIO'!$C$1,'OPĆI DIO'!$L$4:$U$138,10,FALSE))","v":""},{"$f":"IF(E400=\"\",\"\",VLOOKUP('OPĆI DIO'!$C$1,'OPĆI DIO'!$L$4:$U$138,9,FALSE))","v":""},"","",null,"",null,0,0,null,{"$f":"IF(C400=\"\",\"\",'OPĆI DIO'!$C$1)","v":""},"",""]
[{"$f":"IF(E401=\"\",\"\",VLOOKUP('OPĆI DIO'!$C$1,'OPĆI DIO'!$L$4:$U$138,10,FALSE))","v":""},{"$f":"IF(E401=\"\",\"\",VLOOKUP('OPĆI DIO'!$C$1,'OPĆI DIO'!$L$4:$U$138,9,FALSE))","v":""},"","",null,"",null,0,0,null,{"$f":"IF(C401=\"\",\"\",'OPĆI DIO'!$C$1)","v":""},"",""]
[{"$f":"IF(E402=\"\",\"\",VLOOKUP('OPĆI DIO'!$C$1,'OPĆI DIO'!$L$4:$U$138,10,FALSE))","v":""},{"$f":"IF(E402=\"\",\"\",VLOOKUP('OPĆI DIO'!$C$1,'OPĆI DIO'!$L$4:$U$138,9,FALSE))","v":""},"","",null,"",null,0,0,null,{"$f":"IF(C402=\"\",\"\",'OPĆI DIO'!$C$1)","v":""},"",""]
[{"$f":"IF(E403=\"\",\"\",VLOOKUP('OPĆI DIO'!$C$1,'OPĆI DIO'!$L$4:$U$138,10,FALSE))","v":""},{"$f":"IF(E403=\"\",\"\",VLOOKUP('OPĆI DIO'!$C$1,'OPĆI DIO'!$L$4:$U$138,9,FALSE))","v":""},"","",null,"",null,0,0,null,{"$f":"IF(C403=\"\",\"\",'OPĆI DIO'!$C$1)","v":""},"",""]
[{"$f":"IF(E404=\"\",\"\",VLOOKUP('OPĆI DIO'!$C$1,'OPĆI DIO'!$L$4:$U$138,10,FALSE))","v":""},{"$f":"IF(E404=\"\",\"\",VLOOKUP('OPĆI DIO'!$C$1,'OPĆI DIO'!$L$4:$U$138,9,FALSE))","v":""},"","",null,"",null,0,0,null,{"$f":"IF(C404=\"\",\"\",'OPĆI DIO'!$C$1)","v":""},"",""]
[{"$f":"IF(E405=\"\",\"\",VLOOKUP('OPĆI DIO'!$C$1,'OPĆI DIO'!$L$4:$U$138,10,FALSE))","v":""},{"$f":"IF(E405=\"\",\"\",VLOOKUP('OPĆI DIO'!$C$1,'OPĆI DIO'!$L$4:$U$138,9,FALSE))","v":""},"","",null,"",null,0,0,null,{"$f":"IF(C405=\"\",\"\",'OPĆI DIO'!$C$1)","v":""},"",""]
[{"$f":"IF(E406=\"\",\"\",VLOOKUP('OPĆI DIO'!$C$1,'OPĆI DIO'!$L$4:$U$138,10,FALSE))","v":""},{"$f":"IF(E406=\"\",\"\",VLOOKUP('OPĆI DIO'!$C$1,'OPĆI DIO'!$L$4:$U$138,9,FALSE))","v":""},"","",null,"",null,0,0,null,{"$f":"IF(C406=\"\",\"\",'OPĆI DIO'!$C$1)","v":""},"",""]
[{"$f":"IF(E407=\"\",\"\",VLOOKUP('OPĆI DIO'!$C$1,'OPĆI DIO'!$L$4:$U$138,10,FALSE))","v":""},{"$f":"IF(E407=\"\",\"\",VLOOKUP('OPĆI DIO'!$C$1,'OPĆI DIO'!$L$4:$U$138,9,FALSE))","v":""},"","",null,"",null,0,0,null,{"$f":"IF(C407=\"\",\"\",'OPĆI DIO'!$C$1)","v":""},"",""]
[{"$f":"IF(E408=\"\",\"\",VLOOKUP('OPĆI DIO'!$C$1,'OPĆI DIO'!$L$4:$U$138,10,FALSE))","v":""},{"$f":"IF(E408=\"\",\"\",VLOOKUP('OPĆI DIO'!$C$1,'OPĆI DIO'!$L$4:$U$138,9,FALSE))","v":""},"","",null,"",null,0,0,null,{"$f":"IF(C408=\"\",\"\",'OPĆI DIO'!$C$1)","v":""},"",""]
[{"$f":"IF(E409=\"\",\"\",VLOOKUP('OPĆI DIO'!$C$1,'OPĆI DIO'!$L$4:$U$138,10,FALSE))","v":""},{"$f":"IF(E409=\"\",\"\",VLOOKUP('OPĆI DIO'!$C$1,'OPĆI DIO'!$L$4:$U$138,9,FALSE))","v":""},"","",null,"",null,0,0,null,{"$f":"IF(C409=\"\",\"\",'OPĆI DIO'!$C$1)","v":""},"",""]
[{"$f":"IF(E410=\"\",\"\",VLOOKUP('OPĆI DIO'!$C$1,'OPĆI DIO'!$L$4:$U$138,10,FALSE))","v":""},{"$f":"IF(E410=\"\",\"\",VLOOKUP('OPĆI DIO'!$C$1,'OPĆI DIO'!$L$4:$U$138,9,FALSE))","v":""},"","",null,"",null,0,0,null,{"$f":"IF(C410=\"\",\"\",'OPĆI DIO'!$C$1)","v":""},"",""]
[{"$f":"IF(E411=\"\",\"\",VLOOKUP('OPĆI DIO'!$C$1,'OPĆI DIO'!$L$4:$U$138,10,FALSE))","v":""},{"$f":"IF(E411=\"\",\"\",VLOOKUP('OPĆI DIO'!$C$1,'OPĆI DIO'!$L$4:$U$138,9,FALSE))","v":""},"","",null,"",null,0,0,null,{"$f":"IF(C411=\"\",\"\",'OPĆI DIO'!$C$1)","v":""},"",""]
[{"$f":"IF(E412=\"\",\"\",VLOOKUP('OPĆI DIO'!$C$1,'OPĆI DIO'!$L$4:$U$138,10,FALSE))","v":""},{"$f":"IF(E412=\"\",\"\",VLOOKUP('OPĆI DIO'!$C$1,'OPĆI DIO'!$L$4:$U$138,9,FALSE))","v":""},"","",null,"",null,0,0,null,{"$f":"IF(C412=\"\",\"\",'OPĆI DIO'!$C$1)","v":""},"",""]
[{"$f":"IF(E413=\"\",\"\",VLOOKUP('OPĆI DIO'!$C$1,'OPĆI DIO'!$L$4:$U$138,10,FALSE))","v":""},{"$f":"IF(E413=\"\",\"\",VLOOKUP('OPĆI DIO'!$C$1,'OPĆI DIO'!$L$4:$U$138,9,FALSE))","v":""},"","",null,"",null,0,0,null,{"$f":"IF(C413=\"\",\"\",'OPĆI DIO'!$C$1)","v":""},"",""]
[{"$f":"IF(E414=\"\",\"\",VLOOKUP('OPĆI DIO'!$C$1,'OPĆI DIO'!$L$4:$U$138,10,FALSE))","v":""},{"$f":"IF(E414=\"\",\"\",VLOOKUP('OPĆI DIO'!$C$1,'OPĆI DIO'!$L$4:$U$138,9,FALSE))","v":""},"","",null,"",null,0,0,null,{"$f":"IF(C414=\"\",\"\",'OPĆI DIO'!$C$1)","v":""},"",""]
[{"$f":"IF(E415=\"\",\"\",VLOOKUP('OPĆI DIO'!$C$1,'OPĆI DIO'!$L$4:$U$138,10,FALSE))","v":""},{"$f":"IF(E415=\"\",\"\",VLOOKUP('OPĆI DIO'!$C$1,'OPĆI DIO'!$L$4:$U$138,9,FALSE))","v":""},"","",null,"",null,0,0,null,{"$f":"IF(C415=\"\",\"\",'OPĆI DIO'!$C$1)","v":""},"",""]
[{"$f":"IF(E416=\"\",\"\",VLOOKUP('OPĆI DIO'!$C$1,'OPĆI DIO'!$L$4:$U$138,10,FALSE))","v":""},{"$f":"IF(E416=\"\",\"\",VLOOKUP('OPĆI DIO'!$C$1,'OPĆI DIO'!$L$4:$U$138,9,FALSE))","v":""},"","",null,"",null,0,0,null,{"$f":"IF(C416=\"\",\"\",'OPĆI DIO'!$C$1)","v":""},"",""]
[{"$f":"IF(E417=\"\",\"\",VLOOKUP('OPĆI DIO'!$C$1,'OPĆI DIO'!$L$4:$U$138,10,FALSE))","v":""},{"$f":"IF(E417=\"\",\"\",VLOOKUP('OPĆI DIO'!$C$1,'OPĆI DIO'!$L$4:$U$138,9,FALSE))","v":""},"","",null,"",null,0,0,null,{"$f":"IF(C417=\"\",\"\",'OPĆI DIO'!$C$1)","v":""},"",""]
[{"$f":"IF(E418=\"\",\"\",VLOOKUP('OPĆI DIO'!$C$1,'OPĆI DIO'!$L$4:$U$138,10,FALSE))","v":""},{"$f":"IF(E418=\"\",\"\",VLOOKUP('OPĆI DIO'!$C$1,'OPĆI DIO'!$L$4:$U$138,9,FALSE))","v":""},"","",null,"",null,0,0,null,{"$f":"IF(C418=\"\",\"\",'OPĆI DIO'!$C$1)","v":""},"",""]
[{"$f":"IF(E419=\"\",\"\",VLOOKUP('OPĆI DIO'!$C$1,'OPĆI DIO'!$L$4:$U$138,10,FALSE))","v":""},{"$f":"IF(E419=\"\",\"\",VLOOKUP('OPĆI DIO'!$C$1,'OPĆI DIO'!$L$4:$U$138,9,FALSE))","v":""},"","",null,"",null,0,0,null,{"$f":"IF(C419=\"\",\"\",'OPĆI DIO'!$C$1)","v":""},"",""]
[{"$f":"IF(E420=\"\",\"\",VLOOKUP('OPĆI DIO'!$C$1,'OPĆI DIO'!$L$4:$U$138,10,FALSE))","v":""},{"$f":"IF(E420=\"\",\"\",VLOOKUP('OPĆI DIO'!$C$1,'OPĆI DIO'!$L$4:$U$138,9,FALSE))","v":""},"","",null,"",null,0,0,null,{"$f":"IF(C420=\"\",\"\",'OPĆI DIO'!$C$1)","v":""},"",""]
[{"$f":"IF(E421=\"\",\"\",VLOOKUP('OPĆI DIO'!$C$1,'OPĆI DIO'!$L$4:$U$138,10,FALSE))","v":""},{"$f":"IF(E421=\"\",\"\",VLOOKUP('OPĆI DIO'!$C$1,'OPĆI DIO'!$L$4:$U$138,9,FALSE))","v":""},"","",null,"",null,0,0,null,{"$f":"IF(C421=\"\",\"\",'OPĆI DIO'!$C$1)","v":""},"",""]
[{"$f":"IF(E422=\"\",\"\",VLOOKUP('OPĆI DIO'!$C$1,'OPĆI DIO'!$L$4:$U$138,10,FALSE))","v":""},{"$f":"IF(E422=\"\",\"\",VLOOKUP('OPĆI DIO'!$C$1,'OPĆI DIO'!$L$4:$U$138,9,FALSE))","v":""},"","",null,"",null,0,0,null,{"$f":"IF(C422=\"\",\"\",'OPĆI DIO'!$C$1)","v":""},"",""]
[{"$f":"IF(E423=\"\",\"\",VLOOKUP('OPĆI DIO'!$C$1,'OPĆI DIO'!$L$4:$U$138,10,FALSE))","v":""},{"$f":"IF(E423=\"\",\"\",VLOOKUP('OPĆI DIO'!$C$1,'OPĆI DIO'!$L$4:$U$138,9,FALSE))","v":""},"","",null,"",null,0,0,null,{"$f":"IF(C423=\"\",\"\",'OPĆI DIO'!$C$1)","v":""},"",""]
[{"$f":"IF(E424=\"\",\"\",VLOOKUP('OPĆI DIO'!$C$1,'OPĆI DIO'!$L$4:$U$138,10,FALSE))","v":""},{"$f":"IF(E424=\"\",\"\",VLOOKUP('OPĆI DIO'!$C$1,'OPĆI DIO'!$L$4:$U$138,9,FALSE))","v":""},"","",null,"",null,0,0,null,{"$f":"IF(C424=\"\",\"\",'OPĆI DIO'!$C$1)","v":""},"",""]
[{"$f":"IF(E425=\"\",\"\",VLOOKUP('OPĆI DIO'!$C$1,'OPĆI DIO'!$L$4:$U$138,10,FALSE))","v":""},{"$f":"IF(E425=\"\",\"\",VLOOKUP('OPĆI DIO'!$C$1,'OPĆI DIO'!$L$4:$U$138,9,FALSE))","v":""},"","",null,"",null,0,0,null,{"$f":"IF(C425=\"\",\"\",'OPĆI DIO'!$C$1)","v":""},"",""]
[{"$f":"IF(E426=\"\",\"\",VLOOKUP('OPĆI DIO'!$C$1,'OPĆI DIO'!$L$4:$U$138,10,FALSE))","v":""},{"$f":"IF(E426=\"\",\"\",VLOOKUP('OPĆI DIO'!$C$1,'OPĆI DIO'!$L$4:$U$138,9,FALSE))","v":""},"","",null,"",null,0,0,null,{"$f":"IF(C426=\"\",\"\",'OPĆI DIO'!$C$1)","v":""},"",""]
[{"$f":"IF(E427=\"\",\"\",VLOOKUP('OPĆI DIO'!$C$1,'OPĆI DIO'!$L$4:$U$138,10,FALSE))","v":""},{"$f":"IF(E427=\"\",\"\",VLOOKUP('OPĆI DIO'!$C$1,'OPĆI DIO'!$L$4:$U$138,9,FALSE))","v":""},"","",null,"",null,0,0,null,{"$f":"IF(C427=\"\",\"\",'OPĆI DIO'!$C$1)","v":""},"",""]
[{"$f":"IF(E428=\"\",\"\",VLOOKUP('OPĆI DIO'!$C$1,'OPĆI DIO'!$L$4:$U$138,10,FALSE))","v":""},{"$f":"IF(E428=\"\",\"\",VLOOKUP('OPĆI DIO'!$C$1,'OPĆI DIO'!$L$4:$U$138,9,FALSE))","v":""},"","",null,"",null,0,0,null,{"$f":"IF(C428=\"\",\"\",'OPĆI DIO'!$C$1)","v":""},"",""]
[{"$f":"IF(E429=\"\",\"\",VLOOKUP('OPĆI DIO'!$C$1,'OPĆI DIO'!$L$4:$U$138,10,FALSE))","v":""},{"$f":"IF(E429=\"\",\"\",VLOOKUP('OPĆI DIO'!$C$1,'OPĆI DIO'!$L$4:$U$138,9,FALSE))","v":""},"","",null,"",null,0,0,null,{"$f":"IF(C429=\"\",\"\",'OPĆI DIO'!$C$1)","v":""},"",""]
[{"$f":"IF(E430=\"\",\"\",VLOOKUP('OPĆI DIO'!$C$1,'OPĆI DIO'!$L$4:$U$138,10,FALSE))","v":""},{"$f":"IF(E430=\"\",\"\",VLOOKUP('OPĆI DIO'!$C$1,'OPĆI DIO'!$L$4:$U$138,9,FALSE))","v":""},"","",null,"",null,0,0,null,{"$f":"IF(C430=\"\",\"\",'OPĆI DIO'!$C$1)","v":""},"",""]
[{"$f":"IF(E431=\"\",\"\",VLOOKUP('OPĆI DIO'!$C$1,'OPĆI DIO'!$L$4:$U$138,10,FALSE))","v":""},{"$f":"IF(E431=\"\",\"\",VLOOKUP('OPĆI DIO'!$C$1,'OPĆI DIO'!$L$4:$U$138,9,FALSE))","v":""},"","",null,"",null,0,0,null,{"$f":"IF(C431=\"\",\"\",'OPĆI DIO'!$C$1)","v":""},"",""]
[{"$f":"IF(E432=\"\",\"\",VLOOKUP('OPĆI DIO'!$C$1,'OPĆI DIO'!$L$4:$U$138,10,FALSE))","v":""},{"$f":"IF(E432=\"\",\"\",VLOOKUP('OPĆI DIO'!$C$1,'OPĆI DIO'!$L$4:$U$138,9,FALSE))","v":""},"","",null,"",null,0,0,null,{"$f":"IF(C432=\"\",\"\",'OPĆI DIO'!$C$1)","v":""},"",""]
[{"$f":"IF(E433=\"\",\"\",VLOOKUP('OPĆI DIO'!$C$1,'OPĆI DIO'!$L$4:$U$138,10,FALSE))","v":""},{"$f":"IF(E433=\"\",\"\",VLOOKUP('OPĆI DIO'!$C$1,'OPĆI DIO'!$L$4:$U$138,9,FALSE))","v":""},"","",null,"",null,0,0,null,{"$f":"IF(C433=\"\",\"\",'OPĆI DIO'!$C$1)","v":""},"",""]
[{"$f":"IF(E434=\"\",\"\",VLOOKUP('OPĆI DIO'!$C$1,'OPĆI DIO'!$L$4:$U$138,10,FALSE))","v":""},{"$f":"IF(E434=\"\",\"\",VLOOKUP('OPĆI DIO'!$C$1,'OPĆI DIO'!$L$4:$U$138,9,FALSE))","v":""},"","",null,"",null,0,0,null,{"$f":"IF(C434=\"\",\"\",'OPĆI DIO'!$C$1)","v":""},"",""]
[{"$f":"IF(E435=\"\",\"\",VLOOKUP('OPĆI DIO'!$C$1,'OPĆI DIO'!$L$4:$U$138,10,FALSE))","v":""},{"$f":"IF(E435=\"\",\"\",VLOOKUP('OPĆI DIO'!$C$1,'OPĆI DIO'!$L$4:$U$138,9,FALSE))","v":""},"","",null,"",null,0,0,null,{"$f":"IF(C435=\"\",\"\",'OPĆI DIO'!$C$1)","v":""},"",""]
[{"$f":"IF(E436=\"\",\"\",VLOOKUP('OPĆI DIO'!$C$1,'OPĆI DIO'!$L$4:$U$138,10,FALSE))","v":""},{"$f":"IF(E436=\"\",\"\",VLOOKUP('OPĆI DIO'!$C$1,'OPĆI DIO'!$L$4:$U$138,9,FALSE))","v":""},"","",null,"",null,0,0,null,{"$f":"IF(C436=\"\",\"\",'OPĆI DIO'!$C$1)","v":""},"",""]
[{"$f":"IF(E437=\"\",\"\",VLOOKUP('OPĆI DIO'!$C$1,'OPĆI DIO'!$L$4:$U$138,10,FALSE))","v":""},{"$f":"IF(E437=\"\",\"\",VLOOKUP('OPĆI DIO'!$C$1,'OPĆI DIO'!$L$4:$U$138,9,FALSE))","v":""},"","",null,"",null,0,0,null,{"$f":"IF(C437=\"\",\"\",'OPĆI DIO'!$C$1)","v":""},"",""]
[{"$f":"IF(E438=\"\",\"\",VLOOKUP('OPĆI DIO'!$C$1,'OPĆI DIO'!$L$4:$U$138,10,FALSE))","v":""},{"$f":"IF(E438=\"\",\"\",VLOOKUP('OPĆI DIO'!$C$1,'OPĆI DIO'!$L$4:$U$138,9,FALSE))","v":""},"","",null,"",null,0,0,null,{"$f":"IF(C438=\"\",\"\",'OPĆI DIO'!$C$1)","v":""},"",""]
[{"$f":"IF(E439=\"\",\"\",VLOOKUP('OPĆI DIO'!$C$1,'OPĆI DIO'!$L$4:$U$138,10,FALSE))","v":""},{"$f":"IF(E439=\"\",\"\",VLOOKUP('OPĆI DIO'!$C$1,'OPĆI DIO'!$L$4:$U$138,9,FALSE))","v":""},"","",null,"",null,0,0,null,{"$f":"IF(C439=\"\",\"\",'OPĆI DIO'!$C$1)","v":""},"",""]
[{"$f":"IF(E440=\"\",\"\",VLOOKUP('OPĆI DIO'!$C$1,'OPĆI DIO'!$L$4:$U$138,10,FALSE))","v":""},{"$f":"IF(E440=\"\",\"\",VLOOKUP('OPĆI DIO'!$C$1,'OPĆI DIO'!$L$4:$U$138,9,FALSE))","v":""},"","",null,"",null,0,0,null,{"$f":"IF(C440=\"\",\"\",'OPĆI DIO'!$C$1)","v":""},"",""]
[{"$f":"IF(E441=\"\",\"\",VLOOKUP('OPĆI DIO'!$C$1,'OPĆI DIO'!$L$4:$U$138,10,FALSE))","v":""},{"$f":"IF(E441=\"\",\"\",VLOOKUP('OPĆI DIO'!$C$1,'OPĆI DIO'!$L$4:$U$138,9,FALSE))","v":""},"","",null,"",null,0,0,null,{"$f":"IF(C441=\"\",\"\",'OPĆI DIO'!$C$1)","v":""},"",""]
[{"$f":"IF(E442=\"\",\"\",VLOOKUP('OPĆI DIO'!$C$1,'OPĆI DIO'!$L$4:$U$138,10,FALSE))","v":""},{"$f":"IF(E442=\"\",\"\",VLOOKUP('OPĆI DIO'!$C$1,'OPĆI DIO'!$L$4:$U$138,9,FALSE))","v":""},"","",null,"",null,0,0,null,{"$f":"IF(C442=\"\",\"\",'OPĆI DIO'!$C$1)","v":""},"",""]
[{"$f":"IF(E443=\"\",\"\",VLOOKUP('OPĆI DIO'!$C$1,'OPĆI DIO'!$L$4:$U$138,10,FALSE))","v":""},{"$f":"IF(E443=\"\",\"\",VLOOKUP('OPĆI DIO'!$C$1,'OPĆI DIO'!$L$4:$U$138,9,FALSE))","v":""},"","",null,"",null,0,0,null,{"$f":"IF(C443=\"\",\"\",'OPĆI DIO'!$C$1)","v":""},"",""]
[{"$f":"IF(E444=\"\",\"\",VLOOKUP('OPĆI DIO'!$C$1,'OPĆI DIO'!$L$4:$U$138,10,FALSE))","v":""},{"$f":"IF(E444=\"\",\"\",VLOOKUP('OPĆI DIO'!$C$1,'OPĆI DIO'!$L$4:$U$138,9,FALSE))","v":""},"","",null,"",null,0,0,null,{"$f":"IF(C444=\"\",\"\",'OPĆI DIO'!$C$1)","v":""},"",""]
[{"$f":"IF(E445=\"\",\"\",VLOOKUP('OPĆI DIO'!$C$1,'OPĆI DIO'!$L$4:$U$138,10,FALSE))","v":""},{"$f":"IF(E445=\"\",\"\",VLOOKUP('OPĆI DIO'!$C$1,'OPĆI DIO'!$L$4:$U$138,9,FALSE))","v":""},"","",null,"",null,0,0,null,{"$f":"IF(C445=\"\",\"\",'OPĆI DIO'!$C$1)","v":""},"",""]
[{"$f":"IF(E446=\"\",\"\",VLOOKUP('OPĆI DIO'!$C$1,'OPĆI DIO'!$L$4:$U$138,10,FALSE))","v":""},{"$f":"IF(E446=\"\",\"\",VLOOKUP('OPĆI DIO'!$C$1,'OPĆI DIO'!$L$4:$U$138,9,FALSE))","v":""},"","",null,"",null,0,0,null,{"$f":"IF(C446=\"\",\"\",'OPĆI DIO'!$C$1)","v":""},"",""]
[{"$f":"IF(E447=\"\",\"\",VLOOKUP('OPĆI DIO'!$C$1,'OPĆI DIO'!$L$4:$U$138,10,FALSE))","v":""},{"$f":"IF(E447=\"\",\"\",VLOOKUP('OPĆI DIO'!$C$1,'OPĆI DIO'!$L$4:$U$138,9,FALSE))","v":""},"","",null,"",null,0,0,null,{"$f":"IF(C447=\"\",\"\",'OPĆI DIO'!$C$1)","v":""},"",""]
[{"$f":"IF(E448=\"\",\"\",VLOOKUP('OPĆI DIO'!$C$1,'OPĆI DIO'!$L$4:$U$138,10,FALSE))","v":""},{"$f":"IF(E448=\"\",\"\",VLOOKUP('OPĆI DIO'!$C$1,'OPĆI DIO'!$L$4:$U$138,9,FALSE))","v":""},"","",null,"",null,0,0,null,{"$f":"IF(C448=\"\",\"\",'OPĆI DIO'!$C$1)","v":""},"",""]
[{"$f":"IF(E449=\"\",\"\",VLOOKUP('OPĆI DIO'!$C$1,'OPĆI DIO'!$L$4:$U$138,10,FALSE))","v":""},{"$f":"IF(E449=\"\",\"\",VLOOKUP('OPĆI DIO'!$C$1,'OPĆI DIO'!$L$4:$U$138,9,FALSE))","v":""},"","",null,"",null,0,0,null,{"$f":"IF(C449=\"\",\"\",'OPĆI DIO'!$C$1)","v":""},"",""]
[{"$f":"IF(E450=\"\",\"\",VLOOKUP('OPĆI DIO'!$C$1,'OPĆI DIO'!$L$4:$U$138,10,FALSE))","v":""},{"$f":"IF(E450=\"\",\"\",VLOOKUP('OPĆI DIO'!$C$1,'OPĆI DIO'!$L$4:$U$138,9,FALSE))","v":""},"","",null,"",null,0,0,null,{"$f":"IF(C450=\"\",\"\",'OPĆI DIO'!$C$1)","v":""},"",""]
[{"$f":"IF(E451=\"\",\"\",VLOOKUP('OPĆI DIO'!$C$1,'OPĆI DIO'!$L$4:$U$138,10,FALSE))","v":""},{"$f":"IF(E451=\"\",\"\",VLOOKUP('OPĆI DIO'!$C$1,'OPĆI DIO'!$L$4:$U$138,9,FALSE))","v":""},"","",null,"",null,0,0,null,{"$f":"IF(C451=\"\",\"\",'OPĆI DIO'!$C$1)","v":""},"",""]
[{"$f":"IF(E452=\"\",\"\",VLOOKUP('OPĆI DIO'!$C$1,'OPĆI DIO'!$L$4:$U$138,10,FALSE))","v":""},{"$f":"IF(E452=\"\",\"\",VLOOKUP('OPĆI DIO'!$C$1,'OPĆI DIO'!$L$4:$U$138,9,FALSE))","v":""},"","",null,"",null,0,{"$f":"+G452+H452","v":0},null,{"$f":"IF(C452=\"\",\"\",'OPĆI DIO'!$C$1)","v":""},{"$f":"LEFT(E452,2)","v":""},{"$f":"LEFT(E452,3)","v":""}]
[{"$f":"IF(E453=\"\",\"\",VLOOKUP('OPĆI DIO'!$C$1,'OPĆI DIO'!$L$4:$U$138,10,FALSE))","v":""},{"$f":"IF(E453=\"\",\"\",VLOOKUP('OPĆI DIO'!$C$1,'OPĆI DIO'!$L$4:$U$138,9,FALSE))","v":""},"","",null,"",null,0,0,null,{"$f":"IF(C453=\"\",\"\",'OPĆI DIO'!$C$1)","v":""},"",""]
[{"$f":"IF(E454=\"\",\"\",VLOOKUP('OPĆI DIO'!$C$1,'OPĆI DIO'!$L$4:$U$138,10,FALSE))","v":""},{"$f":"IF(E454=\"\",\"\",VLOOKUP('OPĆI DIO'!$C$1,'OPĆI DIO'!$L$4:$U$138,9,FALSE))","v":""},{"$f":"IFERROR(VLOOKUP(E454,$R$6:$U$113,3,FALSE),\"\")","v":""},{"$f":"IFERROR(VLOOKUP(E454,$R$6:$U$113,4,FALSE),\"\")","v":""},null,{"$f":"IFERROR(VLOOKUP(E454,$R$6:$U$113,2,FALSE),\"\")","v":""},null,0,0,null,{"$f":"IF(C454=\"\",\"\",'OPĆI DIO'!$C$1)","v":""},"",""]
[{"$f":"IF(E455=\"\",\"\",VLOOKUP('OPĆI DIO'!$C$1,'OPĆI DIO'!$L$4:$U$138,10,FALSE))","v":""},{"$f":"IF(E455=\"\",\"\",VLOOKUP('OPĆI DIO'!$C$1,'OPĆI DIO'!$L$4:$U$138,9,FALSE))","v":""},"","",null,"",null,0,0,null,{"$f":"IF(C455=\"\",\"\",'OPĆI DIO'!$C$1)","v":""},"",""]
[{"$f":"IF(E456=\"\",\"\",VLOOKUP('OPĆI DIO'!$C$1,'OPĆI DIO'!$L$4:$U$138,10,FALSE))","v":""},{"$f":"IF(E456=\"\",\"\",VLOOKUP('OPĆI DIO'!$C$1,'OPĆI DIO'!$L$4:$U$138,9,FALSE))","v":""},"","",null,"",null,0,0,null,{"$f":"IF(C456=\"\",\"\",'OPĆI DIO'!$C$1)","v":""},"",""]
[{"$f":"IF(E457=\"\",\"\",VLOOKUP('OPĆI DIO'!$C$1,'OPĆI DIO'!$L$4:$U$138,10,FALSE))","v":""},{"$f":"IF(E457=\"\",\"\",VLOOKUP('OPĆI DIO'!$C$1,'OPĆI DIO'!$L$4:$U$138,9,FALSE))","v":""},"","",null,"",null,0,0,null,{"$f":"IF(C457=\"\",\"\",'OPĆI DIO'!$C$1)","v":""},"",""]
[{"$f":"IF(E458=\"\",\"\",VLOOKUP('OPĆI DIO'!$C$1,'OPĆI DIO'!$L$4:$U$138,10,FALSE))","v":""},{"$f":"IF(E458=\"\",\"\",VLOOKUP('OPĆI DIO'!$C$1,'OPĆI DIO'!$L$4:$U$138,9,FALSE))","v":""},"","",null,"",null,0,0,null,{"$f":"IF(C458=\"\",\"\",'OPĆI DIO'!$C$1)","v":""},"",""]
[{"$f":"IF(E459=\"\",\"\",VLOOKUP('OPĆI DIO'!$C$1,'OPĆI DIO'!$L$4:$U$138,10,FALSE))","v":""},{"$f":"IF(E459=\"\",\"\",VLOOKUP('OPĆI DIO'!$C$1,'OPĆI DIO'!$L$4:$U$138,9,FALSE))","v":""},"","",null,"",null,0,0,null,{"$f":"IF(C459=\"\",\"\",'OPĆI DIO'!$C$1)","v":""},"",""]
[{"$f":"IF(E460=\"\",\"\",VLOOKUP('OPĆI DIO'!$C$1,'OPĆI DIO'!$L$4:$U$138,10,FALSE))","v":""},{"$f":"IF(E460=\"\",\"\",VLOOKUP('OPĆI DIO'!$C$1,'OPĆI DIO'!$L$4:$U$138,9,FALSE))","v":""},"","",null,"",null,0,0,null,{"$f":"IF(C460=\"\",\"\",'OPĆI DIO'!$C$1)","v":""},"",""]
[{"$f":"IF(E461=\"\",\"\",VLOOKUP('OPĆI DIO'!$C$1,'OPĆI DIO'!$L$4:$U$138,10,FALSE))","v":""},{"$f":"IF(E461=\"\",\"\",VLOOKUP('OPĆI DIO'!$C$1,'OPĆI DIO'!$L$4:$U$138,9,FALSE))","v":""},"","",null,"",null,0,0,null,{"$f":"IF(C461=\"\",\"\",'OPĆI DIO'!$C$1)","v":""},"",""]
[{"$f":"IF(E462=\"\",\"\",VLOOKUP('OPĆI DIO'!$C$1,'OPĆI DIO'!$L$4:$U$138,10,FALSE))","v":""},{"$f":"IF(E462=\"\",\"\",VLOOKUP('OPĆI DIO'!$C$1,'OPĆI DIO'!$L$4:$U$138,9,FALSE))","v":""},"","",null,"",null,0,0,null,{"$f":"IF(C462=\"\",\"\",'OPĆI DIO'!$C$1)","v":""},"",""]
[{"$f":"IF(E463=\"\",\"\",VLOOKUP('OPĆI DIO'!$C$1,'OPĆI DIO'!$L$4:$U$138,10,FALSE))","v":""},{"$f":"IF(E463=\"\",\"\",VLOOKUP('OPĆI DIO'!$C$1,'OPĆI DIO'!$L$4:$U$138,9,FALSE))","v":""},"","",null,"",null,0,0,null,{"$f":"IF(C463=\"\",\"\",'OPĆI DIO'!$C$1)","v":""},"",""]
[{"$f":"IF(E464=\"\",\"\",VLOOKUP('OPĆI DIO'!$C$1,'OPĆI DIO'!$L$4:$U$138,10,FALSE))","v":""},{"$f":"IF(E464=\"\",\"\",VLOOKUP('OPĆI DIO'!$C$1,'OPĆI DIO'!$L$4:$U$138,9,FALSE))","v":""},"","",null,"",null,0,0,null,{"$f":"IF(C464=\"\",\"\",'OPĆI DIO'!$C$1)","v":""},"",""]
[{"$f":"IF(E465=\"\",\"\",VLOOKUP('OPĆI DIO'!$C$1,'OPĆI DIO'!$L$4:$U$138,10,FALSE))","v":""},{"$f":"IF(E465=\"\",\"\",VLOOKUP('OPĆI DIO'!$C$1,'OPĆI DIO'!$L$4:$U$138,9,FALSE))","v":""},"","",null,"",null,0,0,null,{"$f":"IF(C465=\"\",\"\",'OPĆI DIO'!$C$1)","v":""},"",""]
[{"$f":"IF(E466=\"\",\"\",VLOOKUP('OPĆI DIO'!$C$1,'OPĆI DIO'!$L$4:$U$138,10,FALSE))","v":""},{"$f":"IF(E466=\"\",\"\",VLOOKUP('OPĆI DIO'!$C$1,'OPĆI DIO'!$L$4:$U$138,9,FALSE))","v":""},"","",null,"",null,0,0,null,{"$f":"IF(C466=\"\",\"\",'OPĆI DIO'!$C$1)","v":""},"",""]
[{"$f":"IF(E467=\"\",\"\",VLOOKUP('OPĆI DIO'!$C$1,'OPĆI DIO'!$L$4:$U$138,10,FALSE))","v":""},{"$f":"IF(E467=\"\",\"\",VLOOKUP('OPĆI DIO'!$C$1,'OPĆI DIO'!$L$4:$U$138,9,FALSE))","v":""},"","",null,"",null,0,0,null,{"$f":"IF(C467=\"\",\"\",'OPĆI DIO'!$C$1)","v":""},"",""]
[{"$f":"IF(E468=\"\",\"\",VLOOKUP('OPĆI DIO'!$C$1,'OPĆI DIO'!$L$4:$U$138,10,FALSE))","v":""},{"$f":"IF(E468=\"\",\"\",VLOOKUP('OPĆI DIO'!$C$1,'OPĆI DIO'!$L$4:$U$138,9,FALSE))","v":""},"","",null,"",null,0,0,null,{"$f":"IF(C468=\"\",\"\",'OPĆI DIO'!$C$1)","v":""},"",""]
[{"$f":"IF(E469=\"\",\"\",VLOOKUP('OPĆI DIO'!$C$1,'OPĆI DIO'!$L$4:$U$138,10,FALSE))","v":""},{"$f":"IF(E469=\"\",\"\",VLOOKUP('OPĆI DIO'!$C$1,'OPĆI DIO'!$L$4:$U$138,9,FALSE))","v":""},"","",null,"",null,0,0,null,{"$f":"IF(C469=\"\",\"\",'OPĆI DIO'!$C$1)","v":""},"",""]
[{"$f":"IF(E470=\"\",\"\",VLOOKUP('OPĆI DIO'!$C$1,'OPĆI DIO'!$L$4:$U$138,10,FALSE))","v":""},{"$f":"IF(E470=\"\",\"\",VLOOKUP('OPĆI DIO'!$C$1,'OPĆI DIO'!$L$4:$U$138,9,FALSE))","v":""},"","",null,"",null,0,0,null,{"$f":"IF(C470=\"\",\"\",'OPĆI DIO'!$C$1)","v":""},"",""]
[{"$f":"IF(E471=\"\",\"\",VLOOKUP('OPĆI DIO'!$C$1,'OPĆI DIO'!$L$4:$U$138,10,FALSE))","v":""},{"$f":"IF(E471=\"\",\"\",VLOOKUP('OPĆI DIO'!$C$1,'OPĆI DIO'!$L$4:$U$138,9,FALSE))","v":""},"","",null,"",null,0,0,null,{"$f":"IF(C471=\"\",\"\",'OPĆI DIO'!$C$1)","v":""},"",""]
[{"$f":"IF(E472=\"\",\"\",VLOOKUP('OPĆI DIO'!$C$1,'OPĆI DIO'!$L$4:$U$138,10,FALSE))","v":""},{"$f":"IF(E472=\"\",\"\",VLOOKUP('OPĆI DIO'!$C$1,'OPĆI DIO'!$L$4:$U$138,9,FALSE))","v":""},"","",null,"",null,0,0,null,{"$f":"IF(C472=\"\",\"\",'OPĆI DIO'!$C$1)","v":""},"",""]
[{"$f":"IF(E473=\"\",\"\",VLOOKUP('OPĆI DIO'!$C$1,'OPĆI DIO'!$L$4:$U$138,10,FALSE))","v":""},{"$f":"IF(E473=\"\",\"\",VLOOKUP('OPĆI DIO'!$C$1,'OPĆI DIO'!$L$4:$U$138,9,FALSE))","v":""},"","",null,"",null,0,0,null,{"$f":"IF(C473=\"\",\"\",'OPĆI DIO'!$C$1)","v":""},"",""]
[{"$f":"IF(E474=\"\",\"\",VLOOKUP('OPĆI DIO'!$C$1,'OPĆI DIO'!$L$4:$U$138,10,FALSE))","v":""},{"$f":"IF(E474=\"\",\"\",VLOOKUP('OPĆI DIO'!$C$1,'OPĆI DIO'!$L$4:$U$138,9,FALSE))","v":""},"","",null,"",null,0,0,null,{"$f":"IF(C474=\"\",\"\",'OPĆI DIO'!$C$1)","v":""},"",""]
[{"$f":"IF(E475=\"\",\"\",VLOOKUP('OPĆI DIO'!$C$1,'OPĆI DIO'!$L$4:$U$138,10,FALSE))","v":""},{"$f":"IF(E475=\"\",\"\",VLOOKUP('OPĆI DIO'!$C$1,'OPĆI DIO'!$L$4:$U$138,9,FALSE))","v":""},"","",null,"",null,0,0,null,{"$f":"IF(C475=\"\",\"\",'OPĆI DIO'!$C$1)","v":""},"",""]
[{"$f":"IF(E476=\"\",\"\",VLOOKUP('OPĆI DIO'!$C$1,'OPĆI DIO'!$L$4:$U$138,10,FALSE))","v":""},{"$f":"IF(E476=\"\",\"\",VLOOKUP('OPĆI DIO'!$C$1,'OPĆI DIO'!$L$4:$U$138,9,FALSE))","v":""},"","",null,"",null,0,0,null,{"$f":"IF(C476=\"\",\"\",'OPĆI DIO'!$C$1)","v":""},"",""]
[{"$f":"IF(E477=\"\",\"\",VLOOKUP('OPĆI DIO'!$C$1,'OPĆI DIO'!$L$4:$U$138,10,FALSE))","v":""},{"$f":"IF(E477=\"\",\"\",VLOOKUP('OPĆI DIO'!$C$1,'OPĆI DIO'!$L$4:$U$138,9,FALSE))","v":""},"","",null,"",null,0,0,null,{"$f":"IF(C477=\"\",\"\",'OPĆI DIO'!$C$1)","v":""},"",""]
[{"$f":"IF(E478=\"\",\"\",VLOOKUP('OPĆI DIO'!$C$1,'OPĆI DIO'!$L$4:$U$138,10,FALSE))","v":""},{"$f":"IF(E478=\"\",\"\",VLOOKUP('OPĆI DIO'!$C$1,'OPĆI DIO'!$L$4:$U$138,9,FALSE))","v":""},"","",null,"",null,0,0,null,{"$f":"IF(C478=\"\",\"\",'OPĆI DIO'!$C$1)","v":""},"",""]
[{"$f":"IF(E479=\"\",\"\",VLOOKUP('OPĆI DIO'!$C$1,'OPĆI DIO'!$L$4:$U$138,10,FALSE))","v":""},{"$f":"IF(E479=\"\",\"\",VLOOKUP('OPĆI DIO'!$C$1,'OPĆI DIO'!$L$4:$U$138,9,FALSE))","v":""},"","",null,"",null,0,0,null,{"$f":"IF(C479=\"\",\"\",'OPĆI DIO'!$C$1)","v":""},"",""]
[{"$f":"IF(E480=\"\",\"\",VLOOKUP('OPĆI DIO'!$C$1,'OPĆI DIO'!$L$4:$U$138,10,FALSE))","v":""},{"$f":"IF(E480=\"\",\"\",VLOOKUP('OPĆI DIO'!$C$1,'OPĆI DIO'!$L$4:$U$138,9,FALSE))","v":""},"","",null,"",null,0,0,null,{"$f":"IF(C480=\"\",\"\",'OPĆI DIO'!$C$1)","v":""},"",""]
[{"$f":"IF(E481=\"\",\"\",VLOOKUP('OPĆI DIO'!$C$1,'OPĆI DIO'!$L$4:$U$138,10,FALSE))","v":""},{"$f":"IF(E481=\"\",\"\",VLOOKUP('OPĆI DIO'!$C$1,'OPĆI DIO'!$L$4:$U$138,9,FALSE))","v":""},"","",null,"",null,0,0,null,{"$f":"IF(C481=\"\",\"\",'OPĆI DIO'!$C$1)","v":""},"",""]
[{"$f":"IF(E482=\"\",\"\",VLOOKUP('OPĆI DIO'!$C$1,'OPĆI DIO'!$L$4:$U$138,10,FALSE))","v":""},{"$f":"IF(E482=\"\",\"\",VLOOKUP('OPĆI DIO'!$C$1,'OPĆI DIO'!$L$4:$U$138,9,FALSE))","v":""},"","",null,"",null,0,0,null,{"$f":"IF(C482=\"\",\"\",'OPĆI DIO'!$C$1)","v":""},"",""]
[{"$f":"IF(E483=\"\",\"\",VLOOKUP('OPĆI DIO'!$C$1,'OPĆI DIO'!$L$4:$U$138,10,FALSE))","v":""},{"$f":"IF(E483=\"\",\"\",VLOOKUP('OPĆI DIO'!$C$1,'OPĆI DIO'!$L$4:$U$138,9,FALSE))","v":""},"","",null,"",null,0,0,null,{"$f":"IF(C483=\"\",\"\",'OPĆI DIO'!$C$1)","v":""},"",""]
[{"$f":"IF(E484=\"\",\"\",VLOOKUP('OPĆI DIO'!$C$1,'OPĆI DIO'!$L$4:$U$138,10,FALSE))","v":""},{"$f":"IF(E484=\"\",\"\",VLOOKUP('OPĆI DIO'!$C$1,'OPĆI DIO'!$L$4:$U$138,9,FALSE))","v":""},"","",null,"",null,0,0,null,{"$f":"IF(C484=\"\",\"\",'OPĆI DIO'!$C$1)","v":""},"",""]
[{"$f":"IF(E485=\"\",\"\",VLOOKUP('OPĆI DIO'!$C$1,'OPĆI DIO'!$L$4:$U$138,10,FALSE))","v":""},{"$f":"IF(E485=\"\",\"\",VLOOKUP('OPĆI DIO'!$C$1,'OPĆI DIO'!$L$4:$U$138,9,FALSE))","v":""},"","",null,"",null,0,0,null,{"$f":"IF(C485=\"\",\"\",'OPĆI DIO'!$C$1)","v":""},"",""]
[{"$f":"IF(E486=\"\",\"\",VLOOKUP('OPĆI DIO'!$C$1,'OPĆI DIO'!$L$4:$U$138,10,FALSE))","v":""},{"$f":"IF(E486=\"\",\"\",VLOOKUP('OPĆI DIO'!$C$1,'OPĆI DIO'!$L$4:$U$138,9,FALSE))","v":""},"","",null,"",null,0,0,null,{"$f":"IF(C486=\"\",\"\",'OPĆI DIO'!$C$1)","v":""},"",""]
[{"$f":"IF(E487=\"\",\"\",VLOOKUP('OPĆI DIO'!$C$1,'OPĆI DIO'!$L$4:$U$138,10,FALSE))","v":""},{"$f":"IF(E487=\"\",\"\",VLOOKUP('OPĆI DIO'!$C$1,'OPĆI DIO'!$L$4:$U$138,9,FALSE))","v":""},"","",null,"",null,0,0,null,{"$f":"IF(C487=\"\",\"\",'OPĆI DIO'!$C$1)","v":""},"",""]
[{"$f":"IF(E488=\"\",\"\",VLOOKUP('OPĆI DIO'!$C$1,'OPĆI DIO'!$L$4:$U$138,10,FALSE))","v":""},{"$f":"IF(E488=\"\",\"\",VLOOKUP('OPĆI DIO'!$C$1,'OPĆI DIO'!$L$4:$U$138,9,FALSE))","v":""},"","",null,"",null,0,0,null,{"$f":"IF(C488=\"\",\"\",'OPĆI DIO'!$C$1)","v":""},"",""]
[{"$f":"IF(E489=\"\",\"\",VLOOKUP('OPĆI DIO'!$C$1,'OPĆI DIO'!$L$4:$U$138,10,FALSE))","v":""},{"$f":"IF(E489=\"\",\"\",VLOOKUP('OPĆI DIO'!$C$1,'OPĆI DIO'!$L$4:$U$138,9,FALSE))","v":""},"","",null,"",null,0,0,null,{"$f":"IF(C489=\"\",\"\",'OPĆI DIO'!$C$1)","v":""},"",""]
[{"$f":"IF(E490=\"\",\"\",VLOOKUP('OPĆI DIO'!$C$1,'OPĆI DIO'!$L$4:$U$138,10,FALSE))","v":""},{"$f":"IF(E490=\"\",\"\",VLOOKUP('OPĆI DIO'!$C$1,'OPĆI DIO'!$L$4:$U$138,9,FALSE))","v":""},"","",null,"",null,0,0,null,{"$f":"IF(C490=\"\",\"\",'OPĆI DIO'!$C$1)","v":""},"",""]
[{"$f":"IF(E491=\"\",\"\",VLOOKUP('OPĆI DIO'!$C$1,'OPĆI DIO'!$L$4:$U$138,10,FALSE))","v":""},{"$f":"IF(E491=\"\",\"\",VLOOKUP('OPĆI DIO'!$C$1,'OPĆI DIO'!$L$4:$U$138,9,FALSE))","v":""},"","",null,"",null,0,0,null,{"$f":"IF(C491=\"\",\"\",'OPĆI DIO'!$C$1)","v":""},"",""]
[{"$f":"IF(E492=\"\",\"\",VLOOKUP('OPĆI DIO'!$C$1,'OPĆI DIO'!$L$4:$U$138,10,FALSE))","v":""},{"$f":"IF(E492=\"\",\"\",VLOOKUP('OPĆI DIO'!$C$1,'OPĆI DIO'!$L$4:$U$138,9,FALSE))","v":""},"","",null,"",null,0,0,null,{"$f":"IF(C492=\"\",\"\",'OPĆI DIO'!$C$1)","v":""},"",""]
[{"$f":"IF(E493=\"\",\"\",VLOOKUP('OPĆI DIO'!$C$1,'OPĆI DIO'!$L$4:$U$138,10,FALSE))","v":""},{"$f":"IF(E493=\"\",\"\",VLOOKUP('OPĆI DIO'!$C$1,'OPĆI DIO'!$L$4:$U$138,9,FALSE))","v":""},"","",null,"",null,0,0,null,{"$f":"IF(C493=\"\",\"\",'OPĆI DIO'!$C$1)","v":""},"",""]
[{"$f":"IF(E494=\"\",\"\",VLOOKUP('OPĆI DIO'!$C$1,'OPĆI DIO'!$L$4:$U$138,10,FALSE))","v":""},{"$f":"IF(E494=\"\",\"\",VLOOKUP('OPĆI DIO'!$C$1,'OPĆI DIO'!$L$4:$U$138,9,FALSE))","v":""},"","",null,"",null,0,0,null,{"$f":"IF(C494=\"\",\"\",'OPĆI DIO'!$C$1)","v":""},"",""]
[{"$f":"IF(E495=\"\",\"\",VLOOKUP('OPĆI DIO'!$C$1,'OPĆI DIO'!$L$4:$U$138,10,FALSE))","v":""},{"$f":"IF(E495=\"\",\"\",VLOOKUP('OPĆI DIO'!$C$1,'OPĆI DIO'!$L$4:$U$138,9,FALSE))","v":""},"","",null,"",null,0,0,null,{"$f":"IF(C495=\"\",\"\",'OPĆI DIO'!$C$1)","v":""},"",""]
[{"$f":"IF(E496=\"\",\"\",VLOOKUP('OPĆI DIO'!$C$1,'OPĆI DIO'!$L$4:$U$138,10,FALSE))","v":""},{"$f":"IF(E496=\"\",\"\",VLOOKUP('OPĆI DIO'!$C$1,'OPĆI DIO'!$L$4:$U$138,9,FALSE))","v":""},"","",null,"",null,0,0,null,{"$f":"IF(C496=\"\",\"\",'OPĆI DIO'!$C$1)","v":""},"",""]
[{"$f":"IF(E497=\"\",\"\",VLOOKUP('OPĆI DIO'!$C$1,'OPĆI DIO'!$L$4:$U$138,10,FALSE))","v":""},{"$f":"IF(E497=\"\",\"\",VLOOKUP('OPĆI DIO'!$C$1,'OPĆI DIO'!$L$4:$U$138,9,FALSE))","v":""},"","",null,"",null,0,0,null,{"$f":"IF(C497=\"\",\"\",'OPĆI DIO'!$C$1)","v":""},"",""]
[{"$f":"IF(E498=\"\",\"\",VLOOKUP('OPĆI DIO'!$C$1,'OPĆI DIO'!$L$4:$U$138,10,FALSE))","v":""},{"$f":"IF(E498=\"\",\"\",VLOOKUP('OPĆI DIO'!$C$1,'OPĆI DIO'!$L$4:$U$138,9,FALSE))","v":""},"","",null,"",null,0,0,null,{"$f":"IF(C498=\"\",\"\",'OPĆI DIO'!$C$1)","v":""},"",""]
[{"$f":"IF(E499=\"\",\"\",VLOOKUP('OPĆI DIO'!$C$1,'OPĆI DIO'!$L$4:$U$138,10,FALSE))","v":""},{"$f":"IF(E499=\"\",\"\",VLOOKUP('OPĆI DIO'!$C$1,'OPĆI DIO'!$L$4:$U$138,9,FALSE))","v":""},"","",null,"",null,0,0,null,{"$f":"IF(C499=\"\",\"\",'OPĆI DIO'!$C$1)","v":""},"",""]
[{"$f":"IF(E500=\"\",\"\",VLOOKUP('OPĆI DIO'!$C$1,'OPĆI DIO'!$L$4:$U$138,10,FALSE))","v":""},{"$f":"IF(E500=\"\",\"\",VLOOKUP('OPĆI DIO'!$C$1,'OPĆI DIO'!$L$4:$U$138,9,FALSE))","v":""},"","",null,"",null,0,0,null,{"$f":"IF(C500=\"\",\"\",'OPĆI DIO'!$C$1)","v":""},"",""]
[{"$f":"IF(E501=\"\",\"\",VLOOKUP('OPĆI DIO'!$C$1,'OPĆI DIO'!$L$4:$U$138,10,FALSE))","v":""},{"$f":"IF(E501=\"\",\"\",VLOOKUP('OPĆI DIO'!$C$1,'OPĆI DIO'!$L$4:$U$138,9,FALSE))","v":""},"","",null,"",null,0,0,null,{"$f":"IF(C501=\"\",\"\",'OPĆI DIO'!$C$1)","v":""},"",""]
[]
[{"$nulls":7},{"$f":"+I503-G503","v":0}]
[{"$nulls":7},0]
[{"$nulls":7},0]
[{"$nulls":7},0]
[{"$nulls":7},0]
[{"$nulls":7},0]
[{"$nulls":7},0]
[{"$nulls":7},0]
[{"$nulls":7},0]
[{"$nulls":7},0]
[{"$nulls":7},0]
[{"$nulls":7},0]
[{"$nulls":7},0]
[{"$nulls":7},0]
[{"$nulls":7},{"$f":"+I517-G517","v":0}]
[{"$nulls":7},0]
[{"$nulls":7},0]
[{"$nulls":7},0]
[{"$nulls":7},0]
[{"$nulls":7},0]
[{"$nulls":7},0]
[{"$nulls":7},0]
[{"$nulls":7},0]
[{"$nulls":7},0]
[{"$nulls":7},0]
[{"$nulls":7},0]
[{"$nulls":7},0]
[{"$nulls":7},0]
[{"$nulls":7},0]
[{"$nulls":7},0]
[{"$nulls":7},0]
[{"$nulls":7},0]
[{"$nulls":7},0]
[{"$nulls":7},0]
[{"$nulls":7},0]
[{"$nulls":7},0]
[{"$nulls":7},0]
[{"$nulls":7},0]
[{"$nulls":7},0]
[{"$nulls":7},0]
[{"$nulls":7},0]
[{"$nulls":7},0]
[{"$nulls":7},0]
[{"$nulls":7},0]
[{"$nulls":7},0]
[{"$nulls":7},0]
[{"$nulls":7},0]
[{"$nulls":7},0]
[{"$nulls":7},0]
[{"$nulls":7},0]
[{"$nulls":7},0]
[{"$nulls":7},0]
[{"$nulls":7},0]
[{"$nulls":7},0]
[{"$nulls":7},0]
[{"$nulls":7},0]
[{"$nulls":7},0]
[{"$nulls":7},0]
[{"$nulls":7},0]
[{"$nulls":7},0]
[{"$nulls":7},0]
[{"$nulls":7},0]
[{"$nulls":7},0]
[{"$nulls":7},0]
[{"$nulls":7},0]
[{"$nulls":7},0]
[{"$nulls":7},0]
[{"$nulls":7},0]
[{"$nulls":7},0]
[{"$nulls":7},0]
[{"$nulls":7},0]
[{"$nulls":7},0]
[{"$nulls":7},0]
[{"$nulls":7},0]
[{"$nulls":7},0]
[{"$nulls":7},0]
[{"$nulls":7},0]
[{"$nulls":7},0]
[{"$nulls":7},{"$f":"+I581-G581","v":0}]
[{"$nulls":7},0]
[{"$nulls":7},0]
[{"$nulls":7},0]
[{"$nulls":7},0]
[{"$nulls":7},0]
[{"$nulls":7},0]
[{"$nulls":7},0]
[{"$nulls":7},0]
[{"$nulls":7},0]
[{"$nulls":7},0]
[{"$nulls":7},0]
[{"$nulls":7},0]
[{"$nulls":7},0]
[{"$nulls":7},0]
[{"$nulls":7},0]
[{"$nulls":7},0]
[{"$nulls":7},0]
[{"$nulls":7},0]
[{"$nulls":7},0]
[{"$nulls":7},0]
[{"$nulls":7},0]
[{"$nulls":7},0]
[{"$nulls":7},0]
[{"$nulls":7},0]
[{"$nulls":7},0]
[{"$nulls":7},0]
[{"$nulls":7},0]
[{"$nulls":7},0]
[{"$nulls":7},0]
[{"$nulls":7},0]
[{"$nulls":7},0]
[{"$nulls":7},0]
[{"$nulls":7},0]
[{"$nulls":7},0]
[{"$nulls":7},0]
[{"$nulls":7},0]
[{"$nulls":7},0]
[{"$nulls":7},0]
[{"$nulls":7},0]
[{"$nulls":7},0]
[{"$nulls":7},0]
[{"$nulls":7},0]
[{"$nulls":7},0]
[{"$nulls":7},0]
[{"$nulls":7},0]
[{"$nulls":7},0]
[{"$nulls":7},0]
[{"$nulls":7},0]
[{"$nulls":7},0]
[{"$nulls":7},0]
[{"$nulls":7},0]
[{"$nulls":7},0]
[{"$nulls":7},0]
[{"$nulls":7},0]
[{"$nulls":7},0]
[{"$nulls":7},0]
[{"$nulls":7},0]
[{"$nulls":7},0]
[{"$nulls":7},0]
[{"$nulls":7},0]
[{"$nulls":7},0]
[{"$nulls":7},0]
[{"$nulls":7},0]
[{"$nulls":7},{"$f":"+I645-G645","v":0}]
[{"$nulls":7},0]
[{"$nulls":7},0]
[{"$nulls":7},0]
[{"$nulls":7},0]
[{"$nulls":7},0]
[{"$nulls":7},0]
[{"$nulls":7},0]
[{"$nulls":7},0]
[{"$nulls":7},0]
[{"$nulls":7},0]
[{"$nulls":7},0]
[{"$nulls":7},0]
[{"$nulls":7},0]
[{"$nulls":7},0]
[{"$nulls":7},0]
[{"$nulls":7},0]
[{"$nulls":7},0]
[{"$nulls":7},0]
[{"$nulls":7},0]
[{"$nulls":7},0]
[{"$nulls":7},0]
[{"$nulls":7},0]
[{"$nulls":7},0]
[{"$nulls":7},0]
[{"$nulls":7},0]
[{"$nulls":7},0]
[{"$nulls":7},0]
[{"$nulls":7},0]
[{"$nulls":7},0]
[{"$nulls":7},0]
[{"$nulls":7},0]
[{"$nulls":7},0]
[{"$nulls":7},0]
[{"$nulls":7},0]
[{"$nulls":7},0]
[{"$nulls":7},0]
[{"$nulls":7},0]
[{"$nulls":7},0]
[{"$nulls":7},0]
[{"$nulls":7},0]
[{"$nulls":7},0]
[{"$nulls":7},0]
[{"$nulls":7},0]
[{"$nulls":7},0]
[{"$nulls":7},0]
[{"$nulls":7},0]
[{"$nulls":7},0]
[{"$nulls":7},0]
[{"$nulls":7},0]
[{"$nulls":7},0]
[{"$nulls":7},0]
[{"$nulls":7},0]
[{"$nulls":7},0]
[{"$nulls":7},0]
[{"$nulls":7},0]
[{"$nulls":7},0]
[{"$nulls":7},0]
[{"$nulls":7},0]
[{"$nulls":7},0]
[{"$nulls":7},0]
[{"$nulls":7},0]
[{"$nulls":7},0]
[{"$nulls":7},0]
[{"$nulls":7},{"$f":"+I709-G709","v":0}]
[{"$nulls":7},0]
[{"$nulls":7},0]
[{"$nulls":7},0]
[{"$nulls":7},0]
[{"$nulls":7},0]
[{"$nulls":7},0]
[{"$nulls":7},0]
[{"$nulls":7},0]
[{"$nulls":7},0]
[{"$nulls":7},0]
[{"$nulls":7},0]
[{"$nulls":7},0]
[{"$nulls":7},0]
[{"$nulls":7},0]
[{"$nulls":7},0]
[{"$nulls":7},0]
[{"$nulls":7},0]
[{"$nulls":7},0]
[{"$nulls":7},0]
[{"$nulls":7},0]
[{"$nulls":7},0]
[{"$nulls":7},0]
[{"$nulls":7},0]
[{"$nulls":7},0]
[{"$nulls":7},0]
[{"$nulls":7},0]
[{"$nulls":7},0]
[{"$nulls":7},0]
[{"$nulls":7},0]
[{"$nulls":7},0]
[{"$nulls":7},0]
[{"$nulls":7},0]
[{"$nulls":7},0]
[{"$nulls":7},0]
[{"$nulls":7},0]
[{"$nulls":7},0]
[{"$nulls":7},0]
[{"$nulls":7},0]
[{"$nulls":7},0]
[{"$nulls":7},0]
[{"$nulls":7},0]
[{"$nulls":7},0]
[{"$nulls":7},0]
[{"$nulls":7},0]
[{"$nulls":7},0]
[{"$nulls":7},0]
[{"$nulls":7},0]
[{"$nulls":7},0]
[{"$nulls":7},0]
[{"$nulls":7},0]
[{"$nulls":7},0]
[{"$nulls":7},0]
[{"$nulls":7},0]
[{"$nulls":7},0]
[{"$nulls":7},0]
[{"$nulls":7},0]
[{"$nulls":7},0]
[{"$nulls":7},0]
[{"$nulls":7},0]
[{"$nulls":7},0]
[{"$nulls":7},0]
[{"$nulls":7},0]
[{"$nulls":7},0]
[{"$nulls":7},{"$f":"+I773-G773","v":0}]
[{"$nulls":7},0]
[{"$nulls":7},0]
[{"$nulls":7},0]
[{"$nulls":7},0]
[{"$nulls":7},0]
[{"$nulls":7},0]
[{"$nulls":7},0]
[{"$nulls":7},0]
[{"$nulls":7},0]
[{"$nulls":7},0]
[{"$nulls":7},0]
[{"$nulls":7},0]
[{"$nulls":7},0]
[{"$nulls":7},0]
[{"$nulls":7},0]
[{"$nulls":7},0]
[{"$nulls":7},0]
[{"$nulls":7},0]
[{"$nulls":7},0]
[{"$nulls":7},0]
[{"$nulls":7},0]
[{"$nulls":7},0]
[{"$nulls":7},0]
[{"$nulls":7},0]
[{"$nulls":7},0]
[{"$nulls":7},0]
[{"$nulls":7},0]
[{"$nulls":7},0]
[{"$nulls":7},0]
[{"$nulls":7},0]
[{"$nulls":7},0]
[{"$nulls":7},0]
[{"$nulls":7},0]
[{"$nulls":7},0]
[{"$nulls":7},0]
[{"$nulls":7},0]
[{"$nulls":7},0]
[{"$nulls":7},0]
[{"$nulls":7},0]
[{"$nulls":7},0]
[{"$nulls":7},0]
[{"$nulls":7},0]
[{"$nulls":7},0]
[{"$nulls":7},0]
[{"$nulls":7},0]
[{"$nulls":7},0]
[{"$nulls":7},0]
[{"$nulls":7},0]
[{"$nulls":7},0]
[{"$nulls":7},0]
[{"$nulls":7},0]
[{"$nulls":7},0]
[{"$nulls":7},0]
[{"$nulls":7},0]
[{"$nulls":7},0]
[{"$nulls":7},0]
[{"$nulls":7},0]
[{"$nulls":7},0]
[{"$nulls":7},0]
[{"$nulls":7},0]
[{"$nulls":7},0]
[{"$nulls":7},0]
[{"$nulls":7},0]
[{"$nulls":7},{"$f":"+I837-G837","v":0}]
[{"$nulls":7},0]
[{"$nulls":7},0]
[{"$nulls":7},0]
[{"$nulls":7},0]
[{"$nulls":7},0]
[{"$nulls":7},0]
[{"$nulls":7},0]
[{"$nulls":7},0]
[{"$nulls":7},0]
[{"$nulls":7},0]
[{"$nulls":7},0]
[{"$nulls":7},0]
[{"$nulls":7},0]
[{"$nulls":7},0]
[{"$nulls":7},0]
[{"$nulls":7},0]
[{"$nulls":7},0]
[{"$nulls":7},0]
[{"$nulls":7},0]
[{"$nulls":7},0]
[{"$nulls":7},0]
[{"$nulls":7},0]
[{"$nulls":7},0]
[{"$nulls":7},0]
[{"$nulls":7},0]
[{"$nulls":7},0]
[{"$nulls":7},0]
[{"$nulls":7},0]
[{"$nulls":7},0]
[{"$nulls":7},0]
[{"$nulls":7},0]
[{"$nulls":7},0]
[{"$nulls":7},0]
[{"$nulls":7},0]
[{"$nulls":7},0]
[{"$nulls":7},0]
[{"$nulls":7},0]
[{"$nulls":7},0]
[{"$nulls":7},0]
[{"$nulls":7},0]
[{"$nulls":7},0]
[{"$nulls":7},0]
[{"$nulls":7},0]
[{"$nulls":7},0]
[{"$nulls":7},0]
[{"$nulls":7},0]
[{"$nulls":7},0]
[{"$nulls":7},0]
[{"$nulls":7},0]
[{"$nulls":7},0]
[{"$nulls":7},0]
[{"$nulls":7},0]
[{"$nulls":7},0]
[{"$nulls":7},0]
[{"$nulls":7},0]
[{"$nulls":7},0]
[{"$nulls":7},0]
[{"$nulls":7},0]
[{"$nulls":7},0]
[{"$nulls":7},0]
[{"$nulls":7},0]
[{"$nulls":7},0]
[{"$nulls":7},0]
[{"$nulls":7},{"$f":"+I901-G901","v":0}]
[{"$nulls":7},0]
[{"$nulls":7},0]
[{"$nulls":7},0]
[{"$nulls":7},0]
[{"$nulls":7},0]
[{"$nulls":7},0]
[{"$nulls":7},0]
[{"$nulls":7},0]
[{"$nulls":7},0]
[{"$nulls":7},0]
[{"$nulls":7},0]
[{"$nulls":7},0]
[{"$nulls":7},0]
[{"$nulls":7},0]
[{"$nulls":7},0]
[{"$nulls":7},0]
[{"$nulls":7},0]
[{"$nulls":7},0]
[{"$nulls":7},0]
[{"$nulls":7},0]
[{"$nulls":7},0]
[{"$nulls":7},0]
[{"$nulls":7},0]
[{"$nulls":7},0]
[{"$nulls":7},0]
[{"$nulls":7},0]
[{"$nulls":7},0]
[{"$nulls":7},0]
[{"$nulls":7},0]
[{"$nulls":7},0]
[{"$nulls":7},0]
[{"$nulls":7},0]
[{"$nulls":7},0]
[{"$nulls":7},0]
[{"$nulls":7},0]
[{"$nulls":7},0]
[{"$nulls":7},0]
[{"$nulls":7},0]
[{"$nulls":7},0]
[{"$nulls":7},0]
[{"$nulls":7},0]
[{"$nulls":7},0]
[{"$nulls":7},0]
[{"$nulls":7},0]
[{"$nulls":7},0]
[{"$nulls":7},0]
[{"$nulls":7},0]
[{"$nulls":7},0]
[{"$nulls":7},0]
[{"$nulls":7},0]
[{"$nulls":7},0]
[{"$nulls":7},0]
[{"$nulls":7},0]
[{"$nulls":7},0]
[{"$nulls":7},0]
[{"$nulls":7},0]
[{"$nulls":7},0]
[{"$nulls":7},0]
[{"$nulls":7},0]
[{"$nulls":7},0]
[{"$nulls":7},0]
[{"$nulls":7},0]
[{"$nulls":7},0]
[{"$nulls":7},{"$f":"+I965-G965","v":0}]
[{"$nulls":7},0]
[{"$nulls":7},0]
[{"$nulls":7},0]
[{"$nulls":7},0]
[{"$nulls":7},0]
[{"$nulls":7},0]
[{"$nulls":7},0]
[{"$nulls":7},0]
[{"$nulls":7},0]
[{"$nulls":7},0]
[{"$nulls":7},0]
[{"$nulls":7},0]
[{"$nulls":7},0]
[{"$nulls":7},0]
[{"$nulls":7},0]
[{"$nulls":7},0]
[{"$nulls":7},0]
[{"$nulls":7},0]
[{"$nulls":7},0]
[{"$nulls":7},0]
[{"$nulls":7},0]
[{"$nulls":7},0]
[{"$nulls":7},0]
[{"$nulls":7},0]
[{"$nulls":7},0]
[{"$nulls":7},0]
[{"$nulls":7},0]
[{"$nulls":7},0]
[{"$nulls":7},0]
[{"$nulls":7},0]
[{"$nulls":7},0]
[{"$nulls":7},0]
[{"$nulls":7},0]
[{"$nulls":7},0]
[{"$nulls":7},0]
[{"$nulls":7},0]
[{"$nulls":7},0]
[{"$nulls":7},0]
[{"$nulls":7},0]
[{"$nulls":7},0]
[{"$nulls":7},0]
[{"$nulls":7},0]
[{"$nulls":7},0]
[{"$nulls":7},0]
[{"$nulls":7},0]
[{"$nulls":7},0]
[{"$nulls":7},0]
[{"$nulls":7},0]
[{"$nulls":7},0]
[{"$nulls":7},0]
[{"$nulls":7},0]
[{"$nulls":7},0]
[{"$nulls":7},0]
[{"$nulls":7},0]
[{"$nulls":7},0]
[{"$nulls":7},0]
[{"$nulls":7},0]
[{"$nulls":7},0]
[{"$nulls":7},0]
[{"$nulls":7},0]
[{"$nulls":7},0]
[{"$nulls":7},0]
[{"$nulls":7},0]
[{"$nulls":7},{"$f":"+I1029-G1029","v":0}]
[{"$nulls":7},0]
[{"$nulls":7},0]
[{"$nulls":7},0]
[{"$nulls":7},0]
[{"$nulls":7},0]
[{"$nulls":7},0]
[{"$nulls":7},0]
[{"$nulls":7},0]
[{"$nulls":7},0]
[{"$nulls":7},0]
[{"$nulls":7},0]
[{"$nulls":7},0]
[{"$nulls":7},0]
[{"$nulls":7},0]
[{"$nulls":7},0]
[{"$nulls":7},0]
[{"$nulls":7},0]
[{"$nulls":7},0]
[{"$nulls":7},0]
[{"$nulls":7},0]
[{"$nulls":7},0]
[{"$nulls":7},0]
[{"$nulls":7},0]
[{"$nulls":7},0]
[{"$nulls":7},0]
[{"$nulls":7},0]
[{"$nulls":7},0]
[{"$nulls":7},0]
[{"$nulls":7},0]
[{"$nulls":7},0]
[{"$nulls":7},0]
[{"$nulls":7},0]
[{"$nulls":7},0]
[{"$nulls":7},0]
[{"$nulls":7},0]
[{"$nulls":7},0]
[{"$nulls":7},0]
[{"$nulls":7},0]
[{"$nulls":7},0]
[{"$nulls":7},0]
[{"$nulls":7},0]
[{"$nulls":7},0]
[{"$nulls":7},0]
[{"$nulls":7},0]
[{"$nulls":7},0]
[{"$nulls":7},0]
[{"$nulls":7},0]
[{"$nulls":7},0]
[{"$nulls":7},0]
[{"$nulls":7},0]
[{"$nulls":7},0]
[{"$nulls":7},0]
[{"$nulls":7},0]
[{"$nulls":7},0]
[{"$nulls":7},0]
[{"$nulls":7},0]
[{"$nulls":7},0]
[{"$nulls":7},0]
[{"$nulls":7},0]
[{"$nulls":7},0]
[{"$nulls":7},0]
[{"$nulls":7},0]
[{"$nulls":7},0]
[{"$nulls":7},{"$f":"+I1093-G1093","v":0}]
[{"$nulls":7},0]
[{"$nulls":7},0]
[{"$nulls":7},0]
[{"$nulls":7},0]
[{"$nulls":7},0]
[{"$nulls":7},0]
[{"$nulls":7},0]
[{"$nulls":7},0]
[{"$nulls":7},0]
[{"$nulls":7},0]
[{"$nulls":7},0]
[{"$nulls":7},0]
[{"$nulls":7},0]
[{"$nulls":7},0]
[{"$nulls":7},0]
[{"$nulls":7},0]
[{"$nulls":7},0]
[{"$nulls":7},0]
[{"$nulls":7},0]
[{"$nulls":7},0]
[{"$nulls":7},0]
[{"$nulls":7},0]
[{"$nulls":7},0]
[{"$nulls":7},0]
[{"$nulls":7},0]
[{"$nulls":7},0]
[{"$nulls":7},0]
[{"$nulls":7},0]
[{"$nulls":7},0]
[{"$nulls":7},0]
[{"$nulls":7},0]
[{"$nulls":7},0]
[{"$nulls":7},0]
[{"$nulls":7},0]
[{"$nulls":7},0]
[{"$nulls":7},0]
[{"$nulls":7},0]
[{"$nulls":7},0]
[{"$nulls":7},0]
[{"$nulls":7},0]
[{"$nulls":7},0]
[{"$nulls":7},0]
[{"$nulls":7},0]
[{"$nulls":7},0]
[{"$nulls":7},0]
[{"$nulls":7},0]
[{"$nulls":7},0]
[{"$nulls":7},0]
[{"$nulls":7},0]
[{"$nulls":7},0]
[{"$nulls":7},0]
[{"$nulls":7},0]
[{"$nulls":7},0]
[{"$nulls":7},0]
[{"$nulls":7},0]
[{"$nulls":7},0]
[{"$nulls":7},0]
[{"$nulls":7},0]
[{"$nulls":7},0]
[{"$nulls":7},0]
[{"$nulls":7},0]
[{"$nulls":7},0]
[{"$nulls":7},0]
[{"$nulls":7},{"$f":"+I1157-G1157","v":0}]
[{"$nulls":7},0]
[{"$nulls":7},0]
[{"$nulls":7},0]
[{"$nulls":7},0]
[{"$nulls":7},0]
[{"$nulls":7},0]
[{"$nulls":7},0]
[{"$nulls":7},0]
[{"$nulls":7},0]
[{"$nulls":7},0]
[{"$nulls":7},0]
[{"$nulls":7},0]
[{"$nulls":7},0]
[{"$nulls":7},0]
[{"$nulls":7},0]
[{"$nulls":7},0]
[{"$nulls":7},0]
[{"$nulls":7},0]
[{"$nulls":7},0]
[{"$nulls":7},0]
[{"$nulls":7},0]
[{"$nulls":7},0]
[{"$nulls":7},0]
[{"$nulls":7},0]
[{"$nulls":7},0]
[{"$nulls":7},0]
[{"$nulls":7},0]
[{"$nulls":7},0]
[{"$nulls":7},0]
[{"$nulls":7},0]
[{"$nulls":7},0]
[{"$nulls":7},0]
[{"$nulls":7},0]
[{"$nulls":7},0]
[{"$nulls":7},0]
[{"$nulls":7},0]
[{"$nulls":7},0]
[{"$nulls":7},0]
[{"$nulls":7},0]
[{"$nulls":7},0]
[{"$nulls":7},0]
[{"$nulls":7},0]
[{"$nulls":7},0]
[{"$nulls":7},0]
[{"$nulls":7},0]
[{"$nulls":7},0]
[{"$nulls":7},0]
[{"$nulls":7},0]
[{"$nulls":7},0]
[{"$nulls":7},0]
[{"$nulls":7},0]
[{"$nulls":7},0]
[{"$nulls":7},0]
[{"$nulls":7},0]
[{"$nulls":7},0]
[{"$nulls":7},0]
[{"$nulls":7},0]
[{"$nulls":7},0]
[{"$nulls":7},0]
[{"$nulls":7},0]
[{"$nulls":7},0]
[{"$nulls":7},0]
[{"$nulls":7},0]
[{"$nulls":7},{"$f":"+I1221-G1221","v":0}]
[{"$nulls":7},0]
[{"$nulls":7},0]
[{"$nulls":7},0]
[{"$nulls":7},0]
[{"$nulls":7},0]
[{"$nulls":7},0]
[{"$nulls":7},0]
[{"$nulls":7},0]
[{"$nulls":7},0]
[{"$nulls":7},0]
[{"$nulls":7},0]
[{"$nulls":7},0]
[{"$nulls":7},0]
[{"$nulls":7},0]
[{"$nulls":7},0]
[{"$nulls":7},0]
[{"$nulls":7},0]
[{"$nulls":7},0]
[{"$nulls":7},0]
[{"$nulls":7},0]
[{"$nulls":7},0]
[{"$nulls":7},0]
[{"$nulls":7},0]
[{"$nulls":7},0]
[{"$nulls":7},0]
[{"$nulls":7},0]
[{"$nulls":7},0]
[{"$nulls":7},0]
[{"$nulls":7},0]
[{"$nulls":7},0]
[{"$nulls":7},0]
[{"$nulls":7},0]
[{"$nulls":7},0]
[{"$nulls":7},0]
[{"$nulls":7},0]
[{"$nulls":7},0]
[{"$nulls":7},0]
[{"$nulls":7},0]
[{"$nulls":7},0]
[{"$nulls":7},0]
[{"$nulls":7},0]
[{"$nulls":7},0]
[{"$nulls":7},0]
[{"$nulls":7},0]
[{"$nulls":7},0]
[{"$nulls":7},0]
[{"$nulls":7},0]
[{"$nulls":7},0]
[{"$nulls":7},0]
[{"$nulls":7},0]
[{"$nulls":7},0]
[{"$nulls":7},0]
[{"$nulls":7},0]
[{"$nulls":7},0]
[{"$nulls":7},0]
[{"$nulls":7},0]
[{"$nulls":7},0]
[{"$nulls":7},0]
[{"$nulls":7},0]
[{"$nulls":7},0]
[{"$nulls":7},0]
[{"$nulls":7},0]
[{"$nulls":7},0]
[{"$nulls":7},{"$f":"+I1285-G1285","v":0}]
[{"$nulls":7},0]
[{"$nulls":7},0]
[{"$nulls":7},0]
[{"$nulls":7},0]
[{"$nulls":7},0]
[{"$nulls":7},0]
[{"$nulls":7},0]
[{"$nulls":7},0]
[{"$nulls":7},0]
[{"$nulls":7},0]
[{"$nulls":7},0]
[{"$nulls":7},0]
[{"$nulls":7},0]
[{"$nulls":7},0]
[{"$nulls":7},0]
[{"$nulls":7},0]
[{"$nulls":7},0]
[{"$nulls":7},0]
[{"$nulls":7},0]
[{"$nulls":7},0]
[{"$nulls":7},0]
[{"$nulls":7},0]
[{"$nulls":7},0]
[{"$nulls":7},0]
[{"$nulls":7},0]
[{"$nulls":7},0]
[{"$nulls":7},0]
[{"$nulls":7},0]
[{"$nulls":7},0]
[{"$nulls":7},0]
[{"$nulls":7},0]
[{"$nulls":7},0]
[{"$nulls":7},0]
[{"$nulls":7},0]
[{"$nulls":7},0]
[{"$nulls":7},0]
[{"$nulls":7},0]
[{"$nulls":7},0]
[{"$nulls":7},0]
[{"$nulls":7},0]
[{"$nulls":7},0]
[{"$nulls":7},0]
[{"$nulls":7},0]
[{"$nulls":7},0]
[{"$nulls":7},0]
[{"$nulls":7},0]
[{"$nulls":7},0]
[{"$nulls":7},0]
[{"$nulls":7},0]
[{"$nulls":7},0]
[{"$nulls":7},0]
[{"$nulls":7},0]
[{"$nulls":7},0]
[{"$nulls":7},0]
[{"$nulls":7},0]
[{"$nulls":7},0]
[{"$nulls":7},0]
[{"$nulls":7},0]
[{"$nulls":7},0]
[{"$nulls":7},0]
[{"$nulls":7},0]
[{"$nulls":7},0]
[{"$nulls":7},0]
[{"$nulls":7},{"$f":"+I1349-G1349","v":0}]
[{"$nulls":7},0]
[{"$nulls":7},0]
[{"$nulls":7},0]
[{"$nulls":7},0]
[{"$nulls":7},0]
[{"$nulls":7},0]
[{"$nulls":7},0]
[{"$nulls":7},0]
[{"$nulls":7},0]
[{"$nulls":7},0]
[{"$nulls":7},0]
[{"$nulls":7},0]
[{"$nulls":7},0]
[{"$nulls":7},0]
[{"$nulls":7},0]
[{"$nulls":7},0]
[{"$nulls":7},0]
[{"$nulls":7},0]
[{"$nulls":7},0]
[{"$nulls":7},0]
[{"$nulls":7},0]
[{"$nulls":7},0]
[{"$nulls":7},0]
[{"$nulls":7},0]
[{"$nulls":7},0]
[{"$nulls":7},0]
[{"$nulls":7},0]
[{"$nulls":7},0]
[{"$nulls":7},0]
[{"$nulls":7},0]
[{"$nulls":7},0]
[{"$nulls":7},0]
[{"$nulls":7},0]
[{"$nulls":7},0]
[{"$nulls":7},0]
[{"$nulls":7},0]
[{"$nulls":7},0]
[{"$nulls":7},0]
[{"$nulls":7},0]
[{"$nulls":7},0]
[{"$nulls":7},0]
[{"$nulls":7},0]
[{"$nulls":7},0]
[{"$nulls":7},0]
[{"$nulls":7},0]
[{"$nulls":7},0]
[{"$nulls":7},0]
[{"$nulls":7},0]
[{"$nulls":7},0]
[{"$nulls":7},0]
[{"$nulls":7},0]
[{"$nulls":7},0]
[{"$nulls":7},0]
[{"$nulls":7},0]
[{"$nulls":7},0]
[{"$nulls":7},0]
[{"$nulls":7},0]
[{"$nulls":7},0]
[{"$nulls":7},0]
[{"$nulls":7},0]
[{"$nulls":7},0]
[{"$nulls":7},0]
[{"$nulls":7},0]
[{"$nulls":7},{"$f":"+I1413-G1413","v":0}]
[{"$nulls":7},0]
[{"$nulls":7},0]
[{"$nulls":7},0]
[{"$nulls":7},0]
[{"$nulls":7},0]
[{"$nulls":7},0]
[{"$nulls":7},0]
[{"$nulls":7},0]
[{"$nulls":7},0]
[{"$nulls":7},0]
[{"$nulls":7},0]
[{"$nulls":7},0]
[{"$nulls":7},0]
[{"$nulls":7},0]
[{"$nulls":7},0]
[{"$nulls":7},0]
[{"$nulls":7},0]
[{"$nulls":7},0]
[{"$nulls":7},0]
[{"$nulls":7},0]
[{"$nulls":7},0]
[{"$nulls":7},0]
[{"$nulls":7},0]
[{"$nulls":7},0]
[{"$nulls":7},0]
[{"$nulls":7},0]
[{"$nulls":7},0]
[{"$nulls":7},0]
[{"$nulls":7},0]
[{"$nulls":7},0]
[{"$nulls":7},0]
[{"$nulls":7},0]
[{"$nulls":7},0]
[{"$nulls":7},0]
[{"$nulls":7},0]
[{"$nulls":7},0]
[{"$nulls":7},0]
[{"$nulls":7},0]
[{"$nulls":7},0]
[{"$nulls":7},0]
[{"$nulls":7},0]
[{"$nulls":7},0]
[{"$nulls":7},0]
[{"$nulls":7},0]
[{"$nulls":7},0]
[{"$nulls":7},0]
[{"$nulls":7},0]
[{"$nulls":7},0]
[{"$nulls":7},0]
[{"$nulls":7},0]
[{"$nulls":7},0]
[{"$nulls":7},0]
[{"$nulls":7},0]
[{"$nulls":7},0]
[{"$nulls":7},0]
[{"$nulls":7},0]
[{"$nulls":7},0]
[{"$nulls":7},0]
[{"$nulls":7},0]
[{"$nulls":7},0]
[{"$nulls":7},0]
[{"$nulls":7},0]
[{"$nulls":7},0]
[{"$nulls":7},{"$f":"+I1477-G1477","v":0}]
[{"$nulls":7},0]
[{"$nulls":7},0]
[{"$nulls":7},0]
[{"$nulls":7},0]
[{"$nulls":7},0]
[{"$nulls":7},0]
[{"$nulls":7},0]
[{"$nulls":7},0]
[{"$nulls":7},0]
[{"$nulls":7},0]
[{"$nulls":7},0]
[{"$nulls":7},0]
[{"$nulls":7},0]
[{"$nulls":7},0]
[{"$nulls":7},0]
[{"$nulls":7},0]
[{"$nulls":7},0]
[{"$nulls":7},0]
[{"$nulls":7},0]
[{"$nulls":7},0]
[{"$nulls":7},0]
[{"$nulls":7},0]
[{"$nulls":7},0]
[{"$nulls":7},0]
[{"$nulls":7},0]
[{"$nulls":7},0]
[{"$nulls":7},0]
[{"$nulls":7},0]
[{"$nulls":7},0]
[{"$nulls":7},0]
[{"$nulls":7},0]
[{"$nulls":7},0]
[{"$nulls":7},0]
[{"$nulls":7},0]
[{"$nulls":7},0]
[{"$nulls":7},0]
[{"$nulls":7},0]
[{"$nulls":7},0]
[{"$nulls":7},0]
[{"$nulls":7},0]
[{"$nulls":7},0]
[{"$nulls":7},0]
[{"$nulls":7},0]
[{"$nulls":7},0]
[{"$nulls":7},0]
[{"$nulls":7},0]
[{"$nulls":7},0]
[{"$nulls":7},0]
[{"$nulls":7},0]
[{"$nulls":7},0]
[{"$nulls":7},0]
[{"$nulls":7},0]
[{"$nulls":7},0]
[{"$nulls":7},0]
[{"$nulls":7},0]
[{"$nulls":7},0]
[{"$nulls":7},0]
[{"$nulls":7},0]
[{"$nulls":7},0]
[{"$nulls":7},0]
[{"$nulls":7},0]
[{"$nulls":7},0]
[{"$nulls":7},0]
[{"$nulls":7},{"$f":"+I1541-G1541","v":0}]
[{"$nulls":7},0]
[{"$nulls":7},0]
[{"$nulls":7},0]
[{"$nulls":7},0]
[{"$nulls":7},0]
[{"$nulls":7},0]
[{"$nulls":7},0]
[{"$nulls":7},0]
[{"$nulls":7},0]
[{"$nulls":7},0]
[{"$nulls":7},0]
[{"$nulls":7},0]
[{"$nulls":7},0]
[{"$nulls":7},0]
[{"$nulls":7},0]
[{"$nulls":7},0]
[{"$nulls":7},0]
[{"$nulls":7},0]
[{"$nulls":7},0]
[{"$nulls":7},0]
[{"$nulls":7},0]
[{"$nulls":7},0]
[{"$nulls":7},0]
[{"$nulls":7},0]
[{"$nulls":7},0]
[{"$nulls":7},0]
[{"$nulls":7},0]
[{"$nulls":7},0]
[{"$nulls":7},0]
[{"$nulls":7},0]
[{"$nulls":7},0]
[{"$nulls":7},0]
[{"$nulls":7},0]
[{"$nulls":7},0]
[{"$nulls":7},0]
[{"$nulls":7},0]
[{"$nulls":7},0]
[{"$nulls":7},0]
[{"$nulls":7},0]
[{"$nulls":7},0]
[{"$nulls":7},0]
[{"$nulls":7},0]
[{"$nulls":7},0]
[{"$nulls":7},0]
[{"$nulls":7},0]
[{"$nulls":7},0]
[{"$nulls":7},0]
[{"$nulls":7},0]
[{"$nulls":7},0]
[{"$nulls":7},0]
[{"$nulls":7},0]
[{"$nulls":7},0]
[{"$nulls":7},0]
[{"$nulls":7},0]
[{"$nulls":7},0]
[{"$nulls":7},0]
[{"$nulls":7},0]
[{"$nulls":7},0]
[{"$nulls":7},0]
[{"$nulls":7},0]
[{"$nulls":7},0]
[{"$nulls":7},0]
[{"$nulls":7},0]
[{"$nulls":7},{"$f":"+I1605-G1605","v":0}]
[{"$nulls":7},0]
[{"$nulls":7},0]
[{"$nulls":7},0]
[{"$nulls":7},0]
[{"$nulls":7},0]
[{"$nulls":7},0]
[{"$nulls":7},0]
[{"$nulls":7},0]
[{"$nulls":7},0]
[{"$nulls":7},0]
[{"$nulls":7},0]
[{"$nulls":7},0]
[{"$nulls":7},0]
[{"$nulls":7},0]
[{"$nulls":7},0]
[{"$nulls":7},0]
[{"$nulls":7},0]
[{"$nulls":7},0]
[{"$nulls":7},0]
[{"$nulls":7},0]
[{"$nulls":7},0]
[{"$nulls":7},0]
[{"$nulls":7},0]
[{"$nulls":7},0]
[{"$nulls":7},0]
[{"$nulls":7},0]
[{"$nulls":7},0]
[{"$nulls":7},0]
[{"$nulls":7},0]
[{"$nulls":7},0]
[{"$nulls":7},0]
[{"$nulls":7},0]
[{"$nulls":7},0]
[{"$nulls":7},0]
[{"$nulls":7},0]
[{"$nulls":7},0]
[{"$nulls":7},0]
[{"$nulls":7},0]
[{"$nulls":7},0]
[{"$nulls":7},0]
[{"$nulls":7},0]
[{"$nulls":7},0]
[{"$nulls":7},0]
[{"$nulls":7},0]
[{"$nulls":7},0]
[{"$nulls":7},0]
[{"$nulls":7},0]
[{"$nulls":7},0]
[{"$nulls":7},0]
[{"$nulls":7},0]
[{"$nulls":7},0]
[{"$nulls":7},0]
[{"$nulls":7},0]
[{"$nulls":7},0]
[{"$nulls":7},0]
[{"$nulls":7},0]
[{"$nulls":7},0]
[{"$nulls":7},0]
[{"$nulls":7},0]
[{"$nulls":7},0]
[{"$nulls":7},0]
[{"$nulls":7},0]
[{"$nulls":7},0]
[{"$nulls":7},{"$f":"+I1669-G1669","v":0}]
[{"$nulls":7},0]
[{"$nulls":7},0]
[{"$nulls":7},0]
[{"$nulls":7},0]
[{"$nulls":7},0]
[{"$nulls":7},0]
[{"$nulls":7},0]
[{"$nulls":7},0]
[{"$nulls":7},0]
[{"$nulls":7},0]
[{"$nulls":7},0]
[{"$nulls":7},0]
[{"$nulls":7},0]
[{"$nulls":7},0]
[{"$nulls":7},0]
[{"$nulls":7},0]
[{"$nulls":7},0]
[{"$nulls":7},0]
[{"$nulls":7},0]
[{"$nulls":7},0]
[{"$nulls":7},0]
[{"$nulls":7},0]
[{"$nulls":7},0]
[{"$nulls":7},0]
[{"$nulls":7},0]
[{"$nulls":7},0]
[{"$nulls":7},0]
[{"$nulls":7},0]
[{"$nulls":7},0]
[{"$nulls":7},0]
[{"$nulls":7},0]
[{"$nulls":7},0]
[{"$nulls":7},0]
[{"$nulls":7},0]
[{"$nulls":7},0]
[{"$nulls":7},0]
[{"$nulls":7},0]
[{"$nulls":7},0]
[{"$nulls":7},0]
[{"$nulls":7},0]
[{"$nulls":7},0]
[{"$nulls":7},0]
[{"$nulls":7},0]
[{"$nulls":7},0]
[{"$nulls":7},0]
[{"$nulls":7},0]
[{"$nulls":7},0]
[{"$nulls":7},0]
[{"$nulls":7},0]
[{"$nulls":7},0]
[{"$nulls":7},0]
[{"$nulls":7},0]
[{"$nulls":7},0]
[{"$nulls":7},0]
[{"$nulls":7},0]
[{"$nulls":7},0]
[{"$nulls":7},0]
[{"$nulls":7},0]
[{"$nulls":7},0]
[{"$nulls":7},0]
[{"$nulls":7},0]
[{"$nulls":7},0]
[{"$nulls":7},0]
[{"$nulls":7},{"$f":"+I1733-G1733","v":0}]
[{"$nulls":7},0]
[{"$nulls":7},0]
[{"$nulls":7},0]
[{"$nulls":7},0]
[{"$nulls":7},0]
[{"$nulls":7},0]
[{"$nulls":7},0]
[{"$nulls":7},0]
[{"$nulls":7},0]
[{"$nulls":7},0]
[{"$nulls":7},0]
[{"$nulls":7},0]
[{"$nulls":7},0]
[{"$nulls":7},0]
[{"$nulls":7},0]
[{"$nulls":7},0]
[{"$nulls":7},0]
[{"$nulls":7},0]
[{"$nulls":7},0]
[{"$nulls":7},0]
[{"$nulls":7},0]
[{"$nulls":7},0]
[{"$nulls":7},0]
[{"$nulls":7},0]
[{"$nulls":7},0]
[{"$nulls":7},0]
[{"$nulls":7},0]
[{"$nulls":7},0]
[{"$nulls":7},0]
[{"$nulls":7},0]
[{"$nulls":7},0]
[{"$nulls":7},0]
[{"$nulls":7},0]
[{"$nulls":7},0]
[{"$nulls":7},0]
[{"$nulls":7},0]
[{"$nulls":7},0]
[{"$nulls":7},0]
[{"$nulls":7},0]
[{"$nulls":7},0]
[{"$nulls":7},0]
[{"$nulls":7},0]
[{"$nulls":7},0]
[{"$nulls":7},0]
[{"$nulls":7},0]
[{"$nulls":7},0]
[{"$nulls":7},0]
[{"$nulls":7},0]
[{"$nulls":7},0]
[{"$nulls":7},0]
[{"$nulls":7},0]
[{"$nulls":7},0]
[{"$nulls":7},0]
[{"$nulls":7},0]
[{"$nulls":7},0]
[{"$nulls":7},0]
[{"$nulls":7},0]
[{"$nulls":7},0]
[{"$nulls":7},0]
[{"$nulls":7},0]
[{"$nulls":7},0]
[{"$nulls":7},0]
[{"$nulls":7},0]
[{"$nulls":7},{"$f":"+I1797-G1797","v":0}]
[{"$nulls":7},0]
[{"$nulls":7},0]
[{"$nulls":7},0]
[{"$nulls":7},0]
[{"$nulls":7},0]
[{"$nulls":7},0]
[{"$nulls":7},0]
[{"$nulls":7},0]
[{"$nulls":7},0]
[{"$nulls":7},0]
[{"$nulls":7},0]
[{"$nulls":7},0]
[{"$nulls":7},0]
[{"$nulls":7},0]
[{"$nulls":7},0]
[{"$nulls":7},0]
[{"$nulls":7},0]
[{"$nulls":7},0]
[{"$nulls":7},0]
[{"$nulls":7},0]
[{"$nulls":7},0]
[{"$nulls":7},0]
[{"$nulls":7},0]
[{"$nulls":7},0]
[{"$nulls":7},0]
[{"$nulls":7},0]
[{"$nulls":7},0]
[{"$nulls":7},0]
[{"$nulls":7},0]
[{"$nulls":7},0]
[{"$nulls":7},0]
[{"$nulls":7},0]
[{"$nulls":7},0]
[{"$nulls":7},0]
[{"$nulls":7},0]
[{"$nulls":7},0]
[{"$nulls":7},0]
[{"$nulls":7},0]
[{"$nulls":7},0]
[{"$nulls":7},0]
[{"$nulls":7},0]
[{"$nulls":7},0]
[{"$nulls":7},0]
[{"$nulls":7},0]
[{"$nulls":7},0]
[{"$nulls":7},0]
[{"$nulls":7},0]
[{"$nulls":7},0]
[{"$nulls":7},0]
[{"$nulls":7},0]
[{"$nulls":7},0]
[{"$nulls":7},0]
[{"$nulls":7},0]
[{"$nulls":7},0]
[{"$nulls":7},0]
[{"$nulls":7},0]
[{"$nulls":7},0]
[{"$nulls":7},0]
[{"$nulls":7},0]
[{"$nulls":7},0]
[{"$nulls":7},0]
[{"$nulls":7},0]
[{"$nulls":7},0]
[{"$nulls":7},{"$f":"+I1861-G1861","v":0}]
[{"$nulls":7},0]
[{"$nulls":7},0]
[{"$nulls":7},0]
[{"$nulls":7},0]
[{"$nulls":7},0]
[{"$nulls":7},0]
[{"$nulls":7},0]
[{"$nulls":7},0]
[{"$nulls":7},0]
[{"$nulls":7},0]
[{"$nulls":7},0]
[{"$nulls":7},0]
[{"$nulls":7},0]
[{"$nulls":7},0]
[{"$nulls":7},0]
[{"$nulls":7},0]
[{"$nulls":7},0]
[{"$nulls":7},0]
[{"$nulls":7},0]
[{"$nulls":7},0]
[{"$nulls":7},0]
[{"$nulls":7},0]
[{"$nulls":7},0]
[{"$nulls":7},0]
[{"$nulls":7},0]
[{"$nulls":7},0]
[{"$nulls":7},0]
[{"$nulls":7},0]
[{"$nulls":7},0]
[{"$nulls":7},0]
[{"$nulls":7},0]
[{"$nulls":7},0]
[{"$nulls":7},0]
[{"$nulls":7},0]
[{"$nulls":7},0]
[{"$nulls":7},0]
[{"$nulls":7},0]
[{"$nulls":7},0]
[{"$nulls":7},0]
[{"$nulls":7},0]
[{"$nulls":7},0]
[{"$nulls":7},0]
[{"$nulls":7},0]
[{"$nulls":7},0]
[{"$nulls":7},0]
[{"$nulls":7},0]
[{"$nulls":7},0]
[{"$nulls":7},0]
[{"$nulls":7},0]
[{"$nulls":7},0]
[{"$nulls":7},0]
[{"$nulls":7},0]
[{"$nulls":7},0]
[{"$nulls":7},0]
[{"$nulls":7},0]
[{"$nulls":7},0]
[{"$nulls":7},0]
[{"$nulls":7},0]
[{"$nulls":7},0]
[{"$nulls":7},0]
[{"$nulls":7},0]
[{"$nulls":7},0]
[{"$nulls":7},0]
[{"$nulls":7},{"$f":"+I1925-G1925","v":0}]
[{"$nulls":7},0]
[{"$nulls":7},0]
[{"$nulls":7},0]
[{"$nulls":7},0]
[{"$nulls":7},0]
[{"$nulls":7},0]
[{"$nulls":7},0]
[{"$nulls":7},0]
[{"$nulls":7},0]
[{"$nulls":7},0]
[{"$nulls":7},0]
[{"$nulls":7},0]
[{"$nulls":7},0]
[{"$nulls":7},0]
[{"$nulls":7},0]
[{"$nulls":7},0]
[{"$nulls":7},0]
[{"$nulls":7},0]
[{"$nulls":7},0]
[{"$nulls":7},0]
[{"$nulls":7},0]
[{"$nulls":7},0]
[{"$nulls":7},0]
[{"$nulls":7},0]
[{"$nulls":7},0]
[{"$nulls":7},0]
[{"$nulls":7},0]
[{"$nulls":7},0]
[{"$nulls":7},0]
[{"$nulls":7},0]
[{"$nulls":7},0]
[{"$nulls":7},0]
[{"$nulls":7},0]
[{"$nulls":7},0]
[{"$nulls":7},0]
[{"$nulls":7},0]
[{"$nulls":7},0]
[{"$nulls":7},0]
[{"$nulls":7},0]
[{"$nulls":7},0]
[{"$nulls":7},0]
[{"$nulls":7},0]
[{"$nulls":7},0]
[{"$nulls":7},0]
[{"$nulls":7},0]
[{"$nulls":7},0]
[{"$nulls":7},0]
[{"$nulls":7},0]
[{"$nulls":7},0]
[{"$nulls":7},0]
[{"$nulls":7},0]
[{"$nulls":7},0]
[{"$nulls":7},0]
[{"$nulls":7},0]
[{"$nulls":7},0]
[{"$nulls":7},0]
[{"$nulls":7},0]
[{"$nulls":7},0]
[{"$nulls":7},0]
[{"$nulls":7},0]
[{"$nulls":7},0]
[{"$nulls":7},0]
[{"$nulls":7},0]
[{"$nulls":7},{"$f":"+I1989-G1989","v":0}]
[{"$nulls":7},0]
[{"$nulls":7},0]
[{"$nulls":7},0]
[{"$nulls":7},0]
[{"$nulls":7},0]
[{"$nulls":7},0]
[{"$nulls":7},0]
[{"$nulls":7},0]
[{"$nulls":7},0]
[{"$nulls":7},0]
[{"$nulls":7},0]
[{"$nulls":7},0]
[{"$nulls":7},0]
[{"$nulls":7},0]
[{"$nulls":7},0]
[{"$nulls":7},0]
[{"$nulls":7},0]
[{"$nulls":7},0]
[{"$nulls":7},0]
[{"$nulls":7},0]
[{"$nulls":7},0]
[{"$nulls":7},0]
[{"$nulls":7},0]
[{"$nulls":7},0]
[{"$nulls":7},0]
[{"$nulls":7},0]
[{"$nulls":7},0]
[{"$nulls":7},0]
[{"$nulls":7},0]
[{"$nulls":7},0]
[{"$nulls":7},0]
[{"$nulls":7},0]
[{"$nulls":7},0]
[{"$nulls":7},0]
[{"$nulls":7},0]
[{"$nulls":7},0]
[{"$nulls":7},0]
[{"$nulls":7},0]
[{"$nulls":7},0]
[{"$nulls":7},0]
[{"$nulls":7},0]
[{"$nulls":7},0]
[{"$nulls":7},0]
[{"$nulls":7},0]
[{"$nulls":7},0]
[{"$nulls":7},0]
[{"$nulls":7},0]
[{"$nulls":7},{"$f":"+I21189-G21189","v":0}]
[{"$nulls":7},0]
[{"$nulls":7},0]
[{"$nulls":7},0]
[{"$nulls":7},0]
[{"$nulls":7},0]
[{"$nulls":7},0]
[{"$nulls":7},0]
[{"$nulls":7},0]
[{"$nulls":7},0]
[{"$nulls":7},0]
[{"$nulls":7},0]
[{"$nulls":7},0]
[{"$nulls":7},0]
[{"$nulls":7},0]
[{"$nulls":7},0]
[{"$nulls":7},0]
[{"$nulls":7},0]
[{"$nulls":7},0]
[{"$nulls":7},0]
[{"$nulls":7},0]
[{"$nulls":7},0]
[{"$nulls":7},0]
[{"$nulls":7},0]
[{"$nulls":7},0]
[{"$nulls":7},0]
[{"$nulls":7},0]
[{"$nulls":7},0]
[{"$nulls":7},0]
[{"$nulls":7},0]
[{"$nulls":7},0]
[{"$nulls":7},0]
[{"$nulls":7},0]
[{"$nulls":7},0]
[{"$nulls":7},0]
[{"$nulls":7},0]
[{"$nulls":7},0]
[{"$nulls":7},0]
[{"$nulls":7},0]
[{"$nulls":7},{"$f":"+I41541-G41541","v":0}]
[{"$nulls":7},0]
[{"$nulls":7},0]
[{"$nulls":7},0]
[{"$nulls":7},0]
[{"$nulls":7},0]
[{"$nulls":7},0]
[{"$nulls":7},0]
[{"$nulls":7},0]
[{"$nulls":7},0]
[{"$nulls":7},0]
[{"$nulls":7},0]
[{"$nulls":7},0]
[{"$nulls":7},0]
[{"$nulls":7},0]
[{"$nulls":7},0]
[{"$nulls":7},0]
[{"$nulls":7},0]
[{"$nulls":7},0]
[{"$nulls":7},0]
[{"$nulls":7},0]
[{"$nulls":7},0]
[{"$nulls":7},0]
[{"$nulls":7},0]
[{"$nulls":7},0]
[{"$nulls":7},0]
[{"$nulls":7},0]
[{"$nulls":7},0]
[{"$nulls":7},0]
[{"$nulls":7},0]
[{"$nulls":7},0]
[{"$nulls":7},0]
[{"$nulls":7},0]
[{"$nulls":7},0]
[{"$nulls":7},0]
[{"$nulls":7},0]
[{"$nulls":7},0]
[{"$nulls":7},0]
[{"$nulls":7},0]
[{"$nulls":7},0]
[{"$nulls":7},0]
[{"$nulls":7},0]
[{"$nulls":7},0]
[{"$nulls":7},0]
[{"$nulls":7},0]
[{"$nulls":7},0]
[{"$nulls":7},0]
[{"$nulls":7},0]
[{"$nulls":7},0]
[{"$nulls":7},0]
[{"$nulls":7},0]
[{"$nulls":7},0]
[{"$nulls":7},0]
[{"$nulls":7},0]
[{"$nulls":7},0]
[{"$nulls":7},0]
[{"$nulls":7},0]
[{"$nulls":7},0]
[{"$nulls":7},{"$f":"+I71813-G71813","v":0}]
[{"$nulls":7},0]
[{"$nulls":7},0]
[{"$nulls":7},0]
[{"$nulls":7},0]
[{"$nulls":7},0]
[{"$nulls":7},0]
[{"$nulls":7},0]
[{"$nulls":7},0]
[{"$nulls":7},0]
[{"$nulls":7},0]
[{"$nulls":7},0]
[{"$nulls":7},0]
[{"$nulls":7},0]
[{"$nulls":7},0]
[{"$nulls":7},0]
[{"$nulls":7},0]
[{"$nulls":7},0]
[{"$nulls":7},0]
[{"$nulls":7},0]
[{"$nulls":7},0]
[{"$nulls":7},0]
[{"$nulls":7},0]
[{"$nulls":7},0]
[{"$nulls":7},0]
[{"$nulls":7},0]
[{"$nulls":7},0]
[{"$nulls":7},0]
[{"$nulls":7},0]
[{"$nulls":7},0]
[{"$nulls":7},0]
[{"$nulls":7},0]
[{"$nulls":7},0]
[{"$nulls":7},0]
[{"$nulls":7},0]
[{"$nulls":7},0]
[{"$nulls":7},0]
[{"$nulls":7},0]
[{"$nulls":7},0]
[{"$nulls":7},{"$f":"+I92165-G92165","v":0}]
[{"$nulls":7},0]
[{"$nulls":7},0]
[{"$nulls":7},0]
[{"$nulls":7},0]
[{"$nulls":7},0]
[{"$nulls":7},0]
[{"$nulls":7},0]
[{"$nulls":7},0]
[{"$nulls":7},0]
[{"$nulls":7},0]
[{"$nulls":7},0]
[{"$nulls":7},0]
[{"$nulls":7},0]
[{"$nulls":7},0]
[{"$nulls":7},0]
[{"$nulls":7},0]
[{"$nulls":7},0]
[{"$nulls":7},0]
[{"$nulls":7},0]
[{"$nulls":7},0]
[{"$nulls":7},0]
[{"$nulls":7},0]
[{"$nulls":7},0]
[{"$nulls":7},0]
[{"$nulls":7},0]
[{"$nulls":7},0]
[{"$nulls":7},0]
[{"$nulls":7},0]
[{"$nulls":7},0]
[{"$nulls":7},0]
[{"$nulls":7},0]
[{"$nulls":7},0]
[{"$nulls":7},0]
[{"$nulls":7},0]
[{"$nulls":7},0]
[{"$nulls":7},0]
[{"$nulls":7},0]
[{"$nulls":7},0]
[{"$nulls":7},0]
[{"$nulls":7},0]
[{"$nulls":7},0]
[{"$nulls":7},0]
[{"$nulls":7},0]
[{"$nulls":7},0]
[{"$nulls":7},0]
[{"$nulls":7},0]
[{"$nulls":7},0]
[{"$nulls":7},0]
[{"$nulls":7},0]
[{"$nulls":7},0]
[{"$nulls":7},0]
[{"$nulls":7},0]
[{"$nulls":7},0]
[{"$nulls":7},0]
[{"$nulls":7},0]
[{"$nulls":7},0]
[{"$nulls":7},0]
[{"$nulls":7},0]
[{"$nulls":7},0]
[{"$nulls":7},0]
[{"$nulls":7},0]
[{"$nulls":7},0]
[{"$nulls":7},0]
[{"$nulls":7},0]
[{"$nulls":7},0]
[{"$nulls":7},0]
[{"$nulls":7},0]
[{"$nulls":7},0]
[{"$nulls":7},0]
[{"$nulls":7},0]
[{"$nulls":7},0]
[{"$nulls":7},0]
[{"$nulls":7},0]
[{"$nulls":7},0]
[{"$nulls":7},0]
[{"$nulls":7},0]
[{"$nulls":7},0]
[{"$nulls":7},0]
[{"$nulls":7},0]
[{"$nulls":7},0]
[{"$nulls":7},0]
[{"$nulls":7},0]
[{"$nulls":7},0]
[{"$nulls":7},0]
[{"$nulls":7},0]
[{"$nulls":7},0]
[{"$nulls":7},0]
[{"$nulls":7},0]
[{"$nulls":7},0]
[{"$nulls":7},0]
[{"$nulls":7},0]
[{"$nulls":7},0]
[{"$nulls":7},0]
[{"$nulls":7},0]
[{"$nulls":7},0]
[{"$nulls":7},0]
[{"$nulls":7},{"$f":"+I142789-G142789","v":0}]
[{"$nulls":7},0]
[{"$nulls":7},0]
[{"$nulls":7},0]
[{"$nulls":7},0]
[{"$nulls":7},0]
[{"$nulls":7},0]
[{"$nulls":7},0]
[{"$nulls":7},0]
[{"$nulls":7},0]
[{"$nulls":7},0]
[{"$nulls":7},0]
[{"$nulls":7},0]
[{"$nulls":7},0]
[{"$nulls":7},0]
[{"$nulls":7},0]
[{"$nulls":7},0]
[{"$nulls":7},0]
[{"$nulls":7},0]
[{"$nulls":7},0]
[{"$nulls":7},0]
[{"$nulls":7},0]
[{"$nulls":7},0]
[{"$nulls":7},0]
[{"$nulls":7},0]
[{"$nulls":7},0]
[{"$nulls":7},0]
[{"$nulls":7},0]
[{"$nulls":7},0]
[{"$nulls":7},0]
[{"$nulls":7},0]
[{"$nulls":7},0]
[{"$nulls":7},0]
[{"$nulls":7},0]
[{"$nulls":7},0]
[{"$nulls":7},0]
[{"$nulls":7},0]
[{"$nulls":7},0]
[{"$nulls":7},0]
[{"$nulls":7},{"$f":"+I163141-G163141","v":0}]
[{"$nulls":7},0]
[{"$nulls":7},0]
[{"$nulls":7},0]
[{"$nulls":7},0]
[{"$nulls":7},0]
[{"$nulls":7},0]
[{"$nulls":7},0]
[{"$nulls":7},0]
[{"$nulls":7},0]
[{"$nulls":7},0]
[{"$nulls":7},0]
[{"$nulls":7},0]
[{"$nulls":7},0]
[{"$nulls":7},0]
[{"$nulls":7},0]
[{"$nulls":7},0]
[{"$nulls":7},0]
[{"$nulls":7},0]
[{"$nulls":7},0]
[{"$nulls":7},0]
[{"$nulls":7},0]
[{"$nulls":7},0]
[{"$nulls":7},0]
[{"$nulls":7},0]
[{"$nulls":7},0]
[{"$nulls":7},0]
[{"$nulls":7},0]
[{"$nulls":7},0]
[{"$nulls":7},0]
[{"$nulls":7},0]
[{"$nulls":7},0]
[{"$nulls":7},0]
[{"$nulls":7},0]
[{"$nulls":7},0]
[{"$nulls":7},0]
[{"$nulls":7},0]
[{"$nulls":7},0]
[{"$nulls":7},0]
[{"$nulls":7},0]
[{"$nulls":7},0]
[{"$nulls":7},0]
[{"$nulls":7},0]
[{"$nulls":7},0]
[{"$nulls":7},0]
[{"$nulls":7},0]
[{"$nulls":7},0]
[{"$nulls":7},0]
[{"$nulls":7},0]
[{"$nulls":7},0]
[{"$nulls":7},0]
[{"$nulls":7},0]
[{"$nulls":7},0]
[{"$nulls":7},0]
[{"$nulls":7},0]
[{"$nulls":7},0]
[{"$nulls":7},0]
[{"$nulls":7},0]
[{"$nulls":7},0]
[{"$nulls":7},0]
[{"$nulls":7},0]
[{"$nulls":7},0]
[{"$nulls":7},0]
[{"$nulls":7},0]
[{"$nulls":7},0]
[{"$nulls":7},0]
[{"$nulls":7},0]
[{"$nulls":7},0]
[{"$nulls":7},0]
[{"$nulls":7},0]
[{"$nulls":7},0]
[{"$nulls":7},0]
[{"$nulls":7},0]
[{"$nulls":7},0]
[{"$nulls":7},0]
[{"$nulls":7},0]
[{"$nulls":7},0]
[{"$nulls":7},0]
[{"$nulls":7},0]
[{"$nulls":7},0]
[{"$nulls":7},0]
[{"$nulls":7},0]
[{"$nulls":7},0]
[{"$nulls":7},0]
[{"$nulls":7},0]
[{"$nulls":7},0]
[{"$nulls":7},0]
[{"$nulls":7},0]
[{"$nulls":7},0]
[{"$nulls":7},0]
[{"$nulls":7},0]
[{"$nulls":7},0]
[{"$nulls":7},0]
[{"$nulls":7},0]
[{"$nulls":7},0]
[{"$nulls":7},0]
[{"$nulls":7},0]
[{"$nulls":7},0]
[{"$nulls":7},0]
[{"$nulls":7},0]
[{"$nulls":7},0]
[{"$nulls":7},0]
[{"$nulls":7},0]
[{"$nulls":7},0]
[{"$nulls":7},0]
[{"$nulls":7},0]
[{"$nulls":7},0]
[{"$nulls":7},0]
[{"$nulls":7},0]
[{"$nulls":7},0]
[{"$nulls":7},0]
[{"$nulls":7},0]
[{"$nulls":7},0]
[{"$nulls":7},0]
[{"$nulls":7},0]
[{"$nulls":7},0]
[{"$nulls":7},0]
[{"$nulls":7},0]
[{"$nulls":7},0]
[{"$nulls":7},0]
[{"$nulls":7},0]
[{"$nulls":7},0]
[{"$nulls":7},0]
[{"$nulls":7},0]
[{"$nulls":7},0]
[{"$nulls":7},0]
[{"$nulls":7},0]
[{"$nulls":7},0]
[{"$nulls":7},0]
[{"$nulls":7},0]
[{"$nulls":7},0]
[{"$nulls":7},0]
[{"$nulls":7},0]
[{"$nulls":7},0]
[{"$nulls":7},0]
[{"$nulls":7},0]
[{"$nulls":7},0]
[{"$nulls":7},0]
[{"$nulls":7},0]
[{"$nulls":7},0]
[{"$nulls":7},0]
[{"$nulls":7},0]
[{"$nulls":7},0]
[{"$nulls":7},0]
[{"$nulls":7},0]
[{"$nulls":7},0]
[{"$nulls":7},0]
[{"$nulls":7},0]
[{"$nulls":7},0]
[{"$nulls":7},0]
[{"$nulls":7},0]
[{"$nulls":7},0]
[{"$nulls":7},0]
[{"$nulls":7},0]
[{"$nulls":7},0]
[{"$nulls":7},0]
[{"$nulls":7},0]
[{"$nulls":7},0]
[{"$nulls":7},0]
[{"$nulls":7},0]
[{"$nulls":7},0]
[{"$nulls":7},{"$f":"+I247813-G247813","v":0}]
[{"$nulls":7},0]
[{"$nulls":7},0]
[{"$nulls":7},0]
[{"$nulls":7},0]
[{"$nulls":7},0]
[{"$nulls":7},0]
[{"$nulls":7},0]
[{"$nulls":7},0]
[{"$nulls":7},0]
[{"$nulls":7},0]
[{"$nulls":7},0]
[{"$nulls":7},0]
[{"$nulls":7},0]
[{"$nulls":7},0]
[{"$nulls":7},0]
[{"$nulls":7},0]
[{"$nulls":7},0]
[{"$nulls":7},0]
[{"$nulls":7},0]
[{"$nulls":7},0]
[{"$nulls":7},0]
[{"$nulls":7},0]
[{"$nulls":7},0]
[{"$nulls":7},0]
[{"$nulls":7},0]
[{"$nulls":7},0]
[{"$nulls":7},0]
[{"$nulls":7},0]
[{"$nulls":7},0]
[{"$nulls":7},0]
[{"$nulls":7},0]
[{"$nulls":7},0]
[{"$nulls":7},0]
[{"$nulls":7},0]
[{"$nulls":7},0]
[{"$nulls":7},0]
[{"$nulls":7},0]
[{"$nulls":7},0]
[{"$nulls":7},0]
[{"$nulls":7},0]
[{"$nulls":7},0]
[{"$nulls":7},0]
[{"$nulls":7},0]
[{"$nulls":7},0]
[{"$nulls":7},0]
[{"$nulls":7},0]
[{"$nulls":7},0]
[{"$nulls":7},0]
[{"$nulls":7},0]
[{"$nulls":7},0]
[{"$nulls":7},0]
[{"$nulls":7},0]
[{"$nulls":7},0]
[{"$nulls":7},0]
[{"$nulls":7},0]
[{"$nulls":7},0]
[{"$nulls":7},0]
[{"$nulls":7},{"$f":"+I278085-G278085","v":0}]
[{"$nulls":7},0]
[{"$nulls":7},0]
[{"$nulls":7},0]
[{"$nulls":7},0]
[{"$nulls":7},0]
[{"$nulls":7},0]
[{"$nulls":7},0]
[{"$nulls":7},0]
[{"$nulls":7},0]
[{"$nulls":7},0]
[{"$nulls":7},0]
[{"$nulls":7},0]
[{"$nulls":7},0]
[{"$nulls":7},0]
[{"$nulls":7},0]
[{"$nulls":7},0]
[{"$nulls":7},0]
[{"$nulls":7},0]
[{"$nulls":7},0]
[{"$nulls":7},0]
[{"$nulls":7},0]
[{"$nulls":7},0]
[{"$nulls":7},0]
[{"$nulls":7},0]
[{"$nulls":7},0]
[{"$nulls":7},0]
[{"$nulls":7},0]
[{"$nulls":7},0]
[{"$nulls":7},0]
[{"$nulls":7},0]
[{"$nulls":7},0]
[{"$nulls":7},0]
[{"$nulls":7},0]
[{"$nulls":7},0]
[{"$nulls":7},0]
[{"$nulls":7},0]
[{"$nulls":7},0]
[{"$nulls":7},0]
[{"$nulls":7},{"$f":"+I298437-G298437","v":0}]
[{"$nulls":7},0]
[{"$nulls":7},0]
[{"$nulls":7},0]
[{"$nulls":7},0]
[{"$nulls":7},0]
[{"$nulls":7},0]
[{"$nulls":7},0]
[{"$nulls":7},0]
[{"$nulls":7},0]
[{"$nulls":7},0]
[{"$nulls":7},0]
[{"$nulls":7},0]
[{"$nulls":7},0]
[{"$nulls":7},0]
[{"$nulls":7},0]
[{"$nulls":7},0]
[{"$nulls":7},0]
[{"$nulls":7},0]
[{"$nulls":7},0]
[{"$nulls":7},0]
[{"$nulls":7},0]
[{"$nulls":7},0]
[{"$nulls":7},0]
[{"$nulls":7},0]
[{"$nulls":7},0]
[{"$nulls":7},0]
[{"$nulls":7},0]
[{"$nulls":7},0]
[{"$nulls":7},0]
[{"$nulls":7},0]
[{"$nulls":7},0]
[{"$nulls":7},0]
[{"$nulls":7},0]
[{"$nulls":7},0]
[{"$nulls":7},0]
[{"$nulls":7},0]
[{"$nulls":7},0]
[{"$nulls":7},0]
[{"$nulls":7},0]
[{"$nulls":7},0]
[{"$nulls":7},0]
[{"$nulls":7},0]
[{"$nulls":7},0]
[{"$nulls":7},0]
[{"$nulls":7},0]
[{"$nulls":7},0]
[{"$nulls":7},0]
[{"$nulls":7},0]
[{"$nulls":7},0]
[{"$nulls":7},0]
[{"$nulls":7},0]
[{"$nulls":7},0]
[{"$nulls":7},0]
[{"$nulls":7},0]
[{"$nulls":7},0]
[{"$nulls":7},0]
[{"$nulls":7},0]
[{"$nulls":7},0]
[{"$nulls":7},0]
[{"$nulls":7},0]
[{"$nulls":7},0]
[{"$nulls":7},0]
[{"$nulls":7},0]
[{"$nulls":7},0]
[{"$nulls":7},0]
[{"$nulls":7},0]
[{"$nulls":7},0]
[{"$nulls":7},0]
[{"$nulls":7},0]
[{"$nulls":7},0]
[{"$nulls":7},0]
[{"$nulls":7},0]
[{"$nulls":7},0]
[{"$nulls":7},0]
[{"$nulls":7},0]
[{"$nulls":7},0]
[{"$nulls":7},0]
[{"$nulls":7},0]
[{"$nulls":7},0]
[{"$nulls":7},0]
[{"$nulls":7},0]
[{"$nulls":7},0]
[{"$nulls":7},0]
[{"$nulls":7},0]
[{"$nulls":7},0]
[{"$nulls":7},0]
[{"$nulls":7},0]
[{"$nulls":7},0]
[{"$nulls":7},0]
[{"$nulls":7},0]
[{"$nulls":7},0]
[{"$nulls":7},0]
[{"$nulls":7},0]
[{"$nulls":7},0]
[{"$nulls":7},0]
[{"$nulls":7},0]
[{"$nulls":7},{"$f":"+I349061-G349061","v":0}]
[{"$nulls":7},0]
[{"$nulls":7},0]
[{"$nulls":7},0]
[{"$nulls":7},0]
[{"$nulls":7},0]
[{"$nulls":7},0]
[{"$nulls":7},0]
[{"$nulls":7},0]
[{"$nulls":7},0]
[{"$nulls":7},0]
[{"$nulls":7},0]
[{"$nulls":7},0]
[{"$nulls":7},0]
[{"$nulls":7},0]
[{"$nulls":7},0]
[{"$nulls":7},0]
[{"$nulls":7},0]
[{"$nulls":7},0]
[{"$nulls":7},0]
[{"$nulls":7},0]
[{"$nulls":7},0]
[{"$nulls":7},0]
[{"$nulls":7},0]
[{"$nulls":7},0]
[{"$nulls":7},0]
[{"$nulls":7},0]
[{"$nulls":7},0]
[{"$nulls":7},0]
[{"$nulls":7},0]
[{"$nulls":7},0]
[{"$nulls":7},0]
[{"$nulls":7},0]
[{"$nulls":7},0]
[{"$nulls":7},0]
[{"$nulls":7},0]
[{"$nulls":7},0]
[{"$nulls":7},0]
[{"$nulls":7},0]
[{"$nulls":7},{"$f":"+I369413-G369413","v":0}]
[{"$nulls":7},0]
[{"$nulls":7},0]
[{"$nulls":7},0]
[{"$nulls":7},0]
[{"$nulls":7},0]
[{"$nulls":7},0]
[{"$nulls":7},0]
[{"$nulls":7},0]
[{"$nulls":7},0]
[{"$nulls":7},0]
[{"$nulls":7},0]
[{"$nulls":7},0]
[{"$nulls":7},0]
[{"$nulls":7},0]
[{"$nulls":7},0]
[{"$nulls":7},0]
[{"$nulls":7},0]
[{"$nulls":7},0]
[{"$nulls":7},0]
[{"$nulls":7},0]
[{"$nulls":7},0]
[{"$nulls":7},0]
[{"$nulls":7},0]
[{"$nulls":7},0]
[{"$nulls":7},0]
[{"$nulls":7},0]
[{"$nulls":7},0]
[{"$nulls":7},0]
[{"$nulls":7},0]
[{"$nulls":7},0]
[{"$nulls":7},0]
[{"$nulls":7},0]
[{"$nulls":7},0]
[{"$nulls":7},0]
[{"$nulls":7},0]
[{"$nulls":7},0]
[{"$nulls":7},0]
[{"$nulls":7},0]
[{"$nulls":7},0]
[{"$nulls":7},0]
[{"$nulls":7},0]
[{"$nulls":7},0]
[{"$nulls":7},0]
[{"$nulls":7},0]
[{"$nulls":7},0]
[{"$nulls":7},0]
[{"$nulls":7},0]
[{"$nulls":7},0]
[{"$nulls":7},0]
[{"$nulls":7},0]
[{"$nulls":7},0]
[{"$nulls":7},0]
[{"$nulls":7},0]
[{"$nulls":7},0]
[{"$nulls":7},0]
[{"$nulls":7},0]
[{"$nulls":7},0]
[{"$nulls":7},0]
[{"$nulls":7},0]
[{"$nulls":7},0]
[{"$nulls":7},0]
[{"$nulls":7},0]
[{"$nulls":7},0]
[{"$nulls":7},0]
[{"$nulls":7},0]
[{"$nulls":7},0]
[{"$nulls":7},0]
[{"$nulls":7},0]
[{"$nulls":7},0]
[{"$nulls":7},0]
[{"$nulls":7},0]
[{"$nulls":7},0]
[{"$nulls":7},0]
[{"$nulls":7},0]
[{"$nulls":7},0]
[{"$nulls":7},0]
[{"$nulls":7},0]
[{"$nulls":7},0]
[{"$nulls":7},0]
[{"$nulls":7},0]
[{"$nulls":7},0]
[{"$nulls":7},0]
[{"$nulls":7},0]
[{"$nulls":7},0]
[{"$nulls":7},0]
[{"$nulls":7},0]
[{"$nulls":7},0]
[{"$nulls":7},0]
[{"$nulls":7},0]
[{"$nulls":7},0]
[{"$nulls":7},0]
[{"$nulls":7},0]
[{"$nulls":7},0]
[{"$nulls":7},0]
[{"$nulls":7},0]
[{"$nulls":7},0]
[{"$nulls":7},{"$f":"+I420037-G420037","v":0}]
[{"$nulls":7},0]
[{"$nulls":7},0]
[{"$nulls":7},0]
[{"$nulls":7},0]
[{"$nulls":7},0]
[{"$nulls":7},0]
[{"$nulls":7},0]
[{"$nulls":7},0]
[{"$nulls":7},0]
[{"$nulls":7},0]
[{"$nulls":7},0]
[{"$nulls":7},0]
[{"$nulls":7},0]
[{"$nulls":7},0]
[{"$nulls":7},0]
[{"$nulls":7},0]
[{"$nulls":7},0]
[{"$nulls":7},0]
[{"$nulls":7},0]
[{"$nulls":7},0]
[{"$nulls":7},0]
[{"$nulls":7},0]
[{"$nulls":7},0]
[{"$nulls":7},0]
[{"$nulls":7},0]
[{"$nulls":7},0]
[{"$nulls":7},0]
[{"$nulls":7},0]
[{"$nulls":7},0]
[{"$nulls":7},0]
[{"$nulls":7},0]
[{"$nulls":7},0]
[{"$nulls":7},0]
[{"$nulls":7},0]
[{"$nulls":7},0]
[{"$nulls":7},0]
[{"$nulls":7},0]
[{"$nulls":7},0]
[{"$nulls":7},{"$f":"+I440389-G440389","v":0}]
[{"$nulls":7},0]
[{"$nulls":7},0]
[{"$nulls":7},0]
[{"$nulls":7},0]
[{"$nulls":7},0]
[{"$nulls":7},0]
[{"$nulls":7},0]
[{"$nulls":7},0]
[{"$nulls":7},0]
[{"$nulls":7},0]
[{"$nulls":7},0]
[{"$nulls":7},0]
[{"$nulls":7},0]
[{"$nulls":7},0]
[{"$nulls":7},0]
[{"$nulls":7},0]
[{"$nulls":7},0]
[{"$nulls":7},0]
[{"$nulls":7},0]
[{"$nulls":7},0]
[{"$nulls":7},0]
[{"$nulls":7},0]
[{"$nulls":7},0]
[{"$nulls":7},0]
[{"$nulls":7},0]
[{"$nulls":7},0]
[{"$nulls":7},0]
[{"$nulls":7},0]
[{"$nulls":7},0]
[{"$nulls":7},0]
[{"$nulls":7},0]
[{"$nulls":7},0]
[{"$nulls":7},0]
[{"$nulls":7},0]
[{"$nulls":7},0]
[{"$nulls":7},0]
[{"$nulls":7},0]
[{"$nulls":7},0]
[{"$nulls":7},0]
[{"$nulls":7},0]
[{"$nulls":7},0]
[{"$nulls":7},0]
[{"$nulls":7},0]
[{"$nulls":7},0]
[{"$nulls":7},0]
[{"$nulls":7},0]
[{"$nulls":7},0]
[{"$nulls":7},0]
[{"$nulls":7},0]
[{"$nulls":7},0]
[{"$nulls":7},0]
[{"$nulls":7},0]
[{"$nulls":7},0]
[{"$nulls":7},0]
[{"$nulls":7},0]
[{"$nulls":7},0]
[{"$nulls":7},0]
[{"$nulls":7},{"$f":"+I470661-G470661","v":0}]
[{"$nulls":7},0]
[{"$nulls":7},0]
[{"$nulls":7},0]
[{"$nulls":7},0]
[{"$nulls":7},0]
[{"$nulls":7},0]
[{"$nulls":7},0]
[{"$nulls":7},0]
[{"$nulls":7},0]
[{"$nulls":7},0]
[{"$nulls":7},0]
[{"$nulls":7},0]
[{"$nulls":7},0]
[{"$nulls":7},0]
[{"$nulls":7},0]
[{"$nulls":7},0]
[{"$nulls":7},0]
[{"$nulls":7},0]
[{"$nulls":7},0]
[{"$nulls":7},0]
[{"$nulls":7},0]
[{"$nulls":7},0]
[{"$nulls":7},0]
[{"$nulls":7},0]
[{"$nulls":7},0]
[{"$nulls":7},0]
[{"$nulls":7},0]
[{"$nulls":7},0]
[{"$nulls":7},0]
[{"$nulls":7},0]
[{"$nulls":7},0]
[{"$nulls":7},0]
[{"$nulls":7},0]
[{"$nulls":7},0]
[{"$nulls":7},0]
[{"$nulls":7},0]
[{"$nulls":7},0]
[{"$nulls":7},0]
[{"$nulls":7},0]
[{"$nulls":7},0]
[{"$nulls":7},0]
[{"$nulls":7},0]
[{"$nulls":7},0]
[{"$nulls":7},0]
[{"$nulls":7},0]
[{"$nulls":7},0]
[{"$nulls":7},0]
[{"$nulls":7},0]
[{"$nulls":7},0]
[{"$nulls":7},0]
[{"$nulls":7},0]
[{"$nulls":7},0]
[{"$nulls":7},0]
[{"$nulls":7},0]
[{"$nulls":7},0]
[{"$nulls":7},0]
[{"$nulls":7},0]
[{"$nulls":7},0]
[{"$nulls":7},0]
[{"$nulls":7},0]
[{"$nulls":7},0]
[{"$nulls":7},0]
[{"$nulls":7},0]
[{"$nulls":7},0]
[{"$nulls":7},0]
[{"$nulls":7},0]
[{"$nulls":7},0]
[{"$nulls":7},0]
[{"$nulls":7},0]
[{"$nulls":7},0]
[{"$nulls":7},0]
[{"$nulls":7},0]
[{"$nulls":7},0]
[{"$nulls":7},0]
[{"$nulls":7},0]
[{"$nulls":7},0]
[{"$nulls":7},0]
[{"$nulls":7},0]
[{"$nulls":7},0]
[{"$nulls":7},0]
[{"$nulls":7},0]
[{"$nulls":7},0]
[{"$nulls":7},0]
[{"$nulls":7},0]
[{"$nulls":7},0]
[{"$nulls":7},0]
[{"$nulls":7},0]
[{"$nulls":7},0]
[{"$nulls":7},0]
[{"$nulls":7},0]
[{"$nulls":7},0]
[{"$nulls":7},0]
[{"$nulls":7},0]
[{"$nulls":7},0]
[{"$nulls":7},0]
[{"$nulls":7},0]
[{"$nulls":7},0]
[{"$nulls":7},0]
[{"$nulls":7},0]
[{"$nulls":7},0]
[{"$nulls":7},0]
[{"$nulls":7},0]
[{"$nulls":7},0]
[{"$nulls":7},0]
[{"$nulls":7},0]
[{"$nulls":7},0]
[{"$nulls":7},0]
[{"$nulls":7},0]
[{"$nulls":7},0]
[{"$nulls":7},0]
[{"$nulls":7},0]
[{"$nulls":7},0]
[{"$nulls":7},0]
[{"$nulls":7},0]
[{"$nulls":7},0]
[{"$nulls":7},0]
[{"$nulls":7},0]
[{"$nulls":7},0]
[{"$nulls":7},0]
[{"$nulls":7},0]
[{"$nulls":7},0]
[{"$nulls":7},0]
[{"$nulls":7},0]
[{"$nulls":7},0]
[{"$nulls":7},0]
[{"$nulls":7},0]
[{"$nulls":7},0]
[{"$nulls":7},0]
[{"$nulls":7},0]
[{"$nulls":7},0]
[{"$nulls":7},0]
[{"$nulls":7},{"$f":"+I540165-G540165","v":0}]
[{"$nulls":7},0]
[{"$nulls":7},0]
[{"$nulls":7},0]
[{"$nulls":7},0]
[{"$nulls":7},0]
[{"$nulls":7},0]
[{"$nulls":7},0]
[{"$nulls":7},0]
[{"$nulls":7},0]
[{"$nulls":7},0]
[{"$nulls":7},0]
[{"$nulls":7},0]
[{"$nulls":7},0]
[{"$nulls":7},0]
[{"$nulls":7},0]
[{"$nulls":7},0]
[{"$nulls":7},0]
[{"$nulls":7},0]
[{"$nulls":7},0]
[{"$nulls":7},0]
[{"$nulls":7},0]
[{"$nulls":7},0]
[{"$nulls":7},0]
[{"$nulls":7},0]
[{"$nulls":7},0]
[{"$nulls":7},0]
[{"$nulls":7},0]
[{"$nulls":7},0]
[{"$nulls":7},0]
[{"$nulls":7},0]
[{"$nulls":7},0]
[{"$nulls":7},0]
[{"$nulls":7},0]
[{"$nulls":7},0]
[{"$nulls":7},0]
[{"$nulls":7},0]
[{"$nulls":7},0]
[{"$nulls":7},0]
[{"$nulls":7},{"$f":"+I560517-G560517","v":0}]
[{"$nulls":7},0]
[{"$nulls":7},0]
[{"$nulls":7},0]
[{"$nulls":7},0]
[{"$nulls":7},0]
[{"$nulls":7},0]
[{"$nulls":7},0]
[{"$nulls":7},0]
[{"$nulls":7},0]
[{"$nulls":7},0]
[{"$nulls":7},0]
[{"$nulls":7},0]
[{"$nulls":7},0]
[{"$nulls":7},0]
[{"$nulls":7},0]
[{"$nulls":7},0]
[{"$nulls":7},0]
[{"$nulls":7},0]
[{"$nulls":7},0]
[{"$nulls":7},0]
[{"$nulls":7},0]
[{"$nulls":7},0]
[{"$nulls":7},0]
[{"$nulls":7},0]
[{"$nulls":7},0]
[{"$nulls":7},0]
[{"$nulls":7},0]
[{"$nulls":7},0]
[{"$nulls":7},0]
[{"$nulls":7},0]
[{"$nulls":7},0]
[{"$nulls":7},0]
[{"$nulls":7},0]
[{"$nulls":7},0]
[{"$nulls":7},0]
[{"$nulls":7},0]
[{"$nulls":7},0]
[{"$nulls":7},0]
[{"$nulls":7},0]
[{"$nulls":7},0]
[{"$nulls":7},0]
[{"$nulls":7},0]
[{"$nulls":7},0]
[{"$nulls":7},0]
[{"$nulls":7},0]
[{"$nulls":7},0]
[{"$nulls":7},0]
[{"$nulls":7},0]
[{"$nulls":7},0]
[{"$nulls":7},0]
[{"$nulls":7},0]
[{"$nulls":7},0]
[{"$nulls":7},0]
[{"$nulls":7},0]
[{"$nulls":7},0]
[{"$nulls":7},0]
[{"$nulls":7},0]
[{"$nulls":7},0]
[{"$nulls":7},0]
[{"$nulls":7},0]
[{"$nulls":7},0]
[{"$nulls":7},0]
[{"$nulls":7},0]
[{"$nulls":7},0]
[{"$nulls":7},0]
[{"$nulls":7},0]
[{"$nulls":7},0]
[{"$nulls":7},0]
[{"$nulls":7},0]
[{"$nulls":7},0]
[{"$nulls":7},0]
[{"$nulls":7},0]
[{"$nulls":7},0]
[{"$nulls":7},0]
[{"$nulls":7},0]
[{"$nulls":7},0]
[{"$nulls":7},0]
[{"$nulls":7},0]
[{"$nulls":7},0]
[{"$nulls":7},0]
[{"$nulls":7},0]
[{"$nulls":7},0]
[{"$nulls":7},0]
[{"$nulls":7},0]
[{"$nulls":7},0]
[{"$nulls":7},0]
[{"$nulls":7},0]
[{"$nulls":7},0]
[{"$nulls":7},0]
[{"$nulls":7},0]
[{"$nulls":7},0]
[{"$nulls":7},0]
[{"$nulls":7},0]
[{"$nulls":7},0]
[{"$nulls":7},0]
[{"$nulls":7},0]
[{"$nulls":7},{"$f":"+I611141-G611141","v":0}]
[{"$nulls":7},0]
[{"$nulls":7},0]
[{"$nulls":7},0]
[{"$nulls":7},0]
[{"$nulls":7},0]
[{"$nulls":7},0]
[{"$nulls":7},0]
[{"$nulls":7},0]
[{"$nulls":7},0]
[{"$nulls":7},0]
[{"$nulls":7},0]
[{"$nulls":7},0]
[{"$nulls":7},0]
[{"$nulls":7},0]
[{"$nulls":7},0]
[{"$nulls":7},0]
[{"$nulls":7},0]
[{"$nulls":7},0]
[{"$nulls":7},0]
[{"$nulls":7},0]
[{"$nulls":7},0]
[{"$nulls":7},0]
[{"$nulls":7},0]
[{"$nulls":7},0]
[{"$nulls":7},0]
[{"$nulls":7},0]
[{"$nulls":7},0]
[{"$nulls":7},0]
[{"$nulls":7},0]
[{"$nulls":7},0]
[{"$nulls":7},0]
[{"$nulls":7},0]
[{"$nulls":7},0]
[{"$nulls":7},0]
[{"$nulls":7},0]
[{"$nulls":7},0]
[{"$nulls":7},0]
[{"$nulls":7},0]
[{"$nulls":7},{"$f":"+I631493-G631493","v":0}]
[{"$nulls":7},0]
[{"$nulls":7},0]
[{"$nulls":7},0]
[{"$nulls":7},0]
[{"$nulls":7},0]
[{"$nulls":7},0]
[{"$nulls":7},0]
[{"$nulls":7},0]
[{"$nulls":7},0]
[{"$nulls":7},0]
[{"$nulls":7},0]
[{"$nulls":7},0]
[{"$nulls":7},0]
[{"$nulls":7},0]
[{"$nulls":7},0]
[{"$nulls":7},0]
[{"$nulls":7},0]
[{"$nulls":7},0]
[{"$nulls":7},0]
[{"$nulls":7},0]
[{"$nulls":7},0]
[{"$nulls":7},0]
[{"$nulls":7},0]
[{"$nulls":7},0]
[{"$nulls":7},0]
[{"$nulls":7},0]
[{"$nulls":7},0]
[{"$nulls":7},0]
[{"$nulls":7},0]
[{"$nulls":7},0]
[{"$nulls":7},0]
[{"$nulls":7},0]
[{"$nulls":7},0]
[{"$nulls":7},0]
[{"$nulls":7},0]
[{"$nulls":7},0]
[{"$nulls":7},0]
[{"$nulls":7},0]
[{"$nulls":7},0]
[{"$nulls":7},0]
[{"$nulls":7},0]
[{"$nulls":7},0]
[{"$nulls":7},0]
[{"$nulls":7},0]
[{"$nulls":7},0]
[{"$nulls":7},0]
[{"$nulls":7},0]
[{"$nulls":7},0]
[{"$nulls":7},0]
[{"$nulls":7},0]
[{"$nulls":7},0]
[{"$nulls":7},0]
[{"$nulls":7},0]
[{"$nulls":7},0]
[{"$nulls":7},0]
[{"$nulls":7},0]
[{"$nulls":7},0]
[{"$nulls":7},0]
[{"$nulls":7},0]
[{"$nulls":7},0]
[{"$nulls":7},0]
[{"$nulls":7},0]
[{"$nulls":7},0]
[{"$nulls":7},0]
[{"$nulls":7},0]
[{"$nulls":7},0]
[{"$nulls":7},0]
[{"$nulls":7},0]
[{"$nulls":7},0]
[{"$nulls":7},0]
[{"$nulls":7},0]
[{"$nulls":7},0]
[{"$nulls":7},0]
[{"$nulls":7},0]
[{"$nulls":7},0]
[{"$nulls":7},0]
[{"$nulls":7},0]
[{"$nulls":7},0]
[{"$nulls":7},0]
[{"$nulls":7},0]
[{"$nulls":7},0]
[{"$nulls":7},0]
[{"$nulls":7},0]
[{"$nulls":7},0]
[{"$nulls":7},0]
[{"$nulls":7},0]
[{"$nulls":7},0]
[{"$nulls":7},0]
[{"$nulls":7},0]
[{"$nulls":7},0]
[{"$nulls":7},0]
[{"$nulls":7},0]
[{"$nulls":7},0]
[{"$nulls":7},0]
[{"$nulls":7},0]
[{"$nulls":7},0]
[{"$nulls":7},{"$f":"+I682117-G682117","v":0}]
[{"$nulls":7},0]
[{"$nulls":7},0]
[{"$nulls":7},0]
[{"$nulls":7},0]
[{"$nulls":7},0]
[{"$nulls":7},0]
[{"$nulls":7},0]
[{"$nulls":7},0]
[{"$nulls":7},0]
[{"$nulls":7},0]
[{"$nulls":7},0]
[{"$nulls":7},0]
[{"$nulls":7},0]
[{"$nulls":7},0]
[{"$nulls":7},0]
[{"$nulls":7},0]
[{"$nulls":7},0]
[{"$nulls":7},0]
[{"$nulls":7},0]
[{"$nulls":7},0]
[{"$nulls":7},0]
[{"$nulls":7},0]
[{"$nulls":7},0]
[{"$nulls":7},0]
[{"$nulls":7},0]
[{"$nulls":7},0]
[{"$nulls":7},0]
[{"$nulls":7},0]
[{"$nulls":7},0]
[{"$nulls":7},0]
[{"$nulls":7},0]
[{"$nulls":7},0]
[{"$nulls":7},0]
[{"$nulls":7},0]
[{"$nulls":7},0]
[{"$nulls":7},0]
[{"$nulls":7},0]
[{"$nulls":7},0]
[{"$nulls":7},{"$f":"+I702469-G702469","v":0}]
[{"$nulls":7},0]
[{"$nulls":7},0]
[{"$nulls":7},0]
[{"$nulls":7},0]
[{"$nulls":7},0]
[{"$nulls":7},0]
[{"$nulls":7},0]
[{"$nulls":7},0]
[{"$nulls":7},0]
[{"$nulls":7},0]
[{"$nulls":7},0]
[{"$nulls":7},0]
[{"$nulls":7},0]
[{"$nulls":7},0]
[{"$nulls":7},0]
[{"$nulls":7},0]
[{"$nulls":7},0]
[{"$nulls":7},0]
[{"$nulls":7},0]
[{"$nulls":7},0]
[{"$nulls":7},0]
[{"$nulls":7},0]
[{"$nulls":7},0]
[{"$nulls":7},0]
[{"$nulls":7},0]
[{"$nulls":7},0]
[{"$nulls":7},0]
[{"$nulls":7},0]
[{"$nulls":7},0]
[{"$nulls":7},0]
[{"$nulls":7},0]
[{"$nulls":7},0]
[{"$nulls":7},0]
[{"$nulls":7},0]
[{"$nulls":7},0]
[{"$nulls":7},0]
[{"$nulls":7},0]
[{"$nulls":7},0]
[{"$nulls":7},0]
[{"$nulls":7},0]
[{"$nulls":7},0]
[{"$nulls":7},0]
[{"$nulls":7},0]
[{"$nulls":7},0]
[{"$nulls":7},0]
[{"$nulls":7},0]
[{"$nulls":7},0]
[{"$nulls":7},0]
[{"$nulls":7},0]
[{"$nulls":7},0]
[{"$nulls":7},0]
[{"$nulls":7},0]
[{"$nulls":7},0]
[{"$nulls":7},0]
[{"$nulls":7},0]
[{"$nulls":7},0]
[{"$nulls":7},0]
[{"$nulls":7},{"$f":"+I732741-G732741","v":0}]
[{"$nulls":7},0]
[{"$nulls":7},0]
[{"$nulls":7},0]
[{"$nulls":7},0]
[{"$nulls":7},0]
[{"$nulls":7},0]
[{"$nulls":7},0]
[{"$nulls":7},0]
[{"$nulls":7},0]
[{"$nulls":7},0]
[{"$nulls":7},0]
[{"$nulls":7},0]
[{"$nulls":7},0]
[{"$nulls":7},0]
[{"$nulls":7},0]
[{"$nulls":7},0]
[{"$nulls":7},0]
[{"$nulls":7},0]
[{"$nulls":7},0]
[{"$nulls":7},0]
[{"$nulls":7},0]
[{"$nulls":7},0]
[{"$nulls":7},0]
[{"$nulls":7},0]
[{"$nulls":7},0]
[{"$nulls":7},0]
[{"$nulls":7},0]
[{"$nulls":7},0]
[{"$nulls":7},0]
[{"$nulls":7},0]
[{"$nulls":7},0]
[{"$nulls":7},0]
[{"$nulls":7},0]
[{"$nulls":7},0]
[{"$nulls":7},0]
[{"$nulls":7},0]
[{"$nulls":7},0]
[{"$nulls":7},0]
[{"$nulls":7},{"$f":"+I753093-G753093","v":0}]
[{"$nulls":7},0]
[{"$nulls":7},0]
[{"$nulls":7},0]
[{"$nulls":7},0]
[{"$nulls":7},0]
[{"$nulls":7},0]
[{"$nulls":7},0]
[{"$nulls":7},0]
[{"$nulls":7},0]
[{"$nulls":7},0]
[{"$nulls":7},0]
[{"$nulls":7},0]
[{"$nulls":7},0]
[{"$nulls":7},0]
[{"$nulls":7},0]
[{"$nulls":7},0]
[{"$nulls":7},0]
[{"$nulls":7},0]
[{"$nulls":7},0]
[{"$nulls":7},0]
[{"$nulls":7},0]
[{"$nulls":7},0]
[{"$nulls":7},0]
[{"$nulls":7},0]
[{"$nulls":7},0]
[{"$nulls":7},0]
[{"$nulls":7},0]
[{"$nulls":7},0]
[{"$nulls":7},0]
[{"$nulls":7},0]
[{"$nulls":7},0]
[{"$nulls":7},0]
[{"$nulls":7},0]
[{"$nulls":7},0]
[{"$nulls":7},0]
[{"$nulls":7},0]
[{"$nulls":7},0]
[{"$nulls":7},0]
[{"$nulls":7},0]
[{"$nulls":7},0]
[{"$nulls":7},0]
[{"$nulls":7},0]
[{"$nulls":7},0]
[{"$nulls":7},0]
[{"$nulls":7},0]
[{"$nulls":7},0]
[{"$nulls":7},0]
[{"$nulls":7},0]
[{"$nulls":7},0]
[{"$nulls":7},0]
[{"$nulls":7},0]
[{"$nulls":7},0]
[{"$nulls":7},0]
[{"$nulls":7},0]
[{"$nulls":7},0]
[{"$nulls":7},0]
[{"$nulls":7},0]
[{"$nulls":7},0]
[{"$nulls":7},0]
[{"$nulls":7},0]
[{"$nulls":7},0]
[{"$nulls":7},0]
[{"$nulls":7},0]
[{"$nulls":7},0]
[{"$nulls":7},0]
[{"$nulls":7},0]
[{"$nulls":7},0]
[{"$nulls":7},0]
[{"$nulls":7},0]
[{"$nulls":7},0]
[{"$nulls":7},0]
[{"$nulls":7},0]
[{"$nulls":7},0]
[{"$nulls":7},0]
[{"$nulls":7},0]
[{"$nulls":7},0]
[{"$nulls":7},0]
[{"$nulls":7},0]
[{"$nulls":7},0]
[{"$nulls":7},0]
[{"$nulls":7},0]
[{"$nulls":7},0]
[{"$nulls":7},0]
[{"$nulls":7},0]
[{"$nulls":7},0]
[{"$nulls":7},0]
[{"$nulls":7},0]
[{"$nulls":7},0]
[{"$nulls":7},0]
[{"$nulls":7},0]
[{"$nulls":7},0]
[{"$nulls":7},0]
[{"$nulls":7},0]
[{"$nulls":7},0]
[{"$nulls":7},0]
[{"$nulls":7},0]
[{"$nulls":7},0]
[{"$nulls":7},0]
[{"$nulls":7},0]
[{"$nulls":7},0]
[{"$nulls":7},0]
[{"$nulls":7},0]
[{"$nulls":7},0]
[{"$nulls":7},0]
[{"$nulls":7},0]
[{"$nulls":7},0]
[{"$nulls":7},0]
[{"$nulls":7},0]
[{"$nulls":7},0]
[{"$nulls":7},0]
[{"$nulls":7},0]
[{"$nulls":7},0]
[{"$nulls":7},0]
[{"$nulls":7},0]
[{"$nulls":7},0]
[{"$nulls":7},0]
[{"$nulls":7},0]
[{"$nulls":7},0]
[{"$nulls":7},0]
[{"$nulls":7},0]
[{"$nulls":7},0]
[{"$nulls":7},{"$f":"+I817413-G817413","v":0}]
[{"$nulls":7},0]
[{"$nulls":7},0]
[{"$nulls":7},0]
[{"$nulls":7},0]
[{"$nulls":7},0]
[{"$nulls":7},0]
[{"$nulls":7},0]
[{"$nulls":7},0]
[{"$nulls":7},0]
[{"$nulls":7},{"$f":"+I822597-G822597","v":0}]
[{"$nulls":7},0]
[{"$nulls":7},0]
[{"$nulls":7},0]
[{"$nulls":7},0]
[{"$nulls":7},0]
[{"$nulls":7},0]
[{"$nulls":7},0]
[{"$nulls":7},0]
[{"$nulls":7},0]
[{"$nulls":7},0]
[{"$nulls":7},0]
[{"$nulls":7},0]
[{"$nulls":7},0]
[{"$nulls":7},0]
[{"$nulls":7},0]
[{"$nulls":7},0]
[{"$nulls":7},0]
[{"$nulls":7},0]
[{"$nulls":7},0]
[{"$nulls":7},0]
[{"$nulls":7},0]
[{"$nulls":7},0]
[{"$nulls":7},0]
[{"$nulls":7},0]
[{"$nulls":7},0]
[{"$nulls":7},0]
[{"$nulls":7},0]
[{"$nulls":7},0]
[{"$nulls":7},0]
[{"$nulls":7},0]
[{"$nulls":7},0]
[{"$nulls":7},0]
[{"$nulls":7},0]
[{"$nulls":7},0]
[{"$nulls":7},0]
[{"$nulls":7},0]
[{"$nulls":7},0]
[{"$nulls":7},0]
[{"$nulls":7},0]
[{"$nulls":7},0]
[{"$nulls":7},0]
[{"$nulls":7},0]
[{"$nulls":7},0]
[{"$nulls":7},0]
[{"$nulls":7},0]
[{"$nulls":7},0]
[{"$nulls":7},0]
[{"$nulls":7},0]
[{"$nulls":7},0]
[{"$nulls":7},0]
[{"$nulls":7},0]
[{"$nulls":7},0]
[{"$nulls":7},0]
[{"$nulls":7},0]
[{"$nulls":7},0]
[{"$nulls":7},0]
[{"$nulls":7},0]
[{"$nulls":7},0]
[{"$nulls":7},0]
[{"$nulls":7},0]
[{"$nulls":7},0]
[{"$nulls":7},0]
[{"$nulls":7},0]
[{"$nulls":7},0]
[{"$nulls":7},0]
[{"$nulls":7},0]
[{"$nulls":7},0]
[{"$nulls":7},0]
[{"$nulls":7},0]
[{"$nulls":7},0]
[{"$nulls":7},0]
[{"$nulls":7},0]
[{"$nulls":7},0]
[{"$nulls":7},0]
[{"$nulls":7},0]
[{"$nulls":7},0]
[{"$nulls":7},0]
[{"$nulls":7},0]
[{"$nulls":7},0]
[{"$nulls":7},0]
[{"$nulls":7},0]
[{"$nulls":7},0]
[{"$nulls":7},0]
[{"$nulls":7},0]
[{"$nulls":7},0]
[{"$nulls":7},0]
[{"$nulls":7},0]
[{"$nulls":7},0]
[{"$nulls":7},0]
[{"$nulls":7},0]
[{"$nulls":7},0]
[{"$nulls":7},0]
[{"$nulls":7},0]
[{"$nulls":7},0]
[{"$nulls":7},0]
[{"$nulls":7},0]
[{"$nulls":7},{"$f":"+I873221-G873221","v":0}]
[{"$nulls":7},0]
[{"$nulls":7},0]
[{"$nulls":7},0]
[{"$nulls":7},0]
[{"$nulls":7},0]
[{"$nulls":7},0]
[{"$nulls":7},0]
[{"$nulls":7},0]
[{"$nulls":7},0]
[{"$nulls":7},0]
[{"$nulls":7},0]
[{"$nulls":7},0]
[{"$nulls":7},0]
[{"$nulls":7},0]
[{"$nulls":7},0]
[{"$nulls":7},0]
[{"$nulls":7},0]
[{"$nulls":7},0]
[{"$nulls":7},0]
[{"$nulls":7},0]
[{"$nulls":7},0]
[{"$nulls":7},0]
[{"$nulls":7},0]
[{"$nulls":7},0]
[{"$nulls":7},0]
[{"$nulls":7},0]
[{"$nulls":7},0]
[{"$nulls":7},0]
[{"$nulls":7},{"$f":"+I888389-G888389","v":0}]
[{"$nulls":7},0]
[{"$nulls":7},0]
[{"$nulls":7},0]
[{"$nulls":7},0]
[{"$nulls":7},0]
[{"$nulls":7},0]
[{"$nulls":7},0]
[{"$nulls":7},0]
[{"$nulls":7},0]
[{"$nulls":7},{"$f":"+I893573-G893573","v":0}]
[{"$nulls":7},0]
[{"$nulls":7},0]
[{"$nulls":7},0]
[{"$nulls":7},0]
[{"$nulls":7},0]
[{"$nulls":7},0]
[{"$nulls":7},0]
[{"$nulls":7},0]
[{"$nulls":7},0]
[{"$nulls":7},0]
[{"$nulls":7},0]
[{"$nulls":7},0]
[{"$nulls":7},0]
[{"$nulls":7},0]
[{"$nulls":7},0]
[{"$nulls":7},0]
[{"$nulls":7},0]
[{"$nulls":7},0]
[{"$nulls":7},0]
[{"$nulls":7},0]
[{"$nulls":7},0]
[{"$nulls":7},0]
[{"$nulls":7},0]
[{"$nulls":7},0]
[{"$nulls":7},0]
[{"$nulls":7},0]
[{"$nulls":7},0]
[{"$nulls":7},0]
[{"$nulls":7},0]
[{"$nulls":7},0]
[{"$nulls":7},0]
[{"$nulls":7},0]
[{"$nulls":7},0]
[{"$nulls":7},0]
[{"$nulls":7},0]
[{"$nulls":7},0]
[{"$nulls":7},0]
[{"$nulls":7},0]
[{"$nulls":7},0]
[{"$nulls":7},0]
[{"$nulls":7},0]
[{"$nulls":7},0]
[{"$nulls":7},0]
[{"$nulls":7},0]
[{"$nulls":7},0]
[{"$nulls":7},0]
[{"$nulls":7},0]
[{"$nulls":7},0]
[{"$nulls":7},0]
[{"$nulls":7},0]
[{"$nulls":7},0]
[{"$nulls":7},0]
[{"$nulls":7},0]
[{"$nulls":7},0]
[{"$nulls":7},0]
[{"$nulls":7},0]
[{"$nulls":7},0]
[{"$nulls":7},0]
[{"$nulls":7},0]
[{"$nulls":7},0]
[{"$nulls":7},0]
[{"$nulls":7},0]
[{"$nulls":7},0]
[{"$nulls":7},0]
[{"$nulls":7},0]
[{"$nulls":7},0]
[{"$nulls":7},0]
[{"$nulls":7},0]
[{"$nulls":7},0]
[{"$nulls":7},0]
[{"$nulls":7},0]
[{"$nulls":7},0]
[{"$nulls":7},0]
[{"$nulls":7},0]
[{"$nulls":7},0]
[{"$nulls":7},0]
[{"$nulls":7},0]
[{"$nulls":7},0]
[{"$nulls":7},0]
[{"$nulls":7},0]
[{"$nulls":7},0]
[{"$nulls":7},0]
[{"$nulls":7},0]
[{"$nulls":7},0]
[{"$nulls":7},0]
[{"$nulls":7},0]
[{"$nulls":7},{"$f":"+I939013-G939013","v":0}]
[{"$nulls":7},0]
[{"$nulls":7},0]
[{"$nulls":7},0]
[{"$nulls":7},0]
[{"$nulls":7},0]
[{"$nulls":7},0]
[{"$nulls":7},0]
[{"$nulls":7},0]
[{"$nulls":7},0]
[{"$nulls":7},{"$f":"+I944197-G944197","v":0}]
[{"$nulls":7},0]
[{"$nulls":7},0]
[{"$nulls":7},0]
[{"$nulls":7},0]
[{"$nulls":7},0]
[{"$nulls":7},0]
[{"$nulls":7},0]
[{"$nulls":7},0]
[{"$nulls":7},0]
[{"$nulls":7},0]
[{"$nulls":7},0]
[{"$nulls":7},0]
[{"$nulls":7},0]
[{"$nulls":7},0]
[{"$nulls":7},0]
[{"$nulls":7},0]
[{"$nulls":7},0]
[{"$nulls":7},0]
[{"$nulls":7},0]
[{"$nulls":7},0]
[{"$nulls":7},0]
[{"$nulls":7},0]
[{"$nulls":7},0]
[{"$nulls":7},0]
[{"$nulls":7},0]
[{"$nulls":7},0]
[{"$nulls":7},0]
[{"$nulls":7},0]
[{"$nulls":7},0]
[{"$nulls":7},0]
[{"$nulls":7},0]
[{"$nulls":7},0]
[{"$nulls":7},0]
[{"$nulls":7},0]
[{"$nulls":7},0]
[{"$nulls":7},0]
[{"$nulls":7},0]
[{"$nulls":7},0]
[{"$nulls":7},{"$f":"+I964549-G964549","v":0}]
[{"$nulls":7},0]
[{"$nulls":7},0]
[{"$nulls":7},0]
[{"$nulls":7},0]
[{"$nulls":7},0]
[{"$nulls":7},0]
[{"$nulls":7},0]
[{"$nulls":7},0]
[{"$nulls":7},0]
[{"$nulls":7},0]
[{"$nulls":7},0]
[{"$nulls":7},0]
[{"$nulls":7},0]
[{"$nulls":7},0]
[{"$nulls":7},0]
[{"$nulls":7},0]
[{"$nulls":7},0]
[{"$nulls":7},0]
[{"$nulls":7},0]
[{"$nulls":7},0]
[{"$nulls":7},0]
[{"$nulls":7},0]
[{"$nulls":7},0]
[{"$nulls":7},0]
[{"$nulls":7},0]
[{"$nulls":7},0]
[{"$nulls":7},0]
[{"$nulls":7},0]
[{"$nulls":7},0]
[{"$nulls":7},0]
[{"$nulls":7},0]
[{"$nulls":7},0]
[{"$nulls":7},0]
[{"$nulls":7},0]
[{"$nulls":7},0]
[{"$nulls":7},0]
[{"$nulls":7},0]
[{"$nulls":7},0]
[{"$nulls":7},0]
[{"$nulls":7},0]
[{"$nulls":7},0]
[{"$nulls":7},0]
[{"$nulls":7},0]
[{"$nulls":7},0]
[{"$nulls":7},0]
[{"$nulls":7},0]
[{"$nulls":7},0]
[{"$nulls":7},0]
[{"$nulls":7},0]
[{"$nulls":7},0]
[{"$nulls":7},0]
[{"$nulls":7},0]
[{"$nulls":7},0]
[{"$nulls":7},{"$f":"+I992837-G992837","v":0}]
[{"$nulls":7},0]
[{"$nulls":7},0]
[{"$nulls":7},0]
[{"$nulls":7},{"$f":"+I994821-G994821","v":0}]
[{"$nulls":7},0]
[{"$nulls":7},0]
[{"$nulls":7},0]
[{"$nulls":7},0]
[{"$nulls":7},0]
[{"$nulls":7},0]
[{"$nulls":7},0]
[{"$nulls":7},0]
[{"$nulls":7},0]
[{"$nulls":7},0]
[{"$nulls":7},0]
[{"$nulls":7},0]
[{"$nulls":7},0]
[{"$nulls":7},0]
[{"$nulls":7},0]
[{"$nulls":7},0]
[{"$nulls":7},0]
[{"$nulls":7},0]
[{"$nulls":7},0]
[{"$nulls":7},0]
[{"$nulls":7},0]
[{"$nulls":7},0]
[{"$nulls":7},0]
[{"$nulls":7},0]
[{"$nulls":7},0]
[{"$nulls":7},0]
[{"$nulls":7},0]
[{"$nulls":7},0]
[{"$nulls":7},{"$f":"+I1009989-G1009989","v":0}]
[{"$nulls":7},0]
[{"$nulls":7},0]
[{"$nulls":7},0]
[{"$nulls":7},0]
[{"$nulls":7},0]
[{"$nulls":7},0]
[{"$nulls":7},0]
[{"$nulls":7},0]
[{"$nulls":7},0]
[{"$nulls":7},{"$f":"+I1015173-G1015173","v":0}]
[{"$nulls":7},0]
[{"$nulls":7},0]
[{"$nulls":7},0]
[{"$nulls":7},0]
[{"$nulls":7},0]
[{"$nulls":7},0]
[{"$nulls":7},0]
[{"$nulls":7},0]
[{"$nulls":7},0]
[{"$nulls":7},0]
[{"$nulls":7},0]
[{"$nulls":7},0]
[{"$nulls":7},0]
[{"$nulls":7},0]
[{"$nulls":7},0]
[{"$nulls":7},0]
[{"$nulls":7},0]
[{"$nulls":7},0]
[{"$nulls":7},0]
[{"$nulls":7},0]
[{"$nulls":7},0]
[{"$nulls":7},0]
[{"$nulls":7},0]
[{"$nulls":7},0]
[{"$nulls":7},0]
[{"$nulls":7},0]
[{"$nulls":7},0]
[{"$nulls":7},0]
[{"$nulls":7},0]
[{"$nulls":7},0]
[{"$nulls":7},0]
[{"$nulls":7},0]
[{"$nulls":7},0]
[{"$nulls":7},0]
[{"$nulls":7},0]
[{"$nulls":7},0]
[{"$nulls":7},0]
[{"$nulls":7},0]
[{"$nulls":7},0]
[{"$nulls":7},0]
[{"$nulls":7},0]
[{"$nulls":7},0]
[{"$nulls":7},0]
[{"$nulls":7},0]
[{"$nulls":7},0]
[{"$nulls":7},0]
[{"$nulls":7},0]
[{"$nulls":7},0]
[{"$nulls":7},0]
[{"$nulls":7},0]
[{"$nulls":7},0]
[{"$nulls":7},0]
[{"$nulls":7},0]
[{"$nulls":7},0]
[{"$nulls":7},0]
[{"$nulls":7},0]
[{"$nulls":7},0]
[{"$nulls":7},0]
[{"$nulls":7},0]
[{"$nulls":7},0]
[{"$nulls":7},0]
[{"$nulls":7},0]
[{"$nulls":7},0]
[{"$nulls":7},0]
[{"$nulls":7},0]
[{"$nulls":7},0]
[{"$nulls":7},0]
[{"$nulls":7},0]
[{"$nulls":7},0]
[{"$nulls":7},0]
[{"$nulls":7},0]
[{"$nulls":7},0]
[{"$nulls":7},0]
[{"$nulls":7},0]
[{"$nulls":7},0]
[{"$nulls":7},0]
[{"$nulls":7},0]
[{"$nulls":7},0]
[{"$nulls":7},0]
[{"$nulls":7},0]
[{"$nulls":7},0]
[{"$nulls":7},0]
[{"$nulls":7},0]
[{"$nulls":7},0]
[{"$nulls":7},0]
[{"$nulls":7},0]
[{"$nulls":7},0]
[{"$nulls":7},0]
[{"$nulls":7},0]
[{"$nulls":7},0]
[{"$nulls":7},0]
[{"$nulls":7},0]
[{"$nulls":7},0]
[{"$nulls":7},0]
[{"$nulls":7},0]
[{"$nulls":7},0]
[{"$nulls":7},0]
[{"$nulls":7},0]
[{"$nulls":7},0]
[{"$nulls":7},0]
[{"$nulls":7},0]
[{"$nulls":7},0]
[{"$nulls":7},0]
[{"$nulls":7},0]
[{"$nulls":7},0]
[{"$nulls":7},0]
[{"$nulls":7},0]
[{"$nulls":7},0]
[{"$nulls":7},0]
[{"$nulls":7},0]
[{"$nulls":7},0]
[{"$nulls":7},0]
[{"$nulls":7},0]
[{"$nulls":7},0]
[{"$nulls":7},0]
[{"$nulls":7},0]
[{"$nulls":7},0]
[{"$nulls":7},0]
[{"$nulls":7},{"$f":"+I1048133-G1048133","v":0}]
[{"$nulls":7},0]
[{"$nulls":7},0]
[{"$nulls":7},0]
[{"$nulls":7},0]
[{"$nulls":7},0]
[{"$nulls":7},0]
[{"$nulls":7},0]
[{"$nulls":7},0]
[{"$nulls":7},0]
[{"$nulls":7},0]
[{"$nulls":7},0]
[{"$nulls":7},0]
[{"$nulls":7},0]
[{"$nulls":7},0]
[{"$nulls":7},0]
[{"$nulls":7},0]
[{"$nulls":7},0]
[{"$nulls":7},0]
[{"$nulls":7},0]
[{"$nulls":7},0]
[{"$nulls":7},0]
[{"$nulls":7},0]
[{"$nulls":7},0]
[{"$nulls":7},0]
[{"$nulls":7},0]
[{"$nulls":7},0]
[{"$nulls":7},0]
[{"$nulls":7},0]
[{"$nulls":7},0]
[{"$nulls":7},0]
[{"$nulls":7},0]
[{"$nulls":7},0]
[{"$nulls":7},0]
[{"$nulls":7},0]
[{"$nulls":7},0]
[{"$nulls":7},0]
[{"$nulls":7},0]
[{"$nulls":7},0]
[{"$nulls":7},0]
[{"$nulls":7},0]
[{"$nulls":7},0]
[{"$nulls":7},0]
[{"$nulls":7},0]
[{"$nulls":7},0]
[{"$nulls":7},0]
[{"$nulls":7},0]
[{"$nulls":7},0]
[{"$nulls":7},0]
[{"$nulls":7},0]
[{"$nulls":7},0]
[{"$nulls":7},0]
[{"$nulls":7},0]
[{"$nulls":7},0]
[{"$nulls":7},0]
[{"$nulls":7},0]
[{"$nulls":7},0]
[{"$nulls":7},0]
[{"$nulls":7},0]
[{"$nulls":7},0]
[{"$nulls":7},0]
[{"$nulls":7},0]
[{"$nulls":7},0]
[{"$nulls":7},0]
[{"$nulls":7},{"$f":"+I1048197-G1048197","v":0}]
[{"$nulls":7},0]
[{"$nulls":7},0]
[{"$nulls":7},0]
[{"$nulls":7},0]
[{"$nulls":7},0]
[{"$nulls":7},0]
[{"$nulls":7},0]
[{"$nulls":7},0]
[{"$nulls":7},0]
[{"$nulls":7},0]
[{"$nulls":7},0]
[{"$nulls":7},0]
[{"$nulls":7},0]
[{"$nulls":7},0]
[{"$nulls":7},0]
[{"$nulls":7},0]
[{"$nulls":7},0]
[{"$nulls":7},0]
[{"$nulls":7},0]
[{"$nulls":7},0]
[{"$nulls":7},0]
[{"$nulls":7},0]
[{"$nulls":7},0]
[{"$nulls":7},0]
[{"$nulls":7},0]
[{"$nulls":7},0]
[{"$nulls":7},0]
[{"$nulls":7},0]
[{"$nulls":7},0]
[{"$nulls":7},0]
[{"$nulls":7},0]
[{"$nulls":7},0]
[{"$nulls":7},0]
[{"$nulls":7},0]
[{"$nulls":7},0]
[{"$nulls":7},0]
[{"$nulls":7},0]
[{"$nulls":7},0]
[{"$nulls":7},0]
[{"$nulls":7},0]
[{"$nulls":7},0]
[{"$nulls":7},0]
[{"$nulls":7},0]
[{"$nulls":7},0]
[{"$nulls":7},0]
[{"$nulls":7},0]
[{"$nulls":7},0]
[{"$nulls":7},0]
[{"$nulls":7},0]
[{"$nulls":7},0]
[{"$nulls":7},0]
[{"$nulls":7},0]
[{"$nulls":7},0]
[{"$nulls":7},0]
[{"$nulls":7},0]
[{"$nulls":7},0]
[{"$nulls":7},0]
[{"$nulls":7},0]
[{"$nulls":7},0]
[{"$nulls":7},0]
[{"$nulls":7},0]
[{"$nulls":7},0]
[{"$nulls":7},0]
[{"$nulls":7},{"$f":"+I1048261-G1048261","v":0}]
[{"$nulls":7},0]
[{"$nulls":7},0]
[{"$nulls":7},0]
[{"$nulls":7},0]
[{"$nulls":7},0]
[{"$nulls":7},0]
[{"$nulls":7},0]
[{"$nulls":7},0]
[{"$nulls":7},0]
[{"$nulls":7},0]
[{"$nulls":7},0]
[{"$nulls":7},0]
[{"$nulls":7},0]
[{"$nulls":7},0]
[{"$nulls":7},0]
[{"$nulls":7},0]
[{"$nulls":7},0]
[{"$nulls":7},0]
[{"$nulls":7},0]
[{"$nulls":7},0]
[{"$nulls":7},0]
[{"$nulls":7},0]
[{"$nulls":7},0]
[{"$nulls":7},0]
[{"$nulls":7},0]
[{"$nulls":7},0]
[{"$nulls":7},0]
[{"$nulls":7},0]
[{"$nulls":7},0]
[{"$nulls":7},0]
[{"$nulls":7},0]
[{"$nulls":7},0]
[{"$nulls":7},0]
[{"$nulls":7},0]
[{"$nulls":7},0]
[{"$nulls":7},0]
[{"$nulls":7},0]
[{"$nulls":7},0]
[{"$nulls":7},0]
[{"$nulls":7},0]
[{"$nulls":7},0]
[{"$nulls":7},0]
[{"$nulls":7},0]
[{"$nulls":7},0]
[{"$nulls":7},0]
[{"$nulls":7},0]
[{"$nulls":7},0]
[{"$nulls":7},0]
[{"$nulls":7},0]
[{"$nulls":7},0]
[{"$nulls":7},0]
[{"$nulls":7},0]
[{"$nulls":7},0]
[{"$nulls":7},0]
[{"$nulls":7},0]
[{"$nulls":7},0]
[{"$nulls":7},0]
[{"$nulls":7},0]
[{"$nulls":7},0]
[{"$nulls":7},0]
[{"$nulls":7},0]
[{"$nulls":7},0]
[{"$nulls":7},0]
[{"$nulls":7},{"$f":"+I1048325-G1048325","v":0}]
[{"$nulls":7},0]
[{"$nulls":7},0]
[{"$nulls":7},0]
[{"$nulls":7},0]
[{"$nulls":7},0]
[{"$nulls":7},0]
[{"$nulls":7},0]
[{"$nulls":7},0]
[{"$nulls":7},0]
[{"$nulls":7},0]
[{"$nulls":7},0]
[{"$nulls":7},0]
[{"$nulls":7},0]
[{"$nulls":7},0]
[{"$nulls":7},0]
[{"$nulls":7},0]
[{"$nulls":7},0]
[{"$nulls":7},0]
[{"$nulls":7},0]
[{"$nulls":7},0]
[{"$nulls":7},0]
[{"$nulls":7},0]
[{"$nulls":7},0]
[{"$nulls":7},0]
[{"$nulls":7},0]
[{"$nulls":7},0]
[{"$nulls":7},0]
[{"$nulls":7},0]
[{"$nulls":7},0]
[{"$nulls":7},0]
[{"$nulls":7},0]
[{"$nulls":7},0]
[{"$nulls":7},0]
[{"$nulls":7},0]
[{"$nulls":7},0]
[{"$nulls":7},0]
[{"$nulls":7},0]
[{"$nulls":7},0]
[{"$nulls":7},0]
[{"$nulls":7},0]
[{"$nulls":7},0]
[{"$nulls":7},0]
[{"$nulls":7},0]
[{"$nulls":7},0]
[{"$nulls":7},0]
[{"$nulls":7},0]
[{"$nulls":7},0]
[{"$nulls":7},0]
[{"$nulls":7},0]
[{"$nulls":7},0]
[{"$nulls":7},0]
[{"$nulls":7},0]
[{"$nulls":7},0]
[{"$nulls":7},0]
[{"$nulls":7},0]
[{"$nulls":7},0]
[{"$nulls":7},0]
[{"$nulls":7},0]
[{"$nulls":7},0]
[{"$nulls":7},0]
[{"$nulls":7},0]
[{"$nulls":7},0]
[{"$nulls":7},0]
[{"$nulls":7},{"$f":"+I1048389-G1048389","v":0}]
[{"$nulls":7},0]
[{"$nulls":7},0]
[{"$nulls":7},0]
[{"$nulls":7},0]
[{"$nulls":7},0]
[{"$nulls":7},0]
[{"$nulls":7},0]
[{"$nulls":7},0]
[{"$nulls":7},0]
[{"$nulls":7},0]
[{"$nulls":7},0]
[{"$nulls":7},0]
[{"$nulls":7},0]
[{"$nulls":7},0]
[{"$nulls":7},0]
[{"$nulls":7},0]
[{"$nulls":7},0]
[{"$nulls":7},0]
[{"$nulls":7},0]
[{"$nulls":7},0]
[{"$nulls":7},0]
[{"$nulls":7},0]
[{"$nulls":7},0]
[{"$nulls":7},0]
[{"$nulls":7},0]
[{"$nulls":7},0]
[{"$nulls":7},0]
[{"$nulls":7},0]
[{"$nulls":7},0]
[{"$nulls":7},0]
[{"$nulls":7},0]
[{"$nulls":7},0]
[{"$nulls":7},0]
[{"$nulls":7},0]
[{"$nulls":7},0]
[{"$nulls":7},0]
[{"$nulls":7},0]
[{"$nulls":7},0]
[{"$nulls":7},0]
[{"$nulls":7},0]
[{"$nulls":7},0]
[{"$nulls":7},0]
[{"$nulls":7},0]
[{"$nulls":7},0]
[{"$nulls":7},0]
[{"$nulls":7},0]
[{"$nulls":7},0]
[{"$nulls":7},0]
[{"$nulls":7},0]
[{"$nulls":7},0]
[{"$nulls":7},0]
[{"$nulls":7},0]
[{"$nulls":7},0]
[{"$nulls":7},0]
[{"$nulls":7},0]
[{"$nulls":7},0]
[{"$nulls":7},0]
[{"$nulls":7},0]
[{"$nulls":7},0]
[{"$nulls":7},0]
[{"$nulls":7},0]
[{"$nulls":7},0]
[{"$nulls":7},0]
[{"$nulls":7},{"$f":"+I1048453-G1048453","v":0}]
[{"$nulls":7},0]
[{"$nulls":7},0]
[{"$nulls":7},0]
[{"$nulls":7},0]
[{"$nulls":7},0]
[{"$nulls":7},0]
[{"$nulls":7},0]
[{"$nulls":7},0]
[{"$nulls":7},0]
[{"$nulls":7},0]
[{"$nulls":7},0]
[{"$nulls":7},0]
[{"$nulls":7},0]
[{"$nulls":7},0]
[{"$nulls":7},0]
[{"$nulls":7},0]
[{"$nulls":7},0]
[{"$nulls":7},0]
[{"$nulls":7},0]
[{"$nulls":7},0]
[{"$nulls":7},0]
[{"$nulls":7},0]
[{"$nulls":7},0]
[{"$nulls":7},0]
[{"$nulls":7},0]
[{"$nulls":7},0]
[{"$nulls":7},0]
[{"$nulls":7},0]
[{"$nulls":7},0]
[{"$nulls":7},0]
[{"$nulls":7},0]
[{"$nulls":7},0]
[{"$nulls":7},0]
[{"$nulls":7},0]
[{"$nulls":7},0]
[{"$nulls":7},0]
[{"$nulls":7},0]
[{"$nulls":7},0]
[{"$nulls":7},0]
[{"$nulls":7},0]
[{"$nulls":7},0]
[{"$nulls":7},0]
[{"$nulls":7},0]
[{"$nulls":7},0]
[{"$nulls":7},0]
[{"$nulls":7},0]
[{"$nulls":7},0]
[{"$nulls":7},0]
[{"$nulls":7},0]
[{"$nulls":7},0]
[{"$nulls":7},0]
[{"$nulls":7},0]
[{"$nulls":7},0]
[{"$nulls":7},0]
[{"$nulls":7},0]
[{"$nulls":7},0]
[{"$nulls":7},0]
[{"$nulls":7},0]
[{"$nulls":7},0]
[{"$nulls":7},0]
[{"$nulls":7},0]
[{"$nulls":7},0]
[{"$nulls":7},0]
[{"$nulls":7},{"$f":"+I1048517-G1048517","v":0}]
[{"$nulls":7},0]
[{"$nulls":7},0]
[{"$nulls":7},0]
[{"$nulls":7},0]
[{"$nulls":7},0]
[{"$nulls":7},0]
[{"$nulls":7},0]
[{"$nulls":7},0]
[{"$nulls":7},0]
[{"$nulls":7},0]
[{"$nulls":7},0]
[{"$nulls":7},0]
[{"$nulls":7},0]
[{"$nulls":7},0]
[{"$nulls":7},0]
[{"$nulls":7},0]
[{"$nulls":7},0]
[{"$nulls":7},0]
[{"$nulls":7},0]
[{"$nulls":7},0]
[{"$nulls":7},0]
[{"$nulls":7},0]
[{"$nulls":7},0]
[{"$nulls":7},0]
[{"$nulls":7},0]
[{"$nulls":7},0]
[{"$nulls":7},0]
[{"$nulls":7},0]
[{"$nulls":7},0]
[{"$nulls":7},0]
[{"$nulls":7},0]
[{"$nulls":7},0]
[{"$nulls":7},0]
[{"$nulls":7},0]
[{"$nulls":7},0]
[{"$nulls":7},0]
[{"$nulls":7},0]
[{"$nulls":7},0]
[{"$nulls":7},0]
[{"$nulls":7},0]
[{"$nulls":7},0]
[{"$nulls":7},0]
[{"$nulls":7},0]
[{"$nulls":7},0]
[{"$nulls":7},0]
[{"$nulls":7},0]
[{"$nulls":7},0]
[{"$nulls":7},0]
[{"$nulls":7},0]
[{"$nulls":7},0]
[{"$nulls":7},0]
[{"$nulls":7},0]
[{"$nulls":7},0]
[{"$nulls":7},0]
[{"$nulls":7},0]
[{"$nulls":7},0]
[{"$nulls":7},0]
[{"$nulls":7},0]
[{"$nulls":7},0]

{"sheet":"Unos rashoda i izdataka","index":2,"n_rows":501,"n_cols":34,"rows_kept":501,"merged":[[0,0,0,3]]}
["Plan za unos u SAP - rashodi i izdaci",{"$nulls":3},"",{"$nulls":6},"u EUR"]
["GLAVA","OPIS GLAVE","IZVOR\n(odaberite)","OPIS IZVORA","Stavka\n(odaberite)","OPIS STAVKE","AKTIVNOST\n(odaberite)","OPIS AKTIVNOSTI","FP","PLAN \n2025.","Povećanje iznos u plusu /\nsmanjenje iznos u minusu","NOVI PLAN 2025.","Primatelj prijenosa","Ustanova","left3","left2","leftIzvor","mid","left1"]
[{"$f":"IF(E3=\"\",\"\",VLOOKUP('OPĆI DIO'!$C$1,'OPĆI DIO'!$L$4:$U$138,10,FALSE))","v":"08006"},{"$f":"IF(E3=\"\",\"\",VLOOKUP('OPĆI DIO'!$C$1,'OPĆI DIO'!$L$4:$U$138,9,FALSE))","v":"Sveučilišta i veleučilišta u Republici Hrvatskoj"},11,{"$f":"IFERROR(VLOOKUP(C3,$T$6:$U$23,2,FALSE),\"\")","v":"Opći prihodi i primici"},3111,{"$f":"IFERROR(VLOOKUP(E3,$W$5:$Y$129,2,FALSE),\"\")","v":"Plaće za redovan rad"},"A621002",{"$f":"IFERROR(VLOOKUP(G3,$AC$6:$AD$353,2,FALSE),\"\")","v":"REDOVNA DJELATNOST SVEUČILIŠTA U RIJECI"},{"$f":"IFERROR(VLOOKUP(G3,$AC$6:$AG$353,3,FALSE),\"\")","v":"0942"},{"v":2345490,"d":"2,345,490"},{"v":127853,"d":"127,853"},{"$f":"+J3+K3","v":{"v":2473343,"d":"2,473,343"}},null,{"$f":"IF(C3=\"\",\"\",'OPĆI DIO'!$C$1)","v":"38454 SVEUČILIŠTE U RIJECI - AKADEMIJA PRIMJENJENIH UMJETNOSTI"},{"$f":"LEFT(E3,3)","v":"311"},{"$f":"LEFT(E3,2)","v":"31"},{"$f":"LEFT(C3,3)","v":"11"},{"$f":"IF(S3=\"5\",0,MID(I3,2,2))","v":"94"},{"$f":"LEFT(E3,1)","v":"3"}]
[{"$f":"IF(E4=\"\",\"\",VLOOKUP('OPĆI DIO'!$C$1,'OPĆI DIO'!$L$4:$U$138,10,FALSE))","v":"08006"},{"$f":"IF(E4=\"\",\"\",VLOOKUP('OPĆI DIO'!$C$1,'OPĆI DIO'!$L$4:$U$138,9,FALSE))","v":"Sveučilišta i veleučilišta u Republici Hrvatskoj"},11,{"$f":"IFERROR(VLOOKUP(C4,$T$6:$U$23,2,FALSE),\"\")","v":"Opći prihodi i primici"},3132,"Doprinosi za obvezno zdravstveno osiguranje","A621002",{"$f":"IFERROR(VLOOKUP(G4,$AC$6:$AD$353,2,FALSE),\"\")","v":"REDOVNA DJELATNOST SVEUČILIŠTA U RIJECI"},{"$f":"IFERROR(VLOOKUP(G4,$AC$6:$AG$353,3,FALSE),\"\")","v":"0942"},{"v":382375,"d":"382,375"},{"v":25784,"d":"25,784"},{"$f":"+J4+K4","v":{"v":408159,"d":"408,159"}},null,{"$f":"IF(C4=\"\",\"\",'OPĆI DIO'!$C$1)","v":"38454 SVEUČILIŠTE U RIJECI - AKADEMIJA PRIMJENJENIH UMJETNOSTI"},{"$f":"LEFT(E4,3)","v":"313"},{"$f":"LEFT(E4,2)","v":"31"},{"$f":"LEFT(C4,3)","v":"11"},{"$f":"IF(S4=\"5\",0,MID(I4,2,2))","v":"94"},{"$f":"LEFT(E4,1)","v":"3"}]
[{"$f":"IF(E5=\"\",\"\",VLOOKUP('OPĆI DIO'!$C$1,'OPĆI DIO'!$L$4:$U$138,10,FALSE))","v":"08006"},{"$f":"IF(E5=\"\",\"\",VLOOKUP('OPĆI DIO'!$C$1,'OPĆI DIO'!$L$4:$U$138,9,FALSE))","v":"Sveučilišta i veleučilišta u Republici Hrvatskoj"},11,"Opći prihodi i primici",3121,"Ostali rashodi za zaposlene","A621002","REDOVNA DJELATNOST SVEUČILIŠTA U RIJECI","0942",{"v":60816,"d":"60,816"},{"v":4383,"d":"4,383"},{"v":65199,"d":"65,199"},null,{"$f":"IF(C5=\"\",\"\",'OPĆI DIO'!$C$1)","v":"38454 SVEUČILIŠTE U RIJECI - AKADEMIJA PRIMJENJENIH UMJETNOSTI"},"312","31","11","94","3","IZVOR","OPIS IZVORA",null,3111,"Plaće za redovan rad",null,{"$f":"LEFT(W5,2)","v":"31"},{"$f":"LEFT(W5,3)","v":"311"},null,"AKTIVNOST","OPIS AKTIVNOSTI"]
[{"$f":"IF(E6=\"\",\"\",VLOOKUP('OPĆI DIO'!$C$1,'OPĆI DIO'!$L$4:$U$138,10,FALSE))","v":"08006"},{"$f":"IF(E6=\"\",\"\",VLOOKUP('OPĆI DIO'!$C$1,'OPĆI DIO'!$L$4:$U$138,9,FALSE))","v":"Sveučilišta i veleučilišta u Republici Hrvatskoj"},11,"Opći prihodi i primici",3212,"Naknade za prijevoz, za rad na terenu i odvojeni život","A621002","REDOVNA DJELATNOST SVEUČILIŠTA U RIJECI","0942",{"v":47633,"d":"47,633"},{"v":-2378,"d":"-2,378"},{"v":45255,"d":"45,255"},null,{"$f":"IF(C6=\"\",\"\",'OPĆI DIO'!$C$1)","v":"38454 SVEUČILIŠTE U RIJECI - AKADEMIJA PRIMJENJENIH UMJETNOSTI"},"321","32","11","94","3",11,"Opći prihodi i primici",null,3112,"Plaće u naravi",null,{"$f":"LEFT(W6,2)","v":"31"},{"$f":"LEFT(W6,3)","v":"311"},null,"NOVA AKT","NOVA AKT","NOVA AKT","NOVA AKT","NOVA AKT","NOVA AKT"]
[{"$f":"IF(E7=\"\",\"\",VLOOKUP('OPĆI DIO'!$C$1,'OPĆI DIO'!$L$4:$U$138,10,FALSE))","v":"08006"},{"$f":"IF(E7=\"\",\"\",VLOOKUP('OPĆI DIO'!$C$1,'OPĆI DIO'!$L$4:$U$138,9,FALSE))","v":"Sveučilišta i veleučilišta u Republici Hrvatskoj"},11,"Opći prihodi i primici",3236,"Zdravstvene i veterinarske usluge","A621002","REDOVNA DJELATNOST SVEUČILIŠTA U RIJECI","0942",{"v":3503,"d":"3,503"},-860,{"v":2643,"d":"2,643"},null,{"$f":"IF(C7=\"\",\"\",'OPĆI DIO'!$C$1)","v":"38454 SVEUČILIŠTE U RIJECI - AKADEMIJA PRIMJENJENIH UMJETNOSTI"},"323","32","11","94","3",12,"Sredstva učešća za pomoći",null,3113,"Plaće za prekovremeni rad",null,{"$f":"LEFT(W7,2)","v":"31"},{"$f":"LEFT(W7,3)","v":"311"},null,"A557043","NACIONALNO VIJEĆE ZA ODGOJ I OBRAZOVANJE","0970","Istraživanje i razvoj obrazovanja","09","091"]
[{"$f":"IF(E8=\"\",\"\",VLOOKUP('OPĆI DIO'!$C$1,'OPĆI DIO'!$L$4:$U$138,10,FALSE))","v":"08006"},{"$f":"IF(E8=\"\",\"\",VLOOKUP('OPĆI DIO'!$C$1,'OPĆI DIO'!$L$4:$U$138,9,FALSE))","v":"Sveučilišta i veleučilišta u Republici Hrvatskoj"},11,"Opći prihodi i primici",3295,"Pristojbe i naknade","A621002","REDOVNA DJELATNOST SVEUČILIŠTA U RIJECI","0942",{"v":3599,"d":"3,599"},968,{"v":4567,"d":"4,567"},null,{"$f":"IF(C8=\"\",\"\",'OPĆI DIO'!$C$1)","v":"38454 SVEUČILIŠTE U RIJECI - AKADEMIJA PRIMJENJENIH UMJETNOSTI"},"329","32","11","94","3",31,"Vlastiti prihodi",null,3114,"Plaće za posebne uvjete rada",null,{"$f":"LEFT(W8,2)","v":"31"},{"$f":"LEFT(W8,3)","v":"311"},null,"A558047","POLITIKA ZA MLADE","1040","Obitelj i djeca","01","015"]
[{"$f":"IF(E9=\"\",\"\",VLOOKUP('OPĆI DIO'!$C$1,'OPĆI DIO'!$L$4:$U$138,10,FALSE))","v":"08006"},{"$f":"IF(E9=\"\",\"\",VLOOKUP('OPĆI DIO'!$C$1,'OPĆI DIO'!$L$4:$U$138,9,FALSE))","v":"Sveučilišta i veleučilišta u Republici Hrvatskoj"},11,"Opći prihodi i primici",3114,"Plaće za posebne uvjete rada","A621002","REDOVNA DJELATNOST SVEUČILIŠTA U RIJECI","0942",{"v":19898,"d":"19,898"},-867,{"v":19031,"d":"19,031"},null,{"$f":"IF(C9=\"\",\"\",'OPĆI DIO'!$C$1)","v":"38454 SVEUČILIŠTE U RIJECI - AKADEMIJA PRIMJENJENIH UMJETNOSTI"},"311","31","11","94","3",41,"Prihodi od igara na sreću",null,3121,"Ostali rashodi za zaposlene",null,{"$f":"LEFT(W9,2)","v":"31"},{"$f":"LEFT(W9,3)","v":"312"},null,"A558053","POTPORA ZA PROGRAME USMJERENE MLADIMA","1040","Obitelj i djeca","09","097"]
[{"$f":"IF(E10=\"\",\"\",VLOOKUP('OPĆI DIO'!$C$1,'OPĆI DIO'!$L$4:$U$138,10,FALSE))","v":"08006"},{"$f":"IF(E10=\"\",\"\",VLOOKUP('OPĆI DIO'!$C$1,'OPĆI DIO'!$L$4:$U$138,9,FALSE))","v":"Sveučilišta i veleučilišta u Republici Hrvatskoj"},11,"Opći prihodi i primici",3237,"Intelektualne i osobne usluge","A621038","PROGRAMI VJEŽBAONICA VISOKIH UČILIŠTA","0942",{"v":1162,"d":"1,162"},-153,{"v":1009,"d":"1,009"},null,{"$f":"IF(C10=\"\",\"\",'OPĆI DIO'!$C$1)","v":"38454 SVEUČILIŠTE U RIJECI - AKADEMIJA PRIMJENJENIH UMJETNOSTI"},"323","32","11","94","3",43,"Ostali prihodi za posebne namjene",null,3132,"Doprinosi za obvezno zdravstveno osiguranje",null,{"$f":"LEFT(W10,2)","v":"31"},{"$f":"LEFT(W10,3)","v":"313"},null,"A577000","ADMINISTRACIJA I UPRAVLJANJE","0970","Istraživanje i razvoj obrazovanja","09","097"]
[{"$f":"IF(E11=\"\",\"\",VLOOKUP('OPĆI DIO'!$C$1,'OPĆI DIO'!$L$4:$U$138,10,FALSE))","v":"08006"},{"$f":"IF(E11=\"\",\"\",VLOOKUP('OPĆI DIO'!$C$1,'OPĆI DIO'!$L$4:$U$138,9,FALSE))","v":"Sveučilišta i veleučilišta u Republici Hrvatskoj"},11,"Opći prihodi i primici",3211,"Službena putovanja","A622122","PROGRAMSKO FINANCIRANJE JAVNIH VISOKIH UČILIŠTA","0942",{"v":8000,"d":"8,000"},{"v":-4000,"d":"-4,000"},{"v":4000,"d":"4,000"},null,{"$f":"IF(C11=\"\",\"\",'OPĆI DIO'!$C$1)","v":"38454 SVEUČILIŠTE U RIJECI - AKADEMIJA PRIMJENJENIH UMJETNOSTI"},"321","32","11","94","3",51,"Pomoći EU",null,3211,"Službena putovanja",null,"32","321",null,"A577000","ADMINISTRACIJA I UPRAVLJANJE","0980","Usluge obrazovanja koje nisu drugdje svrstane","09","098"]
[{"$f":"IF(E12=\"\",\"\",VLOOKUP('OPĆI DIO'!$C$1,'OPĆI DIO'!$L$4:$U$138,10,FALSE))","v":"08006"},{"$f":"IF(E12=\"\",\"\",VLOOKUP('OPĆI DIO'!$C$1,'OPĆI DIO'!$L$4:$U$138,9,FALSE))","v":"Sveučilišta i veleučilišta u Republici Hrvatskoj"},11,"Opći prihodi i primici",3213,"Stručno usavršavanje zaposlenika","A622122","PROGRAMSKO FINANCIRANJE JAVNIH VISOKIH UČILIŠTA","0942",{"v":8000,"d":"8,000"},{"v":-6000,"d":"-6,000"},{"v":2000,"d":"2,000"},null,{"$f":"IF(C12=\"\",\"\",'OPĆI DIO'!$C$1)","v":"38454 SVEUČILIŠTE U RIJECI - AKADEMIJA PRIMJENJENIH UMJETNOSTI"},"321","32","11","94","3",52,"Ostale pomoći",null,3212,"Naknade za prijevoz, za rad na terenu i odvojeni život",null,"32","321",null,"A577004","PROVEDBA KURIKULARNE REFORME","0970","Istraživanje i razvoj obrazovanja","09","097"]
[{"$f":"IF(E13=\"\",\"\",VLOOKUP('OPĆI DIO'!$C$1,'OPĆI DIO'!$L$4:$U$138,10,FALSE))","v":"08006"},{"$f":"IF(E13=\"\",\"\",VLOOKUP('OPĆI DIO'!$C$1,'OPĆI DIO'!$L$4:$U$138,9,FALSE))","v":"Sveučilišta i veleučilišta u Republici Hrvatskoj"},11,"Opći prihodi i primici",3214,"Ostale naknade troškova zaposlenima","A622122","PROGRAMSKO FINANCIRANJE JAVNIH VISOKIH UČILIŠTA","0942",{"v":2000,"d":"2,000"},{"v":-1000,"d":"-1,000"},{"v":1000,"d":"1,000"},null,{"$f":"IF(C13=\"\",\"\",'OPĆI DIO'!$C$1)","v":"38454 SVEUČILIŠTE U RIJECI - AKADEMIJA PRIMJENJENIH UMJETNOSTI"},"321","32","11","94","3",552,"Švicarski instrument",null,3213,"Stručno usavršavanje zaposlenika",null,"32","321",null,"A577012","OBRAZOVANJE DJECE HRVATSKIH GRAĐANA U INOZEMSTVU","0970","Istraživanje i razvoj obrazovanja","09","097"]
[{"$f":"IF(E14=\"\",\"\",VLOOKUP('OPĆI DIO'!$C$1,'OPĆI DIO'!$L$4:$U$138,10,FALSE))","v":"08006"},{"$f":"IF(E14=\"\",\"\",VLOOKUP('OPĆI DIO'!$C$1,'OPĆI DIO'!$L$4:$U$138,9,FALSE))","v":"Sveučilišta i veleučilišta u Republici Hrvatskoj"},11,"Opći prihodi i primici",3221,"Uredski materijal i ostali materijalni rashodi","A622122","PROGRAMSKO FINANCIRANJE JAVNIH VISOKIH UČILIŠTA","0942",{"v":20350,"d":"20,350"},{"v":-4000,"d":"-4,000"},{"v":16350,"d":"16,350"},null,{"$f":"IF(C14=\"\",\"\",'OPĆI DIO'!$C$1)","v":"38454 SVEUČILIŠTE U RIJECI - AKADEMIJA PRIMJENJENIH UMJETNOSTI"},"322","32","11","94","3",559,"Ostale refundacije iz pomoći EU",null,3214,"Ostale naknade troškova zaposlenima",null,"32","321",null,"A577015","DRŽAVNE NAGRADE ZA IZUZETNE REZULTATE U OBRAZOVANJU I TEHNIČKOJ KULTURI","0942","Drugi stupanj visoke naobrazbe","09","094"]
[{"$f":"IF(E15=\"\",\"\",VLOOKUP('OPĆI DIO'!$C$1,'OPĆI DIO'!$L$4:$U$138,10,FALSE))","v":"08006"},{"$f":"IF(E15=\"\",\"\",VLOOKUP('OPĆI DIO'!$C$1,'OPĆI DIO'!$L$4:$U$138,9,FALSE))","v":"Sveučilišta i veleučilišta u Republici Hrvatskoj"},11,"Opći prihodi i primici",3222,"Materijal i sirovine","A622122","PROGRAMSKO FINANCIRANJE JAVNIH VISOKIH UČILIŠTA","0942",{"v":2000,"d":"2,000"},0,{"v":2000,"d":"2,000"},null,{"$f":"IF(C15=\"\",\"\",'OPĆI DIO'!$C$1)","v":"38454 SVEUČILIŠTE U RIJECI - AKADEMIJA PRIMJENJENIH UMJETNOSTI"},"322","32","11","94","3",561,"Europski socijalni fond (ESF)",null,3221,"Uredski materijal i ostali materijalni rashodi",null,"32","322",null,"A577016","PREVENCIJA NASILJA I OVISNOSTI","0912","Osnovno obrazovanje","09","091"]
[{"$f":"IF(E16=\"\",\"\",VLOOKUP('OPĆI DIO'!$C$1,'OPĆI DIO'!$L$4:$U$138,10,FALSE))","v":"08006"},{"$f":"IF(E16=\"\",\"\",VLOOKUP('OPĆI DIO'!$C$1,'OPĆI DIO'!$L$4:$U$138,9,FALSE))","v":"Sveučilišta i veleučilišta u Republici Hrvatskoj"},11,"Opći prihodi i primici",3223,"Energija","A622122","PROGRAMSKO FINANCIRANJE JAVNIH VISOKIH UČILIŠTA","0942",{"v":42000,"d":"42,000"},{"v":2000,"d":"2,000"},{"v":44000,"d":"44,000"},null,{"$f":"IF(C16=\"\",\"\",'OPĆI DIO'!$C$1)","v":"38454 SVEUČILIŠTE U RIJECI - AKADEMIJA PRIMJENJENIH UMJETNOSTI"},"322","32","11","94","3",563,"Europski fond za regionalni razvoj (ERDF)",null,3222,"Materijal i sirovine",null,"32","322",null,"A577028","POTICAJI HRVATSKOJ ZAJEDNICI TEHNIČKE KULTURE","0820","Službe kulture","08","082"]
[{"$f":"IF(E17=\"\",\"\",VLOOKUP('OPĆI DIO'!$C$1,'OPĆI DIO'!$L$4:$U$138,10,FALSE))","v":"08006"},{"$f":"IF(E17=\"\",\"\",VLOOKUP('OPĆI DIO'!$C$1,'OPĆI DIO'!$L$4:$U$138,9,FALSE))","v":"Sveučilišta i veleučilišta u Republici Hrvatskoj"},11,"Opći prihodi i primici",3224,"Materijal i dijelovi za tekuće i investicijsko održavanje","A622122","PROGRAMSKO FINANCIRANJE JAVNIH VISOKIH UČILIŠTA","0942",{"v":14000,"d":"14,000"},{"v":-2000,"d":"-2,000"},{"v":12000,"d":"12,000"},null,{"$f":"IF(C17=\"\",\"\",'OPĆI DIO'!$C$1)","v":"38454 SVEUČILIŠTE U RIJECI - AKADEMIJA PRIMJENJENIH UMJETNOSTI"},"322","32","11","94","3",573,"Instrumenti Europskog gospodarskog prostora i ostali instrumenti",null,3223,"Energija",null,"32","322",null,"A577124","HRVATSKA NASTAVA U INOZEMSTVU","0970","Istraživanje i razvoj obrazovanja","09","097"]
[{"$f":"IF(E18=\"\",\"\",VLOOKUP('OPĆI DIO'!$C$1,'OPĆI DIO'!$L$4:$U$138,10,FALSE))","v":"08006"},{"$f":"IF(E18=\"\",\"\",VLOOKUP('OPĆI DIO'!$C$1,'OPĆI DIO'!$L$4:$U$138,9,FALSE))","v":"Sveučilišta i veleučilišta u Republici Hrvatskoj"},11,"Opći prihodi i primici",3225,"Sitni inventar i autogume","A622122","PROGRAMSKO FINANCIRANJE JAVNIH VISOKIH UČILIŠTA","0942",{"v":5000,"d":"5,000"},{"v":-4000,"d":"-4,000"},{"v":1000,"d":"1,000"},null,{"$f":"IF(C18=\"\",\"\",'OPĆI DIO'!$C$1)","v":"38454 SVEUČILIŠTE U RIJECI - AKADEMIJA PRIMJENJENIH UMJETNOSTI"},"322","32","11","94","3",581,"Mehanizam za oporavak i otpornost",null,3224,"Materijal i dijelovi za tekuće i investicijsko održavanje",null,"32","322",null,"A577130","POTICAJI UDRUGAMA ZA IZVANINSTITUCIONALNI ODGOJ I OBRAZOVANJE DJECE I MLADIH","0970","Istraživanje i razvoj obrazovanja","09","097"]
[{"$f":"IF(E19=\"\",\"\",VLOOKUP('OPĆI DIO'!$C$1,'OPĆI DIO'!$L$4:$U$138,10,FALSE))","v":"08006"},{"$f":"IF(E19=\"\",\"\",VLOOKUP('OPĆI DIO'!$C$1,'OPĆI DIO'!$L$4:$U$138,9,FALSE))","v":"Sveučilišta i veleučilišta u Republici Hrvatskoj"},11,"Opći prihodi i primici",3231,"Usluge telefona, interneta, pošte i prijevoza","A622122","PROGRAMSKO FINANCIRANJE JAVNIH VISOKIH UČILIŠTA","0942",{"v":7000,"d":"7,000"},{"v":-1000,"d":"-1,000"},{"v":6000,"d":"6,000"},null,{"$f":"IF(C19=\"\",\"\",'OPĆI DIO'!$C$1)","v":"38454 SVEUČILIŠTE U RIJECI - AKADEMIJA PRIMJENJENIH UMJETNOSTI"},"323","32","11","94","3",61,"Donacije",null,3225,"Sitni inventar i autogume",null,"32","322",null,"A577131","POTICAJI OBRAZOVANJA NACIONALNIH MANJINA","0970","Istraživanje i razvoj obrazovanja","09","097"]
[{"$f":"IF(E20=\"\",\"\",VLOOKUP('OPĆI DIO'!$C$1,'OPĆI DIO'!$L$4:$U$138,10,FALSE))","v":"08006"},{"$f":"IF(E20=\"\",\"\",VLOOKUP('OPĆI DIO'!$C$1,'OPĆI DIO'!$L$4:$U$138,9,FALSE))","v":"Sveučilišta i veleučilišta u Republici Hrvatskoj"},11,"Opći prihodi i primici",3232,"Usluge tekućeg i investicijskog održavanja","A622122","PROGRAMSKO FINANCIRANJE JAVNIH VISOKIH UČILIŠTA","0942",{"v":10000,"d":"10,000"},{"v":-3000,"d":"-3,000"},{"v":7000,"d":"7,000"},null,{"$f":"IF(C20=\"\",\"\",'OPĆI DIO'!$C$1)","v":"38454 SVEUČILIŠTE U RIJECI - AKADEMIJA PRIMJENJENIH UMJETNOSTI"},"323","32","11","94","3",63," Inozemne donacije ",null,3226,"Vojna sredstva za jednokratnu upotrebu",null,"32","322",null,"A577132","POTICANJE MEĐUNARODNE OBRAZOVNE SURADNJE ŠKOLA","0970","Istraživanje i razvoj obrazovanja","09","097"]
[{"$f":"IF(E21=\"\",\"\",VLOOKUP('OPĆI DIO'!$C$1,'OPĆI DIO'!$L$4:$U$138,10,FALSE))","v":"08006"},{"$f":"IF(E21=\"\",\"\",VLOOKUP('OPĆI DIO'!$C$1,'OPĆI DIO'!$L$4:$U$138,9,FALSE))","v":"Sveučilišta i veleučilišta u Republici Hrvatskoj"},11,"Opći prihodi i primici",3233,"Usluge promidžbe i informiranja","A622122","PROGRAMSKO FINANCIRANJE JAVNIH VISOKIH UČILIŠTA","0942",{"v":2000,"d":"2,000"},0,{"v":2000,"d":"2,000"},null,{"$f":"IF(C21=\"\",\"\",'OPĆI DIO'!$C$1)","v":"38454 SVEUČILIŠTE U RIJECI - AKADEMIJA PRIMJENJENIH UMJETNOSTI"},"323","32","11","94","3",71,"Prihodi od nefin. imovine i nadoknade štete s osnova osig.",null,3227,"Službena, radna i zaštitna odjeća i obuća",null,"32","322",null,"A577133","POTICANJE PROGRAMA RADA S DAROVITIM UČENICIMA I STUDENTIMA","0912","Osnovno obrazovanje","09","091"]
[{"$f":"IF(E22=\"\",\"\",VLOOKUP('OPĆI DIO'!$C$1,'OPĆI DIO'!$L$4:$U$138,10,FALSE))","v":"08006"},{"$f":"IF(E22=\"\",\"\",VLOOKUP('OPĆI DIO'!$C$1,'OPĆI DIO'!$L$4:$U$138,9,FALSE))","v":"Sveučilišta i veleučilišta u Republici Hrvatskoj"},11,"Opći prihodi i primici",3234,"Komunalne usluge","A622122","PROGRAMSKO FINANCIRANJE JAVNIH VISOKIH UČILIŠTA","0942",{"v":26000,"d":"26,000"},{"v":5000,"d":"5,000"},{"v":31000,"d":"31,000"},null,{"$f":"IF(C22=\"\",\"\",'OPĆI DIO'!$C$1)","v":"38454 SVEUČILIŠTE U RIJECI - AKADEMIJA PRIMJENJENIH UMJETNOSTI"},"323","32","11","94","3",810,"Namjenski primici -ostali",null,3231,"Usluge telefona, interneta, pošte i prijevoza",null,"32","323",null,"A577137","POSEBNI PROGRAMI OBRAZOVANJA ZA PROVOĐENJE PROGRAMA NACIONALNIH MANJINA","0970","Istraživanje i razvoj obrazovanja","09","097"]
[{"$f":"IF(E23=\"\",\"\",VLOOKUP('OPĆI DIO'!$C$1,'OPĆI DIO'!$L$4:$U$138,10,FALSE))","v":"08006"},{"$f":"IF(E23=\"\",\"\",VLOOKUP('OPĆI DIO'!$C$1,'OPĆI DIO'!$L$4:$U$138,9,FALSE))","v":"Sveučilišta i veleučilišta u Republici Hrvatskoj"},11,"Opći prihodi i primici",3235,"Zakupnine i najamnine","A622122","PROGRAMSKO FINANCIRANJE JAVNIH VISOKIH UČILIŠTA","0942",{"v":47000,"d":"47,000"},{"v":5000,"d":"5,000"},{"v":52000,"d":"52,000"},null,{"$f":"IF(C23=\"\",\"\",'OPĆI DIO'!$C$1)","v":"38454 SVEUČILIŠTE U RIJECI - AKADEMIJA PRIMJENJENIH UMJETNOSTI"},"323","32","11","94","3",815,"Namjenski primitak - NPOO",null,3232,"Usluge tekućeg i investicijskog održavanja",null,"32","323",null,"A578041","POMOĆNICI U NASTAVI ZA DJECU S TEŠKOĆAMA U RAZVOJU","0970","Istraživanje i razvoj obrazovanja","09","098"]
[{"$f":"IF(E24=\"\",\"\",VLOOKUP('OPĆI DIO'!$C$1,'OPĆI DIO'!$L$4:$U$138,10,FALSE))","v":"08006"},{"$f":"IF(E24=\"\",\"\",VLOOKUP('OPĆI DIO'!$C$1,'OPĆI DIO'!$L$4:$U$138,9,FALSE))","v":"Sveučilišta i veleučilišta u Republici Hrvatskoj"},11,"Opći prihodi i primici",3236,"Zdravstvene i veterinarske usluge","A622122","PROGRAMSKO FINANCIRANJE JAVNIH VISOKIH UČILIŠTA","0942",{"v":1000,"d":"1,000"},0,{"v":1000,"d":"1,000"},null,{"$f":"IF(C24=\"\",\"\",'OPĆI DIO'!$C$1)","v":"38454 SVEUČILIŠTE U RIJECI - AKADEMIJA PRIMJENJENIH UMJETNOSTI"},"323","32","11","94","3",{"$nulls":3},3233,"Usluge promidžbe i informiranja",null,"32","323",null,"A578042","OSIGURANJE UČENIKA I STUDENATA NA PRAKTIČNOJ NASTAVI I STRUČNOJ PRAKSI","0980","Usluge obrazovanja koje nisu drugdje svrstane","09","091"]
[{"$f":"IF(E25=\"\",\"\",VLOOKUP('OPĆI DIO'!$C$1,'OPĆI DIO'!$L$4:$U$138,10,FALSE))","v":"08006"},{"$f":"IF(E25=\"\",\"\",VLOOKUP('OPĆI DIO'!$C$1,'OPĆI DIO'!$L$4:$U$138,9,FALSE))","v":"Sveučilišta i veleučilišta u Republici Hrvatskoj"},11,"Opći prihodi i primici",3237,"Intelektualne i osobne usluge","A622122","PROGRAMSKO FINANCIRANJE JAVNIH VISOKIH UČILIŠTA","0942",{"v":120000,"d":"120,000"},{"v":17752,"d":"17,752"},{"v":137752,"d":"137,752"},null,{"$f":"IF(C25=\"\",\"\",'OPĆI DIO'!$C$1)","v":"38454 SVEUČILIŠTE U RIJECI - AKADEMIJA PRIMJENJENIH UMJETNOSTI"},"323","32","11","94","3",{"$nulls":3},3234,"Komunalne usluge",null,"32","323",null,"A578045","SUFINANCIRANJE NASTAVNIH MATERIJALA I OPREME ZA UČENIKE OSNOVNIH I SREDNJIH ŠKOLA","0970","Istraživanje i razvoj obrazovanja","09","091"]
[{"$f":"IF(E26=\"\",\"\",VLOOKUP('OPĆI DIO'!$C$1,'OPĆI DIO'!$L$4:$U$138,10,FALSE))","v":"08006"},{"$f":"IF(E26=\"\",\"\",VLOOKUP('OPĆI DIO'!$C$1,'OPĆI DIO'!$L$4:$U$138,9,FALSE))","v":"Sveučilišta i veleučilišta u Republici Hrvatskoj"},11,"Opći prihodi i primici",3238,"Računalne usluge","A622122","PROGRAMSKO FINANCIRANJE JAVNIH VISOKIH UČILIŠTA","0942",{"v":30000,"d":"30,000"},{"v":9000,"d":"9,000"},{"v":39000,"d":"39,000"},null,{"$f":"IF(C26=\"\",\"\",'OPĆI DIO'!$C$1)","v":"38454 SVEUČILIŠTE U RIJECI - AKADEMIJA PRIMJENJENIH UMJETNOSTI"},"323","32","11","94","3",{"$nulls":3},3235,"Zakupnine i najamnine",null,"32","323",null,"A578059","EUROPSKA MREŽA ŠKOLA - EUROPEAN SCHOOLNET","0970","Istraživanje i razvoj obrazovanja","09","091"]
[{"$f":"IF(E27=\"\",\"\",VLOOKUP('OPĆI DIO'!$C$1,'OPĆI DIO'!$L$4:$U$138,10,FALSE))","v":"08006"},{"$f":"IF(E27=\"\",\"\",VLOOKUP('OPĆI DIO'!$C$1,'OPĆI DIO'!$L$4:$U$138,9,FALSE))","v":"Sveučilišta i veleučilišta u Republici Hrvatskoj"},11,"Opći prihodi i primici",3239,"Ostale usluge","A622122","PROGRAMSKO FINANCIRANJE JAVNIH VISOKIH UČILIŠTA","0942",{"v":17500,"d":"17,500"},{"v":25000,"d":"25,000"},{"v":42500,"d":"42,500"},null,{"$f":"IF(C27=\"\",\"\",'OPĆI DIO'!$C$1)","v":"38454 SVEUČILIŠTE U RIJECI - AKADEMIJA PRIMJENJENIH UMJETNOSTI"},"323","32","11","94","3",{"$nulls":3},3236,"Zdravstvene i veterinarske usluge",null,"32","323",null,"A578065","ERASMUS+ PROJEKT BAQUAL - BOLJE AKADEMSKE KVALIFIKACIJE KROZ OSIGURAVANJE KVALITETE","0970","Istraživanje i razvoj obrazovanja","09","091"]
[{"$f":"IF(E28=\"\",\"\",VLOOKUP('OPĆI DIO'!$C$1,'OPĆI DIO'!$L$4:$U$138,10,FALSE))","v":"08006"},{"$f":"IF(E28=\"\",\"\",VLOOKUP('OPĆI DIO'!$C$1,'OPĆI DIO'!$L$4:$U$138,9,FALSE))","v":"Sveučilišta i veleučilišta u Republici Hrvatskoj"},11,"Opći prihodi i primici",3241,"Naknade troškova osobama izvan radnog odnosa","A622122","PROGRAMSKO FINANCIRANJE JAVNIH VISOKIH UČILIŠTA","0942",{"v":5000,"d":"5,000"},{"v":3000,"d":"3,000"},{"v":8000,"d":"8,000"},null,{"$f":"IF(C28=\"\",\"\",'OPĆI DIO'!$C$1)","v":"38454 SVEUČILIŠTE U RIJECI - AKADEMIJA PRIMJENJENIH UMJETNOSTI"},"324","32","11","94","3",{"$nulls":3},3237,"Intelektualne i osobne usluge",null,"32","323",null,"A578066","ERASMUS PLUS - PROJEKT PROFFORMANCE - RAZVOJ SUSTAVA OCJENJIVANJA RADA I NAGRAĐIVANJA PROFESORA NA VISOKIM UČILIŠTIMA","0970","Istraživanje i razvoj obrazovanja","09","097"]
[{"$f":"IF(E29=\"\",\"\",VLOOKUP('OPĆI DIO'!$C$1,'OPĆI DIO'!$L$4:$U$138,10,FALSE))","v":"08006"},{"$f":"IF(E29=\"\",\"\",VLOOKUP('OPĆI DIO'!$C$1,'OPĆI DIO'!$L$4:$U$138,9,FALSE))","v":"Sveučilišta i veleučilišta u Republici Hrvatskoj"},11,"Opći prihodi i primici",3292,"Premije osiguranja","A622122","PROGRAMSKO FINANCIRANJE JAVNIH VISOKIH UČILIŠTA","0942",{"v":6000,"d":"6,000"},500,{"v":6500,"d":"6,500"},null,{"$f":"IF(C29=\"\",\"\",'OPĆI DIO'!$C$1)","v":"38454 SVEUČILIŠTE U RIJECI - AKADEMIJA PRIMJENJENIH UMJETNOSTI"},"329","32","11","94","3",{"$nulls":3},3238,"Računalne usluge",null,"32","323",null,"A579004","POTICANJE IZVANNASTAVNIH AKTIVNOSTI U OŠ","0970","Istraživanje i razvoj obrazovanja","09","098"]
[{"$f":"IF(E30=\"\",\"\",VLOOKUP('OPĆI DIO'!$C$1,'OPĆI DIO'!$L$4:$U$138,10,FALSE))","v":"08006"},{"$f":"IF(E30=\"\",\"\",VLOOKUP('OPĆI DIO'!$C$1,'OPĆI DIO'!$L$4:$U$138,9,FALSE))","v":"Sveučilišta i veleučilišta u Republici Hrvatskoj"},11,"Opći prihodi i primici",3293,"Reprezentacija","A622122","PROGRAMSKO FINANCIRANJE JAVNIH VISOKIH UČILIŠTA","0942",{"v":3000,"d":"3,000"},{"v":12000,"d":"12,000"},{"v":15000,"d":"15,000"},null,{"$f":"IF(C30=\"\",\"\",'OPĆI DIO'!$C$1)","v":"38454 SVEUČILIŠTE U RIJECI - AKADEMIJA PRIMJENJENIH UMJETNOSTI"},"329","32","11","94","3",{"$nulls":3},3239,"Ostale usluge",null,"32","323",null,"A579072","POTPORA UČENICIMA RASELJENIMA IZ UKRAJINE","0970","Istraživanje i razvoj obrazovanja","09","097"]
[{"$f":"IF(E31=\"\",\"\",VLOOKUP('OPĆI DIO'!$C$1,'OPĆI DIO'!$L$4:$U$138,10,FALSE))","v":"08006"},{"$f":"IF(E31=\"\",\"\",VLOOKUP('OPĆI DIO'!$C$1,'OPĆI DIO'!$L$4:$U$138,9,FALSE))","v":"Sveučilišta i veleučilišta u Republici Hrvatskoj"},11,"Opći prihodi i primici",3295,"Pristojbe i naknade","A622122","PROGRAMSKO FINANCIRANJE JAVNIH VISOKIH UČILIŠTA","0942",{"v":1000,"d":"1,000"},{"v":2500,"d":"2,500"},{"v":3500,"d":"3,500"},null,{"$f":"IF(C31=\"\",\"\",'OPĆI DIO'!$C$1)","v":"38454 SVEUČILIŠTE U RIJECI - AKADEMIJA PRIMJENJENIH UMJETNOSTI"},"329","32","11","94","3",{"$nulls":3},3241,"Naknade troškova osobama izvan radnog odnosa",null,"32","324",null,"A580003","POTICANJE IZVANNASTAVNIH AKTIVNOSTI U SREDNJIM ŠKOLAMA I VISOKOŠKOLSKOM OBRAZOVANJU","0922","Više srednjoškolsko obrazovanje","01","015"]
[{"$f":"IF(E32=\"\",\"\",VLOOKUP('OPĆI DIO'!$C$1,'OPĆI DIO'!$L$4:$U$138,10,FALSE))","v":"08006"},{"$f":"IF(E32=\"\",\"\",VLOOKUP('OPĆI DIO'!$C$1,'OPĆI DIO'!$L$4:$U$138,9,FALSE))","v":"Sveučilišta i veleučilišta u Republici Hrvatskoj"},11,"Opći prihodi i primici",3299,"Ostali nespomenuti rashodi poslovanja","A622122","PROGRAMSKO FINANCIRANJE JAVNIH VISOKIH UČILIŠTA","0942",{"v":3000,"d":"3,000"},{"v":2000,"d":"2,000"},{"v":5000,"d":"5,000"},null,{"$f":"IF(C32=\"\",\"\",'OPĆI DIO'!$C$1)","v":"38454 SVEUČILIŠTE U RIJECI - AKADEMIJA PRIMJENJENIH UMJETNOSTI"},"329","32","11","94","3",{"$nulls":3},3291,"Naknade za rad predstavničkih i izvršnih tijela, povjerensta",null,"32","329",null,"A676065","ERASMUS+ PROJEKT BWSE FORWARD - BOLONJA OČIMA ZAINTERESIRANIH DIONIKA ZA SNAŽNIJU BUDUĆNOST BOLONJSKOG PROCESA","0970","Istraživanje i razvoj obrazovanja","01","015"]
[{"$f":"IF(E33=\"\",\"\",VLOOKUP('OPĆI DIO'!$C$1,'OPĆI DIO'!$L$4:$U$138,10,FALSE))","v":"08006"},{"$f":"IF(E33=\"\",\"\",VLOOKUP('OPĆI DIO'!$C$1,'OPĆI DIO'!$L$4:$U$138,9,FALSE))","v":"Sveučilišta i veleučilišta u Republici Hrvatskoj"},11,"Opći prihodi i primici",4221,"Uredska oprema i namještaj","A622122","PROGRAMSKO FINANCIRANJE JAVNIH VISOKIH UČILIŠTA","0942",{"v":5000,"d":"5,000"},{"v":15000,"d":"15,000"},{"v":20000,"d":"20,000"},null,{"$f":"IF(C33=\"\",\"\",'OPĆI DIO'!$C$1)","v":"38454 SVEUČILIŠTE U RIJECI - AKADEMIJA PRIMJENJENIH UMJETNOSTI"},"422","42","11","94","4",{"$nulls":3},3292,"Premije osiguranja",null,"32","329",null,"A676070","ERASMUS+ EUROPSKO ISTRAŽIVANJE PRAĆENJA OSOBA S DIPLOMOM (GT-HRVATSKA)","0970","Istraživanje i razvoj obrazovanja","09","097"]
[{"$f":"IF(E34=\"\",\"\",VLOOKUP('OPĆI DIO'!$C$1,'OPĆI DIO'!$L$4:$U$138,10,FALSE))","v":"08006"},{"$f":"IF(E34=\"\",\"\",VLOOKUP('OPĆI DIO'!$C$1,'OPĆI DIO'!$L$4:$U$138,9,FALSE))","v":"Sveučilišta i veleučilišta u Republici Hrvatskoj"},11,"Opći prihodi i primici",4222,"Komunikacijska oprema","A622122","PROGRAMSKO FINANCIRANJE JAVNIH VISOKIH UČILIŠTA","0942",{"v":3000,"d":"3,000"},{"v":10000,"d":"10,000"},{"v":13000,"d":"13,000"},null,{"$f":"IF(C34=\"\",\"\",'OPĆI DIO'!$C$1)","v":"38454 SVEUČILIŠTE U RIJECI - AKADEMIJA PRIMJENJENIH UMJETNOSTI"},"422","42","11","94","4",{"$nulls":3},3293,"Reprezentacija",null,"32","329",null,"A676072","ERASMUS PLUS - PROJEKTI","0970","Istraživanje i razvoj obrazovanja","01","015"]
[{"$f":"IF(E35=\"\",\"\",VLOOKUP('OPĆI DIO'!$C$1,'OPĆI DIO'!$L$4:$U$138,10,FALSE))","v":"08006"},{"$f":"IF(E35=\"\",\"\",VLOOKUP('OPĆI DIO'!$C$1,'OPĆI DIO'!$L$4:$U$138,9,FALSE))","v":"Sveučilišta i veleučilišta u Republici Hrvatskoj"},11,"Opći prihodi i primici",4223,"Oprema za održavanje i zaštitu","A622122","PROGRAMSKO FINANCIRANJE JAVNIH VISOKIH UČILIŠTA","0942",{"v":3000,"d":"3,000"},{"v":10000,"d":"10,000"},{"v":13000,"d":"13,000"},null,{"$f":"IF(C35=\"\",\"\",'OPĆI DIO'!$C$1)","v":"38454 SVEUČILIŠTE U RIJECI - AKADEMIJA PRIMJENJENIH UMJETNOSTI"},"422","42","11","94","4",{"$nulls":3},3293,"  Reprezentacija",null,"32","329",null,"A679008","PROGRAM RAZVOJNE SURADNJE","0970","Istraživanje i razvoj obrazovanja","09","097"]
[{"$f":"IF(E36=\"\",\"\",VLOOKUP('OPĆI DIO'!$C$1,'OPĆI DIO'!$L$4:$U$138,10,FALSE))","v":"08006"},{"$f":"IF(E36=\"\",\"\",VLOOKUP('OPĆI DIO'!$C$1,'OPĆI DIO'!$L$4:$U$138,9,FALSE))","v":"Sveučilišta i veleučilišta u Republici Hrvatskoj"},11,"Opći prihodi i primici",4225,"Instrumenti i uređaji","A622122","PROGRAMSKO FINANCIRANJE JAVNIH VISOKIH UČILIŠTA","0942",{"v":1000,"d":"1,000"},{"v":15000,"d":"15,000"},{"v":16000,"d":"16,000"},null,{"$f":"IF(C36=\"\",\"\",'OPĆI DIO'!$C$1)","v":"38454 SVEUČILIŠTE U RIJECI - AKADEMIJA PRIMJENJENIH UMJETNOSTI"},"422","42","11","94","4",{"$nulls":3},3294,"Članarine i norme",null,"32","329",null,"A679009","REDOVNA DJELATNOST LEKTORATA","0970","Istraživanje i razvoj obrazovanja","09","097"]
[{"$f":"IF(E37=\"\",\"\",VLOOKUP('OPĆI DIO'!$C$1,'OPĆI DIO'!$L$4:$U$138,10,FALSE))","v":"08006"},{"$f":"IF(E37=\"\",\"\",VLOOKUP('OPĆI DIO'!$C$1,'OPĆI DIO'!$L$4:$U$138,9,FALSE))","v":"Sveučilišta i veleučilišta u Republici Hrvatskoj"},11,"Opći prihodi i primici",4227,"Uređaji, strojevi i oprema za ostale namjene","A622122","PROGRAMSKO FINANCIRANJE JAVNIH VISOKIH UČILIŠTA","0942",{"v":3000,"d":"3,000"},{"v":15000,"d":"15,000"},{"v":18000,"d":"18,000"},null,{"$f":"IF(C37=\"\",\"\",'OPĆI DIO'!$C$1)","v":"38454 SVEUČILIŠTE U RIJECI - AKADEMIJA PRIMJENJENIH UMJETNOSTI"},"422","42","11","94","4",{"$nulls":3},3295,"Pristojbe i naknade",null,"32","329",null,"A679047","MEĐUNARODNA SURADNJA I EUROPSKI POSLOVI","0150","Istraživanje i razvoj: Opće javne usluge","09","097"]
[{"$f":"IF(E38=\"\",\"\",VLOOKUP('OPĆI DIO'!$C$1,'OPĆI DIO'!$L$4:$U$138,10,FALSE))","v":"08006"},{"$f":"IF(E38=\"\",\"\",VLOOKUP('OPĆI DIO'!$C$1,'OPĆI DIO'!$L$4:$U$138,9,FALSE))","v":"Sveučilišta i veleučilišta u Republici Hrvatskoj"},11,"Opći prihodi i primici",4241,"Knjige","A622122","PROGRAMSKO FINANCIRANJE JAVNIH VISOKIH UČILIŠTA","0942",{"v":7000,"d":"7,000"},{"v":1000,"d":"1,000"},{"v":8000,"d":"8,000"},null,{"$f":"IF(C38=\"\",\"\",'OPĆI DIO'!$C$1)","v":"38454 SVEUČILIŠTE U RIJECI - AKADEMIJA PRIMJENJENIH UMJETNOSTI"},"424","42","11","94","4",{"$nulls":3},3296,"Troškovi sudskih postupaka",null,"32","329",null,"A733049","EUROPSKA AGENCIJA ZA POSEBNE POTREBE I INKLUZIVNO OBRAZOVANJE","0970","Istraživanje i razvoj obrazovanja","01","018"]
[{"$f":"IF(E39=\"\",\"\",VLOOKUP('OPĆI DIO'!$C$1,'OPĆI DIO'!$L$4:$U$138,10,FALSE))","v":"08006"},{"$f":"IF(E39=\"\",\"\",VLOOKUP('OPĆI DIO'!$C$1,'OPĆI DIO'!$L$4:$U$138,9,FALSE))","v":"Sveučilišta i veleučilišta u Republici Hrvatskoj"},31,"Vlastiti prihodi",3111,"Plaće za redovan rad","A679089","REDOVNA DJELATNOST SVEUČILIŠTA U RIJECI (IZ EVIDENCIJSKIH PRIHODA)","0942",{"v":1000,"d":"1,000"},0,{"v":1000,"d":"1,000"},null,{"$f":"IF(C39=\"\",\"\",'OPĆI DIO'!$C$1)","v":"38454 SVEUČILIŠTE U RIJECI - AKADEMIJA PRIMJENJENIH UMJETNOSTI"},"311","31","31","94","3",{"$nulls":3},3299,"Ostali nespomenuti rashodi poslovanja",null,"32","329",null,"A733051","PROGRAMI IZRADE UDŽBENIKA ZA SLIJEPE I SLABOVIDNE UČENIKE I STUDENTE","0970","Istraživanje i razvoj obrazovanja","09","091"]
[{"$f":"IF(E40=\"\",\"\",VLOOKUP('OPĆI DIO'!$C$1,'OPĆI DIO'!$L$4:$U$138,10,FALSE))","v":"08006"},{"$f":"IF(E40=\"\",\"\",VLOOKUP('OPĆI DIO'!$C$1,'OPĆI DIO'!$L$4:$U$138,9,FALSE))","v":"Sveučilišta i veleučilišta u Republici Hrvatskoj"},31,"Vlastiti prihodi",3121,"Ostali rashodi za zaposlene","A679089","REDOVNA DJELATNOST SVEUČILIŠTA U RIJECI (IZ EVIDENCIJSKIH PRIHODA)","0942",{"v":1000,"d":"1,000"},{"v":2500,"d":"2,500"},{"v":3500,"d":"3,500"},null,{"$f":"IF(C40=\"\",\"\",'OPĆI DIO'!$C$1)","v":"38454 SVEUČILIŠTE U RIJECI - AKADEMIJA PRIMJENJENIH UMJETNOSTI"},"312","31","31","94","3",{"$nulls":3},3411,"Kamate za izdane trezorske zapise",null,"34","341",null,"A733064","ERASMUS+ INTERDISCIPLINARNI STEM PRISTUP SVEMU OKO NAS - STE(A)M IT","0970","Istraživanje i razvoj obrazovanja","09","091"]
[{"$f":"IF(E41=\"\",\"\",VLOOKUP('OPĆI DIO'!$C$1,'OPĆI DIO'!$L$4:$U$138,10,FALSE))","v":"08006"},{"$f":"IF(E41=\"\",\"\",VLOOKUP('OPĆI DIO'!$C$1,'OPĆI DIO'!$L$4:$U$138,9,FALSE))","v":"Sveučilišta i veleučilišta u Republici Hrvatskoj"},31,"Vlastiti prihodi",3132,"Doprinosi za obvezno zdravstveno osiguranje","A679089","REDOVNA DJELATNOST SVEUČILIŠTA U RIJECI (IZ EVIDENCIJSKIH PRIHODA)","0942",200,0,200,null,{"$f":"IF(C41=\"\",\"\",'OPĆI DIO'!$C$1)","v":"38454 SVEUČILIŠTE U RIJECI - AKADEMIJA PRIMJENJENIH UMJETNOSTI"},"313","31","31","94","3",{"$nulls":3},3422,"Kamate za primljene kredite i zajmove od kreditnih i ostalih",null,"34","342",null,"A733066","ERASMUS PLUS - OSNAŽIVANJE NASTAVNIKA DILJEM EUROPE - KA3 - HAND IN HAND","0970","Istraživanje i razvoj obrazovanja","09","097"]
[{"$f":"IF(E42=\"\",\"\",VLOOKUP('OPĆI DIO'!$C$1,'OPĆI DIO'!$L$4:$U$138,10,FALSE))","v":"08006"},{"$f":"IF(E42=\"\",\"\",VLOOKUP('OPĆI DIO'!$C$1,'OPĆI DIO'!$L$4:$U$138,9,FALSE))","v":"Sveučilišta i veleučilišta u Republici Hrvatskoj"},31,"Vlastiti prihodi",3211,"Službena putovanja","A679089","REDOVNA DJELATNOST SVEUČILIŠTA U RIJECI (IZ EVIDENCIJSKIH PRIHODA)","0942",980,0,980,null,{"$f":"IF(C42=\"\",\"\",'OPĆI DIO'!$C$1)","v":"38454 SVEUČILIŠTE U RIJECI - AKADEMIJA PRIMJENJENIH UMJETNOSTI"},"321","32","31","94","3",{"$nulls":3},3423,"Kamate za primljene kredite i zajmove od kreditnih i ostalih",null,{"$f":"LEFT(W42,2)","v":"34"},{"$f":"LEFT(W42,3)","v":"342"},null,"A767002","IZRADA DEFICITARNIH UDŽBENIKA U ŠKOLSTVU","0970","Istraživanje i razvoj obrazovanja","01","018"]
[{"$f":"IF(E43=\"\",\"\",VLOOKUP('OPĆI DIO'!$C$1,'OPĆI DIO'!$L$4:$U$138,10,FALSE))","v":"08006"},{"$f":"IF(E43=\"\",\"\",VLOOKUP('OPĆI DIO'!$C$1,'OPĆI DIO'!$L$4:$U$138,9,FALSE))","v":"Sveučilišta i veleučilišta u Republici Hrvatskoj"},31,"Vlastiti prihodi",3212,"Naknade za prijevoz, za rad na terenu i odvojeni život","A679089","REDOVNA DJELATNOST SVEUČILIŠTA U RIJECI (IZ EVIDENCIJSKIH PRIHODA)","0942",500,0,500,null,{"$f":"IF(C43=\"\",\"\",'OPĆI DIO'!$C$1)","v":"38454 SVEUČILIŠTE U RIJECI - AKADEMIJA PRIMJENJENIH UMJETNOSTI"},"321","32","31","94","3",{"$nulls":3},3427,"Kamate za primljene zajmove od trgovačkih društava i obrtnik",null,"34","342",null,"A767003","SREDNJOŠKOLSKE STIPENDIJE ZA UČENIKE ROME","0970","Istraživanje i razvoj obrazovanja","09","091"]
[{"$f":"IF(E44=\"\",\"\",VLOOKUP('OPĆI DIO'!$C$1,'OPĆI DIO'!$L$4:$U$138,10,FALSE))","v":"08006"},{"$f":"IF(E44=\"\",\"\",VLOOKUP('OPĆI DIO'!$C$1,'OPĆI DIO'!$L$4:$U$138,9,FALSE))","v":"Sveučilišta i veleučilišta u Republici Hrvatskoj"},31,"Vlastiti prihodi",3213,"Stručno usavršavanje zaposlenika","A679089","REDOVNA DJELATNOST SVEUČILIŠTA U RIJECI (IZ EVIDENCIJSKIH PRIHODA)","0942",600,0,600,null,{"$f":"IF(C44=\"\",\"\",'OPĆI DIO'!$C$1)","v":"38454 SVEUČILIŠTE U RIJECI - AKADEMIJA PRIMJENJENIH UMJETNOSTI"},"321","32","31","94","3",{"$nulls":3},3431,"Bankarske usluge i usluge platnog prometa",null,"34","343",null,"A767004","NAOBRAZBA DJECE U ALTERNATIVNIM ŠKOLAMA","0970","Istraživanje i razvoj obrazovanja","09","091"]
[{"$f":"IF(E45=\"\",\"\",VLOOKUP('OPĆI DIO'!$C$1,'OPĆI DIO'!$L$4:$U$138,10,FALSE))","v":"08006"},{"$f":"IF(E45=\"\",\"\",VLOOKUP('OPĆI DIO'!$C$1,'OPĆI DIO'!$L$4:$U$138,9,FALSE))","v":"Sveučilišta i veleučilišta u Republici Hrvatskoj"},31,"Vlastiti prihodi",3214,"Ostale naknade troškova zaposlenima","A679089","REDOVNA DJELATNOST SVEUČILIŠTA U RIJECI (IZ EVIDENCIJSKIH PRIHODA)","0942",300,0,300,null,{"$f":"IF(C45=\"\",\"\",'OPĆI DIO'!$C$1)","v":"38454 SVEUČILIŠTE U RIJECI - AKADEMIJA PRIMJENJENIH UMJETNOSTI"},"321","32","31","94","3",{"$nulls":3},3432,"Negativne tečajne razlike i razlike zbog primjene valutne kl",null,"34","343",null,"A767008","SUBVENCIONIRANJE KAMATA ZA STANOVE UČITELJA","0970","Istraživanje i razvoj obrazovanja","01","018"]
[{"$f":"IF(E46=\"\",\"\",VLOOKUP('OPĆI DIO'!$C$1,'OPĆI DIO'!$L$4:$U$138,10,FALSE))","v":"08006"},{"$f":"IF(E46=\"\",\"\",VLOOKUP('OPĆI DIO'!$C$1,'OPĆI DIO'!$L$4:$U$138,9,FALSE))","v":"Sveučilišta i veleučilišta u Republici Hrvatskoj"},31,"Vlastiti prihodi",3221,"Uredski materijal i ostali materijalni rashodi","A679089","REDOVNA DJELATNOST SVEUČILIŠTA U RIJECI (IZ EVIDENCIJSKIH PRIHODA)","0942",{"v":1000,"d":"1,000"},0,{"v":1000,"d":"1,000"},null,{"$f":"IF(C46=\"\",\"\",'OPĆI DIO'!$C$1)","v":"38454 SVEUČILIŠTE U RIJECI - AKADEMIJA PRIMJENJENIH UMJETNOSTI"},"322","32","31","94","3",{"$nulls":3},3433,"Zatezne kamate",null,"34","343",null,"A767015","PROVEDBA PROGRAMA ZA UKLJUČIVANJE ROMA","0970","Istraživanje i razvoj obrazovanja","09","092"]
[{"$f":"IF(E47=\"\",\"\",VLOOKUP('OPĆI DIO'!$C$1,'OPĆI DIO'!$L$4:$U$138,10,FALSE))","v":"08006"},{"$f":"IF(E47=\"\",\"\",VLOOKUP('OPĆI DIO'!$C$1,'OPĆI DIO'!$L$4:$U$138,9,FALSE))","v":"Sveučilišta i veleučilišta u Republici Hrvatskoj"},31,"Vlastiti prihodi",3224,"Materijal i dijelovi za tekuće i investicijsko održavanje","A679089","REDOVNA DJELATNOST SVEUČILIŠTA U RIJECI (IZ EVIDENCIJSKIH PRIHODA)","0942",300,0,300,null,{"$f":"IF(C47=\"\",\"\",'OPĆI DIO'!$C$1)","v":"38454 SVEUČILIŠTE U RIJECI - AKADEMIJA PRIMJENJENIH UMJETNOSTI"},"322","32","31","94","3",{"$nulls":3},3434,"Ostali nespomenuti financijski rashodi",null,"34","343",null,"A767042","OBRAZOVANJE OSOBA BEZ HRVATSKOG DRŽAVLJANSTVA","0970","Istraživanje i razvoj obrazovanja","09","092"]
[{"$f":"IF(E48=\"\",\"\",VLOOKUP('OPĆI DIO'!$C$1,'OPĆI DIO'!$L$4:$U$138,10,FALSE))","v":"08006"},{"$f":"IF(E48=\"\",\"\",VLOOKUP('OPĆI DIO'!$C$1,'OPĆI DIO'!$L$4:$U$138,9,FALSE))","v":"Sveučilišta i veleučilišta u Republici Hrvatskoj"},31,"Vlastiti prihodi",3225,{"$f":"IFERROR(VLOOKUP(E48,$W$5:$Y$129,2,FALSE),\"\")","v":"Sitni inventar i autogume"},"A679089","REDOVNA DJELATNOST SVEUČILIŠTA U RIJECI (IZ EVIDENCIJSKIH PRIHODA)","0942",200,0,200,null,{"$f":"IF(C48=\"\",\"\",'OPĆI DIO'!$C$1)","v":"38454 SVEUČILIŠTE U RIJECI - AKADEMIJA PRIMJENJENIH UMJETNOSTI"},{"$f":"LEFT(E48,3)","v":"322"},{"$f":"LEFT(E48,2)","v":"32"},"31","94",{"$f":"LEFT(E48,1)","v":"3"},{"$nulls":3},3511,"Subvencije kreditnim i ostalim financijskim institucijama u",null,"35","351",null,"A768053","EUROPSKE ŠKOLE","0970","Istraživanje i razvoj obrazovanja","09","092"]
[{"$f":"IF(E49=\"\",\"\",VLOOKUP('OPĆI DIO'!$C$1,'OPĆI DIO'!$L$4:$U$138,10,FALSE))","v":"08006"},{"$f":"IF(E49=\"\",\"\",VLOOKUP('OPĆI DIO'!$C$1,'OPĆI DIO'!$L$4:$U$138,9,FALSE))","v":"Sveučilišta i veleučilišta u Republici Hrvatskoj"},31,"Vlastiti prihodi",3222,{"$f":"IFERROR(VLOOKUP(E49,$W$5:$Y$129,2,FALSE),\"\")","v":"Materijal i sirovine"},"A679089","REDOVNA DJELATNOST SVEUČILIŠTA U RIJECI (IZ EVIDENCIJSKIH PRIHODA)","0942",200,{"v":2000,"d":"2,000"},{"v":2200,"d":"2,200"},null,{"$f":"IF(C49=\"\",\"\",'OPĆI DIO'!$C$1)","v":"38454 SVEUČILIŠTE U RIJECI - AKADEMIJA PRIMJENJENIH UMJETNOSTI"},{"$f":"LEFT(E49,3)","v":"322"},{"$f":"LEFT(E49,2)","v":"32"},"31","94",{"$f":"LEFT(E49,1)","v":"3"},{"$nulls":3},3512,"Subvencije trgovačkim društvima u javnom sektoru",null,"35","351",null,"A768054","DODATNA SREDSTVA IZRAVNANJA ZA DECENTRALIZIRANE FUNKCIJE","0970","Istraživanje i razvoj obrazovanja","01","018"]
[{"$f":"IF(E50=\"\",\"\",VLOOKUP('OPĆI DIO'!$C$1,'OPĆI DIO'!$L$4:$U$138,10,FALSE))","v":"08006"},{"$f":"IF(E50=\"\",\"\",VLOOKUP('OPĆI DIO'!$C$1,'OPĆI DIO'!$L$4:$U$138,9,FALSE))","v":"Sveučilišta i veleučilišta u Republici Hrvatskoj"},31,"Vlastiti prihodi",3231,"Usluge telefona, interneta, pošte i prijevoza","A679089","REDOVNA DJELATNOST SVEUČILIŠTA U RIJECI (IZ EVIDENCIJSKIH PRIHODA)","0942",191,0,191,null,{"$f":"IF(C50=\"\",\"\",'OPĆI DIO'!$C$1)","v":"38454 SVEUČILIŠTE U RIJECI - AKADEMIJA PRIMJENJENIH UMJETNOSTI"},"323","32","31","94","3",{"$nulls":3},3522,"Subvencije trgovačkim društvima izvan javnog sektora",null,"35","352",null,"A768058","PREUZETE OBVEZE PO MEĐUNARODNIM UGOVORIMA","0970","Istraživanje i razvoj obrazovanja","09","092"]
[{"$f":"IF(E51=\"\",\"\",VLOOKUP('OPĆI DIO'!$C$1,'OPĆI DIO'!$L$4:$U$138,10,FALSE))","v":"08006"},{"$f":"IF(E51=\"\",\"\",VLOOKUP('OPĆI DIO'!$C$1,'OPĆI DIO'!$L$4:$U$138,9,FALSE))","v":"Sveučilišta i veleučilišta u Republici Hrvatskoj"},31,"Vlastiti prihodi",3233,"Usluge promidžbe i informiranja","A679089","REDOVNA DJELATNOST SVEUČILIŠTA U RIJECI (IZ EVIDENCIJSKIH PRIHODA)","0942",190,0,190,null,{"$f":"IF(C51=\"\",\"\",'OPĆI DIO'!$C$1)","v":"38454 SVEUČILIŠTE U RIJECI - AKADEMIJA PRIMJENJENIH UMJETNOSTI"},"323","32","31","94","3",{"$nulls":3},3531,"Subvencije trgovačkim društvima, zadrugama, poljoprivrednici",null,"35","353",null,"A768061","ERASMUS+ UČINKOVITO PARTNERSTVO ZA UNAPRIJEĐENO PRIZNAVANJE - EPER","0970","Istraživanje i razvoj obrazovanja","09","092"]
[{"$f":"IF(E52=\"\",\"\",VLOOKUP('OPĆI DIO'!$C$1,'OPĆI DIO'!$L$4:$U$138,10,FALSE))","v":"08006"},{"$f":"IF(E52=\"\",\"\",VLOOKUP('OPĆI DIO'!$C$1,'OPĆI DIO'!$L$4:$U$138,9,FALSE))","v":"Sveučilišta i veleučilišta u Republici Hrvatskoj"},31,"Vlastiti prihodi",3235,"Zakupnine i najamnine","A679089","REDOVNA DJELATNOST SVEUČILIŠTA U RIJECI (IZ EVIDENCIJSKIH PRIHODA)","0942",177,0,177,null,{"$f":"IF(C52=\"\",\"\",'OPĆI DIO'!$C$1)","v":"38454 SVEUČILIŠTE U RIJECI - AKADEMIJA PRIMJENJENIH UMJETNOSTI"},"323","32","31","94","3",{"$nulls":3},3611,"Tekuće pomoći inozemnim vladama",null,"36","361",null,"A768064","ERASMUS+ PROJEKT TRACER - TRANSPARENTNOST HRVATSKIH KVALIFIKACIJA RADI LAKŠEG PRIZNAVANJA","0970","Istraživanje i razvoj obrazovanja","09","092"]
[{"$f":"IF(E53=\"\",\"\",VLOOKUP('OPĆI DIO'!$C$1,'OPĆI DIO'!$L$4:$U$138,10,FALSE))","v":"08006"},{"$f":"IF(E53=\"\",\"\",VLOOKUP('OPĆI DIO'!$C$1,'OPĆI DIO'!$L$4:$U$138,9,FALSE))","v":"Sveučilišta i veleučilišta u Republici Hrvatskoj"},31,"Vlastiti prihodi",3237,"Intelektualne i osobne usluge","A679089","REDOVNA DJELATNOST SVEUČILIŠTA U RIJECI (IZ EVIDENCIJSKIH PRIHODA)","0942",{"v":9933,"d":"9,933"},{"v":5735,"d":"5,735"},{"v":15668,"d":"15,668"},null,{"$f":"IF(C53=\"\",\"\",'OPĆI DIO'!$C$1)","v":"38454 SVEUČILIŠTE U RIJECI - AKADEMIJA PRIMJENJENIH UMJETNOSTI"},"323","32","31","94","3",{"$nulls":3},3621,"Tekuće pomoći međunarodnim organizacijama te institucijama i",null,"36","362",null,"A768065","OBZOR 2020 - MENTORSTVO ZA UNAPRJEĐENJE ŠKOLE - MENSI","0970","Istraživanje i razvoj obrazovanja","09","096"]
[{"$f":"IF(E54=\"\",\"\",VLOOKUP('OPĆI DIO'!$C$1,'OPĆI DIO'!$L$4:$U$138,10,FALSE))","v":"08006"},{"$f":"IF(E54=\"\",\"\",VLOOKUP('OPĆI DIO'!$C$1,'OPĆI DIO'!$L$4:$U$138,9,FALSE))","v":"Sveučilišta i veleučilišta u Republici Hrvatskoj"},31,"Vlastiti prihodi",3238,"Računalne usluge","A679089","REDOVNA DJELATNOST SVEUČILIŠTA U RIJECI (IZ EVIDENCIJSKIH PRIHODA)","0942",690,0,690,null,{"$f":"IF(C54=\"\",\"\",'OPĆI DIO'!$C$1)","v":"38454 SVEUČILIŠTE U RIJECI - AKADEMIJA PRIMJENJENIH UMJETNOSTI"},"323","32","31","94","3",{"$nulls":3},3631,"Tekuće pomoći unutar općeg proračuna",null,"36","363",null,"A768071","ERASMUS PLUS - AKTIVNOSTI SURADNIČKOG UČENJA I RESURSI ZA POTPORU NAČELA I SMJERNICA ZA SOCIJALNU DIMENZIJU - PLAR-U-PAGS","0970","Istraživanje i razvoj obrazovanja","09","096"]
[{"$f":"IF(E55=\"\",\"\",VLOOKUP('OPĆI DIO'!$C$1,'OPĆI DIO'!$L$4:$U$138,10,FALSE))","v":"08006"},{"$f":"IF(E55=\"\",\"\",VLOOKUP('OPĆI DIO'!$C$1,'OPĆI DIO'!$L$4:$U$138,9,FALSE))","v":"Sveučilišta i veleučilišta u Republici Hrvatskoj"},31,"Vlastiti prihodi",3239,"Ostale usluge","A679089","REDOVNA DJELATNOST SVEUČILIŠTA U RIJECI (IZ EVIDENCIJSKIH PRIHODA)","0942",487,0,487,null,{"$f":"IF(C55=\"\",\"\",'OPĆI DIO'!$C$1)","v":"38454 SVEUČILIŠTE U RIJECI - AKADEMIJA PRIMJENJENIH UMJETNOSTI"},"323","32","31","94","3",{"$nulls":3},3632,"Kapitalne pomoći unutar općeg proračuna",null,"36","363",null,"A768073","PREVENCIJA MENTALNOG ZDRAVLJA","0970","Istraživanje i razvoj obrazovanja","09","096"]
[{"$f":"IF(E56=\"\",\"\",VLOOKUP('OPĆI DIO'!$C$1,'OPĆI DIO'!$L$4:$U$138,10,FALSE))","v":"08006"},{"$f":"IF(E56=\"\",\"\",VLOOKUP('OPĆI DIO'!$C$1,'OPĆI DIO'!$L$4:$U$138,9,FALSE))","v":"Sveučilišta i veleučilišta u Republici Hrvatskoj"},31,"Vlastiti prihodi",3241,"Naknade troškova osobama izvan radnog odnosa","A679089","REDOVNA DJELATNOST SVEUČILIŠTA U RIJECI (IZ EVIDENCIJSKIH PRIHODA)","0942",413,0,413,null,{"$f":"IF(C56=\"\",\"\",'OPĆI DIO'!$C$1)","v":"38454 SVEUČILIŠTE U RIJECI - AKADEMIJA PRIMJENJENIH UMJETNOSTI"},"324","32","31","94","3",{"$nulls":3},3661,"Tekuće pomoći proračunskim korisnicima drugih proračuna",null,"36","366",null,"A792009","PREVENCIJA NASILJA NAD I MEĐU MLADIMA","1040","Obitelj i djeca","09","096"]
[{"$f":"IF(E57=\"\",\"\",VLOOKUP('OPĆI DIO'!$C$1,'OPĆI DIO'!$L$4:$U$138,10,FALSE))","v":"08006"},{"$f":"IF(E57=\"\",\"\",VLOOKUP('OPĆI DIO'!$C$1,'OPĆI DIO'!$L$4:$U$138,9,FALSE))","v":"Sveučilišta i veleučilišta u Republici Hrvatskoj"},31,"Vlastiti prihodi",3293,"Reprezentacija","A679089","REDOVNA DJELATNOST SVEUČILIŠTA U RIJECI (IZ EVIDENCIJSKIH PRIHODA)","0942",429,0,429,null,{"$f":"IF(C57=\"\",\"\",'OPĆI DIO'!$C$1)","v":"38454 SVEUČILIŠTE U RIJECI - AKADEMIJA PRIMJENJENIH UMJETNOSTI"},"329","32","31","94","3",{"$nulls":3},3662,"Kapitalne pomoći proračunskim korisnicima drugih proračuna",null,"36","366",null,"A792019","PRAVOMOĆNE SUDSKE PRESUDE","0970","Istraživanje i razvoj obrazovanja","09","096"]
[{"$f":"IF(E58=\"\",\"\",VLOOKUP('OPĆI DIO'!$C$1,'OPĆI DIO'!$L$4:$U$138,10,FALSE))","v":"08006"},{"$f":"IF(E58=\"\",\"\",VLOOKUP('OPĆI DIO'!$C$1,'OPĆI DIO'!$L$4:$U$138,9,FALSE))","v":"Sveučilišta i veleučilišta u Republici Hrvatskoj"},31,"Vlastiti prihodi",3296,"Troškovi sudskih postupaka","A679089","REDOVNA DJELATNOST SVEUČILIŠTA U RIJECI (IZ EVIDENCIJSKIH PRIHODA)","0942",500,0,500,null,{"$f":"IF(C58=\"\",\"\",'OPĆI DIO'!$C$1)","v":"38454 SVEUČILIŠTE U RIJECI - AKADEMIJA PRIMJENJENIH UMJETNOSTI"},"329","32","31","94","3",{"$nulls":3},3681,"Tekuće pomoći temeljem prijenosa EU sredstava",null,"36","368",null,"A818021","PRIMJENA UDŽBENIČKOG STANDARDA","0912","Osnovno obrazovanje","09","096"]
[{"$f":"IF(E59=\"\",\"\",VLOOKUP('OPĆI DIO'!$C$1,'OPĆI DIO'!$L$4:$U$138,10,FALSE))","v":"08006"},{"$f":"IF(E59=\"\",\"\",VLOOKUP('OPĆI DIO'!$C$1,'OPĆI DIO'!$L$4:$U$138,9,FALSE))","v":"Sveučilišta i veleučilišta u Republici Hrvatskoj"},31,"Vlastiti prihodi",3299,"Ostali nespomenuti rashodi poslovanja","A679089","REDOVNA DJELATNOST SVEUČILIŠTA U RIJECI (IZ EVIDENCIJSKIH PRIHODA)","0942",500,-78,422,null,{"$f":"IF(C59=\"\",\"\",'OPĆI DIO'!$C$1)","v":"38454 SVEUČILIŠTE U RIJECI - AKADEMIJA PRIMJENJENIH UMJETNOSTI"},"329","32","31","94","3",{"$nulls":3},3682,"Kapitalne pomoći temeljem prijenosa EU sredstava",null,"36","368",null,"A818034","PROJEKT POVEZIVANJA S EUROPSKIM KVALIFIKACIJSKIM OKVIROM - EQF NCP GRANT","0970","Istraživanje i razvoj obrazovanja","09","096"]
[{"$f":"IF(E60=\"\",\"\",VLOOKUP('OPĆI DIO'!$C$1,'OPĆI DIO'!$L$4:$U$138,10,FALSE))","v":"08006"},{"$f":"IF(E60=\"\",\"\",VLOOKUP('OPĆI DIO'!$C$1,'OPĆI DIO'!$L$4:$U$138,9,FALSE))","v":"Sveučilišta i veleučilišta u Republici Hrvatskoj"},31,"Vlastiti prihodi",3691,"Tekući prijenosi između proračunskih korisnika istog proraču","A679089","REDOVNA DJELATNOST SVEUČILIŠTA U RIJECI (IZ EVIDENCIJSKIH PRIHODA)","0942",720,280,{"v":1000,"d":"1,000"},"2444 SVEUČILIŠTE U RIJECI",{"$f":"IF(C60=\"\",\"\",'OPĆI DIO'!$C$1)","v":"38454 SVEUČILIŠTE U RIJECI - AKADEMIJA PRIMJENJENIH UMJETNOSTI"},"369","36","31","94","3",{"$nulls":3},3691,"Tekući prijenosi između proračunskih korisnika istog proraču",null,"36","369",null,"A818035","MENTORI I STRUČNI ISPITI U OSNOVNIM I SREDNJIM ŠKOLAMA","0970","Istraživanje i razvoj obrazovanja","09","096"]
[{"$f":"IF(E61=\"\",\"\",VLOOKUP('OPĆI DIO'!$C$1,'OPĆI DIO'!$L$4:$U$138,10,FALSE))","v":"08006"},{"$f":"IF(E61=\"\",\"\",VLOOKUP('OPĆI DIO'!$C$1,'OPĆI DIO'!$L$4:$U$138,9,FALSE))","v":"Sveučilišta i veleučilišta u Republici Hrvatskoj"},31,"Vlastiti prihodi",4221,"Uredska oprema i namještaj","A679089","REDOVNA DJELATNOST SVEUČILIŠTA U RIJECI (IZ EVIDENCIJSKIH PRIHODA)","0942",500,0,500,null,{"$f":"IF(C61=\"\",\"\",'OPĆI DIO'!$C$1)","v":"38454 SVEUČILIŠTE U RIJECI - AKADEMIJA PRIMJENJENIH UMJETNOSTI"},"422","42","31","94","4",{"$nulls":3},3692,"Kapitalni prijenosi između proračunskih korisnika istog pror",null,"36","369",null,"K578063","PROJEKT \"HRVATSKA: USUSRET ODRŽIVOM, PRAVEDNOM I UČINKOVITOM OBRAZOVANJU\"","0970","Istraživanje i razvoj obrazovanja","09","096"]
[{"$f":"IF(E62=\"\",\"\",VLOOKUP('OPĆI DIO'!$C$1,'OPĆI DIO'!$L$4:$U$138,10,FALSE))","v":"08006"},{"$f":"IF(E62=\"\",\"\",VLOOKUP('OPĆI DIO'!$C$1,'OPĆI DIO'!$L$4:$U$138,9,FALSE))","v":"Sveučilišta i veleučilišta u Republici Hrvatskoj"},31,"Vlastiti prihodi",4225,"Instrumenti i uređaji","A679089","REDOVNA DJELATNOST SVEUČILIŠTA U RIJECI (IZ EVIDENCIJSKIH PRIHODA)","0942",500,601,{"v":1101,"d":"1,101"},null,{"$f":"IF(C62=\"\",\"\",'OPĆI DIO'!$C$1)","v":"38454 SVEUČILIŠTE U RIJECI - AKADEMIJA PRIMJENJENIH UMJETNOSTI"},"422","42","31","94","4",{"$nulls":3},3693,"Tekući prijenosi između proračunskih korisnika istog proraču",null,"36","369",null,"K579064","KAPITALNE INVESTICIJE U OSNOVNOM I SREDNJEM ŠKOLSTVU","0970","Istraživanje i razvoj obrazovanja","09","094"]
[{"$f":"IF(E63=\"\",\"\",VLOOKUP('OPĆI DIO'!$C$1,'OPĆI DIO'!$L$4:$U$138,10,FALSE))","v":"08006"},{"$f":"IF(E63=\"\",\"\",VLOOKUP('OPĆI DIO'!$C$1,'OPĆI DIO'!$L$4:$U$138,9,FALSE))","v":"Sveučilišta i veleučilišta u Republici Hrvatskoj"},31,"Vlastiti prihodi",4227,"Uređaji, strojevi i oprema za ostale namjene","A679089","REDOVNA DJELATNOST SVEUČILIŠTA U RIJECI (IZ EVIDENCIJSKIH PRIHODA)","0942",500,{"v":3500,"d":"3,500"},{"v":4000,"d":"4,000"},null,{"$f":"IF(C63=\"\",\"\",'OPĆI DIO'!$C$1)","v":"38454 SVEUČILIŠTE U RIJECI - AKADEMIJA PRIMJENJENIH UMJETNOSTI"},"422","42","31","94","4",{"$nulls":3},3694,"Kapitalni prijenosi između proračunskih korisnika istog pror",null,"36","369",null,"K580073","IZGRADNJA ŠKOLSKE SPORTSKE DVORANE SREDNJE ŠKOLE ZABOK","0922","Više srednjoškolsko obrazovanje","09","094"]
[{"$f":"IF(E64=\"\",\"\",VLOOKUP('OPĆI DIO'!$C$1,'OPĆI DIO'!$L$4:$U$138,10,FALSE))","v":"08006"},{"$f":"IF(E64=\"\",\"\",VLOOKUP('OPĆI DIO'!$C$1,'OPĆI DIO'!$L$4:$U$138,9,FALSE))","v":"Sveučilišta i veleučilišta u Republici Hrvatskoj"},43,"Ostali prihodi za posebne namjene",3111,"Plaće za redovan rad","A679089","REDOVNA DJELATNOST SVEUČILIŠTA U RIJECI (IZ EVIDENCIJSKIH PRIHODA)","0942",{"v":17222,"d":"17,222"},{"v":2967,"d":"2,967"},{"v":20189,"d":"20,189"},null,{"$f":"IF(C64=\"\",\"\",'OPĆI DIO'!$C$1)","v":"38454 SVEUČILIŠTE U RIJECI - AKADEMIJA PRIMJENJENIH UMJETNOSTI"},"311","31","43","94","3",{"$nulls":3},3711,"Naknade građ. i kuć. u novcu-neposr. ili putem ust.izvan js",null,"37","371",null,"K621173","INFORMACIJSKA INFRASTRUKTURA SUSTAVA VISOKOG OBRAZOVANJA","0942","Drugi stupanj visoke naobrazbe","09","094"]
[{"$f":"IF(E65=\"\",\"\",VLOOKUP('OPĆI DIO'!$C$1,'OPĆI DIO'!$L$4:$U$138,10,FALSE))","v":"08006"},{"$f":"IF(E65=\"\",\"\",VLOOKUP('OPĆI DIO'!$C$1,'OPĆI DIO'!$L$4:$U$138,9,FALSE))","v":"Sveučilišta i veleučilišta u Republici Hrvatskoj"},43,"Ostali prihodi za posebne namjene",3121,"Ostali rashodi za zaposlene","A679089","REDOVNA DJELATNOST SVEUČILIŠTA U RIJECI (IZ EVIDENCIJSKIH PRIHODA)","0942",{"v":3268,"d":"3,268"},{"v":9000,"d":"9,000"},{"v":12268,"d":"12,268"},null,{"$f":"IF(C65=\"\",\"\",'OPĆI DIO'!$C$1)","v":"38454 SVEUČILIŠTE U RIJECI - AKADEMIJA PRIMJENJENIH UMJETNOSTI"},"312","31","43","94","3",{"$nulls":3},3712,"Naknade građ. i kuć. u naravi-neposr. ili putem ust.izvan js",null,"37","371",null,"K676066","OBNOVA ZGRADA OŠTEĆENIH U POTRESU S ENERGETSKOM OBNOVOM - NPOO (C6.1.R1-I2)","0150","Istraživanje i razvoj: Opće javne usluge","09","096"]
[{"$f":"IF(E66=\"\",\"\",VLOOKUP('OPĆI DIO'!$C$1,'OPĆI DIO'!$L$4:$U$138,10,FALSE))","v":"08006"},{"$f":"IF(E66=\"\",\"\",VLOOKUP('OPĆI DIO'!$C$1,'OPĆI DIO'!$L$4:$U$138,9,FALSE))","v":"Sveučilišta i veleučilišta u Republici Hrvatskoj"},43,"Ostali prihodi za posebne namjene",3132,"Doprinosi za obvezno zdravstveno osiguranje","A679089","REDOVNA DJELATNOST SVEUČILIŠTA U RIJECI (IZ EVIDENCIJSKIH PRIHODA)","0942",{"v":2841,"d":"2,841"},{"v":1289,"d":"1,289"},{"v":4130,"d":"4,130"},null,{"$f":"IF(C66=\"\",\"\",'OPĆI DIO'!$C$1)","v":"38454 SVEUČILIŠTE U RIJECI - AKADEMIJA PRIMJENJENIH UMJETNOSTI"},"313","31","43","94","3",{"$nulls":3},3713,"Naknade građanima i kućanstvima u novcu - putem ustanova u j",null,"37","371",null,"K676066","OBNOVA ZGRADA OŠTEĆENIH U POTRESU S ENERGETSKOM OBNOVOM - NPOO (C6.1.R1-I2)","0970","Istraživanje i razvoj obrazovanja","09","094"]
[{"$f":"IF(E67=\"\",\"\",VLOOKUP('OPĆI DIO'!$C$1,'OPĆI DIO'!$L$4:$U$138,10,FALSE))","v":"08006"},{"$f":"IF(E67=\"\",\"\",VLOOKUP('OPĆI DIO'!$C$1,'OPĆI DIO'!$L$4:$U$138,9,FALSE))","v":"Sveučilišta i veleučilišta u Republici Hrvatskoj"},43,"Ostali prihodi za posebne namjene",3211,{"$f":"IFERROR(VLOOKUP(E67,$W$5:$Y$129,2,FALSE),\"\")","v":"Službena putovanja"},"A679089","REDOVNA DJELATNOST SVEUČILIŠTA U RIJECI (IZ EVIDENCIJSKIH PRIHODA)","0942",{"v":2071,"d":"2,071"},{"v":4000,"d":"4,000"},{"v":6071,"d":"6,071"},null,{"$f":"IF(C67=\"\",\"\",'OPĆI DIO'!$C$1)","v":"38454 SVEUČILIŠTE U RIJECI - AKADEMIJA PRIMJENJENIH UMJETNOSTI"},"321","32","43","94","3",{"$nulls":3},3714,"Naknade građanima i kućanstvima u naravi - putem ustanova u",null,"37","371",null,"K733067","PROGRAM UČINKOVITI LJUDSKI POTENCIJALI 2021.-2027., PRIORITET 2","0950","Obrazovanje koje se ne može definirati po stupnju","01","015"]
[{"$f":"IF(E68=\"\",\"\",VLOOKUP('OPĆI DIO'!$C$1,'OPĆI DIO'!$L$4:$U$138,10,FALSE))","v":"08006"},{"$f":"IF(E68=\"\",\"\",VLOOKUP('OPĆI DIO'!$C$1,'OPĆI DIO'!$L$4:$U$138,9,FALSE))","v":"Sveučilišta i veleučilišta u Republici Hrvatskoj"},43,{"$f":"IFERROR(VLOOKUP(C68,$T$6:$U$23,2,FALSE),\"\")","v":"Ostali prihodi za posebne namjene"},3212,"Naknade za prijevoz, za rad na terenu i odvojeni život","A679089",{"$f":"IFERROR(VLOOKUP(G68,$AC$6:$AD$353,2,FALSE),\"\")","v":"REDOVNA DJELATNOST SVEUČILIŠTA U RIJECI (IZ EVIDENCIJSKIH PRIHODA)"},{"$f":"IFERROR(VLOOKUP(G68,$AC$6:$AG$353,3,FALSE),\"\")","v":"0942"},{"v":1000,"d":"1,000"},0,{"$f":"+J68+K68","v":{"v":1000,"d":"1,000"}},null,{"$f":"IF(C68=\"\",\"\",'OPĆI DIO'!$C$1)","v":"38454 SVEUČILIŠTE U RIJECI - AKADEMIJA PRIMJENJENIH UMJETNOSTI"},{"$f":"LEFT(E68,3)","v":"321"},{"$f":"LEFT(E68,2)","v":"32"},{"$f":"LEFT(C68,3)","v":"43"},{"$f":"IF(S68=\"5\",0,MID(I68,2,2))","v":"94"},{"$f":"LEFT(E68,1)","v":"3"},{"$nulls":3},3715,"Naknade građanima i kućanstvima na temelju osiguranja iz EU",null,"37","371",null,"K768066","OBNOVA INFRASTRUKTURE I OPREME U PODRUČJU OBRAZOVANJA OŠTEĆENE POTRESOM","0970","Istraživanje i razvoj obrazovanja","01","015"]
[{"$f":"IF(E69=\"\",\"\",VLOOKUP('OPĆI DIO'!$C$1,'OPĆI DIO'!$L$4:$U$138,10,FALSE))","v":"08006"},{"$f":"IF(E69=\"\",\"\",VLOOKUP('OPĆI DIO'!$C$1,'OPĆI DIO'!$L$4:$U$138,9,FALSE))","v":"Sveučilišta i veleučilišta u Republici Hrvatskoj"},43,"Ostali prihodi za posebne namjene",3213,"Stručno usavršavanje zaposlenika","A679089","REDOVNA DJELATNOST SVEUČILIŠTA U RIJECI (IZ EVIDENCIJSKIH PRIHODA)","0942",731,-731,0,null,{"$f":"IF(C69=\"\",\"\",'OPĆI DIO'!$C$1)","v":"38454 SVEUČILIŠTE U RIJECI - AKADEMIJA PRIMJENJENIH UMJETNOSTI"},"321","32","43","94","3",{"$nulls":3},3721,"Naknade građanima i kućanstvima u novcu",null,"37","372",null,"K768070","OBNOVA INFRASTRUKTURE U PODRUČJU OBRAZOVANJA OŠTEĆENE POTRESOM FSEU.2022.MZO","0970","Istraživanje i razvoj obrazovanja","01","015"]
[{"$f":"IF(E70=\"\",\"\",VLOOKUP('OPĆI DIO'!$C$1,'OPĆI DIO'!$L$4:$U$138,10,FALSE))","v":"08006"},{"$f":"IF(E70=\"\",\"\",VLOOKUP('OPĆI DIO'!$C$1,'OPĆI DIO'!$L$4:$U$138,9,FALSE))","v":"Sveučilišta i veleučilišta u Republici Hrvatskoj"},43,"Ostali prihodi za posebne namjene",3214,"Ostale naknade troškova zaposlenima","A679089","REDOVNA DJELATNOST SVEUČILIŠTA U RIJECI (IZ EVIDENCIJSKIH PRIHODA)","0942",null,0,0,null,{"$f":"IF(C70=\"\",\"\",'OPĆI DIO'!$C$1)","v":"38454 SVEUČILIŠTE U RIJECI - AKADEMIJA PRIMJENJENIH UMJETNOSTI"},"321","32","43","94","3",{"$nulls":3},3722,"Naknade građanima i kućanstvima u naravi",null,"37","372",null,"K768074","UČENIČKI DOM U KOPRIVNICI","0970","Istraživanje i razvoj obrazovanja","01","015"]
[{"$f":"IF(E71=\"\",\"\",VLOOKUP('OPĆI DIO'!$C$1,'OPĆI DIO'!$L$4:$U$138,10,FALSE))","v":"08006"},{"$f":"IF(E71=\"\",\"\",VLOOKUP('OPĆI DIO'!$C$1,'OPĆI DIO'!$L$4:$U$138,9,FALSE))","v":"Sveučilišta i veleučilišta u Republici Hrvatskoj"},43,"Ostali prihodi za posebne namjene",3221,"Uredski materijal i ostali materijalni rashodi","A679089","REDOVNA DJELATNOST SVEUČILIŠTA U RIJECI (IZ EVIDENCIJSKIH PRIHODA)","0942",447,-440,7,null,{"$f":"IF(C71=\"\",\"\",'OPĆI DIO'!$C$1)","v":"38454 SVEUČILIŠTE U RIJECI - AKADEMIJA PRIMJENJENIH UMJETNOSTI"},"322","32","43","94","3",{"$nulls":3},3723,"Naknade građanima i kućanstvima iz EU sredstava",null,"37","372",null,"K818050","OP UČINKOVITI LJUDSKI POTENCIJALI 2014.-2020., PRIORITET 3 i 4","0950","Obrazovanje koje se ne može definirati po stupnju","01","015"]
[{"$f":"IF(E72=\"\",\"\",VLOOKUP('OPĆI DIO'!$C$1,'OPĆI DIO'!$L$4:$U$138,10,FALSE))","v":"08006"},{"$f":"IF(E72=\"\",\"\",VLOOKUP('OPĆI DIO'!$C$1,'OPĆI DIO'!$L$4:$U$138,9,FALSE))","v":"Sveučilišta i veleučilišta u Republici Hrvatskoj"},43,"Ostali prihodi za posebne namjene",3222,"Materijal i sirovine","A679089","REDOVNA DJELATNOST SVEUČILIŠTA U RIJECI (IZ EVIDENCIJSKIH PRIHODA)","0942",{"v":15000,"d":"15,000"},{"v":-6500,"d":"-6,500"},{"v":8500,"d":"8,500"},null,{"$f":"IF(C72=\"\",\"\",'OPĆI DIO'!$C$1)","v":"38454 SVEUČILIŠTE U RIJECI - AKADEMIJA PRIMJENJENIH UMJETNOSTI"},"322","32","43","94","3",{"$nulls":3},3811,"Tekuće donacije u novcu",null,"38","381",null,"T580070","SANACIJA POSLJEDICA POTRESA","0970","Istraživanje i razvoj obrazovanja","01","015"]
[{"$f":"IF(E73=\"\",\"\",VLOOKUP('OPĆI DIO'!$C$1,'OPĆI DIO'!$L$4:$U$138,10,FALSE))","v":"08006"},{"$f":"IF(E73=\"\",\"\",VLOOKUP('OPĆI DIO'!$C$1,'OPĆI DIO'!$L$4:$U$138,9,FALSE))","v":"Sveučilišta i veleučilišta u Republici Hrvatskoj"},43,"Ostali prihodi za posebne namjene",3224,"Materijal i dijelovi za tekuće i investicijsko održavanje","A679089","REDOVNA DJELATNOST SVEUČILIŠTA U RIJECI (IZ EVIDENCIJSKIH PRIHODA)","0942",500,-400,100,null,{"$f":"IF(C73=\"\",\"\",'OPĆI DIO'!$C$1)","v":"38454 SVEUČILIŠTE U RIJECI - AKADEMIJA PRIMJENJENIH UMJETNOSTI"},"322","32","43","94","3",{"$nulls":3},3812,"Tekuće donacije u naravi",null,"38","381",null,"A578003","ODGOJ I NAOBRAZBA DJECE PRIPADNIKA NACIONALNIH MANJINA","0911","Predškolsko obrazovanje","01","015"]
[{"$f":"IF(E74=\"\",\"\",VLOOKUP('OPĆI DIO'!$C$1,'OPĆI DIO'!$L$4:$U$138,10,FALSE))","v":"08006"},{"$f":"IF(E74=\"\",\"\",VLOOKUP('OPĆI DIO'!$C$1,'OPĆI DIO'!$L$4:$U$138,9,FALSE))","v":"Sveučilišta i veleučilišta u Republici Hrvatskoj"},43,"Ostali prihodi za posebne namjene",3225,"Sitni inventar i autogume","A679089","REDOVNA DJELATNOST SVEUČILIŠTA U RIJECI (IZ EVIDENCIJSKIH PRIHODA)","0942",500,-300,200,null,{"$f":"IF(C74=\"\",\"\",'OPĆI DIO'!$C$1)","v":"38454 SVEUČILIŠTE U RIJECI - AKADEMIJA PRIMJENJENIH UMJETNOSTI"},"322","32","43","94","3",{"$nulls":3},3813,"Tekuće donacije iz EU sredstava",null,{"$f":"LEFT(W74,2)","v":"38"},{"$f":"LEFT(W74,3)","v":"381"},null,"A578004","PREDŠKOLSKI ODGOJ I OBRAZOVANJE DJECE S TEŠKOĆAMA U RAZVOJU (SUFINANCIRANJE)","0911","Predškolsko obrazovanje","09","097"]
[{"$f":"IF(E75=\"\",\"\",VLOOKUP('OPĆI DIO'!$C$1,'OPĆI DIO'!$L$4:$U$138,10,FALSE))","v":"08006"},{"$f":"IF(E75=\"\",\"\",VLOOKUP('OPĆI DIO'!$C$1,'OPĆI DIO'!$L$4:$U$138,9,FALSE))","v":"Sveučilišta i veleučilišta u Republici Hrvatskoj"},43,"Ostali prihodi za posebne namjene",3227,"Službena, radna i zaštitna odjeća i obuća","A679089","REDOVNA DJELATNOST SVEUČILIŠTA U RIJECI (IZ EVIDENCIJSKIH PRIHODA)","0942",500,-500,0,null,{"$f":"IF(C75=\"\",\"\",'OPĆI DIO'!$C$1)","v":"38454 SVEUČILIŠTE U RIJECI - AKADEMIJA PRIMJENJENIH UMJETNOSTI"},"322","32","43","94","3",{"$nulls":3},3821,"Kapitalne donacije neprofitnim organizacijama",null,"38","382",null,"A578008","ODGOJ I NAOBRAZBA DJECE U PROGRAMIMA PREDŠKOLE","0911","Predškolsko obrazovanje","09","097"]
[{"$f":"IF(E76=\"\",\"\",VLOOKUP('OPĆI DIO'!$C$1,'OPĆI DIO'!$L$4:$U$138,10,FALSE))","v":"08006"},{"$f":"IF(E76=\"\",\"\",VLOOKUP('OPĆI DIO'!$C$1,'OPĆI DIO'!$L$4:$U$138,9,FALSE))","v":"Sveučilišta i veleučilišta u Republici Hrvatskoj"},43,"Ostali prihodi za posebne namjene",3231,"Usluge telefona, interneta, pošte i prijevoza","A679089","REDOVNA DJELATNOST SVEUČILIŠTA U RIJECI (IZ EVIDENCIJSKIH PRIHODA)","0942",200,-200,0,null,{"$f":"IF(C76=\"\",\"\",'OPĆI DIO'!$C$1)","v":"38454 SVEUČILIŠTE U RIJECI - AKADEMIJA PRIMJENJENIH UMJETNOSTI"},"323","32","43","94","3",{"$nulls":3},3831,"Naknade šteta pravnim i fizičkim osobama",null,"38","383",null,"A578009","ODGOJ I OBRAZOVANJE DAROVITE DJECE PREDŠKOLSKE DOBI U DJEČJIM VRTIĆIMA","0911","Predškolsko obrazovanje","01","015"]
[{"$f":"IF(E77=\"\",\"\",VLOOKUP('OPĆI DIO'!$C$1,'OPĆI DIO'!$L$4:$U$138,10,FALSE))","v":"08006"},{"$f":"IF(E77=\"\",\"\",VLOOKUP('OPĆI DIO'!$C$1,'OPĆI DIO'!$L$4:$U$138,9,FALSE))","v":"Sveučilišta i veleučilišta u Republici Hrvatskoj"},43,"Ostali prihodi za posebne namjene",3232,"Usluge tekućeg i investicijskog održavanja","A679089","REDOVNA DJELATNOST SVEUČILIŠTA U RIJECI (IZ EVIDENCIJSKIH PRIHODA)","0942",500,{"v":1000,"d":"1,000"},{"v":1500,"d":"1,500"},null,{"$f":"IF(C77=\"\",\"\",'OPĆI DIO'!$C$1)","v":"38454 SVEUČILIŠTE U RIJECI - AKADEMIJA PRIMJENJENIH UMJETNOSTI"},"323","32","43","94","3",{"$nulls":3},3832,"Penali, ležarine i drugo",null,"38","383",null,"K580071","KAPITALNE DONACIJE DJEČJIM VRTIĆIMA","0911","Predškolsko obrazovanje","09","097"]
[{"$f":"IF(E78=\"\",\"\",VLOOKUP('OPĆI DIO'!$C$1,'OPĆI DIO'!$L$4:$U$138,10,FALSE))","v":"08006"},{"$f":"IF(E78=\"\",\"\",VLOOKUP('OPĆI DIO'!$C$1,'OPĆI DIO'!$L$4:$U$138,9,FALSE))","v":"Sveučilišta i veleučilišta u Republici Hrvatskoj"},43,"Ostali prihodi za posebne namjene",3233,"Usluge promidžbe i informiranja","A679089","REDOVNA DJELATNOST SVEUČILIŠTA U RIJECI (IZ EVIDENCIJSKIH PRIHODA)","0942",855,0,855,null,{"$f":"IF(C78=\"\",\"\",'OPĆI DIO'!$C$1)","v":"38454 SVEUČILIŠTE U RIJECI - AKADEMIJA PRIMJENJENIH UMJETNOSTI"},"323","32","43","94","3",{"$nulls":3},3833,"Naknade šteta zaposlenicima",null,"38","383",null,"K676067","IZGRADNJA, DOGRADNJA, REKONSTRUKCIJA I OPREMANJE PREDŠKOLSKIH USTANOVA - NPOO (C3.1.R1-I1)","0911","Predškolsko obrazovanje","09","097"]
[{"$f":"IF(E79=\"\",\"\",VLOOKUP('OPĆI DIO'!$C$1,'OPĆI DIO'!$L$4:$U$138,10,FALSE))","v":"08006"},{"$f":"IF(E79=\"\",\"\",VLOOKUP('OPĆI DIO'!$C$1,'OPĆI DIO'!$L$4:$U$138,9,FALSE))","v":"Sveučilišta i veleučilišta u Republici Hrvatskoj"},43,"Ostali prihodi za posebne namjene",3235,"Zakupnine i najamnine","A679089","REDOVNA DJELATNOST SVEUČILIŠTA U RIJECI (IZ EVIDENCIJSKIH PRIHODA)","0942",{"v":1000,"d":"1,000"},-500,500,null,{"$f":"IF(C79=\"\",\"\",'OPĆI DIO'!$C$1)","v":"38454 SVEUČILIŠTE U RIJECI - AKADEMIJA PRIMJENJENIH UMJETNOSTI"},"323","32","43","94","3",{"$nulls":3},3834,"Ugovorene kazne i ostale naknade šteta",null,"38","383",null,"K676071","FISKALNA ODRŽIVOST DJEČJIH VRTIĆA","0911","Predškolsko obrazovanje","01","015"]
[{"$f":"IF(E80=\"\",\"\",VLOOKUP('OPĆI DIO'!$C$1,'OPĆI DIO'!$L$4:$U$138,10,FALSE))","v":"08006"},{"$f":"IF(E80=\"\",\"\",VLOOKUP('OPĆI DIO'!$C$1,'OPĆI DIO'!$L$4:$U$138,9,FALSE))","v":"Sveučilišta i veleučilišta u Republici Hrvatskoj"},43,"Ostali prihodi za posebne namjene",3237,"Intelektualne i osobne usluge","A679089","REDOVNA DJELATNOST SVEUČILIŠTA U RIJECI (IZ EVIDENCIJSKIH PRIHODA)","0942",{"v":14200,"d":"14,200"},{"v":3000,"d":"3,000"},{"v":17200,"d":"17,200"},null,{"$f":"IF(C80=\"\",\"\",'OPĆI DIO'!$C$1)","v":"38454 SVEUČILIŠTE U RIJECI - AKADEMIJA PRIMJENJENIH UMJETNOSTI"},"323","32","43","94","3",{"$nulls":3},3835,"Ostale kazne",null,"38","383",null,"A557041","PREUZIMANJE OBVEZA ZA PROJEKTE JAVNO PRIVATNOG PARTNERSTVA U VARAŽDINSKOJ I KOPRIVNIČKO-KRIŽEVAČKOJ ŽUPANIJI","0912","Osnovno obrazovanje","09","097"]
[{"$f":"IF(E81=\"\",\"\",VLOOKUP('OPĆI DIO'!$C$1,'OPĆI DIO'!$L$4:$U$138,10,FALSE))","v":"08006"},{"$f":"IF(E81=\"\",\"\",VLOOKUP('OPĆI DIO'!$C$1,'OPĆI DIO'!$L$4:$U$138,9,FALSE))","v":"Sveučilišta i veleučilišta u Republici Hrvatskoj"},43,"Ostali prihodi za posebne namjene",3238,"Računalne usluge","A679089","REDOVNA DJELATNOST SVEUČILIŠTA U RIJECI (IZ EVIDENCIJSKIH PRIHODA)","0942",500,-500,0,null,{"$f":"IF(C81=\"\",\"\",'OPĆI DIO'!$C$1)","v":"38454 SVEUČILIŠTE U RIJECI - AKADEMIJA PRIMJENJENIH UMJETNOSTI"},"323","32","43","94","3",{"$nulls":3},3861,"Kapitalne pomoći kreditnim i ostalim financijskim institucijama te trgovačkim društvima u javnom sektoru",null,{"$f":"LEFT(W81,2)","v":"38"},{"$f":"LEFT(W81,3)","v":"386"},null,"A579000","OSNOVNOŠKOLSKO OBRAZOVANJE","0180","Prijenosi općeg karaktera između različitih državnih razina","09","094"]
[{"$f":"IF(E82=\"\",\"\",VLOOKUP('OPĆI DIO'!$C$1,'OPĆI DIO'!$L$4:$U$138,10,FALSE))","v":"08006"},{"$f":"IF(E82=\"\",\"\",VLOOKUP('OPĆI DIO'!$C$1,'OPĆI DIO'!$L$4:$U$138,9,FALSE))","v":"Sveučilišta i veleučilišta u Republici Hrvatskoj"},43,"Ostali prihodi za posebne namjene",3239,"Ostale usluge","A679089","REDOVNA DJELATNOST SVEUČILIŠTA U RIJECI (IZ EVIDENCIJSKIH PRIHODA)","0942",467,-431,36,null,{"$f":"IF(C82=\"\",\"\",'OPĆI DIO'!$C$1)","v":"38454 SVEUČILIŠTE U RIJECI - AKADEMIJA PRIMJENJENIH UMJETNOSTI"},"323","32","43","94","3",{"$nulls":3},3862,"Kapitalne pomoći kreditnim i ostalim financijskim institucijama te trgovačkim društvima i zadrugama izvan javnog sektora",null,{"$f":"LEFT(W82,2)","v":"38"},{"$f":"LEFT(W82,3)","v":"386"},null,"A579003","ODGOJ I NAOBRAZBA UČENIKA S TEŠKOĆAMA U RAZVOJU U OSNOVNIM ŠKOLAMA","0912","Osnovno obrazovanje","09","094"]
[{"$f":"IF(E83=\"\",\"\",VLOOKUP('OPĆI DIO'!$C$1,'OPĆI DIO'!$L$4:$U$138,10,FALSE))","v":"08006"},{"$f":"IF(E83=\"\",\"\",VLOOKUP('OPĆI DIO'!$C$1,'OPĆI DIO'!$L$4:$U$138,9,FALSE))","v":"Sveučilišta i veleučilišta u Republici Hrvatskoj"},43,"Ostali prihodi za posebne namjene",3241,"Naknade troškova osobama izvan radnog odnosa","A679089","REDOVNA DJELATNOST SVEUČILIŠTA U RIJECI (IZ EVIDENCIJSKIH PRIHODA)","0942",342,-142,200,null,{"$f":"IF(C83=\"\",\"\",'OPĆI DIO'!$C$1)","v":"38454 SVEUČILIŠTE U RIJECI - AKADEMIJA PRIMJENJENIH UMJETNOSTI"},"324","32","43","94","3",{"$nulls":3},3863,"Kapitalne pomoći poljoprivrednicima i obrtnicima",null,{"$f":"LEFT(W83,2)","v":"38"},{"$f":"LEFT(W83,3)","v":"386"},null,"A579007","PRAVOMOĆNE SUDSKE PRESUDE","0180","Prijenosi općeg karaktera između različitih državnih razina","09","094"]
[{"$f":"IF(E84=\"\",\"\",VLOOKUP('OPĆI DIO'!$C$1,'OPĆI DIO'!$L$4:$U$138,10,FALSE))","v":"08006"},{"$f":"IF(E84=\"\",\"\",VLOOKUP('OPĆI DIO'!$C$1,'OPĆI DIO'!$L$4:$U$138,9,FALSE))","v":"Sveučilišta i veleučilišta u Republici Hrvatskoj"},43,"Ostali prihodi za posebne namjene",3292,"Premije osiguranja","A679089","REDOVNA DJELATNOST SVEUČILIŠTA U RIJECI (IZ EVIDENCIJSKIH PRIHODA)","0942",500,-500,0,null,{"$f":"IF(C84=\"\",\"\",'OPĆI DIO'!$C$1)","v":"38454 SVEUČILIŠTE U RIJECI - AKADEMIJA PRIMJENJENIH UMJETNOSTI"},"329","32","43","94","3",{"$nulls":3},3865,"Kapitalne pomoći trgovačkim društvima i obrtnicima po protestiranim jamstvima u tuzemstvu i inozemstvu",null,{"$f":"LEFT(W84,2)","v":"38"},{"$f":"LEFT(W84,3)","v":"386"},null,"A579069","RAZVOJ PREDŠKOLSKOG I OSNOVNOŠKOLSKOG SUSTAVA ODGOJA I OBRAZOVANJA","0912","Osnovno obrazovanje","09","094"]
[{"$f":"IF(E85=\"\",\"\",VLOOKUP('OPĆI DIO'!$C$1,'OPĆI DIO'!$L$4:$U$138,10,FALSE))","v":"08006"},{"$f":"IF(E85=\"\",\"\",VLOOKUP('OPĆI DIO'!$C$1,'OPĆI DIO'!$L$4:$U$138,9,FALSE))","v":"Sveučilišta i veleučilišta u Republici Hrvatskoj"},43,"Ostali prihodi za posebne namjene",3293,"Reprezentacija","A679089","REDOVNA DJELATNOST SVEUČILIŠTA U RIJECI (IZ EVIDENCIJSKIH PRIHODA)","0942",431,-231,200,null,{"$f":"IF(C85=\"\",\"\",'OPĆI DIO'!$C$1)","v":"38454 SVEUČILIŠTE U RIJECI - AKADEMIJA PRIMJENJENIH UMJETNOSTI"},"329","32","43","94","3",{"$nulls":3},4111,"Zemljište",null,{"$f":"LEFT(W85,2)","v":"41"},{"$f":"LEFT(W85,3)","v":"411"},null,"A768072","PREHRANA ZA UČENIKE U OSNOVNIM ŠKOLAMA","0912","Osnovno obrazovanje","09","094"]
[{"$f":"IF(E86=\"\",\"\",VLOOKUP('OPĆI DIO'!$C$1,'OPĆI DIO'!$L$4:$U$138,10,FALSE))","v":"08006"},{"$f":"IF(E86=\"\",\"\",VLOOKUP('OPĆI DIO'!$C$1,'OPĆI DIO'!$L$4:$U$138,9,FALSE))","v":"Sveučilišta i veleučilišta u Republici Hrvatskoj"},43,"Ostali prihodi za posebne namjene",3294,"Članarine i norme","A679089","REDOVNA DJELATNOST SVEUČILIŠTA U RIJECI (IZ EVIDENCIJSKIH PRIHODA)","0942",{"v":1000,"d":"1,000"},-200,800,null,{"$f":"IF(C86=\"\",\"\",'OPĆI DIO'!$C$1)","v":"38454 SVEUČILIŠTE U RIJECI - AKADEMIJA PRIMJENJENIH UMJETNOSTI"},"329","32","43","94","3",{"$nulls":3},4113,"Ostala prirodna materijalna imovina",null,"41","411",null,"K110283","OPREMANJE OSNOVNOŠKOLSKIH KNJIŽNICA OBVEZNOM LEKTIROM I STRUČNOM LITERATUROM","0912","Osnovno obrazovanje","09","097"]
[{"$f":"IF(E87=\"\",\"\",VLOOKUP('OPĆI DIO'!$C$1,'OPĆI DIO'!$L$4:$U$138,10,FALSE))","v":"08006"},{"$f":"IF(E87=\"\",\"\",VLOOKUP('OPĆI DIO'!$C$1,'OPĆI DIO'!$L$4:$U$138,9,FALSE))","v":"Sveučilišta i veleučilišta u Republici Hrvatskoj"},43,"Ostali prihodi za posebne namjene",3299,"Ostali nespomenuti rashodi poslovanja","A679089","REDOVNA DJELATNOST SVEUČILIŠTA U RIJECI (IZ EVIDENCIJSKIH PRIHODA)","0942",181,-181,0,null,{"$f":"IF(C87=\"\",\"\",'OPĆI DIO'!$C$1)","v":"38454 SVEUČILIŠTE U RIJECI - AKADEMIJA PRIMJENJENIH UMJETNOSTI"},"329","32","43","94","3",{"$nulls":3},4122,"Koncesije",null,"41","412",null,"K578064","CENTAR ZA ODGOJ I OBRAZOVANJE ČAKOVEC","0912","Osnovno obrazovanje","01","015"]
[{"$f":"IF(E88=\"\",\"\",VLOOKUP('OPĆI DIO'!$C$1,'OPĆI DIO'!$L$4:$U$138,10,FALSE))","v":"08006"},{"$f":"IF(E88=\"\",\"\",VLOOKUP('OPĆI DIO'!$C$1,'OPĆI DIO'!$L$4:$U$138,9,FALSE))","v":"Sveučilišta i veleučilišta u Republici Hrvatskoj"},43,"Ostali prihodi za posebne namjene",3431,"Bankarske usluge i usluge platnog prometa","A679089","REDOVNA DJELATNOST SVEUČILIŠTA U RIJECI (IZ EVIDENCIJSKIH PRIHODA)","0942",{"v":2000,"d":"2,000"},0,{"v":2000,"d":"2,000"},null,{"$f":"IF(C88=\"\",\"\",'OPĆI DIO'!$C$1)","v":"38454 SVEUČILIŠTE U RIJECI - AKADEMIJA PRIMJENJENIH UMJETNOSTI"},"343","34","43","94","3",{"$nulls":3},4123,"Licence",null,"41","412",null,"K733061","OSNOVNA ŠKOLA MILAN AMRUŠ SLAVONSKI BROD","0912","Osnovno obrazovanje","09","097"]
[{"$f":"IF(E89=\"\",\"\",VLOOKUP('OPĆI DIO'!$C$1,'OPĆI DIO'!$L$4:$U$138,10,FALSE))","v":"08006"},{"$f":"IF(E89=\"\",\"\",VLOOKUP('OPĆI DIO'!$C$1,'OPĆI DIO'!$L$4:$U$138,9,FALSE))","v":"Sveučilišta i veleučilišta u Republici Hrvatskoj"},43,"Ostali prihodi za posebne namjene",3691,"Tekući prijenosi između proračunskih korisnika istog proraču","A679089","REDOVNA DJELATNOST SVEUČILIŠTA U RIJECI (IZ EVIDENCIJSKIH PRIHODA)","0942",{"v":1440,"d":"1,440"},-440,{"v":1000,"d":"1,000"},"2444 SVEUČILIŠTE U RIJECI",{"$f":"IF(C89=\"\",\"\",'OPĆI DIO'!$C$1)","v":"38454 SVEUČILIŠTE U RIJECI - AKADEMIJA PRIMJENJENIH UMJETNOSTI"},"369","36","43","94","3",{"$nulls":3},4124,"Ostala prava",null,"41","412",null,"K767031","OŠ MIJATA STOJANOVIĆA U BABINOJ GREDI","0912","Osnovno obrazovanje","09","097"]
[{"$f":"IF(E90=\"\",\"\",VLOOKUP('OPĆI DIO'!$C$1,'OPĆI DIO'!$L$4:$U$138,10,FALSE))","v":"08006"},{"$f":"IF(E90=\"\",\"\",VLOOKUP('OPĆI DIO'!$C$1,'OPĆI DIO'!$L$4:$U$138,9,FALSE))","v":"Sveučilišta i veleučilišta u Republici Hrvatskoj"},43,"Ostali prihodi za posebne namjene",4221,"Uredska oprema i namještaj","A679089","REDOVNA DJELATNOST SVEUČILIŠTA U RIJECI (IZ EVIDENCIJSKIH PRIHODA)","0942",{"v":1918,"d":"1,918"},{"v":-1418,"d":"-1,418"},500,null,{"$f":"IF(C90=\"\",\"\",'OPĆI DIO'!$C$1)","v":"38454 SVEUČILIŠTE U RIJECI - AKADEMIJA PRIMJENJENIH UMJETNOSTI"},"422","42","43","94","4",{"$nulls":3},4126,"Ostala nematerijalna imovina",null,"41","412",null,"K768067","IZGRADNJA, DOGRADNJA, REKONSTRUKCIJA I OPREMANJE OSNOVNIH ŠKOLA ZA POTREBE JEDNOSMJENSKOG RADA I CJELODNEVNE NASTAVE - NPOO (C3.1.R1-I2)","0912","Osnovno obrazovanje","09","097"]
[{"$f":"IF(E91=\"\",\"\",VLOOKUP('OPĆI DIO'!$C$1,'OPĆI DIO'!$L$4:$U$138,10,FALSE))","v":"08006"},{"$f":"IF(E91=\"\",\"\",VLOOKUP('OPĆI DIO'!$C$1,'OPĆI DIO'!$L$4:$U$138,9,FALSE))","v":"Sveučilišta i veleučilišta u Republici Hrvatskoj"},43,"Ostali prihodi za posebne namjene",4222,"Komunikacijska oprema","A679089","REDOVNA DJELATNOST SVEUČILIŠTA U RIJECI (IZ EVIDENCIJSKIH PRIHODA)","0942",881,-381,500,null,{"$f":"IF(C91=\"\",\"\",'OPĆI DIO'!$C$1)","v":"38454 SVEUČILIŠTE U RIJECI - AKADEMIJA PRIMJENJENIH UMJETNOSTI"},"422","42","43","94","4",{"$nulls":3},4211,"Stambeni objekti",null,"42","421",null,"A580000","SREDNJOŠKOLSKO OBRAZOVANJE","0180","Prijenosi općeg karaktera između različitih državnih razina","01","015"]
[{"$f":"IF(E92=\"\",\"\",VLOOKUP('OPĆI DIO'!$C$1,'OPĆI DIO'!$L$4:$U$138,10,FALSE))","v":"08006"},{"$f":"IF(E92=\"\",\"\",VLOOKUP('OPĆI DIO'!$C$1,'OPĆI DIO'!$L$4:$U$138,9,FALSE))","v":"Sveučilišta i veleučilišta u Republici Hrvatskoj"},43,"Ostali prihodi za posebne namjene",4225,"Instrumenti i uređaji","A679089","REDOVNA DJELATNOST SVEUČILIŠTA U RIJECI (IZ EVIDENCIJSKIH PRIHODA)","0942",{"v":1000,"d":"1,000"},-500,500,null,{"$f":"IF(C92=\"\",\"\",'OPĆI DIO'!$C$1)","v":"38454 SVEUČILIŠTE U RIJECI - AKADEMIJA PRIMJENJENIH UMJETNOSTI"},"422","42","43","94","4",{"$nulls":3},4212,"Poslovni objekti",null,"42","421",null,"A580004","STANDARD UČENIKA S POSEBNIM POTREBAMA","0922","Više srednjoškolsko obrazovanje","01","015"]
[{"$f":"IF(E93=\"\",\"\",VLOOKUP('OPĆI DIO'!$C$1,'OPĆI DIO'!$L$4:$U$138,10,FALSE))","v":"08006"},{"$f":"IF(E93=\"\",\"\",VLOOKUP('OPĆI DIO'!$C$1,'OPĆI DIO'!$L$4:$U$138,9,FALSE))","v":"Sveučilišta i veleučilišta u Republici Hrvatskoj"},43,"Ostali prihodi za posebne namjene",4227,"Uređaji, strojevi i oprema za ostale namjene","A679089","REDOVNA DJELATNOST SVEUČILIŠTA U RIJECI (IZ EVIDENCIJSKIH PRIHODA)","0942",{"v":2000,"d":"2,000"},{"v":-1500,"d":"-1,500"},500,null,{"$f":"IF(C93=\"\",\"\",'OPĆI DIO'!$C$1)","v":"38454 SVEUČILIŠTE U RIJECI - AKADEMIJA PRIMJENJENIH UMJETNOSTI"},"422","42","43","94","4",{"$nulls":3},4213,"Ceste, željeznice i ostali prometni objekti",null,"42","421",null,"A580007","PRAVOMOĆNE SUDSKE PRESUDE","0180","Prijenosi općeg karaktera između različitih državnih razina","01","015"]
[{"$f":"IF(E94=\"\",\"\",VLOOKUP('OPĆI DIO'!$C$1,'OPĆI DIO'!$L$4:$U$138,10,FALSE))","v":"08006"},{"$f":"IF(E94=\"\",\"\",VLOOKUP('OPĆI DIO'!$C$1,'OPĆI DIO'!$L$4:$U$138,9,FALSE))","v":"Sveučilišta i veleučilišta u Republici Hrvatskoj"},52,"Ostale pomoći",3211,"Službena putovanja","A679089","REDOVNA DJELATNOST SVEUČILIŠTA U RIJECI (IZ EVIDENCIJSKIH PRIHODA)","0942",{"v":1925,"d":"1,925"},0,{"v":1925,"d":"1,925"},null,{"$f":"IF(C94=\"\",\"\",'OPĆI DIO'!$C$1)","v":"38454 SVEUČILIŠTE U RIJECI - AKADEMIJA PRIMJENJENIH UMJETNOSTI"},"321","32","52","94","3",{"$nulls":3},4214,"Ostali građevinski objekti",null,"42","421",null,"A580014","RAZVOJ SUSTAVA OBRAZOVANJA ODRASLIH","0922","Više srednjoškolsko obrazovanje","09","097"]
[{"$f":"IF(E95=\"\",\"\",VLOOKUP('OPĆI DIO'!$C$1,'OPĆI DIO'!$L$4:$U$138,10,FALSE))","v":"08006"},{"$f":"IF(E95=\"\",\"\",VLOOKUP('OPĆI DIO'!$C$1,'OPĆI DIO'!$L$4:$U$138,9,FALSE))","v":"Sveučilišta i veleučilišta u Republici Hrvatskoj"},52,"Ostale pomoći",3237,"Intelektualne i osobne usluge","A679089","REDOVNA DJELATNOST SVEUČILIŠTA U RIJECI (IZ EVIDENCIJSKIH PRIHODA)","0942",{"v":4853,"d":"4,853"},{"v":15000,"d":"15,000"},{"v":19853,"d":"19,853"},null,{"$f":"IF(C95=\"\",\"\",'OPĆI DIO'!$C$1)","v":"38454 SVEUČILIŠTE U RIJECI - AKADEMIJA PRIMJENJENIH UMJETNOSTI"},"323","32","52","94","3",{"$nulls":3},4221,"Uredska oprema i namještaj",null,"42","422",null,"A580037","JAVNI MEĐUMJESNI PRIJEVOZ ZA UČENIKE","0922","Više srednjoškolsko obrazovanje","09","097"]
[{"$f":"IF(E96=\"\",\"\",VLOOKUP('OPĆI DIO'!$C$1,'OPĆI DIO'!$L$4:$U$138,10,FALSE))","v":"08006"},{"$f":"IF(E96=\"\",\"\",VLOOKUP('OPĆI DIO'!$C$1,'OPĆI DIO'!$L$4:$U$138,9,FALSE))","v":"Sveučilišta i veleučilišta u Republici Hrvatskoj"},52,"Ostale pomoći",3293,"Reprezentacija","A679089","REDOVNA DJELATNOST SVEUČILIŠTA U RIJECI (IZ EVIDENCIJSKIH PRIHODA)","0942",100,0,100,null,{"$f":"IF(C96=\"\",\"\",'OPĆI DIO'!$C$1)","v":"38454 SVEUČILIŠTE U RIJECI - AKADEMIJA PRIMJENJENIH UMJETNOSTI"},"329","32","52","94","3",{"$nulls":3},4222,"Komunikacijska oprema",null,"42","422",null,"A580044","RAZVOJ SUSTAVA SREDNJOŠKOLSKOG ODGOJA I OBRAZOVANJA","0922","Više srednjoškolsko obrazovanje","09","097"]
[{"$f":"IF(E97=\"\",\"\",VLOOKUP('OPĆI DIO'!$C$1,'OPĆI DIO'!$L$4:$U$138,10,FALSE))","v":"08006"},{"$f":"IF(E97=\"\",\"\",VLOOKUP('OPĆI DIO'!$C$1,'OPĆI DIO'!$L$4:$U$138,9,FALSE))","v":"Sveučilišta i veleučilišta u Republici Hrvatskoj"},52,"Ostale pomoći",3241,"Naknade troškova osobama izvan radnog odnosa","A679089","REDOVNA DJELATNOST SVEUČILIŠTA U RIJECI (IZ EVIDENCIJSKIH PRIHODA)","0942",100,{"v":1000,"d":"1,000"},{"v":1100,"d":"1,100"},null,{"$f":"IF(C97=\"\",\"\",'OPĆI DIO'!$C$1)","v":"38454 SVEUČILIŠTE U RIJECI - AKADEMIJA PRIMJENJENIH UMJETNOSTI"},"324","32","52","94","3",{"$nulls":3},4223,"Oprema za održavanje i zaštitu",null,"42","422",null,"A767013","RAZVOJ SUSTAVA OSIGURANJA KVALITETE","0922","Više srednjoškolsko obrazovanje","09","097"]
[{"$f":"IF(E98=\"\",\"\",VLOOKUP('OPĆI DIO'!$C$1,'OPĆI DIO'!$L$4:$U$138,10,FALSE))","v":"08006"},{"$f":"IF(E98=\"\",\"\",VLOOKUP('OPĆI DIO'!$C$1,'OPĆI DIO'!$L$4:$U$138,9,FALSE))","v":"Sveučilišta i veleučilišta u Republici Hrvatskoj"},52,"Ostale pomoći",3221,"Uredski materijal i ostali materijalni rashodi","A679089","REDOVNA DJELATNOST SVEUČILIŠTA U RIJECI (IZ EVIDENCIJSKIH PRIHODA)","0942",500,0,500,null,{"$f":"IF(C98=\"\",\"\",'OPĆI DIO'!$C$1)","v":"38454 SVEUČILIŠTE U RIJECI - AKADEMIJA PRIMJENJENIH UMJETNOSTI"},"322","32","52","94","3",{"$nulls":3},4224,"Medicinska i laboratorijska oprema",null,"42","422",null,"K110291","OPREMANJE SREDNJOŠKOLSKIH KNJIŽNICA LEKTIROM I STRUČNOM LITERATUROM","0922","Više srednjoškolsko obrazovanje","09","097"]
[{"$f":"IF(E99=\"\",\"\",VLOOKUP('OPĆI DIO'!$C$1,'OPĆI DIO'!$L$4:$U$138,10,FALSE))","v":"08006"},{"$f":"IF(E99=\"\",\"\",VLOOKUP('OPĆI DIO'!$C$1,'OPĆI DIO'!$L$4:$U$138,9,FALSE))","v":"Sveučilišta i veleučilišta u Republici Hrvatskoj"},52,"Ostale pomoći",3222,"Materijal i sirovine","A679089","REDOVNA DJELATNOST SVEUČILIŠTA U RIJECI (IZ EVIDENCIJSKIH PRIHODA)","0942",{"v":5000,"d":"5,000"},0,{"v":5000,"d":"5,000"},null,{"$f":"IF(C99=\"\",\"\",'OPĆI DIO'!$C$1)","v":"38454 SVEUČILIŠTE U RIJECI - AKADEMIJA PRIMJENJENIH UMJETNOSTI"},"322","32","52","94","3",{"$nulls":3},4225,"Instrumenti i uređaji",null,"42","422",null,"K578068","IZGRADNJA, DOGRADNJA, REKONSTRUKCIJA I OPREMANJE SREDNJIH ŠKOLA - NPOO (C3.1.R1-I3)","0922","Više srednjoškolsko obrazovanje","09","097"]
[{"$f":"IF(E100=\"\",\"\",VLOOKUP('OPĆI DIO'!$C$1,'OPĆI DIO'!$L$4:$U$138,10,FALSE))","v":"08006"},{"$f":"IF(E100=\"\",\"\",VLOOKUP('OPĆI DIO'!$C$1,'OPĆI DIO'!$L$4:$U$138,9,FALSE))","v":"Sveučilišta i veleučilišta u Republici Hrvatskoj"},52,"Ostale pomoći",3225,"Sitni inventar i autogume","A679089","REDOVNA DJELATNOST SVEUČILIŠTA U RIJECI (IZ EVIDENCIJSKIH PRIHODA)","0942",{"v":1000,"d":"1,000"},0,{"v":1000,"d":"1,000"},null,{"$f":"IF(C100=\"\",\"\",'OPĆI DIO'!$C$1)","v":"38454 SVEUČILIŠTE U RIJECI - AKADEMIJA PRIMJENJENIH UMJETNOSTI"},"322","32","52","94","3",{"$nulls":3},4226,"Sportska i glazbena oprema",null,"42","422",null,"K676058","PROSVJETNO-KULTURNI CENTAR MAĐARA - IZGRADNJA UČENIČKOG DOMA","0922","Više srednjoškolsko obrazovanje","09","097"]
[{"$f":"IF(E101=\"\",\"\",VLOOKUP('OPĆI DIO'!$C$1,'OPĆI DIO'!$L$4:$U$138,10,FALSE))","v":"08006"},{"$f":"IF(E101=\"\",\"\",VLOOKUP('OPĆI DIO'!$C$1,'OPĆI DIO'!$L$4:$U$138,9,FALSE))","v":"Sveučilišta i veleučilišta u Republici Hrvatskoj"},52,"Ostale pomoći",3231,"Usluge telefona, interneta, pošte i prijevoza","A679089","REDOVNA DJELATNOST SVEUČILIŠTA U RIJECI (IZ EVIDENCIJSKIH PRIHODA)","0942",200,0,200,null,{"$f":"IF(C101=\"\",\"\",'OPĆI DIO'!$C$1)","v":"38454 SVEUČILIŠTE U RIJECI - AKADEMIJA PRIMJENJENIH UMJETNOSTI"},"323","32","52","94","3",{"$nulls":3},4227,"Uređaji, strojevi i oprema za ostale namjene",null,"42","422",null,"K676064","TALIJANSKA SŠ LEONARDO DA VINCI BUJE-REKONSTRUKCIJA I DOGRADNJA","0922","Više srednjoškolsko obrazovanje","09","097"]
[{"$f":"IF(E102=\"\",\"\",VLOOKUP('OPĆI DIO'!$C$1,'OPĆI DIO'!$L$4:$U$138,10,FALSE))","v":"08006"},{"$f":"IF(E102=\"\",\"\",VLOOKUP('OPĆI DIO'!$C$1,'OPĆI DIO'!$L$4:$U$138,9,FALSE))","v":"Sveučilišta i veleučilišta u Republici Hrvatskoj"},52,"Ostale pomoći",3233,"Usluge promidžbe i informiranja","A679089","REDOVNA DJELATNOST SVEUČILIŠTA U RIJECI (IZ EVIDENCIJSKIH PRIHODA)","0942",null,{"v":1000,"d":"1,000"},{"v":1000,"d":"1,000"},null,{"$f":"IF(C102=\"\",\"\",'OPĆI DIO'!$C$1)","v":"38454 SVEUČILIŠTE U RIJECI - AKADEMIJA PRIMJENJENIH UMJETNOSTI"},"323","32","52","94","3",{"$nulls":3},4231,"Prijevozna sredstva u cestovnom prometu",null,"42","423",null,"K676064","TALIJANSKA SŠ LEONARDO DA VINCI BUJE-REKONSTRUKCIJA I DOGRADNJA","0970","Istraživanje i razvoj obrazovanja","01","015"]
[{"$f":"IF(E103=\"\",\"\",VLOOKUP('OPĆI DIO'!$C$1,'OPĆI DIO'!$L$4:$U$138,10,FALSE))","v":"08006"},{"$f":"IF(E103=\"\",\"\",VLOOKUP('OPĆI DIO'!$C$1,'OPĆI DIO'!$L$4:$U$138,9,FALSE))","v":"Sveučilišta i veleučilišta u Republici Hrvatskoj"},52,"Ostale pomoći",3239,"Ostale usluge","A679089","REDOVNA DJELATNOST SVEUČILIŠTA U RIJECI (IZ EVIDENCIJSKIH PRIHODA)","0942",{"v":2500,"d":"2,500"},0,{"v":2500,"d":"2,500"},null,{"$f":"IF(C103=\"\",\"\",'OPĆI DIO'!$C$1)","v":"38454 SVEUČILIŠTE U RIJECI - AKADEMIJA PRIMJENJENIH UMJETNOSTI"},"323","32","52","94","3",{"$nulls":3},4233,"Prijevozna sredstva u pomorskom i riječnom prometu",null,{"$f":"LEFT(W103,2)","v":"42"},"423",null,"K676074","IZGRADNJA UČENIČKOG DOMA  U DARUVARU","0922","Više srednjoškolsko obrazovanje","09","092"]
[{"$f":"IF(E104=\"\",\"\",VLOOKUP('OPĆI DIO'!$C$1,'OPĆI DIO'!$L$4:$U$138,10,FALSE))","v":"08006"},{"$f":"IF(E104=\"\",\"\",VLOOKUP('OPĆI DIO'!$C$1,'OPĆI DIO'!$L$4:$U$138,9,FALSE))","v":"Sveučilišta i veleučilišta u Republici Hrvatskoj"},52,"Ostale pomoći",3691,"Tekući prijenosi između proračunskih korisnika istog proraču","A679089","REDOVNA DJELATNOST SVEUČILIŠTA U RIJECI (IZ EVIDENCIJSKIH PRIHODA)","0942",null,{"v":4000,"d":"4,000"},{"v":4000,"d":"4,000"},"2493 SVEUČILIŠTE U RIJECI - SVEUČILIŠNA KNJIŽNICA",{"$f":"IF(C104=\"\",\"\",'OPĆI DIO'!$C$1)","v":"38454 SVEUČILIŠTE U RIJECI - AKADEMIJA PRIMJENJENIH UMJETNOSTI"},"369","36","52","94","3",{"$nulls":3},4241,"Knjige",null,"42","424",null,"A621021","SMJEŠTAJ I PREHRANA STUDENATA STUDENTSKOG CENTRA ZAGREB - SUFINANCIRANJE","0960","Dodatne usluge u obrazovanju","09","097"]
[{"$f":"IF(E105=\"\",\"\",VLOOKUP('OPĆI DIO'!$C$1,'OPĆI DIO'!$L$4:$U$138,10,FALSE))","v":"08006"},{"$f":"IF(E105=\"\",\"\",VLOOKUP('OPĆI DIO'!$C$1,'OPĆI DIO'!$L$4:$U$138,9,FALSE))","v":"Sveučilišta i veleučilišta u Republici Hrvatskoj"},52,"Ostale pomoći",4221,"Uredska oprema i namještaj","A679089","REDOVNA DJELATNOST SVEUČILIŠTA U RIJECI (IZ EVIDENCIJSKIH PRIHODA)","0942",{"v":3000,"d":"3,000"},0,{"v":3000,"d":"3,000"},null,{"$f":"IF(C105=\"\",\"\",'OPĆI DIO'!$C$1)","v":"38454 SVEUČILIŠTE U RIJECI - AKADEMIJA PRIMJENJENIH UMJETNOSTI"},"422","42","52","94","4",{"$nulls":3},4242,"Umjetnička djela (izložena u galerijama, muzejima i slično)",null,"42","424",null,"A621022","SMJEŠTAJ I PREHRANA STUDENATA STUDENTSKOG CENTRA OSIJEK - SUFINANCIRANJE","0960","Dodatne usluge u obrazovanju","01","015"]
[{"$f":"IF(E106=\"\",\"\",VLOOKUP('OPĆI DIO'!$C$1,'OPĆI DIO'!$L$4:$U$138,10,FALSE))","v":"08006"},{"$f":"IF(E106=\"\",\"\",VLOOKUP('OPĆI DIO'!$C$1,'OPĆI DIO'!$L$4:$U$138,9,FALSE))","v":"Sveučilišta i veleučilišta u Republici Hrvatskoj"},52,"Ostale pomoći",4227,"Uređaji, strojevi i oprema za ostale namjene","A679089","REDOVNA DJELATNOST SVEUČILIŠTA U RIJECI (IZ EVIDENCIJSKIH PRIHODA)","0942",{"v":1000,"d":"1,000"},0,{"v":1000,"d":"1,000"},null,{"$f":"IF(C106=\"\",\"\",'OPĆI DIO'!$C$1)","v":"38454 SVEUČILIŠTE U RIJECI - AKADEMIJA PRIMJENJENIH UMJETNOSTI"},"422","42","52","94","4",{"$nulls":3},4244,"Ostale nespomenute izložbene vrijednosti",null,"42","424",null,"A621023","SMJEŠTAJ I PREHRANA STUDENATA STUDENTSKOG CENTRA RIJEKA - SUFINANCIRANJE","0960","Dodatne usluge u obrazovanju","01","015"]
[{"$f":"IF(E107=\"\",\"\",VLOOKUP('OPĆI DIO'!$C$1,'OPĆI DIO'!$L$4:$U$138,10,FALSE))","v":"08006"},{"$f":"IF(E107=\"\",\"\",VLOOKUP('OPĆI DIO'!$C$1,'OPĆI DIO'!$L$4:$U$138,9,FALSE))","v":"Sveučilišta i veleučilišta u Republici Hrvatskoj"},581,"Mehanizam za oporavak i otpornost",3211,"Službena putovanja","A622122","PROGRAMSKO FINANCIRANJE JAVNIH VISOKIH UČILIŠTA","0942",null,770,770,null,{"$f":"IF(C107=\"\",\"\",'OPĆI DIO'!$C$1)","v":"38454 SVEUČILIŠTE U RIJECI - AKADEMIJA PRIMJENJENIH UMJETNOSTI"},"321","32","581","94","3",{"$nulls":3},4251,"Višegodišnji nasadi",null,"42","425",null,"A621024","SMJEŠTAJ I PREHRANA STUDENATA STUDENTSKOG CENTRA SPLIT - SUFINANCIRANJE","0960","Dodatne usluge u obrazovanju","09","097"]
[{"$f":"IF(E108=\"\",\"\",VLOOKUP('OPĆI DIO'!$C$1,'OPĆI DIO'!$L$4:$U$138,10,FALSE))","v":"08006"},{"$f":"IF(E108=\"\",\"\",VLOOKUP('OPĆI DIO'!$C$1,'OPĆI DIO'!$L$4:$U$138,9,FALSE))","v":"Sveučilišta i veleučilišta u Republici Hrvatskoj"},581,"Mehanizam za oporavak i otpornost",3237,"Intelektualne i osobne usluge","A622122","PROGRAMSKO FINANCIRANJE JAVNIH VISOKIH UČILIŠTA","0942",null,569,569,null,{"$f":"IF(C108=\"\",\"\",'OPĆI DIO'!$C$1)","v":"38454 SVEUČILIŠTE U RIJECI - AKADEMIJA PRIMJENJENIH UMJETNOSTI"},"323","32","581","94","3",{"$nulls":3},4252,"Osnovno stado",null,"42","425",null,"A621026","SMJEŠTAJ I PREHRANA STUDENATA STUDENTSKOG CENTRA ŠIBENIK - SUFINANCIRANJE","0960","Dodatne usluge u obrazovanju","09","094"]
[{"$f":"IF(E109=\"\",\"\",VLOOKUP('OPĆI DIO'!$C$1,'OPĆI DIO'!$L$4:$U$138,10,FALSE))","v":"08006"},{"$f":"IF(E109=\"\",\"\",VLOOKUP('OPĆI DIO'!$C$1,'OPĆI DIO'!$L$4:$U$138,9,FALSE))","v":"Sveučilišta i veleučilišta u Republici Hrvatskoj"},581,"Mehanizam za oporavak i otpornost",3241,"Naknade troškova osobama izvan radnog odnosa","A622122","PROGRAMSKO FINANCIRANJE JAVNIH VISOKIH UČILIŠTA","0942",null,260,260,null,{"$f":"IF(C109=\"\",\"\",'OPĆI DIO'!$C$1)","v":"38454 SVEUČILIŠTE U RIJECI - AKADEMIJA PRIMJENJENIH UMJETNOSTI"},"324","32","581","94","3",{"$nulls":3},4262,"Ulaganja u računalne programe",null,"42","426",null,"A621028","SMJEŠTAJ I PREHRANA STUDENATA STUDENTSKOG CENTRA VARAŽDIN - SUFINANCIRANJE","0960","Dodatne usluge u obrazovanju","01","015"]
[{"$f":"IF(E110=\"\",\"\",VLOOKUP('OPĆI DIO'!$C$1,'OPĆI DIO'!$L$4:$U$138,10,FALSE))","v":"08006"},{"$f":"IF(E110=\"\",\"\",VLOOKUP('OPĆI DIO'!$C$1,'OPĆI DIO'!$L$4:$U$138,9,FALSE))","v":"Sveučilišta i veleučilišta u Republici Hrvatskoj"},581,"Mehanizam za oporavak i otpornost",4225,"Instrumenti i uređaji","A622122","PROGRAMSKO FINANCIRANJE JAVNIH VISOKIH UČILIŠTA","0942",null,{"v":2931,"d":"2,931"},{"v":2931,"d":"2,931"},null,{"$f":"IF(C110=\"\",\"\",'OPĆI DIO'!$C$1)","v":"38454 SVEUČILIŠTE U RIJECI - AKADEMIJA PRIMJENJENIH UMJETNOSTI"},"422","42","581","94","4",{"$nulls":3},4263,"Umjetnička, literarna i znanstvena djela",null,"42","426",null,"A621029","SMJEŠTAJ I PREHRANA STUDENATA STUDENTSKOG CENTRA SLAVONSKI BROD - SUFINANCIRANJE","0960","Dodatne usluge u obrazovanju","09","097"]
[{"$f":"IF(E111=\"\",\"\",VLOOKUP('OPĆI DIO'!$C$1,'OPĆI DIO'!$L$4:$U$138,10,FALSE))","v":"08006"},{"$f":"IF(E111=\"\",\"\",VLOOKUP('OPĆI DIO'!$C$1,'OPĆI DIO'!$L$4:$U$138,9,FALSE))","v":"Sveučilišta i veleučilišta u Republici Hrvatskoj"},11,"Opći prihodi i primici",3211,"Službena putovanja","A679110","POTPORA UMJETNIČKIM STUDIJIMA","0942",null,{"v":5000,"d":"5,000"},{"v":5000,"d":"5,000"},null,{"$f":"IF(C111=\"\",\"\",'OPĆI DIO'!$C$1)","v":"38454 SVEUČILIŠTE U RIJECI - AKADEMIJA PRIMJENJENIH UMJETNOSTI"},"321","32","11","94","3",{"$nulls":3},4264,"Ostala nematerijalna proizvedena imovina",null,"42","426",null,"A621030","SMJEŠTAJ I PREHRANA STUDENATA STUDENTSKOG CENTRA POŽEGA - SUFINANCIRANJE","0960","Dodatne usluge u obrazovanju","09","097"]
[{"$f":"IF(E112=\"\",\"\",VLOOKUP('OPĆI DIO'!$C$1,'OPĆI DIO'!$L$4:$U$138,10,FALSE))","v":"08006"},{"$f":"IF(E112=\"\",\"\",VLOOKUP('OPĆI DIO'!$C$1,'OPĆI DIO'!$L$4:$U$138,9,FALSE))","v":"Sveučilišta i veleučilišta u Republici Hrvatskoj"},11,"Opći prihodi i primici",3213,"Stručno usavršavanje zaposlenika","A679110","POTPORA UMJETNIČKIM STUDIJIMA","0942",null,500,500,null,{"$f":"IF(C112=\"\",\"\",'OPĆI DIO'!$C$1)","v":"38454 SVEUČILIŠTE U RIJECI - AKADEMIJA PRIMJENJENIH UMJETNOSTI"},"321","32","11","94","3",{"$nulls":3},4312,"Pohranjene knjige, umjetnička djela i slične vrijednosti",null,"43","431",null,"A621031","SMJEŠTAJ I PREHRANA STUDENATA STUDENTSKOG CENTRA KARLOVAC - SUFINANCIRANJE","0960","Dodatne usluge u obrazovanju","09","097"]
[{"$f":"IF(E113=\"\",\"\",VLOOKUP('OPĆI DIO'!$C$1,'OPĆI DIO'!$L$4:$U$138,10,FALSE))","v":"08006"},{"$f":"IF(E113=\"\",\"\",VLOOKUP('OPĆI DIO'!$C$1,'OPĆI DIO'!$L$4:$U$138,9,FALSE))","v":"Sveučilišta i veleučilišta u Republici Hrvatskoj"},11,"Opći prihodi i primici",3221,"Uredski materijal i ostali materijalni rashodi","A679110","POTPORA UMJETNIČKIM STUDIJIMA","0942",null,{"v":2000,"d":"2,000"},{"v":2000,"d":"2,000"},null,{"$f":"IF(C113=\"\",\"\",'OPĆI DIO'!$C$1)","v":"38454 SVEUČILIŠTE U RIJECI - AKADEMIJA PRIMJENJENIH UMJETNOSTI"},"322","32","11","94","3",{"$nulls":3},4411,"Strateške zalihe",null,"44","441",null,"A621049","KAMATE ZA STANOVE ZNANSTVENIH NOVAKA I ASISTENATA","0942","Drugi stupanj visoke naobrazbe","09","097"]
[{"$f":"IF(E114=\"\",\"\",VLOOKUP('OPĆI DIO'!$C$1,'OPĆI DIO'!$L$4:$U$138,10,FALSE))","v":"08006"},{"$f":"IF(E114=\"\",\"\",VLOOKUP('OPĆI DIO'!$C$1,'OPĆI DIO'!$L$4:$U$138,9,FALSE))","v":"Sveučilišta i veleučilišta u Republici Hrvatskoj"},11,"Opći prihodi i primici",3222,"Materijal i sirovine","A679110","POTPORA UMJETNIČKIM STUDIJIMA","0942",null,{"v":9000,"d":"9,000"},{"v":9000,"d":"9,000"},null,{"$f":"IF(C114=\"\",\"\",'OPĆI DIO'!$C$1)","v":"38454 SVEUČILIŠTE U RIJECI - AKADEMIJA PRIMJENJENIH UMJETNOSTI"},"322","32","11","94","3",{"$nulls":3},4511,"Dodatna ulaganja na građevinskim objektima",null,"45","451",null,"A621058","PROGRAMI POBOLJŠANJA STUDENTSKOG STANDARDA","0960","Dodatne usluge u obrazovanju","09","097"]
[{"$f":"IF(E115=\"\",\"\",VLOOKUP('OPĆI DIO'!$C$1,'OPĆI DIO'!$L$4:$U$138,10,FALSE))","v":"08006"},{"$f":"IF(E115=\"\",\"\",VLOOKUP('OPĆI DIO'!$C$1,'OPĆI DIO'!$L$4:$U$138,9,FALSE))","v":"Sveučilišta i veleučilišta u Republici Hrvatskoj"},11,"Opći prihodi i primici",3225,"Sitni inventar i autogume","A679110","POTPORA UMJETNIČKIM STUDIJIMA","0942",null,{"v":1500,"d":"1,500"},{"v":1500,"d":"1,500"},null,{"$f":"IF(C115=\"\",\"\",'OPĆI DIO'!$C$1)","v":"38454 SVEUČILIŠTE U RIJECI - AKADEMIJA PRIMJENJENIH UMJETNOSTI"},"322","32","11","94","3",{"$nulls":3},4521,"Dodatna ulaganja na postrojenjima i opremi",null,"45","452",null,"A621185","POTPORA HRVATSKOM KATOLIČKOM SVEUČILIŠTU U ZAGREBU","0942","Drugi stupanj visoke naobrazbe","09","097"]
[{"$f":"IF(E116=\"\",\"\",VLOOKUP('OPĆI DIO'!$C$1,'OPĆI DIO'!$L$4:$U$138,10,FALSE))","v":"08006"},{"$f":"IF(E116=\"\",\"\",VLOOKUP('OPĆI DIO'!$C$1,'OPĆI DIO'!$L$4:$U$138,9,FALSE))","v":"Sveučilišta i veleučilišta u Republici Hrvatskoj"},11,"Opći prihodi i primici",3231,"Usluge telefona, interneta, pošte i prijevoza","A679110","POTPORA UMJETNIČKIM STUDIJIMA","0942",null,{"v":2600,"d":"2,600"},{"v":2600,"d":"2,600"},null,{"$f":"IF(C116=\"\",\"\",'OPĆI DIO'!$C$1)","v":"38454 SVEUČILIŠTE U RIJECI - AKADEMIJA PRIMJENJENIH UMJETNOSTI"},"323","32","11","94","3",{"$nulls":3},4531,"Dodatna ulaganja na prijevoznim sredstvima",null,"45","453",null,"A679049","POMOĆI BIH U SUSTAVU ZNANOSTI I OBRAZOVANJA","0970","Istraživanje i razvoj obrazovanja","01","015"]
[{"$f":"IF(E117=\"\",\"\",VLOOKUP('OPĆI DIO'!$C$1,'OPĆI DIO'!$L$4:$U$138,10,FALSE))","v":"08006"},{"$f":"IF(E117=\"\",\"\",VLOOKUP('OPĆI DIO'!$C$1,'OPĆI DIO'!$L$4:$U$138,9,FALSE))","v":"Sveučilišta i veleučilišta u Republici Hrvatskoj"},11,"Opći prihodi i primici",3233,"Usluge promidžbe i informiranja","A679110","POTPORA UMJETNIČKIM STUDIJIMA","0942",null,{"v":13000,"d":"13,000"},{"v":13000,"d":"13,000"},null,{"$f":"IF(C117=\"\",\"\",'OPĆI DIO'!$C$1)","v":"38454 SVEUČILIŠTE U RIJECI - AKADEMIJA PRIMJENJENIH UMJETNOSTI"},"323","32","11","94","3",{"$nulls":3},4541,"Dodatna ulaganja za ostalu nefinancijsku imovinu",null,"45","454",null,"A679064","ZNANSTVENO-UČILIŠNI KAMPUS BORONGAJ","0942","Drugi stupanj visoke naobrazbe","09","091"]
[{"$f":"IF(E118=\"\",\"\",VLOOKUP('OPĆI DIO'!$C$1,'OPĆI DIO'!$L$4:$U$138,10,FALSE))","v":"08006"},{"$f":"IF(E118=\"\",\"\",VLOOKUP('OPĆI DIO'!$C$1,'OPĆI DIO'!$L$4:$U$138,9,FALSE))","v":"Sveučilišta i veleučilišta u Republici Hrvatskoj"},11,"Opći prihodi i primici",3235,"Zakupnine i najamnine","A679110","POTPORA UMJETNIČKIM STUDIJIMA","0942",null,{"v":40000,"d":"40,000"},{"v":40000,"d":"40,000"},null,{"$f":"IF(C118=\"\",\"\",'OPĆI DIO'!$C$1)","v":"38454 SVEUČILIŠTE U RIJECI - AKADEMIJA PRIMJENJENIH UMJETNOSTI"},"323","32","11","94","3",{"$nulls":3},5121,"Dani zajmovi neprofitnim organizacijama, građanima i kućanst",null,"51","512",null,"A679065","SMJEŠTAJ I PREHRANA STUDENATA STUDENTSKOG CENTRA PULA - SUFINANCIRANJE","0942","Drugi stupanj visoke naobrazbe","09","097"]
[{"$f":"IF(E119=\"\",\"\",VLOOKUP('OPĆI DIO'!$C$1,'OPĆI DIO'!$L$4:$U$138,10,FALSE))","v":"08006"},{"$f":"IF(E119=\"\",\"\",VLOOKUP('OPĆI DIO'!$C$1,'OPĆI DIO'!$L$4:$U$138,9,FALSE))","v":"Sveučilišta i veleučilišta u Republici Hrvatskoj"},11,"Opći prihodi i primici",3237,"Intelektualne i osobne usluge","A679110","POTPORA UMJETNIČKIM STUDIJIMA","0942",null,{"v":109293,"d":"109,293"},{"v":109293,"d":"109,293"},null,{"$f":"IF(C119=\"\",\"\",'OPĆI DIO'!$C$1)","v":"38454 SVEUČILIŠTE U RIJECI - AKADEMIJA PRIMJENJENIH UMJETNOSTI"},"323","32","11","94","3",{"$nulls":3},5443,"Otplata glavnice primljenih kredita od tuzemnih kreditnih in",null,"54","544",null,"A679066","POTPORE ROMSKIM STUDIJIMA I STUDENTIMA ROMIMA","0942","Drugi stupanj visoke naobrazbe","09","097"]
[{"$f":"IF(E120=\"\",\"\",VLOOKUP('OPĆI DIO'!$C$1,'OPĆI DIO'!$L$4:$U$138,10,FALSE))","v":"08006"},{"$f":"IF(E120=\"\",\"\",VLOOKUP('OPĆI DIO'!$C$1,'OPĆI DIO'!$L$4:$U$138,9,FALSE))","v":"Sveučilišta i veleučilišta u Republici Hrvatskoj"},11,"Opći prihodi i primici",3238,"Računalne usluge","A679110","POTPORA UMJETNIČKIM STUDIJIMA","0942",null,{"v":9000,"d":"9,000"},{"v":9000,"d":"9,000"},null,{"$f":"IF(C120=\"\",\"\",'OPĆI DIO'!$C$1)","v":"38454 SVEUČILIŠTE U RIJECI - AKADEMIJA PRIMJENJENIH UMJETNOSTI"},"323","32","11","94","3",{"$nulls":3},5121,"Dani zajmovi neprofitnim organizacijama, građanima i kućanstvima u tuzemstvu",null,"51",{"$f":"LEFT(W120,3)","v":"512"},null,"A679067","DRŽAVNE STIPENDIJE ZA STUDENTE","0942","Drugi stupanj visoke naobrazbe","01","015"]
[{"$f":"IF(E121=\"\",\"\",VLOOKUP('OPĆI DIO'!$C$1,'OPĆI DIO'!$L$4:$U$138,10,FALSE))","v":"08006"},{"$f":"IF(E121=\"\",\"\",VLOOKUP('OPĆI DIO'!$C$1,'OPĆI DIO'!$L$4:$U$138,9,FALSE))","v":"Sveučilišta i veleučilišta u Republici Hrvatskoj"},11,"Opći prihodi i primici",3239,"Ostale usluge","A679110","POTPORA UMJETNIČKIM STUDIJIMA","0942",null,{"v":1600,"d":"1,600"},{"v":1600,"d":"1,600"},null,{"$f":"IF(C121=\"\",\"\",'OPĆI DIO'!$C$1)","v":"38454 SVEUČILIŠTE U RIJECI - AKADEMIJA PRIMJENJENIH UMJETNOSTI"},"323","32","11","94","3",{"$nulls":3},5122,"Dani zajmovi neprofitnim organizacijama, građanima i kućanstvima u inozemstvu",null,"51","512",null,"A679069","SMJEŠTAJ I PREHRANA STUDENATA STUDENTSKOG CENTRA SISAK - SUFINANCIRANJE","0942","Drugi stupanj visoke naobrazbe","09","091"]
[{"$f":"IF(E122=\"\",\"\",VLOOKUP('OPĆI DIO'!$C$1,'OPĆI DIO'!$L$4:$U$138,10,FALSE))","v":"08006"},{"$f":"IF(E122=\"\",\"\",VLOOKUP('OPĆI DIO'!$C$1,'OPĆI DIO'!$L$4:$U$138,9,FALSE))","v":"Sveučilišta i veleučilišta u Republici Hrvatskoj"},11,"Opći prihodi i primici",3241,"Naknade troškova osobama izvan radnog odnosa","A679110","POTPORA UMJETNIČKIM STUDIJIMA","0942",null,{"v":5000,"d":"5,000"},{"v":5000,"d":"5,000"},null,{"$f":"IF(C122=\"\",\"\",'OPĆI DIO'!$C$1)","v":"38454 SVEUČILIŠTE U RIJECI - AKADEMIJA PRIMJENJENIH UMJETNOSTI"},"324","32","11","94","3",{"$nulls":3},5141,"Dani zajmovi trgovačkim društvima u javnom sektoru",null,"51","514",null,"A767043","RAZVOJ VISOKOG OBRAZOVANJA","0942","Drugi stupanj visoke naobrazbe","09","092"]
[{"$f":"IF(E123=\"\",\"\",VLOOKUP('OPĆI DIO'!$C$1,'OPĆI DIO'!$L$4:$U$138,10,FALSE))","v":"08006"},{"$f":"IF(E123=\"\",\"\",VLOOKUP('OPĆI DIO'!$C$1,'OPĆI DIO'!$L$4:$U$138,9,FALSE))","v":"Sveučilišta i veleučilišta u Republici Hrvatskoj"},11,"Opći prihodi i primici",3293,"Reprezentacija","A679110","POTPORA UMJETNIČKIM STUDIJIMA","0942",null,{"v":6000,"d":"6,000"},{"v":6000,"d":"6,000"},null,{"$f":"IF(C123=\"\",\"\",'OPĆI DIO'!$C$1)","v":"38454 SVEUČILIŠTE U RIJECI - AKADEMIJA PRIMJENJENIH UMJETNOSTI"},"329","32","11","94","3",{"$nulls":3},5183,"Izdaci za jamčevne pologe ",null,"51","518",null,"K733074","IZGRADNJA STUDENTSKOG DOMA U KOPRIVNICI","0942","Drugi stupanj visoke naobrazbe","09","098"]
[{"$f":"IF(E124=\"\",\"\",VLOOKUP('OPĆI DIO'!$C$1,'OPĆI DIO'!$L$4:$U$138,10,FALSE))","v":"08006"},{"$f":"IF(E124=\"\",\"\",VLOOKUP('OPĆI DIO'!$C$1,'OPĆI DIO'!$L$4:$U$138,9,FALSE))","v":"Sveučilišta i veleučilišta u Republici Hrvatskoj"},11,"Opći prihodi i primici",4221,"Uredska oprema i namještaj","A679110","POTPORA UMJETNIČKIM STUDIJIMA","0942",null,{"v":5300,"d":"5,300"},{"v":5300,"d":"5,300"},null,{"$f":"IF(C124=\"\",\"\",'OPĆI DIO'!$C$1)","v":"38454 SVEUČILIŠTE U RIJECI - AKADEMIJA PRIMJENJENIH UMJETNOSTI"},"422","42","11","94","4",{"$nulls":3},5422,"Otplata glavnice primljenih kredita od kreditnih institucija u javnom sektoru",null,"54","542",null,"A578050","POTPORA INOVACIJSKIM PROCESIMA","0150","Istraživanje i razvoj: Opće javne usluge","09","091"]
[{"$f":"IF(E125=\"\",\"\",VLOOKUP('OPĆI DIO'!$C$1,'OPĆI DIO'!$L$4:$U$138,10,FALSE))","v":"08006"},{"$f":"IF(E125=\"\",\"\",VLOOKUP('OPĆI DIO'!$C$1,'OPĆI DIO'!$L$4:$U$138,9,FALSE))","v":"Sveučilišta i veleučilišta u Republici Hrvatskoj"},11,"Opći prihodi i primici",4227,"Uređaji, strojevi i oprema za ostale namjene","A679110","POTPORA UMJETNIČKIM STUDIJIMA","0942",null,{"v":3500,"d":"3,500"},{"v":3500,"d":"3,500"},null,{"$f":"IF(C125=\"\",\"\",'OPĆI DIO'!$C$1)","v":"38454 SVEUČILIŠTE U RIJECI - AKADEMIJA PRIMJENJENIH UMJETNOSTI"},"422","42","11","94","4",{"$nulls":3},5431,"Otplata glavnice primljenih zajmova od trgovačkih društava u javnom sektoru",null,"54","543",null,"A578061","OBZOR 2020. - PROGRAM POTICANJA ISTRAŽIVANJA I RAZVOJA U PERSONALIZIRANOJ MEDICINI – ERA PERMED","0150","Istraživanje i razvoj: Opće javne usluge","01","015"]
[{"$f":"IF(E126=\"\",\"\",VLOOKUP('OPĆI DIO'!$C$1,'OPĆI DIO'!$L$4:$U$138,10,FALSE))","v":"08006"},{"$f":"IF(E126=\"\",\"\",VLOOKUP('OPĆI DIO'!$C$1,'OPĆI DIO'!$L$4:$U$138,9,FALSE))","v":"Sveučilišta i veleučilišta u Republici Hrvatskoj"},11,"Opći prihodi i primici",4241,"Knjige","A679110","POTPORA UMJETNIČKIM STUDIJIMA","0942",null,50,50,null,{"$f":"IF(C126=\"\",\"\",'OPĆI DIO'!$C$1)","v":"38454 SVEUČILIŠTE U RIJECI - AKADEMIJA PRIMJENJENIH UMJETNOSTI"},"424","42","11","94","4",{"$nulls":3},5443,"Otplata glavnice primljenih kredita od tuzemnih kreditnih institucija izvan javnog sektora",null,"54","544",null,"A621047","DRŽAVNE, AKADEMSKE NAGRADE I POTPORE U ZNANOSTI I VISOKOM ŠKOLSTVU","0942","Drugi stupanj visoke naobrazbe","09","097"]
[{"$f":"IF(E127=\"\",\"\",VLOOKUP('OPĆI DIO'!$C$1,'OPĆI DIO'!$L$4:$U$138,10,FALSE))","v":""},{"$f":"IF(E127=\"\",\"\",VLOOKUP('OPĆI DIO'!$C$1,'OPĆI DIO'!$L$4:$U$138,9,FALSE))","v":""},null,"",null,"",null,"","",null,0,0,null,{"$f":"IF(C127=\"\",\"\",'OPĆI DIO'!$C$1)","v":""},"","","","","",{"$nulls":3},5445,"Otplata glavnice primljenih zajmova od ostalih tuzemnih financijskih institucija izvan javnog sektora",null,"54","544",null,"A621179","TROŠKOVI NACIONALNOG VIJEĆA ZA VISOKO OBRAZOVANJE, ZNANOST I TEHNOLOŠKI RAZVOJ","0150","Istraživanje i razvoj: Opće javne usluge","09","091"]
[{"$f":"IF(E128=\"\",\"\",VLOOKUP('OPĆI DIO'!$C$1,'OPĆI DIO'!$L$4:$U$138,10,FALSE))","v":""},{"$f":"IF(E128=\"\",\"\",VLOOKUP('OPĆI DIO'!$C$1,'OPĆI DIO'!$L$4:$U$138,9,FALSE))","v":""},null,"",null,"",null,"","",null,0,0,null,{"$f":"IF(C128=\"\",\"\",'OPĆI DIO'!$C$1)","v":""},"","","","","",{"$nulls":3},5453,"Otplata glavnice primljenih zajmova od tuzemnih trgovačkih društava izvan javnog sektora",null,"54","545",null,"A622003","UGOVORNO FINANCIRANJE ZNANSTVENE DJELATNOSTI","0150","Istraživanje i razvoj: Opće javne usluge","09","092"]
[{"$f":"IF(E129=\"\",\"\",VLOOKUP('OPĆI DIO'!$C$1,'OPĆI DIO'!$L$4:$U$138,10,FALSE))","v":""},{"$f":"IF(E129=\"\",\"\",VLOOKUP('OPĆI DIO'!$C$1,'OPĆI DIO'!$L$4:$U$138,9,FALSE))","v":""},null,"",null,"",null,"","",null,0,0,null,{"$f":"IF(C129=\"\",\"\",'OPĆI DIO'!$C$1)","v":""},"","","","","",{"$nulls":3},5472,"Otplata glavnice primljenih zajmova od županijskih proračuna",null,"54","547",null,"A622004","IZDAVANJE DOMAĆIH ZNANSTVENIH ČASOPISA","0150","Istraživanje i razvoj: Opće javne usluge","01","015"]
[{"$f":"IF(E130=\"\",\"\",VLOOKUP('OPĆI DIO'!$C$1,'OPĆI DIO'!$L$4:$U$138,10,FALSE))","v":""},{"$f":"IF(E130=\"\",\"\",VLOOKUP('OPĆI DIO'!$C$1,'OPĆI DIO'!$L$4:$U$138,9,FALSE))","v":""},null,"",null,"",null,"","",null,0,0,null,{"$f":"IF(C130=\"\",\"\",'OPĆI DIO'!$C$1)","v":""},"","","","","",{"$nulls":9},"A622005","ORGANIZIRANJE I ODRŽAVANJE ZNANSTVENIH SKUPOVA","0150","Istraživanje i razvoj: Opće javne usluge","09","097"]
[{"$f":"IF(E131=\"\",\"\",VLOOKUP('OPĆI DIO'!$C$1,'OPĆI DIO'!$L$4:$U$138,10,FALSE))","v":""},{"$f":"IF(E131=\"\",\"\",VLOOKUP('OPĆI DIO'!$C$1,'OPĆI DIO'!$L$4:$U$138,9,FALSE))","v":""},null,"",null,{"$f":"IFERROR(VLOOKUP(E131,$W$5:$Y$129,2,FALSE),\"\")","v":""},null,"","",null,0,0,null,{"$f":"IF(C131=\"\",\"\",'OPĆI DIO'!$C$1)","v":""},"","","","","",{"$nulls":9},"A622006","IZDAVANJE  ZNANSTVENIH KNJIGA I UDŽBENIKA","0150","Istraživanje i razvoj: Opće javne usluge","09","094"]
[{"$f":"IF(E132=\"\",\"\",VLOOKUP('OPĆI DIO'!$C$1,'OPĆI DIO'!$L$4:$U$138,10,FALSE))","v":""},{"$f":"IF(E132=\"\",\"\",VLOOKUP('OPĆI DIO'!$C$1,'OPĆI DIO'!$L$4:$U$138,9,FALSE))","v":""},null,{"$f":"IFERROR(VLOOKUP(C132,$T$6:$U$23,2,FALSE),\"\")","v":""},null,"",null,{"$f":"IFERROR(VLOOKUP(G132,$AC$6:$AD$353,2,FALSE),\"\")","v":""},{"$f":"IFERROR(VLOOKUP(G132,$AC$6:$AG$353,3,FALSE),\"\")","v":""},null,0,{"$f":"+J132+K132","v":0},null,{"$f":"IF(C132=\"\",\"\",'OPĆI DIO'!$C$1)","v":""},{"$f":"LEFT(E132,3)","v":""},{"$f":"LEFT(E132,2)","v":""},{"$f":"LEFT(C132,3)","v":""},{"$f":"IF(S132=\"5\",0,MID(I132,2,2))","v":""},{"$f":"LEFT(E132,1)","v":""},{"$nulls":9},"A622007","FINANCIJSKA POTPORA ZNANSTVENIM UDRUGAMA","0150","Istraživanje i razvoj: Opće javne usluge","01","015"]
[{"$f":"IF(E133=\"\",\"\",VLOOKUP('OPĆI DIO'!$C$1,'OPĆI DIO'!$L$4:$U$138,10,FALSE))","v":""},{"$f":"IF(E133=\"\",\"\",VLOOKUP('OPĆI DIO'!$C$1,'OPĆI DIO'!$L$4:$U$138,9,FALSE))","v":""},null,"",null,"",null,"","",null,0,0,null,{"$f":"IF(C133=\"\",\"\",'OPĆI DIO'!$C$1)","v":""},"","","","","",{"$nulls":9},"A679005","ČLANSTVO U MEĐUNARODNIM UDRUGAMA","0150","Istraživanje i razvoj: Opće javne usluge","09","092"]
[{"$f":"IF(E134=\"\",\"\",VLOOKUP('OPĆI DIO'!$C$1,'OPĆI DIO'!$L$4:$U$138,10,FALSE))","v":""},{"$f":"IF(E134=\"\",\"\",VLOOKUP('OPĆI DIO'!$C$1,'OPĆI DIO'!$L$4:$U$138,9,FALSE))","v":""},null,"",null,"",null,"","",null,0,0,null,{"$f":"IF(C134=\"\",\"\",'OPĆI DIO'!$C$1)","v":""},"","","","","",{"$nulls":9},"A733050","PRAĆENJE I IMPLEMENTACIJA POLITIKA EUROPSKOG ISTRAŽIVAČKOG PROSTORA (ERA)","0150","Istraživanje i razvoj: Opće javne usluge","09","092"]
[{"$f":"IF(E135=\"\",\"\",VLOOKUP('OPĆI DIO'!$C$1,'OPĆI DIO'!$L$4:$U$138,10,FALSE))","v":""},{"$f":"IF(E135=\"\",\"\",VLOOKUP('OPĆI DIO'!$C$1,'OPĆI DIO'!$L$4:$U$138,9,FALSE))","v":""},null,"",null,"",null,"","",null,0,0,null,{"$f":"IF(C135=\"\",\"\",'OPĆI DIO'!$C$1)","v":""},"","","","","",{"$nulls":9},"A733056","EUROPSKI ZNANSTVENI PROJEKTI","0150","Istraživanje i razvoj: Opće javne usluge","09","097"]
[{"$f":"IF(E136=\"\",\"\",VLOOKUP('OPĆI DIO'!$C$1,'OPĆI DIO'!$L$4:$U$138,10,FALSE))","v":""},{"$f":"IF(E136=\"\",\"\",VLOOKUP('OPĆI DIO'!$C$1,'OPĆI DIO'!$L$4:$U$138,9,FALSE))","v":""},null,"",null,"",null,"","",null,0,0,null,{"$f":"IF(C136=\"\",\"\",'OPĆI DIO'!$C$1)","v":""},"","","","","",{"$nulls":9},"A767009","ZNANSTVENI CENTRI IZVRSNOSTI - DRUŠTVENO HUMANISTIČKO PODRUČJE","0150","Istraživanje i razvoj: Opće javne usluge","09","097"]
[{"$f":"IF(E137=\"\",\"\",VLOOKUP('OPĆI DIO'!$C$1,'OPĆI DIO'!$L$4:$U$138,10,FALSE))","v":""},{"$f":"IF(E137=\"\",\"\",VLOOKUP('OPĆI DIO'!$C$1,'OPĆI DIO'!$L$4:$U$138,9,FALSE))","v":""},null,"",null,"",null,"","",null,0,0,null,{"$f":"IF(C137=\"\",\"\",'OPĆI DIO'!$C$1)","v":""},"","","","","",{"$nulls":9},"A767035","MEĐUNARODNA SURADNJA","0150","Istraživanje i razvoj: Opće javne usluge","09","091"]
[{"$f":"IF(E138=\"\",\"\",VLOOKUP('OPĆI DIO'!$C$1,'OPĆI DIO'!$L$4:$U$138,10,FALSE))","v":""},{"$f":"IF(E138=\"\",\"\",VLOOKUP('OPĆI DIO'!$C$1,'OPĆI DIO'!$L$4:$U$138,9,FALSE))","v":""},null,"",null,"",null,"","",null,0,0,null,{"$f":"IF(C138=\"\",\"\",'OPĆI DIO'!$C$1)","v":""},"","","","","",{"$nulls":9},"A767038","OBZOR 2020. - PROGRAM MEĐUNARODNE MOBILNOSTI ZA ISTRAŽIVAČE - NEWFELPRO","0150","Istraživanje i razvoj: Opće javne usluge","01","015"]
[{"$f":"IF(E139=\"\",\"\",VLOOKUP('OPĆI DIO'!$C$1,'OPĆI DIO'!$L$4:$U$138,10,FALSE))","v":""},{"$f":"IF(E139=\"\",\"\",VLOOKUP('OPĆI DIO'!$C$1,'OPĆI DIO'!$L$4:$U$138,9,FALSE))","v":""},null,"",null,"",null,"","",null,0,0,null,{"$f":"IF(C139=\"\",\"\",'OPĆI DIO'!$C$1)","v":""},"","","","","",{"$nulls":9},"A767056","OBZOR 2020. - PARTNERSTVO ZA ISTRAŽIVANJA I INOVACIJE NA MEDITERANSKOM PODRUČJU - PRIMA","0150","Istraživanje i razvoj: Opće javne usluge","09","091"]
[{"$f":"IF(E140=\"\",\"\",VLOOKUP('OPĆI DIO'!$C$1,'OPĆI DIO'!$L$4:$U$138,10,FALSE))","v":""},{"$f":"IF(E140=\"\",\"\",VLOOKUP('OPĆI DIO'!$C$1,'OPĆI DIO'!$L$4:$U$138,9,FALSE))","v":""},null,"",null,"",null,"","",null,0,0,null,{"$f":"IF(C140=\"\",\"\",'OPĆI DIO'!$C$1)","v":""},"","","","","",{"$nulls":9},"A768068","OTKUP ZNANSTVENIH KNJIGA I VISOKOŠKOLSKIH UDŽBENIKA","0150","Istraživanje i razvoj: Opće javne usluge","09","095"]
[{"$f":"IF(E141=\"\",\"\",VLOOKUP('OPĆI DIO'!$C$1,'OPĆI DIO'!$L$4:$U$138,10,FALSE))","v":""},{"$f":"IF(E141=\"\",\"\",VLOOKUP('OPĆI DIO'!$C$1,'OPĆI DIO'!$L$4:$U$138,9,FALSE))","v":""},null,"",null,"",null,"","",null,0,0,null,{"$f":"IF(C141=\"\",\"\",'OPĆI DIO'!$C$1)","v":""},"","","","","",{"$nulls":9},"K578051","OP KONKURENTNOST I KOHEZIJA 2014.-2020., PRIORITET 1, 9 i 10","0150","Istraživanje i razvoj: Opće javne usluge","09","091"]
[{"$f":"IF(E142=\"\",\"\",VLOOKUP('OPĆI DIO'!$C$1,'OPĆI DIO'!$L$4:$U$138,10,FALSE))","v":""},{"$f":"IF(E142=\"\",\"\",VLOOKUP('OPĆI DIO'!$C$1,'OPĆI DIO'!$L$4:$U$138,9,FALSE))","v":""},null,"",null,"",null,"","",null,0,0,null,{"$f":"IF(C142=\"\",\"\",'OPĆI DIO'!$C$1)","v":""},"","","","","",{"$nulls":9},"K578070","POBOLJŠANJE UČINKOVITOSTI JAVNIH ULAGANJA NA PODRUČJU ISTRAŽIVANJA, RAZVOJA I INOVACIJA - NPOO (C3.2.R3)","0150","Istraživanje i razvoj: Opće javne usluge","09","092"]
[{"$f":"IF(E143=\"\",\"\",VLOOKUP('OPĆI DIO'!$C$1,'OPĆI DIO'!$L$4:$U$138,10,FALSE))","v":""},{"$f":"IF(E143=\"\",\"\",VLOOKUP('OPĆI DIO'!$C$1,'OPĆI DIO'!$L$4:$U$138,9,FALSE))","v":""},null,"",null,"",null,"","",null,0,0,null,{"$f":"IF(C143=\"\",\"\",'OPĆI DIO'!$C$1)","v":""},"","","","","",{"$nulls":9},"K580074","POTPORA PROVOĐENJU PROGRAMA I PROJEKATA EU","0150","Istraživanje i razvoj: Opće javne usluge","09","097"]
[{"$f":"IF(E144=\"\",\"\",VLOOKUP('OPĆI DIO'!$C$1,'OPĆI DIO'!$L$4:$U$138,10,FALSE))","v":""},{"$f":"IF(E144=\"\",\"\",VLOOKUP('OPĆI DIO'!$C$1,'OPĆI DIO'!$L$4:$U$138,9,FALSE))","v":""},null,"",null,"",null,"","",null,0,0,null,{"$f":"IF(C144=\"\",\"\",'OPĆI DIO'!$C$1)","v":""},"","","","","",{"$nulls":9},"K622113","ULAGANJE U ODRŽAVANJE ZNANSTVENOISTRAŽIVAČKE OPREME I INFRASTRUKTURE","0150","Istraživanje i razvoj: Opće javne usluge","09","091"]
[{"$f":"IF(E145=\"\",\"\",VLOOKUP('OPĆI DIO'!$C$1,'OPĆI DIO'!$L$4:$U$138,10,FALSE))","v":""},{"$f":"IF(E145=\"\",\"\",VLOOKUP('OPĆI DIO'!$C$1,'OPĆI DIO'!$L$4:$U$138,9,FALSE))","v":""},null,"",null,"",null,"","",null,0,0,null,{"$f":"IF(C145=\"\",\"\",'OPĆI DIO'!$C$1)","v":""},"","","","","",{"$nulls":9},"K676068","PROGRAM KONKURENTNOST I KOHEZIJA 2021.-2027., PRIORITET 1","0150","Istraživanje i razvoj: Opće javne usluge","01","015"]
[{"$f":"IF(E146=\"\",\"\",VLOOKUP('OPĆI DIO'!$C$1,'OPĆI DIO'!$L$4:$U$138,10,FALSE))","v":""},{"$f":"IF(E146=\"\",\"\",VLOOKUP('OPĆI DIO'!$C$1,'OPĆI DIO'!$L$4:$U$138,9,FALSE))","v":""},null,"",null,"",null,"","",null,0,0,null,{"$f":"IF(C146=\"\",\"\",'OPĆI DIO'!$C$1)","v":""},"","","","","",{"$nulls":9},"K676069","STVARANJE OKVIRA ZA PRIVLAČENJE STUDENATA I ISTRAŽIVAČA U STEM I ICT PODRUČJIMA - NPOO (C3.2.R2)","0150","Istraživanje i razvoj: Opće javne usluge","09","097"]
[{"$f":"IF(E147=\"\",\"\",VLOOKUP('OPĆI DIO'!$C$1,'OPĆI DIO'!$L$4:$U$138,10,FALSE))","v":""},{"$f":"IF(E147=\"\",\"\",VLOOKUP('OPĆI DIO'!$C$1,'OPĆI DIO'!$L$4:$U$138,9,FALSE))","v":""},null,"",null,"",null,"","",null,0,0,null,{"$f":"IF(C147=\"\",\"\",'OPĆI DIO'!$C$1)","v":""},"","","","","",{"$nulls":9},"K676073","PROJEKT DIGITALNE, INOVATIVNE I ZELENE TEHNOLOGIJE - DIGIT","0150","Istraživanje i razvoj: Opće javne usluge","09","095"]
[{"$f":"IF(E148=\"\",\"\",VLOOKUP('OPĆI DIO'!$C$1,'OPĆI DIO'!$L$4:$U$138,10,FALSE))","v":""},{"$f":"IF(E148=\"\",\"\",VLOOKUP('OPĆI DIO'!$C$1,'OPĆI DIO'!$L$4:$U$138,9,FALSE))","v":""},null,"",null,"",null,"","",null,0,0,null,{"$f":"IF(C148=\"\",\"\",'OPĆI DIO'!$C$1)","v":""},"","","","","",{"$nulls":9},"K768069","REFORMA I JAČANJE KAPACITETA JAVNOG ZNANSTVENO-ISTRAIŽIVAČKOG SEKTORA ZA ISTRAŽIVANJE I RAZVOJ - NPOO (C3.2.R1)","0150","Istraživanje i razvoj: Opće javne usluge","09","097"]
[{"$f":"IF(E149=\"\",\"\",VLOOKUP('OPĆI DIO'!$C$1,'OPĆI DIO'!$L$4:$U$138,10,FALSE))","v":""},{"$f":"IF(E149=\"\",\"\",VLOOKUP('OPĆI DIO'!$C$1,'OPĆI DIO'!$L$4:$U$138,9,FALSE))","v":""},null,"",null,"",null,"","",null,0,0,null,{"$f":"IF(C149=\"\",\"\",'OPĆI DIO'!$C$1)","v":""},"","","","","",{"$nulls":9},"A577143","RAZVOJ I ODRŽAVANJE INFORMACIJSKE INFRASTRUKTURE MINISTARSTVA","0980","Usluge obrazovanja koje nisu drugdje svrstane","09","094"]
[{"$f":"IF(E150=\"\",\"\",VLOOKUP('OPĆI DIO'!$C$1,'OPĆI DIO'!$L$4:$U$138,10,FALSE))","v":""},{"$f":"IF(E150=\"\",\"\",VLOOKUP('OPĆI DIO'!$C$1,'OPĆI DIO'!$L$4:$U$138,9,FALSE))","v":""},null,"",null,"",null,"","",null,0,0,null,{"$f":"IF(C150=\"\",\"\",'OPĆI DIO'!$C$1)","v":""},"","","","","",{"$nulls":9},"A628003","PROJEKTI PRIMJENE INFORMACIJSKE TEHNOLOGIJE","0150","Istraživanje i razvoj: Opće javne usluge","09","094"]
[{"$f":"IF(E151=\"\",\"\",VLOOKUP('OPĆI DIO'!$C$1,'OPĆI DIO'!$L$4:$U$138,10,FALSE))","v":""},{"$f":"IF(E151=\"\",\"\",VLOOKUP('OPĆI DIO'!$C$1,'OPĆI DIO'!$L$4:$U$138,9,FALSE))","v":""},null,"",null,"",null,"","",null,0,0,null,{"$f":"IF(C151=\"\",\"\",'OPĆI DIO'!$C$1)","v":""},"","","","","",{"$nulls":9},"K252755","RAČUNALNO KOMUNIKACIJSKA INFRASTRUKTURA U OSNOVNIM I SREDNJIM ŠKOLAMA","0980","Usluge obrazovanja koje nisu drugdje svrstane","09","094"]
[{"$f":"IF(E152=\"\",\"\",VLOOKUP('OPĆI DIO'!$C$1,'OPĆI DIO'!$L$4:$U$138,10,FALSE))","v":""},{"$f":"IF(E152=\"\",\"\",VLOOKUP('OPĆI DIO'!$C$1,'OPĆI DIO'!$L$4:$U$138,9,FALSE))","v":""},null,"",null,"",null,"","",null,0,0,null,{"$f":"IF(C152=\"\",\"\",'OPĆI DIO'!$C$1)","v":""},"","","","","",{"$nulls":9},"A621001","REDOVNA DJELATNOST SVEUČILIŠTA U ZAGREBU","0942","Drugi stupanj visoke naobrazbe","09","094"]
[{"$f":"IF(E153=\"\",\"\",VLOOKUP('OPĆI DIO'!$C$1,'OPĆI DIO'!$L$4:$U$138,10,FALSE))","v":""},{"$f":"IF(E153=\"\",\"\",VLOOKUP('OPĆI DIO'!$C$1,'OPĆI DIO'!$L$4:$U$138,9,FALSE))","v":""},null,"",null,"",null,"","",null,0,0,null,{"$f":"IF(C153=\"\",\"\",'OPĆI DIO'!$C$1)","v":""},"","","","","",{"$nulls":9},"A621002","REDOVNA DJELATNOST SVEUČILIŠTA U RIJECI","0942","Drugi stupanj visoke naobrazbe","09","094"]
[{"$f":"IF(E154=\"\",\"\",VLOOKUP('OPĆI DIO'!$C$1,'OPĆI DIO'!$L$4:$U$138,10,FALSE))","v":""},{"$f":"IF(E154=\"\",\"\",VLOOKUP('OPĆI DIO'!$C$1,'OPĆI DIO'!$L$4:$U$138,9,FALSE))","v":""},null,"",null,"",null,"","",null,0,0,null,{"$f":"IF(C154=\"\",\"\",'OPĆI DIO'!$C$1)","v":""},"","","","","",{"$nulls":9},"A621003","REDOVNA DJELATNOST SVEUČILIŠTA U OSIJEKU","0942","Drugi stupanj visoke naobrazbe","09","094"]
[{"$f":"IF(E155=\"\",\"\",VLOOKUP('OPĆI DIO'!$C$1,'OPĆI DIO'!$L$4:$U$138,10,FALSE))","v":""},{"$f":"IF(E155=\"\",\"\",VLOOKUP('OPĆI DIO'!$C$1,'OPĆI DIO'!$L$4:$U$138,9,FALSE))","v":""},null,"",null,"",null,"","",null,0,0,null,{"$f":"IF(C155=\"\",\"\",'OPĆI DIO'!$C$1)","v":""},"","","","","",{"$nulls":9},"A621004","REDOVNA DJELATNOST SVEUČILIŠTA U SPLITU","0942","Drugi stupanj visoke naobrazbe","09","094"]
[{"$f":"IF(E156=\"\",\"\",VLOOKUP('OPĆI DIO'!$C$1,'OPĆI DIO'!$L$4:$U$138,10,FALSE))","v":""},{"$f":"IF(E156=\"\",\"\",VLOOKUP('OPĆI DIO'!$C$1,'OPĆI DIO'!$L$4:$U$138,9,FALSE))","v":""},null,"",null,"",null,"","",null,0,0,null,{"$f":"IF(C156=\"\",\"\",'OPĆI DIO'!$C$1)","v":""},"","","","","",{"$nulls":9},"A621038","PROGRAMI VJEŽBAONICA VISOKIH UČILIŠTA","0942","Drugi stupanj visoke naobrazbe","09","094"]
[{"$f":"IF(E157=\"\",\"\",VLOOKUP('OPĆI DIO'!$C$1,'OPĆI DIO'!$L$4:$U$138,10,FALSE))","v":""},{"$f":"IF(E157=\"\",\"\",VLOOKUP('OPĆI DIO'!$C$1,'OPĆI DIO'!$L$4:$U$138,9,FALSE))","v":""},null,"",null,"",null,"","",null,0,0,null,{"$f":"IF(C157=\"\",\"\",'OPĆI DIO'!$C$1)","v":""},"","","","","",{"$nulls":9},"A621074","REDOVNA DJELATNOST SVEUČILIŠTA U ZADRU","0942","Drugi stupanj visoke naobrazbe","09","094"]
[{"$f":"IF(E158=\"\",\"\",VLOOKUP('OPĆI DIO'!$C$1,'OPĆI DIO'!$L$4:$U$138,10,FALSE))","v":""},{"$f":"IF(E158=\"\",\"\",VLOOKUP('OPĆI DIO'!$C$1,'OPĆI DIO'!$L$4:$U$138,9,FALSE))","v":""},null,"",null,"",null,"","",null,0,0,null,{"$f":"IF(C158=\"\",\"\",'OPĆI DIO'!$C$1)","v":""},"","","","","",{"$nulls":9},"A621138","REDOVNA DJELATNOST SVEUČILIŠTA U DUBROVNIKU","0942","Drugi stupanj visoke naobrazbe","09","094"]
[{"$f":"IF(E159=\"\",\"\",VLOOKUP('OPĆI DIO'!$C$1,'OPĆI DIO'!$L$4:$U$138,10,FALSE))","v":""},{"$f":"IF(E159=\"\",\"\",VLOOKUP('OPĆI DIO'!$C$1,'OPĆI DIO'!$L$4:$U$138,9,FALSE))","v":""},null,"",null,"",null,"","",null,0,0,null,{"$f":"IF(C159=\"\",\"\",'OPĆI DIO'!$C$1)","v":""},"","","","","",{"$nulls":9},"A621148","REDOVNA DJELATNOST VELEUČILIŠTA I VISOKIH ŠKOLA","0942","Drugi stupanj visoke naobrazbe","09","094"]
[{"$f":"IF(E160=\"\",\"\",VLOOKUP('OPĆI DIO'!$C$1,'OPĆI DIO'!$L$4:$U$138,10,FALSE))","v":""},{"$f":"IF(E160=\"\",\"\",VLOOKUP('OPĆI DIO'!$C$1,'OPĆI DIO'!$L$4:$U$138,9,FALSE))","v":""},null,"",null,"",null,"","",null,0,0,null,{"$f":"IF(C160=\"\",\"\",'OPĆI DIO'!$C$1)","v":""},"","","","","",{"$nulls":9},"A621168","REDOVNA DJELATNOST SVEUČILIŠTA U PULI","0942","Drugi stupanj visoke naobrazbe","09","094"]
[{"$f":"IF(E161=\"\",\"\",VLOOKUP('OPĆI DIO'!$C$1,'OPĆI DIO'!$L$4:$U$138,10,FALSE))","v":""},{"$f":"IF(E161=\"\",\"\",VLOOKUP('OPĆI DIO'!$C$1,'OPĆI DIO'!$L$4:$U$138,9,FALSE))","v":""},null,"",null,"",null,"","",null,0,0,null,{"$f":"IF(C161=\"\",\"\",'OPĆI DIO'!$C$1)","v":""},"","","","","",{"$nulls":9},"A621180","REKTORSKI ZBOR","0942","Drugi stupanj visoke naobrazbe","09","094"]
[{"$f":"IF(E162=\"\",\"\",VLOOKUP('OPĆI DIO'!$C$1,'OPĆI DIO'!$L$4:$U$138,10,FALSE))","v":""},{"$f":"IF(E162=\"\",\"\",VLOOKUP('OPĆI DIO'!$C$1,'OPĆI DIO'!$L$4:$U$138,9,FALSE))","v":""},null,"",null,"",null,"","",null,0,0,null,{"$f":"IF(C162=\"\",\"\",'OPĆI DIO'!$C$1)","v":""},"","","","","",{"$nulls":9},"A621181","PRAVOMOĆNE SUDSKE PRESUDE","0942","Drugi stupanj visoke naobrazbe","09","094"]
[{"$f":"IF(E163=\"\",\"\",VLOOKUP('OPĆI DIO'!$C$1,'OPĆI DIO'!$L$4:$U$138,10,FALSE))","v":""},{"$f":"IF(E163=\"\",\"\",VLOOKUP('OPĆI DIO'!$C$1,'OPĆI DIO'!$L$4:$U$138,9,FALSE))","v":""},null,"",null,"",null,"","",null,0,0,null,{"$f":"IF(C163=\"\",\"\",'OPĆI DIO'!$C$1)","v":""},"","","","","",{"$nulls":9},"A621183","STIPENDIJE I ŠKOLARINE ZA DOKTORSKI STUDIJ","0942","Drugi stupanj visoke naobrazbe","09","094"]
[{"$f":"IF(E164=\"\",\"\",VLOOKUP('OPĆI DIO'!$C$1,'OPĆI DIO'!$L$4:$U$138,10,FALSE))","v":""},{"$f":"IF(E164=\"\",\"\",VLOOKUP('OPĆI DIO'!$C$1,'OPĆI DIO'!$L$4:$U$138,9,FALSE))","v":""},null,"",null,"",null,"","",null,0,0,null,{"$f":"IF(C164=\"\",\"\",'OPĆI DIO'!$C$1)","v":""},"","","","","",{"$nulls":9},"A622122","PROGRAMSKO FINANCIRANJE JAVNIH VISOKIH UČILIŠTA","0942","Drugi stupanj visoke naobrazbe","09","094"]
[{"$f":"IF(E165=\"\",\"\",VLOOKUP('OPĆI DIO'!$C$1,'OPĆI DIO'!$L$4:$U$138,10,FALSE))","v":""},{"$f":"IF(E165=\"\",\"\",VLOOKUP('OPĆI DIO'!$C$1,'OPĆI DIO'!$L$4:$U$138,9,FALSE))","v":""},null,"",null,"",null,"","",null,0,0,null,{"$f":"IF(C165=\"\",\"\",'OPĆI DIO'!$C$1)","v":""},"","","","","",{"$nulls":9},"A679071","EU PROJEKTI SVEUČILIŠTA U OSIJEKU (IZ EVIDENCIJSKIH PRIHODA)","0942","Drugi stupanj visoke naobrazbe","09","094"]
[{"$f":"IF(E166=\"\",\"\",VLOOKUP('OPĆI DIO'!$C$1,'OPĆI DIO'!$L$4:$U$138,10,FALSE))","v":""},{"$f":"IF(E166=\"\",\"\",VLOOKUP('OPĆI DIO'!$C$1,'OPĆI DIO'!$L$4:$U$138,9,FALSE))","v":""},null,"",null,"",null,"","",null,0,0,null,{"$f":"IF(C166=\"\",\"\",'OPĆI DIO'!$C$1)","v":""},"","","","","",{"$nulls":9},"A679072","EU PROJEKTI SVEUČILIŠTA U RIJECI (IZ EVIDENCIJSKIH PRIHODA)","0942","Drugi stupanj visoke naobrazbe","09","094"]
[{"$f":"IF(E167=\"\",\"\",VLOOKUP('OPĆI DIO'!$C$1,'OPĆI DIO'!$L$4:$U$138,10,FALSE))","v":""},{"$f":"IF(E167=\"\",\"\",VLOOKUP('OPĆI DIO'!$C$1,'OPĆI DIO'!$L$4:$U$138,9,FALSE))","v":""},null,"",null,"",null,"","",null,0,0,null,{"$f":"IF(C167=\"\",\"\",'OPĆI DIO'!$C$1)","v":""},"","","","","",{"$nulls":9},"A679073","EU PROJEKTI SVEUČILIŠTA U DUBROVNIKU (IZ EVIDENCIJSKIH PRIHODA)","0942","Drugi stupanj visoke naobrazbe","09","094"]
[{"$f":"IF(E168=\"\",\"\",VLOOKUP('OPĆI DIO'!$C$1,'OPĆI DIO'!$L$4:$U$138,10,FALSE))","v":""},{"$f":"IF(E168=\"\",\"\",VLOOKUP('OPĆI DIO'!$C$1,'OPĆI DIO'!$L$4:$U$138,9,FALSE))","v":""},null,"",null,"",null,"","",null,0,0,null,{"$f":"IF(C168=\"\",\"\",'OPĆI DIO'!$C$1)","v":""},"","","","","",{"$nulls":9},"A679074","EU PROJEKTI SVEUČILIŠTA U ZADRU (IZ EVIDENCIJSKIH PRIHODA)","0942","Drugi stupanj visoke naobrazbe","09","094"]
[{"$f":"IF(E169=\"\",\"\",VLOOKUP('OPĆI DIO'!$C$1,'OPĆI DIO'!$L$4:$U$138,10,FALSE))","v":""},{"$f":"IF(E169=\"\",\"\",VLOOKUP('OPĆI DIO'!$C$1,'OPĆI DIO'!$L$4:$U$138,9,FALSE))","v":""},null,"",null,"",null,"","",null,0,0,null,{"$f":"IF(C169=\"\",\"\",'OPĆI DIO'!$C$1)","v":""},"","","","","",{"$nulls":9},"A679075","EU PROJEKTI SVEUČILIŠTA U PULI (IZ EVIDENCIJSKIH PRIHODA)","0942","Drugi stupanj visoke naobrazbe","09","094"]
[{"$f":"IF(E170=\"\",\"\",VLOOKUP('OPĆI DIO'!$C$1,'OPĆI DIO'!$L$4:$U$138,10,FALSE))","v":""},{"$f":"IF(E170=\"\",\"\",VLOOKUP('OPĆI DIO'!$C$1,'OPĆI DIO'!$L$4:$U$138,9,FALSE))","v":""},null,"",null,"",null,"","",null,0,0,null,{"$f":"IF(C170=\"\",\"\",'OPĆI DIO'!$C$1)","v":""},"","","","","",{"$nulls":9},"A679076","EU PROJEKTI VELEUČILIŠTA I VISOKIH ŠKOLA (IZ EVIDENCIJSKIH PRIHODA)","0942","Drugi stupanj visoke naobrazbe","09","094"]
[{"$f":"IF(E171=\"\",\"\",VLOOKUP('OPĆI DIO'!$C$1,'OPĆI DIO'!$L$4:$U$138,10,FALSE))","v":""},{"$f":"IF(E171=\"\",\"\",VLOOKUP('OPĆI DIO'!$C$1,'OPĆI DIO'!$L$4:$U$138,9,FALSE))","v":""},null,"",null,"",null,"","",null,0,0,null,{"$f":"IF(C171=\"\",\"\",'OPĆI DIO'!$C$1)","v":""},"","","","","",{"$nulls":9},"A679077","EU PROJEKTI SVEUČILIŠTA U SPLITU (IZ EVIDENCIJSKIH PRIHODA)","0942","Drugi stupanj visoke naobrazbe","09","094"]
[{"$f":"IF(E172=\"\",\"\",VLOOKUP('OPĆI DIO'!$C$1,'OPĆI DIO'!$L$4:$U$138,10,FALSE))","v":""},{"$f":"IF(E172=\"\",\"\",VLOOKUP('OPĆI DIO'!$C$1,'OPĆI DIO'!$L$4:$U$138,9,FALSE))","v":""},null,"",null,"",null,"","",null,0,0,null,{"$f":"IF(C172=\"\",\"\",'OPĆI DIO'!$C$1)","v":""},"","","","","",{"$nulls":9},"A679078","EU PROJEKTI SVEUČILIŠTA U ZAGREBU (IZ EVIDENCIJSKIH PRIHODA)","0942","Drugi stupanj visoke naobrazbe","09","094"]
[{"$f":"IF(E173=\"\",\"\",VLOOKUP('OPĆI DIO'!$C$1,'OPĆI DIO'!$L$4:$U$138,10,FALSE))","v":""},{"$f":"IF(E173=\"\",\"\",VLOOKUP('OPĆI DIO'!$C$1,'OPĆI DIO'!$L$4:$U$138,9,FALSE))","v":""},null,"",null,"",null,"","",null,0,0,null,{"$f":"IF(C173=\"\",\"\",'OPĆI DIO'!$C$1)","v":""},"","","","","",{"$nulls":9},"A679080","REDOVNA DJELATNOST SVEUČILIŠTA SJEVER","0942","Drugi stupanj visoke naobrazbe","09","096"]
[{"$f":"IF(E174=\"\",\"\",VLOOKUP('OPĆI DIO'!$C$1,'OPĆI DIO'!$L$4:$U$138,10,FALSE))","v":""},{"$f":"IF(E174=\"\",\"\",VLOOKUP('OPĆI DIO'!$C$1,'OPĆI DIO'!$L$4:$U$138,9,FALSE))","v":""},null,"",null,"",null,"","",null,0,0,null,{"$f":"IF(C174=\"\",\"\",'OPĆI DIO'!$C$1)","v":""},"","","","","",{"$nulls":9},"A679080","REDOVNA DJELATNOST SVEUČILIŠTA SJEVER","0960","Dodatne usluge u obrazovanju","09","094"]
[{"$f":"IF(E175=\"\",\"\",VLOOKUP('OPĆI DIO'!$C$1,'OPĆI DIO'!$L$4:$U$138,10,FALSE))","v":""},{"$f":"IF(E175=\"\",\"\",VLOOKUP('OPĆI DIO'!$C$1,'OPĆI DIO'!$L$4:$U$138,9,FALSE))","v":""},null,"",null,"",null,"","",null,0,0,null,{"$f":"IF(C175=\"\",\"\",'OPĆI DIO'!$C$1)","v":""},"","","","","",{"$nulls":9},"A679081","EU PROJEKTI SVEUČILIŠTA SJEVER (IZ EVIDENCIJSKIH PRIHODA)","0942","Drugi stupanj visoke naobrazbe","09","094"]
[{"$f":"IF(E176=\"\",\"\",VLOOKUP('OPĆI DIO'!$C$1,'OPĆI DIO'!$L$4:$U$138,10,FALSE))","v":""},{"$f":"IF(E176=\"\",\"\",VLOOKUP('OPĆI DIO'!$C$1,'OPĆI DIO'!$L$4:$U$138,9,FALSE))","v":""},null,"",null,"",null,"","",null,0,0,null,{"$f":"IF(C176=\"\",\"\",'OPĆI DIO'!$C$1)","v":""},"","","","","",{"$nulls":9},"A679088","REDOVNA DJELATNOST SVEUČILIŠTA U ZAGREBU (IZ EVIDENCIJSKIH PRIHODA)","0942","Drugi stupanj visoke naobrazbe","09","094"]
[{"$f":"IF(E177=\"\",\"\",VLOOKUP('OPĆI DIO'!$C$1,'OPĆI DIO'!$L$4:$U$138,10,FALSE))","v":""},{"$f":"IF(E177=\"\",\"\",VLOOKUP('OPĆI DIO'!$C$1,'OPĆI DIO'!$L$4:$U$138,9,FALSE))","v":""},null,"",null,"",null,"","",null,0,0,null,{"$f":"IF(C177=\"\",\"\",'OPĆI DIO'!$C$1)","v":""},"","","","","",{"$nulls":9},"A679089","REDOVNA DJELATNOST SVEUČILIŠTA U RIJECI (IZ EVIDENCIJSKIH PRIHODA)","0942","Drugi stupanj visoke naobrazbe","09","094"]
[{"$f":"IF(E178=\"\",\"\",VLOOKUP('OPĆI DIO'!$C$1,'OPĆI DIO'!$L$4:$U$138,10,FALSE))","v":""},{"$f":"IF(E178=\"\",\"\",VLOOKUP('OPĆI DIO'!$C$1,'OPĆI DIO'!$L$4:$U$138,9,FALSE))","v":""},null,"",null,"",null,"","",null,0,0,null,{"$f":"IF(C178=\"\",\"\",'OPĆI DIO'!$C$1)","v":""},"","","","","",{"$nulls":9},"A679090","REDOVNA DJELATNOST SVEUČILIŠTA U OSIJEKU (IZ EVIDENCIJSKIH PRIHODA)","0942","Drugi stupanj visoke naobrazbe","09","094"]
[{"$f":"IF(E179=\"\",\"\",VLOOKUP('OPĆI DIO'!$C$1,'OPĆI DIO'!$L$4:$U$138,10,FALSE))","v":""},{"$f":"IF(E179=\"\",\"\",VLOOKUP('OPĆI DIO'!$C$1,'OPĆI DIO'!$L$4:$U$138,9,FALSE))","v":""},null,"",null,"",null,"","",null,0,0,null,{"$f":"IF(C179=\"\",\"\",'OPĆI DIO'!$C$1)","v":""},"","","","","",{"$nulls":9},"A679091","REDOVNA DJELATNOST SVEUČILIŠTA U SPLITU (IZ EVIDENCIJSKIH PRIHODA)","0942","Drugi stupanj visoke naobrazbe","09","094"]
[{"$f":"IF(E180=\"\",\"\",VLOOKUP('OPĆI DIO'!$C$1,'OPĆI DIO'!$L$4:$U$138,10,FALSE))","v":""},{"$f":"IF(E180=\"\",\"\",VLOOKUP('OPĆI DIO'!$C$1,'OPĆI DIO'!$L$4:$U$138,9,FALSE))","v":""},null,"",null,"",null,"","",null,0,0,null,{"$f":"IF(C180=\"\",\"\",'OPĆI DIO'!$C$1)","v":""},"","","","","",{"$nulls":9},"A679092","REDOVNA DJELATNOST SVEUČILIŠTA U ZADRU (IZ EVIDENCIJSKIH PRIHODA)","0942","Drugi stupanj visoke naobrazbe","09","094"]
[{"$f":"IF(E181=\"\",\"\",VLOOKUP('OPĆI DIO'!$C$1,'OPĆI DIO'!$L$4:$U$138,10,FALSE))","v":""},{"$f":"IF(E181=\"\",\"\",VLOOKUP('OPĆI DIO'!$C$1,'OPĆI DIO'!$L$4:$U$138,9,FALSE))","v":""},null,"",null,"",null,"","",null,0,0,null,{"$f":"IF(C181=\"\",\"\",'OPĆI DIO'!$C$1)","v":""},"","","","","",{"$nulls":9},"A679093","REDOVNA DJELATNOST SVEUČILIŠTA U DUBROVNIKU (IZ EVIDENCIJSKIH PRIHODA)","0942","Drugi stupanj visoke naobrazbe","09","094"]
[{"$f":"IF(E182=\"\",\"\",VLOOKUP('OPĆI DIO'!$C$1,'OPĆI DIO'!$L$4:$U$138,10,FALSE))","v":""},{"$f":"IF(E182=\"\",\"\",VLOOKUP('OPĆI DIO'!$C$1,'OPĆI DIO'!$L$4:$U$138,9,FALSE))","v":""},null,"",null,"",null,"","",null,0,0,null,{"$f":"IF(C182=\"\",\"\",'OPĆI DIO'!$C$1)","v":""},"","","","","",{"$nulls":9},"A679094","REDOVNA DJELATNOST VELEUČILIŠTA I VISOKIH ŠKOLA (IZ EVIDENCIJSKIH PRIHODA)","0942","Drugi stupanj visoke naobrazbe","09","094"]
[{"$f":"IF(E183=\"\",\"\",VLOOKUP('OPĆI DIO'!$C$1,'OPĆI DIO'!$L$4:$U$138,10,FALSE))","v":""},{"$f":"IF(E183=\"\",\"\",VLOOKUP('OPĆI DIO'!$C$1,'OPĆI DIO'!$L$4:$U$138,9,FALSE))","v":""},null,"",null,"",null,"","",null,0,0,null,{"$f":"IF(C183=\"\",\"\",'OPĆI DIO'!$C$1)","v":""},"","","","","",{"$nulls":9},"A679095","REDOVNA DJELATNOST SVEUČILIŠTA U PULI (IZ EVIDENCIJSKIH PRIHODA)","0942","Drugi stupanj visoke naobrazbe","09","094"]
[{"$f":"IF(E184=\"\",\"\",VLOOKUP('OPĆI DIO'!$C$1,'OPĆI DIO'!$L$4:$U$138,10,FALSE))","v":""},{"$f":"IF(E184=\"\",\"\",VLOOKUP('OPĆI DIO'!$C$1,'OPĆI DIO'!$L$4:$U$138,9,FALSE))","v":""},null,"",null,"",null,"","",null,0,0,null,{"$f":"IF(C184=\"\",\"\",'OPĆI DIO'!$C$1)","v":""},"","","","","",{"$nulls":9},"A679096","REDOVNA DJELATNOST SVEUČILIŠTA SJEVER (IZ EVIDENCIJSKIH PRIHODA)","0942","Drugi stupanj visoke naobrazbe","09","094"]
[{"$f":"IF(E185=\"\",\"\",VLOOKUP('OPĆI DIO'!$C$1,'OPĆI DIO'!$L$4:$U$138,10,FALSE))","v":""},{"$f":"IF(E185=\"\",\"\",VLOOKUP('OPĆI DIO'!$C$1,'OPĆI DIO'!$L$4:$U$138,9,FALSE))","v":""},null,"",null,"",null,"","",null,0,0,null,{"$f":"IF(C185=\"\",\"\",'OPĆI DIO'!$C$1)","v":""},"","","","","",{"$nulls":9},"A679110","POTPORA UMJETNIČKIM STUDIJIMA","0942","Drugi stupanj visoke naobrazbe","09","094"]
[{"$f":"IF(E186=\"\",\"\",VLOOKUP('OPĆI DIO'!$C$1,'OPĆI DIO'!$L$4:$U$138,10,FALSE))","v":""},{"$f":"IF(E186=\"\",\"\",VLOOKUP('OPĆI DIO'!$C$1,'OPĆI DIO'!$L$4:$U$138,9,FALSE))","v":""},null,"",null,"",null,"","",null,0,0,null,{"$f":"IF(C186=\"\",\"\",'OPĆI DIO'!$C$1)","v":""},"","","","","",{"$nulls":9},"A679112","REDOVNA DJELATNOST SVEUČILIŠTA U SLAVONSKOM BRODU","0942","Drugi stupanj visoke naobrazbe","09","094"]
[{"$f":"IF(E187=\"\",\"\",VLOOKUP('OPĆI DIO'!$C$1,'OPĆI DIO'!$L$4:$U$138,10,FALSE))","v":""},{"$f":"IF(E187=\"\",\"\",VLOOKUP('OPĆI DIO'!$C$1,'OPĆI DIO'!$L$4:$U$138,9,FALSE))","v":""},null,"",null,"",null,"","",null,0,0,null,{"$f":"IF(C187=\"\",\"\",'OPĆI DIO'!$C$1)","v":""},"","","","","",{"$nulls":9},"A679114","REDOVNA DJELATNOST SVEUČILIŠTA U SLAVONSKOM BRODU (IZ EVIDENCIJSKIH PRIHODA)","0942","Drugi stupanj visoke naobrazbe","09","094"]
[{"$f":"IF(E188=\"\",\"\",VLOOKUP('OPĆI DIO'!$C$1,'OPĆI DIO'!$L$4:$U$138,10,FALSE))","v":""},{"$f":"IF(E188=\"\",\"\",VLOOKUP('OPĆI DIO'!$C$1,'OPĆI DIO'!$L$4:$U$138,9,FALSE))","v":""},null,"",null,"",null,"","",null,0,0,null,{"$f":"IF(C188=\"\",\"\",'OPĆI DIO'!$C$1)","v":""},"","","","","",{"$nulls":9},"A679115","EU PROJEKTI SVEUČILIŠTA U SLAVONSKOM BRODU  (IZ EVIDENCIJSKIH PRIHODA)","0942","Drugi stupanj visoke naobrazbe","09","094"]
[{"$f":"IF(E189=\"\",\"\",VLOOKUP('OPĆI DIO'!$C$1,'OPĆI DIO'!$L$4:$U$138,10,FALSE))","v":""},{"$f":"IF(E189=\"\",\"\",VLOOKUP('OPĆI DIO'!$C$1,'OPĆI DIO'!$L$4:$U$138,9,FALSE))","v":""},null,"",null,"",null,"","",null,0,0,null,{"$f":"IF(C189=\"\",\"\",'OPĆI DIO'!$C$1)","v":""},"","","","","",{"$nulls":9},"A679117","HPC - PROJEKT ISTRAŽIVANJA NA PODRUČJU POTRESNOG INŽENJERSTVA","0942","Drugi stupanj visoke naobrazbe","09","094"]
[{"$f":"IF(E190=\"\",\"\",VLOOKUP('OPĆI DIO'!$C$1,'OPĆI DIO'!$L$4:$U$138,10,FALSE))","v":""},{"$f":"IF(E190=\"\",\"\",VLOOKUP('OPĆI DIO'!$C$1,'OPĆI DIO'!$L$4:$U$138,9,FALSE))","v":""},null,"",null,"",null,"","",null,0,0,null,{"$f":"IF(C190=\"\",\"\",'OPĆI DIO'!$C$1)","v":""},"","","","","",{"$nulls":9},"A679118","PROJEKT PRAĆENJA GEOLOŠKIH HAZARDA I RIZIKA NAKON POTRESA U PETRINJI","0942","Drugi stupanj visoke naobrazbe","09","094"]
[{"$f":"IF(E191=\"\",\"\",VLOOKUP('OPĆI DIO'!$C$1,'OPĆI DIO'!$L$4:$U$138,10,FALSE))","v":""},{"$f":"IF(E191=\"\",\"\",VLOOKUP('OPĆI DIO'!$C$1,'OPĆI DIO'!$L$4:$U$138,9,FALSE))","v":""},null,"",null,"",null,"","",null,0,0,null,{"$f":"IF(C191=\"\",\"\",'OPĆI DIO'!$C$1)","v":""},"","","","","",{"$nulls":9},"K621061","ODRŽAVANJE OBJEKATA VISOKOOBRAZOVNIH USTANOVA","0942","Drugi stupanj visoke naobrazbe","09","094"]
[{"$f":"IF(E192=\"\",\"\",VLOOKUP('OPĆI DIO'!$C$1,'OPĆI DIO'!$L$4:$U$138,10,FALSE))","v":""},{"$f":"IF(E192=\"\",\"\",VLOOKUP('OPĆI DIO'!$C$1,'OPĆI DIO'!$L$4:$U$138,9,FALSE))","v":""},null,"",null,"",null,"","",null,0,0,null,{"$f":"IF(C192=\"\",\"\",'OPĆI DIO'!$C$1)","v":""},"","","","","",{"$nulls":9},"K679084","OP KONKURENTNOST I KOHEZIJA 2014.-2020., PRIORITET 1, 9 i 10","0942","Drugi stupanj visoke naobrazbe","09","094"]
[{"$f":"IF(E193=\"\",\"\",VLOOKUP('OPĆI DIO'!$C$1,'OPĆI DIO'!$L$4:$U$138,10,FALSE))","v":""},{"$f":"IF(E193=\"\",\"\",VLOOKUP('OPĆI DIO'!$C$1,'OPĆI DIO'!$L$4:$U$138,9,FALSE))","v":""},null,"",null,"",null,"","",null,0,0,null,{"$f":"IF(C193=\"\",\"\",'OPĆI DIO'!$C$1)","v":""},"","","","","",{"$nulls":9},"K679106","OP UČINKOVITI LJUDSKI POTENCIJALI 2014.-2020., PRIORITET 3","0942","Drugi stupanj visoke naobrazbe","09","094"]
[{"$f":"IF(E194=\"\",\"\",VLOOKUP('OPĆI DIO'!$C$1,'OPĆI DIO'!$L$4:$U$138,10,FALSE))","v":""},{"$f":"IF(E194=\"\",\"\",VLOOKUP('OPĆI DIO'!$C$1,'OPĆI DIO'!$L$4:$U$138,9,FALSE))","v":""},null,"",null,"",null,"","",null,0,0,null,{"$f":"IF(C194=\"\",\"\",'OPĆI DIO'!$C$1)","v":""},"","","","","",{"$nulls":9},"K679116","OBNOVA INFRASTRUKTURE I OPREME U PODRUČJU OBRAZOVANJA OŠTEĆENE POTRESOM","0942","Drugi stupanj visoke naobrazbe","09","094"]
[{"$f":"IF(E195=\"\",\"\",VLOOKUP('OPĆI DIO'!$C$1,'OPĆI DIO'!$L$4:$U$138,10,FALSE))","v":""},{"$f":"IF(E195=\"\",\"\",VLOOKUP('OPĆI DIO'!$C$1,'OPĆI DIO'!$L$4:$U$138,9,FALSE))","v":""},null,"",null,{"$f":"IFERROR(VLOOKUP(E195,$W$5:$Y$129,2,FALSE),\"\")","v":""},null,"","",null,0,0,null,{"$f":"IF(C195=\"\",\"\",'OPĆI DIO'!$C$1)","v":""},"","","","","",{"$nulls":9},"K679119","OBNOVA ZGRADA OŠTEĆENIH U POTRESU S ENERGETSKOM OBNOVOM - NPOO (C6.1.R1-I2)","0942","Drugi stupanj visoke naobrazbe","09","094"]
[{"$f":"IF(E196=\"\",\"\",VLOOKUP('OPĆI DIO'!$C$1,'OPĆI DIO'!$L$4:$U$138,10,FALSE))","v":""},{"$f":"IF(E196=\"\",\"\",VLOOKUP('OPĆI DIO'!$C$1,'OPĆI DIO'!$L$4:$U$138,9,FALSE))","v":""},null,{"$f":"IFERROR(VLOOKUP(C196,$T$6:$U$23,2,FALSE),\"\")","v":""},null,"",null,{"$f":"IFERROR(VLOOKUP(G196,$AC$6:$AD$353,2,FALSE),\"\")","v":""},{"$f":"IFERROR(VLOOKUP(G196,$AC$6:$AG$353,3,FALSE),\"\")","v":""},null,0,{"$f":"+J196+K196","v":0},null,{"$f":"IF(C196=\"\",\"\",'OPĆI DIO'!$C$1)","v":""},{"$f":"LEFT(E196,3)","v":""},{"$f":"LEFT(E196,2)","v":""},{"$f":"LEFT(C196,3)","v":""},{"$f":"IF(S196=\"5\",0,MID(I196,2,2))","v":""},{"$f":"LEFT(E196,1)","v":""},{"$nulls":9},"K679122","RAZVOJ MREŽE SEIZMOLOŠKIH PODATAKA - NPOO (C6.1.R4-I1)","0942","Drugi stupanj visoke naobrazbe","09","094"]
[{"$f":"IF(E197=\"\",\"\",VLOOKUP('OPĆI DIO'!$C$1,'OPĆI DIO'!$L$4:$U$138,10,FALSE))","v":""},{"$f":"IF(E197=\"\",\"\",VLOOKUP('OPĆI DIO'!$C$1,'OPĆI DIO'!$L$4:$U$138,9,FALSE))","v":""},null,"",null,"",null,"","",null,0,0,null,{"$f":"IF(C197=\"\",\"\",'OPĆI DIO'!$C$1)","v":""},"","","","","",{"$nulls":9},"K679124","PROGRAM UČINKOVITI LJUDSKI POTENCIJALI 2021.-2027., PRIORITET 2","0942","Drugi stupanj visoke naobrazbe","01","015"]
[{"$f":"IF(E198=\"\",\"\",VLOOKUP('OPĆI DIO'!$C$1,'OPĆI DIO'!$L$4:$U$138,10,FALSE))","v":""},{"$f":"IF(E198=\"\",\"\",VLOOKUP('OPĆI DIO'!$C$1,'OPĆI DIO'!$L$4:$U$138,9,FALSE))","v":""},null,"",null,"",null,"","",null,0,0,null,{"$f":"IF(C198=\"\",\"\",'OPĆI DIO'!$C$1)","v":""},"","","","","",{"$nulls":9},"K679125","OBNOVA INFRASTRUKTURE U PODRUČJU OBRAZOVANJA OŠTEĆENE POTRESOM FSEU.2022.MZO","0942","Drugi stupanj visoke naobrazbe","01","015"]
[{"$f":"IF(E199=\"\",\"\",VLOOKUP('OPĆI DIO'!$C$1,'OPĆI DIO'!$L$4:$U$138,10,FALSE))","v":""},{"$f":"IF(E199=\"\",\"\",VLOOKUP('OPĆI DIO'!$C$1,'OPĆI DIO'!$L$4:$U$138,9,FALSE))","v":""},null,"",null,"",null,"","",null,0,0,null,{"$f":"IF(C199=\"\",\"\",'OPĆI DIO'!$C$1)","v":""},"","","","","",{"$nulls":9},"K679126","PROGRAM KONKURENTNOST I KOHEZIJA 2021.-2027., PRIORITET 1","0942","Drugi stupanj visoke naobrazbe","01","015"]
[{"$f":"IF(E200=\"\",\"\",VLOOKUP('OPĆI DIO'!$C$1,'OPĆI DIO'!$L$4:$U$138,10,FALSE))","v":""},{"$f":"IF(E200=\"\",\"\",VLOOKUP('OPĆI DIO'!$C$1,'OPĆI DIO'!$L$4:$U$138,9,FALSE))","v":""},null,"",null,"",null,"","",null,0,0,null,{"$f":"IF(C200=\"\",\"\",'OPĆI DIO'!$C$1)","v":""},"","","","","",{"$nulls":9},"K679128","POBOLJŠANJE UČINKOVITOSTI JAVNIH ULAGANJA NA PODRUČJU ISTRAŽIVANJA, RAZVOJA I INOVACIJA - NPOO (C3.2.R3)","0942","Drugi stupanj visoke naobrazbe","01","015"]
[{"$f":"IF(E201=\"\",\"\",VLOOKUP('OPĆI DIO'!$C$1,'OPĆI DIO'!$L$4:$U$138,10,FALSE))","v":""},{"$f":"IF(E201=\"\",\"\",VLOOKUP('OPĆI DIO'!$C$1,'OPĆI DIO'!$L$4:$U$138,9,FALSE))","v":""},null,"",null,"",null,"","",null,0,0,null,{"$f":"IF(C201=\"\",\"\",'OPĆI DIO'!$C$1)","v":""},"","","","","",{"$nulls":9},"K679129","STVARANJE OKVIRA ZA PRIVLAČENJE STUDENATA I ISTRAŽIVAČA NA STEM I ICT PODRUČJIMA - NPOO (C3.2.R2)","0942","Drugi stupanj visoke naobrazbe","01","015"]
[{"$f":"IF(E202=\"\",\"\",VLOOKUP('OPĆI DIO'!$C$1,'OPĆI DIO'!$L$4:$U$138,10,FALSE))","v":""},{"$f":"IF(E202=\"\",\"\",VLOOKUP('OPĆI DIO'!$C$1,'OPĆI DIO'!$L$4:$U$138,9,FALSE))","v":""},null,"",null,"",null,"","",null,0,0,null,{"$f":"IF(C202=\"\",\"\",'OPĆI DIO'!$C$1)","v":""},"","","","","",{"$nulls":9},"A622012","REDOVNA DJELATNOST SEIZMOLOŠKE SLUŽBE","0942","Drugi stupanj visoke naobrazbe","01","015"]
[{"$f":"IF(E203=\"\",\"\",VLOOKUP('OPĆI DIO'!$C$1,'OPĆI DIO'!$L$4:$U$138,10,FALSE))","v":""},{"$f":"IF(E203=\"\",\"\",VLOOKUP('OPĆI DIO'!$C$1,'OPĆI DIO'!$L$4:$U$138,9,FALSE))","v":""},null,"",null,"",null,"","",null,0,0,null,{"$f":"IF(C203=\"\",\"\",'OPĆI DIO'!$C$1)","v":""},"","","","","",{"$nulls":9},"A622000","REDOVNA DJELATNOST JAVNIH INSTITUTA","0150","Istraživanje i razvoj: Opće javne usluge","01","015"]
[{"$f":"IF(E204=\"\",\"\",VLOOKUP('OPĆI DIO'!$C$1,'OPĆI DIO'!$L$4:$U$138,10,FALSE))","v":""},{"$f":"IF(E204=\"\",\"\",VLOOKUP('OPĆI DIO'!$C$1,'OPĆI DIO'!$L$4:$U$138,9,FALSE))","v":""},null,"",null,"",null,"","",null,0,0,null,{"$f":"IF(C204=\"\",\"\",'OPĆI DIO'!$C$1)","v":""},"","","","","",{"$nulls":9},"A622002","PROGRAM USAVRŠAVANJA ZNANSTVENIH NOVAKA","0150","Istraživanje i razvoj: Opće javne usluge","01","015"]
[{"$f":"IF(E205=\"\",\"\",VLOOKUP('OPĆI DIO'!$C$1,'OPĆI DIO'!$L$4:$U$138,10,FALSE))","v":""},{"$f":"IF(E205=\"\",\"\",VLOOKUP('OPĆI DIO'!$C$1,'OPĆI DIO'!$L$4:$U$138,9,FALSE))","v":""},null,"",null,"",null,"","",null,0,0,null,{"$f":"IF(C205=\"\",\"\",'OPĆI DIO'!$C$1)","v":""},"","","","","",{"$nulls":9},"A622009","POTICAJ RAZVOJA ZNANOSTI I ULAGANJA U KADROVE - FINANCIRANJE ŠKOLARINA ZA POSLIJEDIPLOMSKI STUDIJ","0150","Istraživanje i razvoj: Opće javne usluge","01","015"]
[{"$f":"IF(E206=\"\",\"\",VLOOKUP('OPĆI DIO'!$C$1,'OPĆI DIO'!$L$4:$U$138,10,FALSE))","v":""},{"$f":"IF(E206=\"\",\"\",VLOOKUP('OPĆI DIO'!$C$1,'OPĆI DIO'!$L$4:$U$138,9,FALSE))","v":""},null,"",null,"",null,"","",null,0,0,null,{"$f":"IF(C206=\"\",\"\",'OPĆI DIO'!$C$1)","v":""},"","","","","",{"$nulls":9},"A622011","REDOVNA DJELATNOST GEOLOŠKE SLUŽBE","0150","Istraživanje i razvoj: Opće javne usluge","01","015"]
[{"$f":"IF(E207=\"\",\"\",VLOOKUP('OPĆI DIO'!$C$1,'OPĆI DIO'!$L$4:$U$138,10,FALSE))","v":""},{"$f":"IF(E207=\"\",\"\",VLOOKUP('OPĆI DIO'!$C$1,'OPĆI DIO'!$L$4:$U$138,9,FALSE))","v":""},null,"",null,"",null,"","",null,0,0,null,{"$f":"IF(C207=\"\",\"\",'OPĆI DIO'!$C$1)","v":""},"","","","","",{"$nulls":9},"A622120","PRAVOMOĆNE SUDSKE PRESUDE","0150","Istraživanje i razvoj: Opće javne usluge","01","015"]
[{"$f":"IF(E208=\"\",\"\",VLOOKUP('OPĆI DIO'!$C$1,'OPĆI DIO'!$L$4:$U$138,10,FALSE))","v":""},{"$f":"IF(E208=\"\",\"\",VLOOKUP('OPĆI DIO'!$C$1,'OPĆI DIO'!$L$4:$U$138,9,FALSE))","v":""},null,"",null,"",null,"","",null,0,0,null,{"$f":"IF(C208=\"\",\"\",'OPĆI DIO'!$C$1)","v":""},"","","","","",{"$nulls":9},"A622125","EU PROJEKTI JAVNIH INSTITUTA (IZ EVIDENCIJSKIH PRIHODA)","0150","Istraživanje i razvoj: Opće javne usluge","01","015"]
[{"$f":"IF(E209=\"\",\"\",VLOOKUP('OPĆI DIO'!$C$1,'OPĆI DIO'!$L$4:$U$138,10,FALSE))","v":""},{"$f":"IF(E209=\"\",\"\",VLOOKUP('OPĆI DIO'!$C$1,'OPĆI DIO'!$L$4:$U$138,9,FALSE))","v":""},null,"",null,"",null,"","",null,0,0,null,{"$f":"IF(C209=\"\",\"\",'OPĆI DIO'!$C$1)","v":""},"","","","","",{"$nulls":9},"A622132","REDOVNA DJELATNOST JAVNIH INSTITUTA (IZ EVIDENCIJSKIH PRIHODA)","0150","Istraživanje i razvoj: Opće javne usluge","01","015"]
[{"$f":"IF(E210=\"\",\"\",VLOOKUP('OPĆI DIO'!$C$1,'OPĆI DIO'!$L$4:$U$138,10,FALSE))","v":""},{"$f":"IF(E210=\"\",\"\",VLOOKUP('OPĆI DIO'!$C$1,'OPĆI DIO'!$L$4:$U$138,9,FALSE))","v":""},null,"",null,"",null,"","",null,0,0,null,{"$f":"IF(C210=\"\",\"\",'OPĆI DIO'!$C$1)","v":""},"","","","","",{"$nulls":9},"A622137","PROGRAMSKO FINANCIRANJE JAVNIH ZNANSTVENIH INSTITUTA","0150","Istraživanje i razvoj: Opće javne usluge","01","015"]
[{"$f":"IF(E211=\"\",\"\",VLOOKUP('OPĆI DIO'!$C$1,'OPĆI DIO'!$L$4:$U$138,10,FALSE))","v":""},{"$f":"IF(E211=\"\",\"\",VLOOKUP('OPĆI DIO'!$C$1,'OPĆI DIO'!$L$4:$U$138,9,FALSE))","v":""},null,"",null,"",null,"","",null,0,0,null,{"$f":"IF(C211=\"\",\"\",'OPĆI DIO'!$C$1)","v":""},"","","","","",{"$nulls":9},"A622150","PROGRAMSKO FINANCIRANJE JAVNIH INSTITUTA","0150","Istraživanje i razvoj: Opće javne usluge","08","082"]
[{"$f":"IF(E212=\"\",\"\",VLOOKUP('OPĆI DIO'!$C$1,'OPĆI DIO'!$L$4:$U$138,10,FALSE))","v":""},{"$f":"IF(E212=\"\",\"\",VLOOKUP('OPĆI DIO'!$C$1,'OPĆI DIO'!$L$4:$U$138,9,FALSE))","v":""},null,"",null,"",null,"","",null,0,0,null,{"$f":"IF(C212=\"\",\"\",'OPĆI DIO'!$C$1)","v":""},"","","","","",{"$nulls":9},"A622151","PROGRAMSKO FINANCIRANJE JAVNIH INSTITUTA – IZ EVIDENCIJSKIH PRIHODA","0150","Istraživanje i razvoj: Opće javne usluge","08","082"]
[{"$f":"IF(E213=\"\",\"\",VLOOKUP('OPĆI DIO'!$C$1,'OPĆI DIO'!$L$4:$U$138,10,FALSE))","v":""},{"$f":"IF(E213=\"\",\"\",VLOOKUP('OPĆI DIO'!$C$1,'OPĆI DIO'!$L$4:$U$138,9,FALSE))","v":""},null,"",null,"",null,"","",null,0,0,null,{"$f":"IF(C213=\"\",\"\",'OPĆI DIO'!$C$1)","v":""},"","","","","",{"$nulls":9},"A622152","PROGRAMSKO FINANCIRANJE JAVNIH INSTITUTA  - IZ STRUKTURNIH I INVESTICIJSKIH FONDOVA EU","0150","Istraživanje i razvoj: Opće javne usluge","08","082"]
[{"$f":"IF(E214=\"\",\"\",VLOOKUP('OPĆI DIO'!$C$1,'OPĆI DIO'!$L$4:$U$138,10,FALSE))","v":""},{"$f":"IF(E214=\"\",\"\",VLOOKUP('OPĆI DIO'!$C$1,'OPĆI DIO'!$L$4:$U$138,9,FALSE))","v":""},null,"",null,"",null,"","",null,0,0,null,{"$f":"IF(C214=\"\",\"\",'OPĆI DIO'!$C$1)","v":""},"","","","","",{"$nulls":9},"A622153","SAMOSTALNA DJELATNOST JAVNIH INSTITUTA – IZ EVIDENCIJSKIH PRIHODA","0150","Istraživanje i razvoj: Opće javne usluge","08","082"]
[{"$f":"IF(E215=\"\",\"\",VLOOKUP('OPĆI DIO'!$C$1,'OPĆI DIO'!$L$4:$U$138,10,FALSE))","v":""},{"$f":"IF(E215=\"\",\"\",VLOOKUP('OPĆI DIO'!$C$1,'OPĆI DIO'!$L$4:$U$138,9,FALSE))","v":""},null,"",null,"",null,"","",null,0,0,null,{"$f":"IF(C215=\"\",\"\",'OPĆI DIO'!$C$1)","v":""},"","","","","",{"$nulls":9},"K622128","OP KONKURENTNOST I KOHEZIJA 2014.-2020., PRIORITET 1 i 10","0150","Istraživanje i razvoj: Opće javne usluge","01","013"]
[{"$f":"IF(E216=\"\",\"\",VLOOKUP('OPĆI DIO'!$C$1,'OPĆI DIO'!$L$4:$U$138,10,FALSE))","v":""},{"$f":"IF(E216=\"\",\"\",VLOOKUP('OPĆI DIO'!$C$1,'OPĆI DIO'!$L$4:$U$138,9,FALSE))","v":""},null,"",null,"",null,"","",null,0,0,null,{"$f":"IF(C216=\"\",\"\",'OPĆI DIO'!$C$1)","v":""},"","","","","",{"$nulls":9},"K622138","OBNOVA INFRASTRUKTURE I OPREME U PODRUČJU OBRAZOVANJA OŠTEĆENE POTRESOM","0150","Istraživanje i razvoj: Opće javne usluge","01","013"]
[{"$f":"IF(E217=\"\",\"\",VLOOKUP('OPĆI DIO'!$C$1,'OPĆI DIO'!$L$4:$U$138,10,FALSE))","v":""},{"$f":"IF(E217=\"\",\"\",VLOOKUP('OPĆI DIO'!$C$1,'OPĆI DIO'!$L$4:$U$138,9,FALSE))","v":""},null,"",null,"",null,"","",null,0,0,null,{"$f":"IF(C217=\"\",\"\",'OPĆI DIO'!$C$1)","v":""},"","","","","",{"$nulls":9},"K622139","OBNOVA ZGRADA OŠTEĆENIH U POTRESU S ENERGETSKOM OBNOVOM - NPOO (C6.1.R1-I2)","0150","Istraživanje i razvoj: Opće javne usluge","04","046"]
[{"$f":"IF(E218=\"\",\"\",VLOOKUP('OPĆI DIO'!$C$1,'OPĆI DIO'!$L$4:$U$138,10,FALSE))","v":""},{"$f":"IF(E218=\"\",\"\",VLOOKUP('OPĆI DIO'!$C$1,'OPĆI DIO'!$L$4:$U$138,9,FALSE))","v":""},null,"",null,"",null,"","",null,0,0,null,{"$f":"IF(C218=\"\",\"\",'OPĆI DIO'!$C$1)","v":""},"","","","","",{"$nulls":9},"K622142","RAZVOJ ODRŽIVOG, INOVATIVNOG I OTPORNOG TURIZMA  (C1.6 R1) - NPOO","0150","Istraživanje i razvoj: Opće javne usluge","01","013"]
[{"$f":"IF(E219=\"\",\"\",VLOOKUP('OPĆI DIO'!$C$1,'OPĆI DIO'!$L$4:$U$138,10,FALSE))","v":""},{"$f":"IF(E219=\"\",\"\",VLOOKUP('OPĆI DIO'!$C$1,'OPĆI DIO'!$L$4:$U$138,9,FALSE))","v":""},null,"",null,"",null,"","",null,0,0,null,{"$f":"IF(C219=\"\",\"\",'OPĆI DIO'!$C$1)","v":""},"","","","","",{"$nulls":9},"K622144","OBNOVA INFRASTRUKTURE U PODRUČJU OBRAZOVANJA OŠTEĆENE POTRESOM FSEU.2022.MZO","0150","Istraživanje i razvoj: Opće javne usluge","01","013"]
[{"$f":"IF(E220=\"\",\"\",VLOOKUP('OPĆI DIO'!$C$1,'OPĆI DIO'!$L$4:$U$138,10,FALSE))","v":""},{"$f":"IF(E220=\"\",\"\",VLOOKUP('OPĆI DIO'!$C$1,'OPĆI DIO'!$L$4:$U$138,9,FALSE))","v":""},null,"",null,"",null,"","",null,0,0,null,{"$f":"IF(C220=\"\",\"\",'OPĆI DIO'!$C$1)","v":""},"","","","","",{"$nulls":9},"K622149","REFORMA I JAČANJE KAPACITETA JAVNOG ZNANSTVENO-ISTRAŽIVAČKOG SEKTORA ZA ISTRAŽIVNJE I RAZVOJ - NPOO (C3.2.R1)","0150","Istraživanje i razvoj: Opće javne usluge","01","013"]
[{"$f":"IF(E221=\"\",\"\",VLOOKUP('OPĆI DIO'!$C$1,'OPĆI DIO'!$L$4:$U$138,10,FALSE))","v":""},{"$f":"IF(E221=\"\",\"\",VLOOKUP('OPĆI DIO'!$C$1,'OPĆI DIO'!$L$4:$U$138,9,FALSE))","v":""},null,"",null,"",null,"","",null,0,0,null,{"$f":"IF(C221=\"\",\"\",'OPĆI DIO'!$C$1)","v":""},"","","","","",{"$nulls":9},"A763000","ADMINISTRACIJA I UPRAVLJANJE DRŽAVNOG ZAVODA ZA INTELEKTUALNO VLASNIŠTVO","0150","Istraživanje i razvoj: Opće javne usluge","01","013"]
[{"$f":"IF(E222=\"\",\"\",VLOOKUP('OPĆI DIO'!$C$1,'OPĆI DIO'!$L$4:$U$138,10,FALSE))","v":""},{"$f":"IF(E222=\"\",\"\",VLOOKUP('OPĆI DIO'!$C$1,'OPĆI DIO'!$L$4:$U$138,9,FALSE))","v":""},null,"",null,"",null,"","",null,0,0,null,{"$f":"IF(C222=\"\",\"\",'OPĆI DIO'!$C$1)","v":""},"","","","","",{"$nulls":9},"T763005","SURADNJA DZIV-a S UREDOM EUROPSKE UNIJE ZA INTELEKTUALNO VLASNIŠTVO (EUIPO)","0150","Istraživanje i razvoj: Opće javne usluge","09","097"]
[{"$f":"IF(E223=\"\",\"\",VLOOKUP('OPĆI DIO'!$C$1,'OPĆI DIO'!$L$4:$U$138,10,FALSE))","v":""},{"$f":"IF(E223=\"\",\"\",VLOOKUP('OPĆI DIO'!$C$1,'OPĆI DIO'!$L$4:$U$138,9,FALSE))","v":""},null,"",null,"",null,"","",null,0,0,null,{"$f":"IF(C223=\"\",\"\",'OPĆI DIO'!$C$1)","v":""},"","","","","",{"$nulls":9},"A622017","ADMINISTRACIJA I UPRAVLJANJE NACIONALNE SVEUČILIŠNE KNJIŽNICE","0820","Službe kulture","01","013"]
[{"$f":"IF(E224=\"\",\"\",VLOOKUP('OPĆI DIO'!$C$1,'OPĆI DIO'!$L$4:$U$138,10,FALSE))","v":""},{"$f":"IF(E224=\"\",\"\",VLOOKUP('OPĆI DIO'!$C$1,'OPĆI DIO'!$L$4:$U$138,9,FALSE))","v":""},null,"",null,"",null,"","",null,0,0,null,{"$f":"IF(C224=\"\",\"\",'OPĆI DIO'!$C$1)","v":""},"","","","","",{"$nulls":9},"A622131","NABAVA INOZEMNIH ZNANSTVENIH ČASOPISA","0820","Službe kulture","01","013"]
[{"$f":"IF(E225=\"\",\"\",VLOOKUP('OPĆI DIO'!$C$1,'OPĆI DIO'!$L$4:$U$138,10,FALSE))","v":""},{"$f":"IF(E225=\"\",\"\",VLOOKUP('OPĆI DIO'!$C$1,'OPĆI DIO'!$L$4:$U$138,9,FALSE))","v":""},null,"",null,"",null,"","",null,0,0,null,{"$f":"IF(C225=\"\",\"\",'OPĆI DIO'!$C$1)","v":""},"","","","","",{"$nulls":9},"A622134","ADMINISTRACIJA I UPRAVLJANJE NACIONALNE SVEUČILIŠNE KNJIŽNICE (IZ EVIDENCIJSKIH PRIHODA)","0820","Službe kulture","01","013"]
[{"$f":"IF(E226=\"\",\"\",VLOOKUP('OPĆI DIO'!$C$1,'OPĆI DIO'!$L$4:$U$138,10,FALSE))","v":""},{"$f":"IF(E226=\"\",\"\",VLOOKUP('OPĆI DIO'!$C$1,'OPĆI DIO'!$L$4:$U$138,9,FALSE))","v":""},null,"",null,"",null,"","",null,0,0,null,{"$f":"IF(C226=\"\",\"\",'OPĆI DIO'!$C$1)","v":""},"","","","","",{"$nulls":9},"A622145","PRAVOMOĆNE SUDSKE PRESUDE","0820","Službe kulture","01","013"]
[{"$f":"IF(E227=\"\",\"\",VLOOKUP('OPĆI DIO'!$C$1,'OPĆI DIO'!$L$4:$U$138,10,FALSE))","v":""},{"$f":"IF(E227=\"\",\"\",VLOOKUP('OPĆI DIO'!$C$1,'OPĆI DIO'!$L$4:$U$138,9,FALSE))","v":""},null,"",null,"",null,"","",null,0,0,null,{"$f":"IF(C227=\"\",\"\",'OPĆI DIO'!$C$1)","v":""},"","","","","",{"$nulls":9},"K622116","KNJIGE, UMJETNIČKA DJELA I OSTALE IZLOŽBENE VRIJEDNOSTI","0820","Službe kulture","09","097"]
[{"$f":"IF(E228=\"\",\"\",VLOOKUP('OPĆI DIO'!$C$1,'OPĆI DIO'!$L$4:$U$138,10,FALSE))","v":""},{"$f":"IF(E228=\"\",\"\",VLOOKUP('OPĆI DIO'!$C$1,'OPĆI DIO'!$L$4:$U$138,9,FALSE))","v":""},null,"",null,"",null,"","",null,0,0,null,{"$f":"IF(C228=\"\",\"\",'OPĆI DIO'!$C$1)","v":""},"","","","","",{"$nulls":9},"K622147","PROJEKT E-SVEUČILIŠTA - NPOO (C.3.1. R2-I1)","0820","Službe kulture","09","097"]
[{"$f":"IF(E229=\"\",\"\",VLOOKUP('OPĆI DIO'!$C$1,'OPĆI DIO'!$L$4:$U$138,10,FALSE))","v":""},{"$f":"IF(E229=\"\",\"\",VLOOKUP('OPĆI DIO'!$C$1,'OPĆI DIO'!$L$4:$U$138,9,FALSE))","v":""},null,"",null,"",null,"","",null,0,0,null,{"$f":"IF(C229=\"\",\"\",'OPĆI DIO'!$C$1)","v":""},"","","","","",{"$nulls":9},"A628009","ADMINISTRACIJA I UPRAVLJANJE HRVATSKE AKADEMSKE I ISTRAŽIVAČKE MREŽE CARNET","0133","Ostale opće usluge","01","013"]
[{"$f":"IF(E230=\"\",\"\",VLOOKUP('OPĆI DIO'!$C$1,'OPĆI DIO'!$L$4:$U$138,10,FALSE))","v":""},{"$f":"IF(E230=\"\",\"\",VLOOKUP('OPĆI DIO'!$C$1,'OPĆI DIO'!$L$4:$U$138,9,FALSE))","v":""},null,"",null,"",null,"","",null,0,0,null,{"$f":"IF(C230=\"\",\"\",'OPĆI DIO'!$C$1)","v":""},"","","","","",{"$nulls":9},"A628011","PROGRAM TELEKOMUNIKACIJSKIH KAPACITETA ZA MREŽU CARNET","0133","Ostale opće usluge","01","015"]
[{"$f":"IF(E231=\"\",\"\",VLOOKUP('OPĆI DIO'!$C$1,'OPĆI DIO'!$L$4:$U$138,10,FALSE))","v":""},{"$f":"IF(E231=\"\",\"\",VLOOKUP('OPĆI DIO'!$C$1,'OPĆI DIO'!$L$4:$U$138,9,FALSE))","v":""},null,"",null,"",null,"","",null,0,0,null,{"$f":"IF(C231=\"\",\"\",'OPĆI DIO'!$C$1)","v":""},"","","","","",{"$nulls":9},"A628015","UKLJUČIVANJE MREŽE CARNET U PAN-EUROPSKE AKADEMSKE I ISTRAŽIVAČKE MREŽE","0460","Komunikacije","01","015"]
[{"$f":"IF(E232=\"\",\"\",VLOOKUP('OPĆI DIO'!$C$1,'OPĆI DIO'!$L$4:$U$138,10,FALSE))","v":""},{"$f":"IF(E232=\"\",\"\",VLOOKUP('OPĆI DIO'!$C$1,'OPĆI DIO'!$L$4:$U$138,9,FALSE))","v":""},null,"",null,"",null,"","",null,0,0,null,{"$f":"IF(C232=\"\",\"\",'OPĆI DIO'!$C$1)","v":""},"","","","","",{"$nulls":9},"A628068","SUDJELOVANJE NA IZGRADNJI, TESTIRANJU I RAZVOJU OKOSNICE PAN-EUROPSKE RAČUNALNO KOMUNIKACIJSKE MREŽE","0133","Ostale opće usluge","01","013"]
[{"$f":"IF(E233=\"\",\"\",VLOOKUP('OPĆI DIO'!$C$1,'OPĆI DIO'!$L$4:$U$138,10,FALSE))","v":""},{"$f":"IF(E233=\"\",\"\",VLOOKUP('OPĆI DIO'!$C$1,'OPĆI DIO'!$L$4:$U$138,9,FALSE))","v":""},null,"",null,"",null,"","",null,0,0,null,{"$f":"IF(C233=\"\",\"\",'OPĆI DIO'!$C$1)","v":""},"","","","","",{"$nulls":9},"A628070","PROGRAM OBJEDINJAVANJA I ODRŽAVANJA NACIONALNIH INFORMACIJSKIH SERVISA I E-ŠKOLA","0133","Ostale opće usluge","01","013"]
[{"$f":"IF(E234=\"\",\"\",VLOOKUP('OPĆI DIO'!$C$1,'OPĆI DIO'!$L$4:$U$138,10,FALSE))","v":""},{"$f":"IF(E234=\"\",\"\",VLOOKUP('OPĆI DIO'!$C$1,'OPĆI DIO'!$L$4:$U$138,9,FALSE))","v":""},null,"",null,"",null,"","",null,0,0,null,{"$f":"IF(C234=\"\",\"\",'OPĆI DIO'!$C$1)","v":""},"","","","","",{"$nulls":9},"A628074","PROGRAMI ZAJEDNICE","0133","Ostale opće usluge","01","013"]
[{"$f":"IF(E235=\"\",\"\",VLOOKUP('OPĆI DIO'!$C$1,'OPĆI DIO'!$L$4:$U$138,10,FALSE))","v":""},{"$f":"IF(E235=\"\",\"\",VLOOKUP('OPĆI DIO'!$C$1,'OPĆI DIO'!$L$4:$U$138,9,FALSE))","v":""},null,"",null,"",null,"","",null,0,0,null,{"$f":"IF(C235=\"\",\"\",'OPĆI DIO'!$C$1)","v":""},"","","","","",{"$nulls":9},"A628089","JAČANJE KAPACITETA NACIONALNOG CERT-A I POBOLJŠANJE SURADNJE NA HR I EU RAZINI - GROWCERT","0133","Ostale opće usluge","01","013"]
[{"$f":"IF(E236=\"\",\"\",VLOOKUP('OPĆI DIO'!$C$1,'OPĆI DIO'!$L$4:$U$138,10,FALSE))","v":""},{"$f":"IF(E236=\"\",\"\",VLOOKUP('OPĆI DIO'!$C$1,'OPĆI DIO'!$L$4:$U$138,9,FALSE))","v":""},null,"",null,"",null,"","",null,0,0,null,{"$f":"IF(C236=\"\",\"\",'OPĆI DIO'!$C$1)","v":""},"","","","","",{"$nulls":9},"A628090","UNAPRJEĐENJE JEDNAKIH MOGUĆNOSTI U OBRAZOVANJU ZA UČENIKE S TEŠKOĆAMA U RAZVOJU","0133","Ostale opće usluge","01","013"]
[{"$f":"IF(E237=\"\",\"\",VLOOKUP('OPĆI DIO'!$C$1,'OPĆI DIO'!$L$4:$U$138,10,FALSE))","v":""},{"$f":"IF(E237=\"\",\"\",VLOOKUP('OPĆI DIO'!$C$1,'OPĆI DIO'!$L$4:$U$138,9,FALSE))","v":""},null,"",null,"",null,"","",null,0,0,null,{"$f":"IF(C237=\"\",\"\",'OPĆI DIO'!$C$1)","v":""},"","","","","",{"$nulls":9},"A628091","OBRAZOVANJE U RURALNIM PODRUČJIMA - LEARNING FROM THE EXTREMES, A RURAL SCHOOLS INNOVATION ROADMAP","0133","Ostale opće usluge","01","013"]
[{"$f":"IF(E238=\"\",\"\",VLOOKUP('OPĆI DIO'!$C$1,'OPĆI DIO'!$L$4:$U$138,10,FALSE))","v":""},{"$f":"IF(E238=\"\",\"\",VLOOKUP('OPĆI DIO'!$C$1,'OPĆI DIO'!$L$4:$U$138,9,FALSE))","v":""},null,"",null,"",null,"","",null,0,0,null,{"$f":"IF(C238=\"\",\"\",'OPĆI DIO'!$C$1)","v":""},"","","","","",{"$nulls":9},"K406669","CARNET - ZAJEDNIČKA RK INFRASTRUKTURA","0133","Ostale opće usluge","09","097"]
[{"$f":"IF(E239=\"\",\"\",VLOOKUP('OPĆI DIO'!$C$1,'OPĆI DIO'!$L$4:$U$138,10,FALSE))","v":""},{"$f":"IF(E239=\"\",\"\",VLOOKUP('OPĆI DIO'!$C$1,'OPĆI DIO'!$L$4:$U$138,9,FALSE))","v":""},null,"",null,"",null,"","",null,0,0,null,{"$f":"IF(C239=\"\",\"\",'OPĆI DIO'!$C$1)","v":""},"","","","","",{"$nulls":9},"K628069","ULAGANJE U OPREMU ZA ODRŽAVANJE NACIONALNIH I INFORMACIJSKIH SERVISA","0133","Ostale opće usluge","09","097"]
[{"$f":"IF(E240=\"\",\"\",VLOOKUP('OPĆI DIO'!$C$1,'OPĆI DIO'!$L$4:$U$138,10,FALSE))","v":""},{"$f":"IF(E240=\"\",\"\",VLOOKUP('OPĆI DIO'!$C$1,'OPĆI DIO'!$L$4:$U$138,9,FALSE))","v":""},null,"",null,"",null,"","",null,0,0,null,{"$f":"IF(C240=\"\",\"\",'OPĆI DIO'!$C$1)","v":""},"","","","","",{"$nulls":9},"K628080","OP KONKURENTNOST I KOHEZIJA 2014.-2020., PRIORITET 9","0970","Istraživanje i razvoj obrazovanja","09","097"]
[{"$f":"IF(E241=\"\",\"\",VLOOKUP('OPĆI DIO'!$C$1,'OPĆI DIO'!$L$4:$U$138,10,FALSE))","v":""},{"$f":"IF(E241=\"\",\"\",VLOOKUP('OPĆI DIO'!$C$1,'OPĆI DIO'!$L$4:$U$138,9,FALSE))","v":""},null,"",null,"",null,"","",null,0,0,null,{"$f":"IF(C241=\"\",\"\",'OPĆI DIO'!$C$1)","v":""},"","","","","",{"$nulls":9},"K628081","OP UČINKOVITI LJUDSKI POTENCIJALI 2014.-2020., PRIORITET 3 i 4","0970","Istraživanje i razvoj obrazovanja","09","097"]
[{"$f":"IF(E242=\"\",\"\",VLOOKUP('OPĆI DIO'!$C$1,'OPĆI DIO'!$L$4:$U$138,10,FALSE))","v":""},{"$f":"IF(E242=\"\",\"\",VLOOKUP('OPĆI DIO'!$C$1,'OPĆI DIO'!$L$4:$U$138,9,FALSE))","v":""},null,"",null,"",null,"","",null,0,0,null,{"$f":"IF(C242=\"\",\"\",'OPĆI DIO'!$C$1)","v":""},"","","","","",{"$nulls":9},"K628093","DIGITALNA PREOBRAZBA VISOKOG OBRAZOVANJA E-SVEUČILIŠTA - NPOO (C3.2.R2)","0133","Ostale opće usluge","09","097"]
[{"$f":"IF(E243=\"\",\"\",VLOOKUP('OPĆI DIO'!$C$1,'OPĆI DIO'!$L$4:$U$138,10,FALSE))","v":""},{"$f":"IF(E243=\"\",\"\",VLOOKUP('OPĆI DIO'!$C$1,'OPĆI DIO'!$L$4:$U$138,9,FALSE))","v":""},null,"",null,"",null,"","",null,0,0,null,{"$f":"IF(C243=\"\",\"\",'OPĆI DIO'!$C$1)","v":""},"","","","","",{"$nulls":9},"K628095","HRVATSKA KVANTNA KOMUNIKACIJSKA INFRASTRUKTURA - CRO QCI - NPOO (C3.2.R2-I2)","0133","Ostale opće usluge","09","097"]
[{"$f":"IF(E244=\"\",\"\",VLOOKUP('OPĆI DIO'!$C$1,'OPĆI DIO'!$L$4:$U$138,10,FALSE))","v":""},{"$f":"IF(E244=\"\",\"\",VLOOKUP('OPĆI DIO'!$C$1,'OPĆI DIO'!$L$4:$U$138,9,FALSE))","v":""},null,"",null,"",null,"","",null,0,0,null,{"$f":"IF(C244=\"\",\"\",'OPĆI DIO'!$C$1)","v":""},"","","","","",{"$nulls":9},"K628100","PROGRAM UČINKOVITI LJUDSKI POTENCIJALI 2021.-2027., PRIORITET 2","0133","Ostale opće usluge","09","097"]
[{"$f":"IF(E245=\"\",\"\",VLOOKUP('OPĆI DIO'!$C$1,'OPĆI DIO'!$L$4:$U$138,10,FALSE))","v":""},{"$f":"IF(E245=\"\",\"\",VLOOKUP('OPĆI DIO'!$C$1,'OPĆI DIO'!$L$4:$U$138,9,FALSE))","v":""},null,"",null,"",null,"","",null,0,0,null,{"$f":"IF(C245=\"\",\"\",'OPĆI DIO'!$C$1)","v":""},"","","","","",{"$nulls":9},"K628100","PROGRAM UČINKOVITI LJUDSKI POTENCIJALI 2021.-2027., PRIORITET 2","0970","Istraživanje i razvoj obrazovanja","09","097"]
[{"$f":"IF(E246=\"\",\"\",VLOOKUP('OPĆI DIO'!$C$1,'OPĆI DIO'!$L$4:$U$138,10,FALSE))","v":""},{"$f":"IF(E246=\"\",\"\",VLOOKUP('OPĆI DIO'!$C$1,'OPĆI DIO'!$L$4:$U$138,9,FALSE))","v":""},null,"",null,"",null,"","",null,0,0,null,{"$f":"IF(C246=\"\",\"\",'OPĆI DIO'!$C$1)","v":""},"","","","","",{"$nulls":9},"A622107","ADMINISTRACIJA I UPRAVLJANJE LEKSIKOGRAFSKOG ZAVODA MIROSLAV KRLEŽA","0150","Istraživanje i razvoj: Opće javne usluge","09","094"]
[{"$f":"IF(E247=\"\",\"\",VLOOKUP('OPĆI DIO'!$C$1,'OPĆI DIO'!$L$4:$U$138,10,FALSE))","v":""},{"$f":"IF(E247=\"\",\"\",VLOOKUP('OPĆI DIO'!$C$1,'OPĆI DIO'!$L$4:$U$138,9,FALSE))","v":""},null,"",null,"",null,"","",null,0,0,null,{"$f":"IF(C247=\"\",\"\",'OPĆI DIO'!$C$1)","v":""},"","","","","",{"$nulls":9},"A622136","ADMINISTRACIJA I UPRAVLJANJE LEKSIKOGRAFSKOG ZAVODA MIROSLAV KRLEŽA (IZ EVIDENCIJSKIH PRIHODA)","0150","Istraživanje i razvoj: Opće javne usluge","01","015"]
[{"$f":"IF(E248=\"\",\"\",VLOOKUP('OPĆI DIO'!$C$1,'OPĆI DIO'!$L$4:$U$138,10,FALSE))","v":""},{"$f":"IF(E248=\"\",\"\",VLOOKUP('OPĆI DIO'!$C$1,'OPĆI DIO'!$L$4:$U$138,9,FALSE))","v":""},null,"",null,"",null,"","",null,0,0,null,{"$f":"IF(C248=\"\",\"\",'OPĆI DIO'!$C$1)","v":""},"","","","","",{"$nulls":9},"A622146","PRAVOMOĆNE SUDSKE PRESUDE","0150","Istraživanje i razvoj: Opće javne usluge","09","094"]
[{"$f":"IF(E249=\"\",\"\",VLOOKUP('OPĆI DIO'!$C$1,'OPĆI DIO'!$L$4:$U$138,10,FALSE))","v":""},{"$f":"IF(E249=\"\",\"\",VLOOKUP('OPĆI DIO'!$C$1,'OPĆI DIO'!$L$4:$U$138,9,FALSE))","v":""},null,"",null,"",null,"","",null,0,0,null,{"$f":"IF(C249=\"\",\"\",'OPĆI DIO'!$C$1)","v":""},"","","","","",{"$nulls":9},"A628018","ADMINISTRACIJA I UPRAVLJANJE SVEUČILIŠNOG RAČUNSKOG CENTRA SRCE","0133","Ostale opće usluge","09","094"]
[{"$f":"IF(E250=\"\",\"\",VLOOKUP('OPĆI DIO'!$C$1,'OPĆI DIO'!$L$4:$U$138,10,FALSE))","v":""},{"$f":"IF(E250=\"\",\"\",VLOOKUP('OPĆI DIO'!$C$1,'OPĆI DIO'!$L$4:$U$138,9,FALSE))","v":""},null,"",null,"",null,"","",null,0,0,null,{"$f":"IF(C250=\"\",\"\",'OPĆI DIO'!$C$1)","v":""},"","","","","",{"$nulls":9},"A628084","ADMINISTRACIJA I UPRAVLJANJE SVEUČILIŠNOG RAČUNSKOG CENTRA SRCE  (IZ EVIDENCIJSKIH PRIHODA)","0133","Ostale opće usluge","09","094"]
[{"$f":"IF(E251=\"\",\"\",VLOOKUP('OPĆI DIO'!$C$1,'OPĆI DIO'!$L$4:$U$138,10,FALSE))","v":""},{"$f":"IF(E251=\"\",\"\",VLOOKUP('OPĆI DIO'!$C$1,'OPĆI DIO'!$L$4:$U$138,9,FALSE))","v":""},null,"",null,"",null,"","",null,0,0,null,{"$f":"IF(C251=\"\",\"\",'OPĆI DIO'!$C$1)","v":""},"","","","","",{"$nulls":9},"A628098","PRAVOMOĆNE SUDSKE PRESUDE","0133","Ostale opće usluge","09","094"]
[{"$f":"IF(E252=\"\",\"\",VLOOKUP('OPĆI DIO'!$C$1,'OPĆI DIO'!$L$4:$U$138,10,FALSE))","v":""},{"$f":"IF(E252=\"\",\"\",VLOOKUP('OPĆI DIO'!$C$1,'OPĆI DIO'!$L$4:$U$138,9,FALSE))","v":""},null,"",null,"",null,"","",null,0,0,null,{"$f":"IF(C252=\"\",\"\",'OPĆI DIO'!$C$1)","v":""},"","","","","",{"$nulls":9},"A628099","USPOSTAVA DIGITALNOG INOVACIJSKOG SREDIŠTA U HRVATSKOJ – CROBOHUB – NPOO ( C1.1.2. R4-I1)","0133","Ostale opće usluge","09","094"]
[{"$f":"IF(E253=\"\",\"\",VLOOKUP('OPĆI DIO'!$C$1,'OPĆI DIO'!$L$4:$U$138,10,FALSE))","v":""},{"$f":"IF(E253=\"\",\"\",VLOOKUP('OPĆI DIO'!$C$1,'OPĆI DIO'!$L$4:$U$138,9,FALSE))","v":""},null,"",null,"",null,"","",null,0,0,null,{"$f":"IF(C253=\"\",\"\",'OPĆI DIO'!$C$1)","v":""},"","","","","",{"$nulls":9},"K628055","SRCE -IZRAVNA KAPITALNA ULAGANJA","0133","Ostale opće usluge","09","094"]
[{"$f":"IF(E254=\"\",\"\",VLOOKUP('OPĆI DIO'!$C$1,'OPĆI DIO'!$L$4:$U$138,10,FALSE))","v":""},{"$f":"IF(E254=\"\",\"\",VLOOKUP('OPĆI DIO'!$C$1,'OPĆI DIO'!$L$4:$U$138,9,FALSE))","v":""},null,"",null,"",null,"","",null,0,0,null,{"$f":"IF(C254=\"\",\"\",'OPĆI DIO'!$C$1)","v":""},"","","","","",{"$nulls":9},"K628087","OP KONKURENTNOST I KOHEZIJA 2014.-2020., PRIORITETI 1 i 10","0133","Ostale opće usluge","09","094"]
[{"$f":"IF(E255=\"\",\"\",VLOOKUP('OPĆI DIO'!$C$1,'OPĆI DIO'!$L$4:$U$138,10,FALSE))","v":""},{"$f":"IF(E255=\"\",\"\",VLOOKUP('OPĆI DIO'!$C$1,'OPĆI DIO'!$L$4:$U$138,9,FALSE))","v":""},null,"",null,"",null,"","",null,0,0,null,{"$f":"IF(C255=\"\",\"\",'OPĆI DIO'!$C$1)","v":""},"","","","","",{"$nulls":9},"K628094","INFORMACIJSKI SUSTAVI EVIDENCIJA U VISOKOM OBRAZOVANJU - ISEVO - NPOO (C3.1.R2-I1)","0133","Ostale opće usluge","09","094"]
[{"$f":"IF(E256=\"\",\"\",VLOOKUP('OPĆI DIO'!$C$1,'OPĆI DIO'!$L$4:$U$138,10,FALSE))","v":""},{"$f":"IF(E256=\"\",\"\",VLOOKUP('OPĆI DIO'!$C$1,'OPĆI DIO'!$L$4:$U$138,9,FALSE))","v":""},null,"",null,"",null,"","",null,0,0,null,{"$f":"IF(C256=\"\",\"\",'OPĆI DIO'!$C$1)","v":""},"","","","","",{"$nulls":9},"K628097","HRVATSKA KVANTNA KOMUNIKACIJSKA INFRASTRUKTURA - CRO QCI - NPOO (C3.2.R2-I2)","0133","Ostale opće usluge","09","094"]
[{"$f":"IF(E257=\"\",\"\",VLOOKUP('OPĆI DIO'!$C$1,'OPĆI DIO'!$L$4:$U$138,10,FALSE))","v":""},{"$f":"IF(E257=\"\",\"\",VLOOKUP('OPĆI DIO'!$C$1,'OPĆI DIO'!$L$4:$U$138,9,FALSE))","v":""},null,"",null,"",null,"","",null,0,0,null,{"$f":"IF(C257=\"\",\"\",'OPĆI DIO'!$C$1)","v":""},"","","","","",{"$nulls":9},"A579073","UČIMO PODUZETNIŠTVO 5.0","0970","Istraživanje i razvoj obrazovanja","09","094"]
[{"$f":"IF(E258=\"\",\"\",VLOOKUP('OPĆI DIO'!$C$1,'OPĆI DIO'!$L$4:$U$138,10,FALSE))","v":""},{"$f":"IF(E258=\"\",\"\",VLOOKUP('OPĆI DIO'!$C$1,'OPĆI DIO'!$L$4:$U$138,9,FALSE))","v":""},null,"",null,"",null,"","",null,0,0,null,{"$f":"IF(C258=\"\",\"\",'OPĆI DIO'!$C$1)","v":""},"","","","","",{"$nulls":9},"A580006","STRUČNO USAVRŠAVANJE U OKVIRU ŽUPANIJSKIH STRUČNIH VIJEĆA SREDNJE ŠKOLE","0970","Istraživanje i razvoj obrazovanja","09","094"]
[{"$f":"IF(E259=\"\",\"\",VLOOKUP('OPĆI DIO'!$C$1,'OPĆI DIO'!$L$4:$U$138,10,FALSE))","v":""},{"$f":"IF(E259=\"\",\"\",VLOOKUP('OPĆI DIO'!$C$1,'OPĆI DIO'!$L$4:$U$138,9,FALSE))","v":""},null,"",null,{"$f":"IFERROR(VLOOKUP(E259,$W$5:$Y$129,2,FALSE),\"\")","v":""},null,"","",null,0,0,null,{"$f":"IF(C259=\"\",\"\",'OPĆI DIO'!$C$1)","v":""},"","","","","",{"$nulls":9},"A580072","ERASMUS PLUS - PROJEKTI","0970","Istraživanje i razvoj obrazovanja","09","094"]
[{"$f":"IF(E260=\"\",\"\",VLOOKUP('OPĆI DIO'!$C$1,'OPĆI DIO'!$L$4:$U$138,10,FALSE))","v":""},{"$f":"IF(E260=\"\",\"\",VLOOKUP('OPĆI DIO'!$C$1,'OPĆI DIO'!$L$4:$U$138,9,FALSE))","v":""},null,{"$f":"IFERROR(VLOOKUP(C260,$T$6:$U$23,2,FALSE),\"\")","v":""},null,"",null,{"$f":"IFERROR(VLOOKUP(G260,$AC$6:$AD$353,2,FALSE),\"\")","v":""},{"$f":"IFERROR(VLOOKUP(G260,$AC$6:$AG$353,3,FALSE),\"\")","v":""},null,0,{"$f":"+J260+K260","v":0},null,{"$f":"IF(C260=\"\",\"\",'OPĆI DIO'!$C$1)","v":""},{"$f":"LEFT(E260,3)","v":""},{"$f":"LEFT(E260,2)","v":""},{"$f":"LEFT(C260,3)","v":""},{"$f":"IF(S260=\"5\",0,MID(I260,2,2))","v":""},{"$f":"LEFT(E260,1)","v":""},{"$nulls":9},"A733001","ADMINISTRACIJA I UPRAVLJANJE AGENCIJE ZA ODGOJ I OBRAZOVANJE","0970","Istraživanje i razvoj obrazovanja","09","094"]
[{"$f":"IF(E261=\"\",\"\",VLOOKUP('OPĆI DIO'!$C$1,'OPĆI DIO'!$L$4:$U$138,10,FALSE))","v":""},{"$f":"IF(E261=\"\",\"\",VLOOKUP('OPĆI DIO'!$C$1,'OPĆI DIO'!$L$4:$U$138,9,FALSE))","v":""},null,"",null,"",null,"","",null,0,0,null,{"$f":"IF(C261=\"\",\"\",'OPĆI DIO'!$C$1)","v":""},"","","","","",{"$nulls":9},"A733027","STRUČNO USAVRŠAVANJE U OKVIRU ŽUPANIJSKIH STRUČNIH VIJEĆA OSNOVNE ŠKOLE","0970","Istraživanje i razvoj obrazovanja","09","094"]
[{"$f":"IF(E262=\"\",\"\",VLOOKUP('OPĆI DIO'!$C$1,'OPĆI DIO'!$L$4:$U$138,10,FALSE))","v":""},{"$f":"IF(E262=\"\",\"\",VLOOKUP('OPĆI DIO'!$C$1,'OPĆI DIO'!$L$4:$U$138,9,FALSE))","v":""},null,"",null,"",null,"","",null,0,0,null,{"$f":"IF(C262=\"\",\"\",'OPĆI DIO'!$C$1)","v":""},"","","","","",{"$nulls":9},"A733032","IZVANNASTAVNE AKTIVNOSTI U OSNOVNIM I SREDNJIM ŠKOLAMA-NATJECANJE","0970","Istraživanje i razvoj obrazovanja","09","094"]
[{"$f":"IF(E263=\"\",\"\",VLOOKUP('OPĆI DIO'!$C$1,'OPĆI DIO'!$L$4:$U$138,10,FALSE))","v":""},{"$f":"IF(E263=\"\",\"\",VLOOKUP('OPĆI DIO'!$C$1,'OPĆI DIO'!$L$4:$U$138,9,FALSE))","v":""},null,"",null,"",null,"","",null,0,0,null,{"$f":"IF(C263=\"\",\"\",'OPĆI DIO'!$C$1)","v":""},"","","","","",{"$nulls":9},"A767022","STRUČNO USAVRŠAVANJE ODGOJNO-OBRAZOVNIH DJELATNIKA U SUSTAVU OSNOVNOG I SREDNJEG ŠKOLSTVA","0970","Istraživanje i razvoj obrazovanja","09","094"]
[{"$f":"IF(E264=\"\",\"\",VLOOKUP('OPĆI DIO'!$C$1,'OPĆI DIO'!$L$4:$U$138,10,FALSE))","v":""},{"$f":"IF(E264=\"\",\"\",VLOOKUP('OPĆI DIO'!$C$1,'OPĆI DIO'!$L$4:$U$138,9,FALSE))","v":""},null,"",null,"",null,"","",null,0,0,null,{"$f":"IF(C264=\"\",\"\",'OPĆI DIO'!$C$1)","v":""},"","","","","",{"$nulls":9},"K579074","PROGRAM UČINKOVITI LJUDSKI POTENCIJALI 2021.-2027.","0970","Istraživanje i razvoj obrazovanja","09","094"]
[{"$f":"IF(E265=\"\",\"\",VLOOKUP('OPĆI DIO'!$C$1,'OPĆI DIO'!$L$4:$U$138,10,FALSE))","v":""},{"$f":"IF(E265=\"\",\"\",VLOOKUP('OPĆI DIO'!$C$1,'OPĆI DIO'!$L$4:$U$138,9,FALSE))","v":""},null,"",null,"",null,"","",null,0,0,null,{"$f":"IF(C265=\"\",\"\",'OPĆI DIO'!$C$1)","v":""},"","","","","",{"$nulls":9},"K767054","OP UČINKOVITI LJUDSKI POTENCIJALI 2014.-2020., PRIORITET 3","0970","Istraživanje i razvoj obrazovanja","09","094"]
[{"$f":"IF(E266=\"\",\"\",VLOOKUP('OPĆI DIO'!$C$1,'OPĆI DIO'!$L$4:$U$138,10,FALSE))","v":""},{"$f":"IF(E266=\"\",\"\",VLOOKUP('OPĆI DIO'!$C$1,'OPĆI DIO'!$L$4:$U$138,9,FALSE))","v":""},null,"",null,"",null,"","",null,0,0,null,{"$f":"IF(C266=\"\",\"\",'OPĆI DIO'!$C$1)","v":""},"","","","","",{"$nulls":9},"A621155","ADMINISTRACIJA I UPRAVLJANJE AGENCIJE ZA ZNANOST I VISOKO OBRAZOVANJE","0942","Drugi stupanj visoke naobrazbe","09","094"]
[{"$f":"IF(E267=\"\",\"\",VLOOKUP('OPĆI DIO'!$C$1,'OPĆI DIO'!$L$4:$U$138,10,FALSE))","v":""},{"$f":"IF(E267=\"\",\"\",VLOOKUP('OPĆI DIO'!$C$1,'OPĆI DIO'!$L$4:$U$138,9,FALSE))","v":""},null,"",null,"",null,"","",null,0,0,null,{"$f":"IF(C267=\"\",\"\",'OPĆI DIO'!$C$1)","v":""},"","","","","",{"$nulls":9},"A621182","ZBOR VELEUČILIŠTA","0942","Drugi stupanj visoke naobrazbe","09","094"]
[{"$f":"IF(E268=\"\",\"\",VLOOKUP('OPĆI DIO'!$C$1,'OPĆI DIO'!$L$4:$U$138,10,FALSE))","v":""},{"$f":"IF(E268=\"\",\"\",VLOOKUP('OPĆI DIO'!$C$1,'OPĆI DIO'!$L$4:$U$138,9,FALSE))","v":""},null,"",null,"",null,"","",null,0,0,null,{"$f":"IF(C268=\"\",\"\",'OPĆI DIO'!$C$1)","v":""},"","","","","",{"$nulls":9},"A621186","VREDNOVANJE ZNANSTVENIH ORGANIZACIJA","0942","Drugi stupanj visoke naobrazbe","09","097"]
[{"$f":"IF(E269=\"\",\"\",VLOOKUP('OPĆI DIO'!$C$1,'OPĆI DIO'!$L$4:$U$138,10,FALSE))","v":""},{"$f":"IF(E269=\"\",\"\",VLOOKUP('OPĆI DIO'!$C$1,'OPĆI DIO'!$L$4:$U$138,9,FALSE))","v":""},null,"",null,"",null,"","",null,0,0,null,{"$f":"IF(C269=\"\",\"\",'OPĆI DIO'!$C$1)","v":""},"","","","","",{"$nulls":9},"A621187","VREDNOVANJE VISOKIH UČILIŠTA","0942","Drugi stupanj visoke naobrazbe","09","097"]
[{"$f":"IF(E270=\"\",\"\",VLOOKUP('OPĆI DIO'!$C$1,'OPĆI DIO'!$L$4:$U$138,10,FALSE))","v":""},{"$f":"IF(E270=\"\",\"\",VLOOKUP('OPĆI DIO'!$C$1,'OPĆI DIO'!$L$4:$U$138,9,FALSE))","v":""},null,"",null,"",null,"","",null,0,0,null,{"$f":"IF(C270=\"\",\"\",'OPĆI DIO'!$C$1)","v":""},"","","","","",{"$nulls":9},"A621190","VANJSKA PROSUDBA SUSTAVA OSIGURANJA KVALITETE VISOKIH UČILIŠTA I ZNANSTVENIH ORGANIZACIJA (VP)","0942","Drugi stupanj visoke naobrazbe","09","097"]
[{"$f":"IF(E271=\"\",\"\",VLOOKUP('OPĆI DIO'!$C$1,'OPĆI DIO'!$L$4:$U$138,10,FALSE))","v":""},{"$f":"IF(E271=\"\",\"\",VLOOKUP('OPĆI DIO'!$C$1,'OPĆI DIO'!$L$4:$U$138,9,FALSE))","v":""},null,"",null,"",null,"","",null,0,0,null,{"$f":"IF(C271=\"\",\"\",'OPĆI DIO'!$C$1)","v":""},"","","","","",{"$nulls":9},"A621191","PRAĆENJE ZAPOŠLJAVANJA DIPLOMIRANIH STUDENATA","0942","Drugi stupanj visoke naobrazbe","09","097"]
[{"$f":"IF(E272=\"\",\"\",VLOOKUP('OPĆI DIO'!$C$1,'OPĆI DIO'!$L$4:$U$138,10,FALSE))","v":""},{"$f":"IF(E272=\"\",\"\",VLOOKUP('OPĆI DIO'!$C$1,'OPĆI DIO'!$L$4:$U$138,9,FALSE))","v":""},null,"",null,"",null,"","",null,0,0,null,{"$f":"IF(C272=\"\",\"\",'OPĆI DIO'!$C$1)","v":""},"","","","","",{"$nulls":9},"A621192","TROŠKOVI SREDIŠNJEG PRIJAVNOG UREDA","0942","Drugi stupanj visoke naobrazbe","09","097"]
[{"$f":"IF(E273=\"\",\"\",VLOOKUP('OPĆI DIO'!$C$1,'OPĆI DIO'!$L$4:$U$138,10,FALSE))","v":""},{"$f":"IF(E273=\"\",\"\",VLOOKUP('OPĆI DIO'!$C$1,'OPĆI DIO'!$L$4:$U$138,9,FALSE))","v":""},null,"",null,"",null,"","",null,0,0,null,{"$f":"IF(C273=\"\",\"\",'OPĆI DIO'!$C$1)","v":""},"","","","","",{"$nulls":9},"A867004","ODBOR ZA ETIKU U ZNANOSTI I VISOKOM OBRAZOVANJU","0942","Drugi stupanj visoke naobrazbe","09","097"]
[{"$f":"IF(E274=\"\",\"\",VLOOKUP('OPĆI DIO'!$C$1,'OPĆI DIO'!$L$4:$U$138,10,FALSE))","v":""},{"$f":"IF(E274=\"\",\"\",VLOOKUP('OPĆI DIO'!$C$1,'OPĆI DIO'!$L$4:$U$138,9,FALSE))","v":""},null,"",null,"",null,"","",null,0,0,null,{"$f":"IF(C274=\"\",\"\",'OPĆI DIO'!$C$1)","v":""},"","","","","",{"$nulls":9},"A867009","ERASMUS PLUS - MODERNIZACIJA VISOKIH UČILIŠTA PUTEM UNAPRJEĐENJA FUNKCIJE UPRAVLJANJA LJUDSKIM POTENCIJALIMA","0942","Drugi stupanj visoke naobrazbe","09","097"]
[{"$f":"IF(E275=\"\",\"\",VLOOKUP('OPĆI DIO'!$C$1,'OPĆI DIO'!$L$4:$U$138,10,FALSE))","v":""},{"$f":"IF(E275=\"\",\"\",VLOOKUP('OPĆI DIO'!$C$1,'OPĆI DIO'!$L$4:$U$138,9,FALSE))","v":""},null,"",null,"",null,"","",null,0,0,null,{"$f":"IF(C275=\"\",\"\",'OPĆI DIO'!$C$1)","v":""},"","","","","",{"$nulls":9},"A867010","MODERNIZACIJA, OBRAZOVANJE I LJUDSKA PRAVA (MEHR)","0942","Drugi stupanj visoke naobrazbe","09","097"]
[{"$f":"IF(E276=\"\",\"\",VLOOKUP('OPĆI DIO'!$C$1,'OPĆI DIO'!$L$4:$U$138,10,FALSE))","v":""},{"$f":"IF(E276=\"\",\"\",VLOOKUP('OPĆI DIO'!$C$1,'OPĆI DIO'!$L$4:$U$138,9,FALSE))","v":""},null,"",null,"",null,"","",null,0,0,null,{"$f":"IF(C276=\"\",\"\",'OPĆI DIO'!$C$1)","v":""},"","","","","",{"$nulls":9},"A867013","ERASMUS PLUS - BAZA PODATAKA REZULTATA VANJSKIH VREDNOVANJA","0942","Drugi stupanj visoke naobrazbe","09","097"]
[{"$f":"IF(E277=\"\",\"\",VLOOKUP('OPĆI DIO'!$C$1,'OPĆI DIO'!$L$4:$U$138,10,FALSE))","v":""},{"$f":"IF(E277=\"\",\"\",VLOOKUP('OPĆI DIO'!$C$1,'OPĆI DIO'!$L$4:$U$138,9,FALSE))","v":""},null,"",null,"",null,"","",null,0,0,null,{"$f":"IF(C277=\"\",\"\",'OPĆI DIO'!$C$1)","v":""},"","","","","",{"$nulls":9},"A867014","ERASMUS - JAČANJE MULTIPARTNERSKE SURADNJE U PRUŽANJU USLUGA CJELOŽIVOTNOG PROFESIONALNOG USMJERAVANJA - KEEP IN PACT","0942","Drugi stupanj visoke naobrazbe","09","097"]
[{"$f":"IF(E278=\"\",\"\",VLOOKUP('OPĆI DIO'!$C$1,'OPĆI DIO'!$L$4:$U$138,10,FALSE))","v":""},{"$f":"IF(E278=\"\",\"\",VLOOKUP('OPĆI DIO'!$C$1,'OPĆI DIO'!$L$4:$U$138,9,FALSE))","v":""},null,"",null,"",null,"","",null,0,0,null,{"$f":"IF(C278=\"\",\"\",'OPĆI DIO'!$C$1)","v":""},"","","","","",{"$nulls":9},"A867015","ERASMUS PLUS - ALOCIRANJE KREDITNIH BODOVA U EUROPSKIM STRUČNIM PROGRAMIMA - ACEPT","0942","Drugi stupanj visoke naobrazbe","09","097"]
[{"$f":"IF(E279=\"\",\"\",VLOOKUP('OPĆI DIO'!$C$1,'OPĆI DIO'!$L$4:$U$138,10,FALSE))","v":""},{"$f":"IF(E279=\"\",\"\",VLOOKUP('OPĆI DIO'!$C$1,'OPĆI DIO'!$L$4:$U$138,9,FALSE))","v":""},null,"",null,"",null,"","",null,0,0,null,{"$f":"IF(C279=\"\",\"\",'OPĆI DIO'!$C$1)","v":""},"","","","","",{"$nulls":9},"A867016","ERASMUS PLUS - KATALOG ONLINE PROGRAMA I BAZE PODATAKA ZA VIDLJIVOST I PRIZNAVANJE -OCTRA","0942","Drugi stupanj visoke naobrazbe","09","097"]
[{"$f":"IF(E280=\"\",\"\",VLOOKUP('OPĆI DIO'!$C$1,'OPĆI DIO'!$L$4:$U$138,10,FALSE))","v":""},{"$f":"IF(E280=\"\",\"\",VLOOKUP('OPĆI DIO'!$C$1,'OPĆI DIO'!$L$4:$U$138,9,FALSE))","v":""},null,"",null,"",null,"","",null,0,0,null,{"$f":"IF(C280=\"\",\"\",'OPĆI DIO'!$C$1)","v":""},"","","","","",{"$nulls":9},"A867018","PRIMJENA HRVATSKOG KVALIFIKACIJSKOG OKVIRA U VISOKOM OBRAZOVANJU","0942","Drugi stupanj visoke naobrazbe","09","097"]
[{"$f":"IF(E281=\"\",\"\",VLOOKUP('OPĆI DIO'!$C$1,'OPĆI DIO'!$L$4:$U$138,10,FALSE))","v":""},{"$f":"IF(E281=\"\",\"\",VLOOKUP('OPĆI DIO'!$C$1,'OPĆI DIO'!$L$4:$U$138,9,FALSE))","v":""},null,"",null,"",null,"","",null,0,0,null,{"$f":"IF(C281=\"\",\"\",'OPĆI DIO'!$C$1)","v":""},"","","","","",{"$nulls":9},"A867019","DIGITALNA PREOBRAZBA VISOKOG OBRAZOVANJA – e-SVEUČILIŠTA - NPOO (C3.1.R2)","0942","Drugi stupanj visoke naobrazbe","09","097"]
[{"$f":"IF(E282=\"\",\"\",VLOOKUP('OPĆI DIO'!$C$1,'OPĆI DIO'!$L$4:$U$138,10,FALSE))","v":""},{"$f":"IF(E282=\"\",\"\",VLOOKUP('OPĆI DIO'!$C$1,'OPĆI DIO'!$L$4:$U$138,9,FALSE))","v":""},null,"",null,"",null,"","",null,0,0,null,{"$f":"IF(C282=\"\",\"\",'OPĆI DIO'!$C$1)","v":""},"","","","","",{"$nulls":9},"A867021","ERASMUS PLUS - PROJEKTI","0942","Drugi stupanj visoke naobrazbe","09","097"]
[{"$f":"IF(E283=\"\",\"\",VLOOKUP('OPĆI DIO'!$C$1,'OPĆI DIO'!$L$4:$U$138,10,FALSE))","v":""},{"$f":"IF(E283=\"\",\"\",VLOOKUP('OPĆI DIO'!$C$1,'OPĆI DIO'!$L$4:$U$138,9,FALSE))","v":""},null,"",null,"",null,"","",null,0,0,null,{"$f":"IF(C283=\"\",\"\",'OPĆI DIO'!$C$1)","v":""},"","","","","",{"$nulls":9},"A867023","USPOSTAVA SREDIŠNJEG SUSTAVA INTEROPERABILNOSTI - NPOO (C2.3.R2-I1)","0942","Drugi stupanj visoke naobrazbe","09","097"]
[{"$f":"IF(E284=\"\",\"\",VLOOKUP('OPĆI DIO'!$C$1,'OPĆI DIO'!$L$4:$U$138,10,FALSE))","v":""},{"$f":"IF(E284=\"\",\"\",VLOOKUP('OPĆI DIO'!$C$1,'OPĆI DIO'!$L$4:$U$138,9,FALSE))","v":""},null,"",null,"",null,"","",null,0,0,null,{"$f":"IF(C284=\"\",\"\",'OPĆI DIO'!$C$1)","v":""},"","","","","",{"$nulls":9},"K621178","OPREMANJE I UREĐENJE AGENCIJE ZA ZNANOST I VISOKO OBRAZOVANJE","0942","Drugi stupanj visoke naobrazbe","09","097"]
[{"$f":"IF(E285=\"\",\"\",VLOOKUP('OPĆI DIO'!$C$1,'OPĆI DIO'!$L$4:$U$138,10,FALSE))","v":""},{"$f":"IF(E285=\"\",\"\",VLOOKUP('OPĆI DIO'!$C$1,'OPĆI DIO'!$L$4:$U$138,9,FALSE))","v":""},null,"",null,"",null,"","",null,0,0,null,{"$f":"IF(C285=\"\",\"\",'OPĆI DIO'!$C$1)","v":""},"","","","","",{"$nulls":9},"K621194","NACIONALNI INFORMACIJSKI SUSTAV PRIJAVA NA VISOKA UČILIŠTA - NISpVU","0942","Drugi stupanj visoke naobrazbe","09","097"]
[{"$f":"IF(E286=\"\",\"\",VLOOKUP('OPĆI DIO'!$C$1,'OPĆI DIO'!$L$4:$U$138,10,FALSE))","v":""},{"$f":"IF(E286=\"\",\"\",VLOOKUP('OPĆI DIO'!$C$1,'OPĆI DIO'!$L$4:$U$138,9,FALSE))","v":""},null,"",null,"",null,"","",null,0,0,null,{"$f":"IF(C286=\"\",\"\",'OPĆI DIO'!$C$1)","v":""},"","","","","",{"$nulls":9},"K867008","OP UČINKOVITI LJUDSKI POTENCIJALI 2014.-2020., PRIORITET 3","0942","Drugi stupanj visoke naobrazbe","09","097"]
[{"$f":"IF(E287=\"\",\"\",VLOOKUP('OPĆI DIO'!$C$1,'OPĆI DIO'!$L$4:$U$138,10,FALSE))","v":""},{"$f":"IF(E287=\"\",\"\",VLOOKUP('OPĆI DIO'!$C$1,'OPĆI DIO'!$L$4:$U$138,9,FALSE))","v":""},null,"",null,"",null,"","",null,0,0,null,{"$f":"IF(C287=\"\",\"\",'OPĆI DIO'!$C$1)","v":""},"","","","","",{"$nulls":9},"K867020","PROGRAM UČINKOVITI LJUDSKI POTENCIJALI 2021.-2027.., PRIORITET 2 - OSIGURAVANJE KVALITETE U VISOKOM OBRAZOVANJU","0942","Drugi stupanj visoke naobrazbe","09","097"]
[{"$f":"IF(E288=\"\",\"\",VLOOKUP('OPĆI DIO'!$C$1,'OPĆI DIO'!$L$4:$U$138,10,FALSE))","v":""},{"$f":"IF(E288=\"\",\"\",VLOOKUP('OPĆI DIO'!$C$1,'OPĆI DIO'!$L$4:$U$138,9,FALSE))","v":""},null,"",null,"",null,"","",null,0,0,null,{"$f":"IF(C288=\"\",\"\",'OPĆI DIO'!$C$1)","v":""},"","","","","",{"$nulls":9},"K867022","PROGRAM UČINKOVITI LJUDSKI POTENCIJALI 2021.-2027., PRIORITET 2 - OBRAZOVANJE I CJELOŽIVOTNO UČENJE","0942","Drugi stupanj visoke naobrazbe","09","097"]
[{"$f":"IF(E289=\"\",\"\",VLOOKUP('OPĆI DIO'!$C$1,'OPĆI DIO'!$L$4:$U$138,10,FALSE))","v":""},{"$f":"IF(E289=\"\",\"\",VLOOKUP('OPĆI DIO'!$C$1,'OPĆI DIO'!$L$4:$U$138,9,FALSE))","v":""},null,"",null,"",null,"","",null,0,0,null,{"$f":"IF(C289=\"\",\"\",'OPĆI DIO'!$C$1)","v":""},"","","","","",{"$nulls":9},"A621179","TROŠKOVI NACIONALNOG VIJEĆA ZA VISOKO OBRAZOVANJE, ZNANOST I TEHNOLOŠKI RAZVOJ","0150","Istraživanje i razvoj: Opće javne usluge","09","097"]
[{"$f":"IF(E290=\"\",\"\",VLOOKUP('OPĆI DIO'!$C$1,'OPĆI DIO'!$L$4:$U$138,10,FALSE))","v":""},{"$f":"IF(E290=\"\",\"\",VLOOKUP('OPĆI DIO'!$C$1,'OPĆI DIO'!$L$4:$U$138,9,FALSE))","v":""},null,"",null,"",null,"","",null,0,0,null,{"$f":"IF(C290=\"\",\"\",'OPĆI DIO'!$C$1)","v":""},"","","","","",{"$nulls":9},"A580046","ADMINISTRACIJA I UPRAVLJANJE NACIONALNOG CENTRA ZA VANJSKO VREDNOVANJE OBRAZOVANJA","0970","Istraživanje i razvoj obrazovanja","09","097"]
[{"$f":"IF(E291=\"\",\"\",VLOOKUP('OPĆI DIO'!$C$1,'OPĆI DIO'!$L$4:$U$138,10,FALSE))","v":""},{"$f":"IF(E291=\"\",\"\",VLOOKUP('OPĆI DIO'!$C$1,'OPĆI DIO'!$L$4:$U$138,9,FALSE))","v":""},null,"",null,"",null,"","",null,0,0,null,{"$f":"IF(C291=\"\",\"\",'OPĆI DIO'!$C$1)","v":""},"","","","","",{"$nulls":9},"A814000","MEĐUNARODNI PROJEKTI VREDNOVANJA ZNANJA I VJEŠTINA (IEA: ICCS, ICILS, PIRLS, TIMSS - OECD: PISA, TALIS)","0970","Istraživanje i razvoj obrazovanja","09","097"]
[{"$f":"IF(E292=\"\",\"\",VLOOKUP('OPĆI DIO'!$C$1,'OPĆI DIO'!$L$4:$U$138,10,FALSE))","v":""},{"$f":"IF(E292=\"\",\"\",VLOOKUP('OPĆI DIO'!$C$1,'OPĆI DIO'!$L$4:$U$138,9,FALSE))","v":""},null,"",null,"",null,"","",null,0,0,null,{"$f":"IF(C292=\"\",\"\",'OPĆI DIO'!$C$1)","v":""},"","","","","",{"$nulls":9},"A814001","DRŽAVNA MATURA","0970","Istraživanje i razvoj obrazovanja","09","097"]
[{"$f":"IF(E293=\"\",\"\",VLOOKUP('OPĆI DIO'!$C$1,'OPĆI DIO'!$L$4:$U$138,10,FALSE))","v":""},{"$f":"IF(E293=\"\",\"\",VLOOKUP('OPĆI DIO'!$C$1,'OPĆI DIO'!$L$4:$U$138,9,FALSE))","v":""},null,"",null,"",null,"","",null,0,0,null,{"$f":"IF(C293=\"\",\"\",'OPĆI DIO'!$C$1)","v":""},"","","","","",{"$nulls":9},"A814003","NACIONALNI ISPITI","0970","Istraživanje i razvoj obrazovanja","09","097"]
[{"$f":"IF(E294=\"\",\"\",VLOOKUP('OPĆI DIO'!$C$1,'OPĆI DIO'!$L$4:$U$138,10,FALSE))","v":""},{"$f":"IF(E294=\"\",\"\",VLOOKUP('OPĆI DIO'!$C$1,'OPĆI DIO'!$L$4:$U$138,9,FALSE))","v":""},null,"",null,"",null,"","",null,0,0,null,{"$f":"IF(C294=\"\",\"\",'OPĆI DIO'!$C$1)","v":""},"","","","","",{"$nulls":9},"A814007","UNAPREĐENJE KVALITETE OBRAZOVNOG SUSTAVA","0970","Istraživanje i razvoj obrazovanja","09","097"]
[{"$f":"IF(E295=\"\",\"\",VLOOKUP('OPĆI DIO'!$C$1,'OPĆI DIO'!$L$4:$U$138,10,FALSE))","v":""},{"$f":"IF(E295=\"\",\"\",VLOOKUP('OPĆI DIO'!$C$1,'OPĆI DIO'!$L$4:$U$138,9,FALSE))","v":""},null,"",null,"",null,"","",null,0,0,null,{"$f":"IF(C295=\"\",\"\",'OPĆI DIO'!$C$1)","v":""},"","","","","",{"$nulls":9},"K814011","OP UČINKOVITI LJUDSKI POTENCIJALI 2014.-2020., PRIORITET 10","0970","Istraživanje i razvoj obrazovanja","09","097"]
[{"$f":"IF(E296=\"\",\"\",VLOOKUP('OPĆI DIO'!$C$1,'OPĆI DIO'!$L$4:$U$138,10,FALSE))","v":""},{"$f":"IF(E296=\"\",\"\",VLOOKUP('OPĆI DIO'!$C$1,'OPĆI DIO'!$L$4:$U$138,9,FALSE))","v":""},null,"",null,"",null,"","",null,0,0,null,{"$f":"IF(C296=\"\",\"\",'OPĆI DIO'!$C$1)","v":""},"","","","","",{"$nulls":9},"K814012","OP UČNIKOVITI LJUDSKI POTENCIJALI 2014.-2020., PRIORITET 3","0970","Istraživanje i razvoj obrazovanja","09","097"]
[{"$f":"IF(E297=\"\",\"\",VLOOKUP('OPĆI DIO'!$C$1,'OPĆI DIO'!$L$4:$U$138,10,FALSE))","v":""},{"$f":"IF(E297=\"\",\"\",VLOOKUP('OPĆI DIO'!$C$1,'OPĆI DIO'!$L$4:$U$138,9,FALSE))","v":""},null,"",null,"",null,"","",null,0,0,null,{"$f":"IF(C297=\"\",\"\",'OPĆI DIO'!$C$1)","v":""},"","","","","",{"$nulls":9},"K814013","PROGRAM UČINKOVITI LJUDSKI POTENCIJALI 2021.-2027.., PRIORITET 2 - OBRAZOVANJE I CJELOŽIVOTNO UČENJE","0970","Istraživanje i razvoj obrazovanja","09","097"]
[{"$f":"IF(E298=\"\",\"\",VLOOKUP('OPĆI DIO'!$C$1,'OPĆI DIO'!$L$4:$U$138,10,FALSE))","v":""},{"$f":"IF(E298=\"\",\"\",VLOOKUP('OPĆI DIO'!$C$1,'OPĆI DIO'!$L$4:$U$138,9,FALSE))","v":""},null,"",null,"",null,"","",null,0,0,null,{"$f":"IF(C298=\"\",\"\",'OPĆI DIO'!$C$1)","v":""},"","","","","",{"$nulls":9},"A589088","ADMINISTRACIJA I UPRAVLJANJE AGENCIJE ZA MOBILNOST I EU PROGRAME","0970","Istraživanje i razvoj obrazovanja","09","095"]
[{"$f":"IF(E299=\"\",\"\",VLOOKUP('OPĆI DIO'!$C$1,'OPĆI DIO'!$L$4:$U$138,10,FALSE))","v":""},{"$f":"IF(E299=\"\",\"\",VLOOKUP('OPĆI DIO'!$C$1,'OPĆI DIO'!$L$4:$U$138,9,FALSE))","v":""},null,"",null,"",null,"","",null,0,0,null,{"$f":"IF(C299=\"\",\"\",'OPĆI DIO'!$C$1)","v":""},"","","","","",{"$nulls":9},"A589091","PROVEDBA MREŽNIH PROJEKATA FINANCIRANIH IZ OKVIRNIH PROGRAMA EU-A","0970","Istraživanje i razvoj obrazovanja","09","097"]
[{"$f":"IF(E300=\"\",\"\",VLOOKUP('OPĆI DIO'!$C$1,'OPĆI DIO'!$L$4:$U$138,10,FALSE))","v":""},{"$f":"IF(E300=\"\",\"\",VLOOKUP('OPĆI DIO'!$C$1,'OPĆI DIO'!$L$4:$U$138,9,FALSE))","v":""},null,"",null,"",null,"","",null,0,0,null,{"$f":"IF(C300=\"\",\"\",'OPĆI DIO'!$C$1)","v":""},"","","","","",{"$nulls":9},"A818017","PROVOĐENJE MREŽNIH PROJEKATA IZ OBZOR 2020.PROGRAMA","0970","Istraživanje i razvoj obrazovanja","09","097"]
[{"$f":"IF(E301=\"\",\"\",VLOOKUP('OPĆI DIO'!$C$1,'OPĆI DIO'!$L$4:$U$138,10,FALSE))","v":""},{"$f":"IF(E301=\"\",\"\",VLOOKUP('OPĆI DIO'!$C$1,'OPĆI DIO'!$L$4:$U$138,9,FALSE))","v":""},null,"",null,"",null,"","",null,0,0,null,{"$f":"IF(C301=\"\",\"\",'OPĆI DIO'!$C$1)","v":""},"","","","","",{"$nulls":9},"A818023","PROVEDBA EURODESK MREŽE","0970","Istraživanje i razvoj obrazovanja","09","097"]
[{"$f":"IF(E302=\"\",\"\",VLOOKUP('OPĆI DIO'!$C$1,'OPĆI DIO'!$L$4:$U$138,10,FALSE))","v":""},{"$f":"IF(E302=\"\",\"\",VLOOKUP('OPĆI DIO'!$C$1,'OPĆI DIO'!$L$4:$U$138,9,FALSE))","v":""},null,"",null,"",null,"","",null,0,0,null,{"$f":"IF(C302=\"\",\"\",'OPĆI DIO'!$C$1)","v":""},"","","","","",{"$nulls":9},"A818024","PROVEDBA E-TWINNING MREŽE","0970","Istraživanje i razvoj obrazovanja","09","097"]
[{"$f":"IF(E303=\"\",\"\",VLOOKUP('OPĆI DIO'!$C$1,'OPĆI DIO'!$L$4:$U$138,10,FALSE))","v":""},{"$f":"IF(E303=\"\",\"\",VLOOKUP('OPĆI DIO'!$C$1,'OPĆI DIO'!$L$4:$U$138,9,FALSE))","v":""},null,"",null,"",null,"","",null,0,0,null,{"$f":"IF(C303=\"\",\"\",'OPĆI DIO'!$C$1)","v":""},"","","","","",{"$nulls":9},"A818033","ZNANSTVENA I VISOKOŠKOLSKA MOBILNOST","0970","Istraživanje i razvoj obrazovanja","09","097"]
[{"$f":"IF(E304=\"\",\"\",VLOOKUP('OPĆI DIO'!$C$1,'OPĆI DIO'!$L$4:$U$138,10,FALSE))","v":""},{"$f":"IF(E304=\"\",\"\",VLOOKUP('OPĆI DIO'!$C$1,'OPĆI DIO'!$L$4:$U$138,9,FALSE))","v":""},null,"",null,"",null,"","",null,0,0,null,{"$f":"IF(C304=\"\",\"\",'OPĆI DIO'!$C$1)","v":""},"","","","","",{"$nulls":9},"A818042","OBZOR EUROPA I MOBILNOST ISTRAŽIVAČA","0970","Istraživanje i razvoj obrazovanja","09","097"]
[{"$f":"IF(E305=\"\",\"\",VLOOKUP('OPĆI DIO'!$C$1,'OPĆI DIO'!$L$4:$U$138,10,FALSE))","v":""},{"$f":"IF(E305=\"\",\"\",VLOOKUP('OPĆI DIO'!$C$1,'OPĆI DIO'!$L$4:$U$138,9,FALSE))","v":""},null,"",null,"",null,"","",null,0,0,null,{"$f":"IF(C305=\"\",\"\",'OPĆI DIO'!$C$1)","v":""},"","","","","",{"$nulls":9},"A818043","ERASMUS PLUS PROVEDBA PROGRAMA OD 2014. DO 2020.","0970","Istraživanje i razvoj obrazovanja","09","097"]
[{"$f":"IF(E306=\"\",\"\",VLOOKUP('OPĆI DIO'!$C$1,'OPĆI DIO'!$L$4:$U$138,10,FALSE))","v":""},{"$f":"IF(E306=\"\",\"\",VLOOKUP('OPĆI DIO'!$C$1,'OPĆI DIO'!$L$4:$U$138,9,FALSE))","v":""},null,"",null,"",null,"","",null,0,0,null,{"$f":"IF(C306=\"\",\"\",'OPĆI DIO'!$C$1)","v":""},"","","","","",{"$nulls":9},"A818044","ERASMUS PLUS – PROJEKTI ZA KORISNIKE OBRAZOVANJE OD 2014. DO 2020.","0970","Istraživanje i razvoj obrazovanja","09","097"]
[{"$f":"IF(E307=\"\",\"\",VLOOKUP('OPĆI DIO'!$C$1,'OPĆI DIO'!$L$4:$U$138,10,FALSE))","v":""},{"$f":"IF(E307=\"\",\"\",VLOOKUP('OPĆI DIO'!$C$1,'OPĆI DIO'!$L$4:$U$138,9,FALSE))","v":""},null,"",null,"",null,"","",null,0,0,null,{"$f":"IF(C307=\"\",\"\",'OPĆI DIO'!$C$1)","v":""},"","","","","",{"$nulls":9},"A818045","ERASMUS PLUS – PROJEKTI ZA KORISNIKE MLADI OD 2014. DO 2020.","0970","Istraživanje i razvoj obrazovanja","09","095"]
[{"$f":"IF(E308=\"\",\"\",VLOOKUP('OPĆI DIO'!$C$1,'OPĆI DIO'!$L$4:$U$138,10,FALSE))","v":""},{"$f":"IF(E308=\"\",\"\",VLOOKUP('OPĆI DIO'!$C$1,'OPĆI DIO'!$L$4:$U$138,9,FALSE))","v":""},null,"",null,"",null,"","",null,0,0,null,{"$f":"IF(C308=\"\",\"\",'OPĆI DIO'!$C$1)","v":""},"","","","","",{"$nulls":9},"A818055","PORTAL STUDY IN CROATIA","0970","Istraživanje i razvoj obrazovanja","09","097"]
[{"$f":"IF(E309=\"\",\"\",VLOOKUP('OPĆI DIO'!$C$1,'OPĆI DIO'!$L$4:$U$138,10,FALSE))","v":""},{"$f":"IF(E309=\"\",\"\",VLOOKUP('OPĆI DIO'!$C$1,'OPĆI DIO'!$L$4:$U$138,9,FALSE))","v":""},null,"",null,"",null,"","",null,0,0,null,{"$f":"IF(C309=\"\",\"\",'OPĆI DIO'!$C$1)","v":""},"","","","","",{"$nulls":9},"A818058","EUROPSKE SNAGE SOLIDARNOSTI PROVEDBA PROGRAMA","0970","Istraživanje i razvoj obrazovanja","09","097"]
[{"$f":"IF(E310=\"\",\"\",VLOOKUP('OPĆI DIO'!$C$1,'OPĆI DIO'!$L$4:$U$138,10,FALSE))","v":""},{"$f":"IF(E310=\"\",\"\",VLOOKUP('OPĆI DIO'!$C$1,'OPĆI DIO'!$L$4:$U$138,9,FALSE))","v":""},null,"",null,"",null,"","",null,0,0,null,{"$f":"IF(C310=\"\",\"\",'OPĆI DIO'!$C$1)","v":""},"","","","","",{"$nulls":9},"A818059","EUROPSKE SNAGE SOLIDARNOSTI - PROJEKTI ZA KORISNIKE OD 2018. DO 2020.","0970","Istraživanje i razvoj obrazovanja","09","097"]
[{"$f":"IF(E311=\"\",\"\",VLOOKUP('OPĆI DIO'!$C$1,'OPĆI DIO'!$L$4:$U$138,10,FALSE))","v":""},{"$f":"IF(E311=\"\",\"\",VLOOKUP('OPĆI DIO'!$C$1,'OPĆI DIO'!$L$4:$U$138,9,FALSE))","v":""},null,"",null,"",null,"","",null,0,0,null,{"$f":"IF(C311=\"\",\"\",'OPĆI DIO'!$C$1)","v":""},"","","","","",{"$nulls":9},"A818060","EURYDICE EUROPSKA MREŽA ZA PODATKE I ANALIZE O SUSTAVIMA OBRAZOVANJA","0970","Istraživanje i razvoj obrazovanja","09","097"]
[{"$f":"IF(E312=\"\",\"\",VLOOKUP('OPĆI DIO'!$C$1,'OPĆI DIO'!$L$4:$U$138,10,FALSE))","v":""},{"$f":"IF(E312=\"\",\"\",VLOOKUP('OPĆI DIO'!$C$1,'OPĆI DIO'!$L$4:$U$138,9,FALSE))","v":""},null,"",null,"",null,"","",null,0,0,null,{"$f":"IF(C312=\"\",\"\",'OPĆI DIO'!$C$1)","v":""},"","","","","",{"$nulls":9},"A818061","ERASMUS PLUS - SUFINANCIRANJE – DIO PROVEDBE MLADI","0970","Istraživanje i razvoj obrazovanja","09","097"]
[{"$f":"IF(E313=\"\",\"\",VLOOKUP('OPĆI DIO'!$C$1,'OPĆI DIO'!$L$4:$U$138,10,FALSE))","v":""},{"$f":"IF(E313=\"\",\"\",VLOOKUP('OPĆI DIO'!$C$1,'OPĆI DIO'!$L$4:$U$138,9,FALSE))","v":""},null,"",null,"",null,"","",null,0,0,null,{"$f":"IF(C313=\"\",\"\",'OPĆI DIO'!$C$1)","v":""},"","","","","",{"$nulls":9},"A818063","EUROPSKE SNAGE SOLIDARNOSTI - PROJEKTI ZA KORISNIKE OD 2021. DO 2027.","0970","Istraživanje i razvoj obrazovanja","09","097"]
[{"$f":"IF(E314=\"\",\"\",VLOOKUP('OPĆI DIO'!$C$1,'OPĆI DIO'!$L$4:$U$138,10,FALSE))","v":""},{"$f":"IF(E314=\"\",\"\",VLOOKUP('OPĆI DIO'!$C$1,'OPĆI DIO'!$L$4:$U$138,9,FALSE))","v":""},null,"",null,"",null,"","",null,0,0,null,{"$f":"IF(C314=\"\",\"\",'OPĆI DIO'!$C$1)","v":""},"","","","","",{"$nulls":9},"A818064","ERASMUS - PROJEKTI  ZA KORISNIKE OBRAZOVANJE OD 2021. DO 2027.","0970","Istraživanje i razvoj obrazovanja","09","097"]
[{"$f":"IF(E315=\"\",\"\",VLOOKUP('OPĆI DIO'!$C$1,'OPĆI DIO'!$L$4:$U$138,10,FALSE))","v":""},{"$f":"IF(E315=\"\",\"\",VLOOKUP('OPĆI DIO'!$C$1,'OPĆI DIO'!$L$4:$U$138,9,FALSE))","v":""},null,"",null,"",null,"","",null,0,0,null,{"$f":"IF(C315=\"\",\"\",'OPĆI DIO'!$C$1)","v":""},"","","","","",{"$nulls":9},"A818065","ERASMUS - PROJEKTI ZA KORISNIKE MLADI OD 2021. DO 2027.","0970","Istraživanje i razvoj obrazovanja","09","095"]
[{"$f":"IF(E316=\"\",\"\",VLOOKUP('OPĆI DIO'!$C$1,'OPĆI DIO'!$L$4:$U$138,10,FALSE))","v":""},{"$f":"IF(E316=\"\",\"\",VLOOKUP('OPĆI DIO'!$C$1,'OPĆI DIO'!$L$4:$U$138,9,FALSE))","v":""},null,"",null,"",null,"","",null,0,0,null,{"$f":"IF(C316=\"\",\"\",'OPĆI DIO'!$C$1)","v":""},"","","","","",{"$nulls":9},"A818070","PROVEDBA EUROPASS I EUROGUIDANCE","0970","Istraživanje i razvoj obrazovanja","09","095"]
[{"$f":"IF(E317=\"\",\"\",VLOOKUP('OPĆI DIO'!$C$1,'OPĆI DIO'!$L$4:$U$138,10,FALSE))","v":""},{"$f":"IF(E317=\"\",\"\",VLOOKUP('OPĆI DIO'!$C$1,'OPĆI DIO'!$L$4:$U$138,9,FALSE))","v":""},null,"",null,"",null,"","",null,0,0,null,{"$f":"IF(C317=\"\",\"\",'OPĆI DIO'!$C$1)","v":""},"","","","","",{"$nulls":9},"A818071","VET RADNA SKUPINA","0970","Istraživanje i razvoj obrazovanja","01","015"]
[{"$f":"IF(E318=\"\",\"\",VLOOKUP('OPĆI DIO'!$C$1,'OPĆI DIO'!$L$4:$U$138,10,FALSE))","v":""},{"$f":"IF(E318=\"\",\"\",VLOOKUP('OPĆI DIO'!$C$1,'OPĆI DIO'!$L$4:$U$138,9,FALSE))","v":""},null,"",null,"",null,"","",null,0,0,null,{"$f":"IF(C318=\"\",\"\",'OPĆI DIO'!$C$1)","v":""},"","","","","",{"$nulls":9},"A818073","SALTO - REFERENTNI CENTAR ZA TEMU UKLJUČIVOSTI U PODRUČJU OBRAZOVANJA NA EUROPSKOJ RAZINI","0970","Istraživanje i razvoj obrazovanja","01","015"]
[{"$f":"IF(E319=\"\",\"\",VLOOKUP('OPĆI DIO'!$C$1,'OPĆI DIO'!$L$4:$U$138,10,FALSE))","v":""},{"$f":"IF(E319=\"\",\"\",VLOOKUP('OPĆI DIO'!$C$1,'OPĆI DIO'!$L$4:$U$138,9,FALSE))","v":""},null,"",null,"",null,"","",null,0,0,null,{"$f":"IF(C319=\"\",\"\",'OPĆI DIO'!$C$1)","v":""},"","","","","",{"$nulls":9},"A818075","ERASMUS - PROJEKTI ZA KORISNIKE PODRUČJA SPORT OD 2021. DO 2027.","0970","Istraživanje i razvoj obrazovanja","01","015"]
[{"$f":"IF(E320=\"\",\"\",VLOOKUP('OPĆI DIO'!$C$1,'OPĆI DIO'!$L$4:$U$138,10,FALSE))","v":""},{"$f":"IF(E320=\"\",\"\",VLOOKUP('OPĆI DIO'!$C$1,'OPĆI DIO'!$L$4:$U$138,9,FALSE))","v":""},null,"",null,"",null,"","",null,0,0,null,{"$f":"IF(C320=\"\",\"\",'OPĆI DIO'!$C$1)","v":""},"","","","","",{"$nulls":9},"A848001","ADMINISTRACIJA I UPRAVLJANJE AGENCIJE ZA STRUKOVNO OBRAZOVANJE I  OBRAZOVANJE ODRASLIH","0950","Obrazovanje koje se ne može definirati po stupnju","01","015"]
[{"$f":"IF(E321=\"\",\"\",VLOOKUP('OPĆI DIO'!$C$1,'OPĆI DIO'!$L$4:$U$138,10,FALSE))","v":""},{"$f":"IF(E321=\"\",\"\",VLOOKUP('OPĆI DIO'!$C$1,'OPĆI DIO'!$L$4:$U$138,9,FALSE))","v":""},null,"",null,"",null,"","",null,0,0,null,{"$f":"IF(C321=\"\",\"\",'OPĆI DIO'!$C$1)","v":""},"","","","","",{"$nulls":9},"A848001","ADMINISTRACIJA I UPRAVLJANJE AGENCIJE ZA STRUKOVNO OBRAZOVANJE I  OBRAZOVANJE ODRASLIH","0970","Istraživanje i razvoj obrazovanja","01","015"]
[{"$f":"IF(E322=\"\",\"\",VLOOKUP('OPĆI DIO'!$C$1,'OPĆI DIO'!$L$4:$U$138,10,FALSE))","v":""},{"$f":"IF(E322=\"\",\"\",VLOOKUP('OPĆI DIO'!$C$1,'OPĆI DIO'!$L$4:$U$138,9,FALSE))","v":""},null,"",null,"",null,"","",null,0,0,null,{"$f":"IF(C322=\"\",\"\",'OPĆI DIO'!$C$1)","v":""},"","","","","",{"$nulls":9},"A848009","PROMICANJE KULTURE UČENJA: TJEDAN CJELOŽIVOTNOG UČENJA","0970","Istraživanje i razvoj obrazovanja","01","015"]
[{"$f":"IF(E323=\"\",\"\",VLOOKUP('OPĆI DIO'!$C$1,'OPĆI DIO'!$L$4:$U$138,10,FALSE))","v":""},{"$f":"IF(E323=\"\",\"\",VLOOKUP('OPĆI DIO'!$C$1,'OPĆI DIO'!$L$4:$U$138,9,FALSE))","v":""},null,"",null,{"$f":"IFERROR(VLOOKUP(E323,$W$5:$Y$129,2,FALSE),\"\")","v":""},null,"","",null,0,0,null,{"$f":"IF(C323=\"\",\"\",'OPĆI DIO'!$C$1)","v":""},"","","","","",{"$nulls":9},"A848010","STRUČNO SAVJETODAVNA DJELATNOST","0970","Istraživanje i razvoj obrazovanja","01","015"]
[{"$f":"IF(E324=\"\",\"\",VLOOKUP('OPĆI DIO'!$C$1,'OPĆI DIO'!$L$4:$U$138,10,FALSE))","v":""},{"$f":"IF(E324=\"\",\"\",VLOOKUP('OPĆI DIO'!$C$1,'OPĆI DIO'!$L$4:$U$138,9,FALSE))","v":""},null,{"$f":"IFERROR(VLOOKUP(C324,$T$6:$U$23,2,FALSE),\"\")","v":""},null,"",null,{"$f":"IFERROR(VLOOKUP(G324,$AC$6:$AD$353,2,FALSE),\"\")","v":""},{"$f":"IFERROR(VLOOKUP(G324,$AC$6:$AG$353,3,FALSE),\"\")","v":""},null,0,{"$f":"+J324+K324","v":0},null,{"$f":"IF(C324=\"\",\"\",'OPĆI DIO'!$C$1)","v":""},{"$f":"LEFT(E324,3)","v":""},{"$f":"LEFT(E324,2)","v":""},{"$f":"LEFT(C324,3)","v":""},{"$f":"IF(S324=\"5\",0,MID(I324,2,2))","v":""},{"$f":"LEFT(E324,1)","v":""},{"$nulls":9},"A848014","RAZVOJ SUSTAVA STRUKOVNOG OBRAZOVANJA","0970","Istraživanje i razvoj obrazovanja","01","015"]
[{"$f":"IF(E325=\"\",\"\",VLOOKUP('OPĆI DIO'!$C$1,'OPĆI DIO'!$L$4:$U$138,10,FALSE))","v":""},{"$f":"IF(E325=\"\",\"\",VLOOKUP('OPĆI DIO'!$C$1,'OPĆI DIO'!$L$4:$U$138,9,FALSE))","v":""},null,"",null,"",null,"","",null,0,0,null,{"$f":"IF(C325=\"\",\"\",'OPĆI DIO'!$C$1)","v":""},"","","","","",{"$nulls":9},"A848018","DRŽAVNA NATJECANJA","0970","Istraživanje i razvoj obrazovanja","01","015"]
[{"$f":"IF(E326=\"\",\"\",VLOOKUP('OPĆI DIO'!$C$1,'OPĆI DIO'!$L$4:$U$138,10,FALSE))","v":""},{"$f":"IF(E326=\"\",\"\",VLOOKUP('OPĆI DIO'!$C$1,'OPĆI DIO'!$L$4:$U$138,9,FALSE))","v":""},null,"",null,"",null,"","",null,0,0,null,{"$f":"IF(C326=\"\",\"\",'OPĆI DIO'!$C$1)","v":""},"","","","","",{"$nulls":9},"A848020","RAZVOJ SUSTAVA OBRAZOVANJA ODRASLIH","0970","Istraživanje i razvoj obrazovanja","01","015"]
[{"$f":"IF(E327=\"\",\"\",VLOOKUP('OPĆI DIO'!$C$1,'OPĆI DIO'!$L$4:$U$138,10,FALSE))","v":""},{"$f":"IF(E327=\"\",\"\",VLOOKUP('OPĆI DIO'!$C$1,'OPĆI DIO'!$L$4:$U$138,9,FALSE))","v":""},null,"",null,"",null,"","",null,0,0,null,{"$f":"IF(C327=\"\",\"\",'OPĆI DIO'!$C$1)","v":""},"","","","","",{"$nulls":9},"A848023","REFERNET U REPUBLICI HRVATSKOJ","0970","Istraživanje i razvoj obrazovanja","01","015"]
[{"$f":"IF(E328=\"\",\"\",VLOOKUP('OPĆI DIO'!$C$1,'OPĆI DIO'!$L$4:$U$138,10,FALSE))","v":""},{"$f":"IF(E328=\"\",\"\",VLOOKUP('OPĆI DIO'!$C$1,'OPĆI DIO'!$L$4:$U$138,9,FALSE))","v":""},null,"",null,"",null,"","",null,0,0,null,{"$f":"IF(C328=\"\",\"\",'OPĆI DIO'!$C$1)","v":""},"","","","","",{"$nulls":9},"A848039","NACIONALNA REFERENTNA TOČKA ZA EUROPSKI SUSTAV OSIGURANJA KVALITETE U STRUKOVNOM OBRAZOVANJU I OSPOSOBLJAVANJU - EQAVET NRP","0970","Istraživanje i razvoj obrazovanja","01","015"]
[{"$f":"IF(E329=\"\",\"\",VLOOKUP('OPĆI DIO'!$C$1,'OPĆI DIO'!$L$4:$U$138,10,FALSE))","v":""},{"$f":"IF(E329=\"\",\"\",VLOOKUP('OPĆI DIO'!$C$1,'OPĆI DIO'!$L$4:$U$138,9,FALSE))","v":""},null,"",null,"",null,"","",null,0,0,null,{"$f":"IF(C329=\"\",\"\",'OPĆI DIO'!$C$1)","v":""},"","","","","",{"$nulls":9},"A848041","ERASMUS PLUS - PROVEDBA ISTRAŽIVANJA KOMPETENCIJA ODRASLIH OSOBA U REPUBLICI HRVATSKOJ - PIAAC HRVATSKA","0950","Obrazovanje koje se ne može definirati po stupnju","01","015"]
[{"$f":"IF(E330=\"\",\"\",VLOOKUP('OPĆI DIO'!$C$1,'OPĆI DIO'!$L$4:$U$138,10,FALSE))","v":""},{"$f":"IF(E330=\"\",\"\",VLOOKUP('OPĆI DIO'!$C$1,'OPĆI DIO'!$L$4:$U$138,9,FALSE))","v":""},null,"",null,"",null,"","",null,0,0,null,{"$f":"IF(C330=\"\",\"\",'OPĆI DIO'!$C$1)","v":""},"","","","","",{"$nulls":9},"A848041","ERASMUS PLUS - PROVEDBA ISTRAŽIVANJA KOMPETENCIJA ODRASLIH OSOBA U REPUBLICI HRVATSKOJ - PIAAC HRVATSKA","0970","Istraživanje i razvoj obrazovanja","01","015"]
[{"$f":"IF(E331=\"\",\"\",VLOOKUP('OPĆI DIO'!$C$1,'OPĆI DIO'!$L$4:$U$138,10,FALSE))","v":""},{"$f":"IF(E331=\"\",\"\",VLOOKUP('OPĆI DIO'!$C$1,'OPĆI DIO'!$L$4:$U$138,9,FALSE))","v":""},null,"",null,"",null,"","",null,0,0,null,{"$f":"IF(C331=\"\",\"\",'OPĆI DIO'!$C$1)","v":""},"","","","","",{"$nulls":9},"A848042","EPALE - NACIONALNA SLUŽBA ZA PODRŠKU ZA REPUBLIKU HRVATSKU 2019.-2020. (EPALE IV)","0970","Istraživanje i razvoj obrazovanja","01","015"]
[{"$f":"IF(E332=\"\",\"\",VLOOKUP('OPĆI DIO'!$C$1,'OPĆI DIO'!$L$4:$U$138,10,FALSE))","v":""},{"$f":"IF(E332=\"\",\"\",VLOOKUP('OPĆI DIO'!$C$1,'OPĆI DIO'!$L$4:$U$138,9,FALSE))","v":""},null,"",null,"",null,"","",null,0,0,null,{"$f":"IF(C332=\"\",\"\",'OPĆI DIO'!$C$1)","v":""},"","","","","",{"$nulls":9},"A848045","ERASMUS PLUS - KA2 - TRENING ZA VJEŠTINE U VIRTUALNOM OKRUŽENJU","0970","Istraživanje i razvoj obrazovanja","01","015"]
[{"$f":"IF(E333=\"\",\"\",VLOOKUP('OPĆI DIO'!$C$1,'OPĆI DIO'!$L$4:$U$138,10,FALSE))","v":""},{"$f":"IF(E333=\"\",\"\",VLOOKUP('OPĆI DIO'!$C$1,'OPĆI DIO'!$L$4:$U$138,9,FALSE))","v":""},null,"",null,"",null,"","",null,0,0,null,{"$f":"IF(C333=\"\",\"\",'OPĆI DIO'!$C$1)","v":""},"","","","","",{"$nulls":9},"A848046","ERASMUS PLUS - PILOTIRANJE VIRTUALNOG PRAKTIČNOG TEČAJA ZA KUHARSTVO U STRUKOVNOM OBRAZOVANJU","0970","Istraživanje i razvoj obrazovanja","01","015"]
[{"$f":"IF(E334=\"\",\"\",VLOOKUP('OPĆI DIO'!$C$1,'OPĆI DIO'!$L$4:$U$138,10,FALSE))","v":""},{"$f":"IF(E334=\"\",\"\",VLOOKUP('OPĆI DIO'!$C$1,'OPĆI DIO'!$L$4:$U$138,9,FALSE))","v":""},null,"",null,"",null,"","",null,0,0,null,{"$f":"IF(C334=\"\",\"\",'OPĆI DIO'!$C$1)","v":""},"","","","","",{"$nulls":9},"A848047","ERASMUS PLUS - KA - INKLUZIVNO DIGITALNO UČENJE U SVRHU SPREČAVANJA NAPUŠTANJA ŠKOLOVANJA U STRUKOVNOM OBRAZOVANJU I OSPOSOBLJAVANJU - 2BDIGITAL","0970","Istraživanje i razvoj obrazovanja","01","015"]
[{"$f":"IF(E335=\"\",\"\",VLOOKUP('OPĆI DIO'!$C$1,'OPĆI DIO'!$L$4:$U$138,10,FALSE))","v":""},{"$f":"IF(E335=\"\",\"\",VLOOKUP('OPĆI DIO'!$C$1,'OPĆI DIO'!$L$4:$U$138,9,FALSE))","v":""},null,"",null,"",null,"","",null,0,0,null,{"$f":"IF(C335=\"\",\"\",'OPĆI DIO'!$C$1)","v":""},"","","","","",{"$nulls":9},"A848048","EPALE - NACIONALNA SLUŽBA ZA PODRŠKU ZA REPUBLIKU HRVATSKU 2022.-2024. (EPALE V)","0970","Istraživanje i razvoj obrazovanja","01","015"]
[{"$f":"IF(E336=\"\",\"\",VLOOKUP('OPĆI DIO'!$C$1,'OPĆI DIO'!$L$4:$U$138,10,FALSE))","v":""},{"$f":"IF(E336=\"\",\"\",VLOOKUP('OPĆI DIO'!$C$1,'OPĆI DIO'!$L$4:$U$138,9,FALSE))","v":""},null,"",null,"",null,"","",null,0,0,null,{"$f":"IF(C336=\"\",\"\",'OPĆI DIO'!$C$1)","v":""},"","","","","",{"$nulls":9},"A848051","ERASMUS PLUS - PROJEKTI","0970","Istraživanje i razvoj obrazovanja","01","015"]
[{"$f":"IF(E337=\"\",\"\",VLOOKUP('OPĆI DIO'!$C$1,'OPĆI DIO'!$L$4:$U$138,10,FALSE))","v":""},{"$f":"IF(E337=\"\",\"\",VLOOKUP('OPĆI DIO'!$C$1,'OPĆI DIO'!$L$4:$U$138,9,FALSE))","v":""},null,"",null,"",null,"","",null,0,0,null,{"$f":"IF(C337=\"\",\"\",'OPĆI DIO'!$C$1)","v":""},"","","","","",{"$nulls":9},"K848038","OP UČINKOVITI LJUDSKI POTENCIJALI 2014.-2020., PRIORITET 3","0950","Obrazovanje koje se ne može definirati po stupnju","01","015"]
[{"$f":"IF(E338=\"\",\"\",VLOOKUP('OPĆI DIO'!$C$1,'OPĆI DIO'!$L$4:$U$138,10,FALSE))","v":""},{"$f":"IF(E338=\"\",\"\",VLOOKUP('OPĆI DIO'!$C$1,'OPĆI DIO'!$L$4:$U$138,9,FALSE))","v":""},null,"",null,"",null,"","",null,0,0,null,{"$f":"IF(C338=\"\",\"\",'OPĆI DIO'!$C$1)","v":""},"","","","","",{"$nulls":9},"K848049","PROGRAM UČINKOVITI LJUDSKI POTENCIJALI 2021.-2027., PRIORITET 5 - TEHNIČKA POMOĆ","0950","Obrazovanje koje se ne može definirati po stupnju","01","015"]
[{"$f":"IF(E339=\"\",\"\",VLOOKUP('OPĆI DIO'!$C$1,'OPĆI DIO'!$L$4:$U$138,10,FALSE))","v":""},{"$f":"IF(E339=\"\",\"\",VLOOKUP('OPĆI DIO'!$C$1,'OPĆI DIO'!$L$4:$U$138,9,FALSE))","v":""},null,"",null,"",null,"","",null,0,0,null,{"$f":"IF(C339=\"\",\"\",'OPĆI DIO'!$C$1)","v":""},"","","","","",{"$nulls":9},"K848050","PROGRAM UČINKOVITI LJUDSKI POTENCIJALI 2021.-2027., PRIORITET 3","0950","Obrazovanje koje se ne može definirati po stupnju","01","015"]
[{"$f":"IF(E340=\"\",\"\",VLOOKUP('OPĆI DIO'!$C$1,'OPĆI DIO'!$L$4:$U$138,10,FALSE))","v":""},{"$f":"IF(E340=\"\",\"\",VLOOKUP('OPĆI DIO'!$C$1,'OPĆI DIO'!$L$4:$U$138,9,FALSE))","v":""},null,"",null,"",null,"","",null,0,0,null,{"$f":"IF(C340=\"\",\"\",'OPĆI DIO'!$C$1)","v":""},"","","","","",{"$nulls":9},"T848027","OP UČINKOVITI LJUDSKI POTENCIJALI 2014. - 2020., PRIORITET 5","0950","Obrazovanje koje se ne može definirati po stupnju","01","015"]
[{"$f":"IF(E341=\"\",\"\",VLOOKUP('OPĆI DIO'!$C$1,'OPĆI DIO'!$L$4:$U$138,10,FALSE))","v":""},{"$f":"IF(E341=\"\",\"\",VLOOKUP('OPĆI DIO'!$C$1,'OPĆI DIO'!$L$4:$U$138,9,FALSE))","v":""},null,"",null,"",null,"","",null,0,0,null,{"$f":"IF(C341=\"\",\"\",'OPĆI DIO'!$C$1)","v":""},"","","","","",{"$nulls":9},"A557042","PROGRAM DOKTORANADA I POSLIJEDOKTORANADA HRVATSKE ZAKLADE ZA ZNANOST","0150","Istraživanje i razvoj: Opće javne usluge","01","015"]
[{"$f":"IF(E342=\"\",\"\",VLOOKUP('OPĆI DIO'!$C$1,'OPĆI DIO'!$L$4:$U$138,10,FALSE))","v":""},{"$f":"IF(E342=\"\",\"\",VLOOKUP('OPĆI DIO'!$C$1,'OPĆI DIO'!$L$4:$U$138,9,FALSE))","v":""},null,"",null,"",null,"","",null,0,0,null,{"$f":"IF(C342=\"\",\"\",'OPĆI DIO'!$C$1)","v":""},"","","","","",{"$nulls":9},"A578055","HRVATSKO-ŠVICARSKI ISTRAŽIVAČKI PROGRAM","0150","Istraživanje i razvoj: Opće javne usluge","01","015"]
[{"$f":"IF(E343=\"\",\"\",VLOOKUP('OPĆI DIO'!$C$1,'OPĆI DIO'!$L$4:$U$138,10,FALSE))","v":""},{"$f":"IF(E343=\"\",\"\",VLOOKUP('OPĆI DIO'!$C$1,'OPĆI DIO'!$L$4:$U$138,9,FALSE))","v":""},null,"",null,"",null,"","",null,0,0,null,{"$f":"IF(C343=\"\",\"\",'OPĆI DIO'!$C$1)","v":""},"","","","","",{"$nulls":9},"A578069","ADMINISTRACIJA I UPRAVLJANJE HRVATSKE ZAKLADE ZA ZNANOST","0150","Istraživanje i razvoj: Opće javne usluge","01","015"]
[{"$f":"IF(E344=\"\",\"\",VLOOKUP('OPĆI DIO'!$C$1,'OPĆI DIO'!$L$4:$U$138,10,FALSE))","v":""},{"$f":"IF(E344=\"\",\"\",VLOOKUP('OPĆI DIO'!$C$1,'OPĆI DIO'!$L$4:$U$138,9,FALSE))","v":""},null,"",null,"",null,"","",null,0,0,null,{"$f":"IF(C344=\"\",\"\",'OPĆI DIO'!$C$1)","v":""},"","","","","",{"$nulls":9},"A578071","OBZOR ERA-NET QUANTERA","0150","Istraživanje i razvoj: Opće javne usluge","01","015"]
[{"$f":"IF(E345=\"\",\"\",VLOOKUP('OPĆI DIO'!$C$1,'OPĆI DIO'!$L$4:$U$138,10,FALSE))","v":""},{"$f":"IF(E345=\"\",\"\",VLOOKUP('OPĆI DIO'!$C$1,'OPĆI DIO'!$L$4:$U$138,9,FALSE))","v":""},null,"",null,"",null,"","",null,0,0,null,{"$f":"IF(C345=\"\",\"\",'OPĆI DIO'!$C$1)","v":""},"","","","","",{"$nulls":9},"A578072","OBZOR ERA-NET CHANSE","0150","Istraživanje i razvoj: Opće javne usluge","01","015"]
[{"$f":"IF(E346=\"\",\"\",VLOOKUP('OPĆI DIO'!$C$1,'OPĆI DIO'!$L$4:$U$138,10,FALSE))","v":""},{"$f":"IF(E346=\"\",\"\",VLOOKUP('OPĆI DIO'!$C$1,'OPĆI DIO'!$L$4:$U$138,9,FALSE))","v":""},null,"",null,"",null,"","",null,0,0,null,{"$f":"IF(C346=\"\",\"\",'OPĆI DIO'!$C$1)","v":""},"","","","","",{"$nulls":9},"A578073","PROGRAM MOBILNOSTI - NPOO (C3.2. R2-I1 )","0150","Istraživanje i razvoj: Opće javne usluge","01","015"]
[{"$f":"IF(E347=\"\",\"\",VLOOKUP('OPĆI DIO'!$C$1,'OPĆI DIO'!$L$4:$U$138,10,FALSE))","v":""},{"$f":"IF(E347=\"\",\"\",VLOOKUP('OPĆI DIO'!$C$1,'OPĆI DIO'!$L$4:$U$138,9,FALSE))","v":""},null,"",null,"",null,"","",null,0,0,null,{"$f":"IF(C347=\"\",\"\",'OPĆI DIO'!$C$1)","v":""},"","","","","",{"$nulls":9},"A578074","DRUGI ŠVICARSKI DOPRINOS - MULTILATERALNI POZIVI ZA ZAJEDNIČKE ISTRAŽIVAČKE PROJEKTE (MCJRP)","0150","Istraživanje i razvoj: Opće javne usluge","01","015"]
[{"$f":"IF(E348=\"\",\"\",VLOOKUP('OPĆI DIO'!$C$1,'OPĆI DIO'!$L$4:$U$138,10,FALSE))","v":""},{"$f":"IF(E348=\"\",\"\",VLOOKUP('OPĆI DIO'!$C$1,'OPĆI DIO'!$L$4:$U$138,9,FALSE))","v":""},null,"",null,"",null,"","",null,0,0,null,{"$f":"IF(C348=\"\",\"\",'OPĆI DIO'!$C$1)","v":""},"","","","","",{"$nulls":9},"A621048","PROJEKTNO FINANCIRANJE ZNANSTVENE DJELATNOSTI","0150","Istraživanje i razvoj: Opće javne usluge","01","015"]
[{"$f":"IF(E349=\"\",\"\",VLOOKUP('OPĆI DIO'!$C$1,'OPĆI DIO'!$L$4:$U$138,10,FALSE))","v":""},{"$f":"IF(E349=\"\",\"\",VLOOKUP('OPĆI DIO'!$C$1,'OPĆI DIO'!$L$4:$U$138,9,FALSE))","v":""},null,"",null,"",null,"","",null,0,0,null,{"$f":"IF(C349=\"\",\"\",'OPĆI DIO'!$C$1)","v":""},"","","","","",{"$nulls":9},"A733055","PROGRAM IZVRSNOSTI U VISOKOM OBRAZOVANJU - TENURE-TRACK","0150","Istraživanje i razvoj: Opće javne usluge","01","015"]
[{"$f":"IF(E350=\"\",\"\",VLOOKUP('OPĆI DIO'!$C$1,'OPĆI DIO'!$L$4:$U$138,10,FALSE))","v":""},{"$f":"IF(E350=\"\",\"\",VLOOKUP('OPĆI DIO'!$C$1,'OPĆI DIO'!$L$4:$U$138,9,FALSE))","v":""},null,"",null,"",null,"","",null,0,0,null,{"$f":"IF(C350=\"\",\"\",'OPĆI DIO'!$C$1)","v":""},"","","","","",{"$nulls":9},"A733070","OBZOR ERA-NET QUANTERA II","0150","Istraživanje i razvoj: Opće javne usluge","01","015"]
[{"$f":"IF(E351=\"\",\"\",VLOOKUP('OPĆI DIO'!$C$1,'OPĆI DIO'!$L$4:$U$138,10,FALSE))","v":""},{"$f":"IF(E351=\"\",\"\",VLOOKUP('OPĆI DIO'!$C$1,'OPĆI DIO'!$L$4:$U$138,9,FALSE))","v":""},null,"",null,"",null,"","",null,0,0,null,{"$f":"IF(C351=\"\",\"\",'OPĆI DIO'!$C$1)","v":""},"","","","","",{"$nulls":9},"A733071","OBZOR ERA-NET BLUEBIOECONOMY","0150","Istraživanje i razvoj: Opće javne usluge","01","015"]
[{"$f":"IF(E352=\"\",\"\",VLOOKUP('OPĆI DIO'!$C$1,'OPĆI DIO'!$L$4:$U$138,10,FALSE))","v":""},{"$f":"IF(E352=\"\",\"\",VLOOKUP('OPĆI DIO'!$C$1,'OPĆI DIO'!$L$4:$U$138,9,FALSE))","v":""},null,"",null,"",null,"","",null,0,0,null,{"$f":"IF(C352=\"\",\"\",'OPĆI DIO'!$C$1)","v":""},"","","","","",{"$nulls":9},"A733073","PROGRAM RAZVOJA KARIJERA MLADIH ISTRAŽIVAČA - IZOBRAZBA NOVIH DOKTORA ZNANOSTI - NPOO (C3.2. R2-I1 )","0150","Istraživanje i razvoj: Opće javne usluge","01","015"]
[{"$f":"IF(E353=\"\",\"\",VLOOKUP('OPĆI DIO'!$C$1,'OPĆI DIO'!$L$4:$U$138,10,FALSE))","v":""},{"$f":"IF(E353=\"\",\"\",VLOOKUP('OPĆI DIO'!$C$1,'OPĆI DIO'!$L$4:$U$138,9,FALSE))","v":""},null,"",null,"",null,"","",null,0,0,null,{"$f":"IF(C353=\"\",\"\",'OPĆI DIO'!$C$1)","v":""},"","","","","",{"$nulls":9},"K733069","OP UČINKOVITI LJUDSKI POTENCIJALI 2014.-2020., PRIORITET 3","0150","Istraživanje i razvoj: Opće javne usluge","01","015"]
[{"$f":"IF(E354=\"\",\"\",VLOOKUP('OPĆI DIO'!$C$1,'OPĆI DIO'!$L$4:$U$138,10,FALSE))","v":""},{"$f":"IF(E354=\"\",\"\",VLOOKUP('OPĆI DIO'!$C$1,'OPĆI DIO'!$L$4:$U$138,9,FALSE))","v":""},null,"",null,"",null,"","",null,0,0,null,{"$f":"IF(C354=\"\",\"\",'OPĆI DIO'!$C$1)","v":""},"","","","",""]
[{"$f":"IF(E355=\"\",\"\",VLOOKUP('OPĆI DIO'!$C$1,'OPĆI DIO'!$L$4:$U$138,10,FALSE))","v":""},{"$f":"IF(E355=\"\",\"\",VLOOKUP('OPĆI DIO'!$C$1,'OPĆI DIO'!$L$4:$U$138,9,FALSE))","v":""},null,"",null,"",null,"","",null,0,0,null,{"$f":"IF(C355=\"\",\"\",'OPĆI DIO'!$C$1)","v":""},"","","","",""]
[{"$f":"IF(E356=\"\",\"\",VLOOKUP('OPĆI DIO'!$C$1,'OPĆI DIO'!$L$4:$U$138,10,FALSE))","v":""},{"$f":"IF(E356=\"\",\"\",VLOOKUP('OPĆI DIO'!$C$1,'OPĆI DIO'!$L$4:$U$138,9,FALSE))","v":""},null,"",null,"",null,"","",null,0,0,null,{"$f":"IF(C356=\"\",\"\",'OPĆI DIO'!$C$1)","v":""},"","","","",""]
[{"$f":"IF(E357=\"\",\"\",VLOOKUP('OPĆI DIO'!$C$1,'OPĆI DIO'!$L$4:$U$138,10,FALSE))","v":""},{"$f":"IF(E357=\"\",\"\",VLOOKUP('OPĆI DIO'!$C$1,'OPĆI DIO'!$L$4:$U$138,9,FALSE))","v":""},null,"",null,"",null,"","",null,0,0,null,{"$f":"IF(C357=\"\",\"\",'OPĆI DIO'!$C$1)","v":""},"","","","",""]
[{"$f":"IF(E358=\"\",\"\",VLOOKUP('OPĆI DIO'!$C$1,'OPĆI DIO'!$L$4:$U$138,10,FALSE))","v":""},{"$f":"IF(E358=\"\",\"\",VLOOKUP('OPĆI DIO'!$C$1,'OPĆI DIO'!$L$4:$U$138,9,FALSE))","v":""},null,"",null,"",null,"","",null,0,0,null,{"$f":"IF(C358=\"\",\"\",'OPĆI DIO'!$C$1)","v":""},"","","","",""]
[{"$f":"IF(E359=\"\",\"\",VLOOKUP('OPĆI DIO'!$C$1,'OPĆI DIO'!$L$4:$U$138,10,FALSE))","v":""},{"$f":"IF(E359=\"\",\"\",VLOOKUP('OPĆI DIO'!$C$1,'OPĆI DIO'!$L$4:$U$138,9,FALSE))","v":""},null,"",null,"",null,"","",null,0,0,null,{"$f":"IF(C359=\"\",\"\",'OPĆI DIO'!$C$1)","v":""},"","","","",""]
[{"$f":"IF(E360=\"\",\"\",VLOOKUP('OPĆI DIO'!$C$1,'OPĆI DIO'!$L$4:$U$138,10,FALSE))","v":""},{"$f":"IF(E360=\"\",\"\",VLOOKUP('OPĆI DIO'!$C$1,'OPĆI DIO'!$L$4:$U$138,9,FALSE))","v":""},null,"",null,"",null,"","",null,0,0,null,{"$f":"IF(C360=\"\",\"\",'OPĆI DIO'!$C$1)","v":""},"","","","",""]
[{"$f":"IF(E361=\"\",\"\",VLOOKUP('OPĆI DIO'!$C$1,'OPĆI DIO'!$L$4:$U$138,10,FALSE))","v":""},{"$f":"IF(E361=\"\",\"\",VLOOKUP('OPĆI DIO'!$C$1,'OPĆI DIO'!$L$4:$U$138,9,FALSE))","v":""},null,"",null,"",null,"","",null,0,0,null,{"$f":"IF(C361=\"\",\"\",'OPĆI DIO'!$C$1)","v":""},"","","","",""]
[{"$f":"IF(E362=\"\",\"\",VLOOKUP('OPĆI DIO'!$C$1,'OPĆI DIO'!$L$4:$U$138,10,FALSE))","v":""},{"$f":"IF(E362=\"\",\"\",VLOOKUP('OPĆI DIO'!$C$1,'OPĆI DIO'!$L$4:$U$138,9,FALSE))","v":""},null,"",null,"",null,"","",null,0,0,null,{"$f":"IF(C362=\"\",\"\",'OPĆI DIO'!$C$1)","v":""},"","","","",""]
[{"$f":"IF(E363=\"\",\"\",VLOOKUP('OPĆI DIO'!$C$1,'OPĆI DIO'!$L$4:$U$138,10,FALSE))","v":""},{"$f":"IF(E363=\"\",\"\",VLOOKUP('OPĆI DIO'!$C$1,'OPĆI DIO'!$L$4:$U$138,9,FALSE))","v":""},null,"",null,"",null,"","",null,0,0,null,{"$f":"IF(C363=\"\",\"\",'OPĆI DIO'!$C$1)","v":""},"","","","",""]
[{"$f":"IF(E364=\"\",\"\",VLOOKUP('OPĆI DIO'!$C$1,'OPĆI DIO'!$L$4:$U$138,10,FALSE))","v":""},{"$f":"IF(E364=\"\",\"\",VLOOKUP('OPĆI DIO'!$C$1,'OPĆI DIO'!$L$4:$U$138,9,FALSE))","v":""},null,"",null,"",null,"","",null,0,0,null,{"$f":"IF(C364=\"\",\"\",'OPĆI DIO'!$C$1)","v":""},"","","","",""]
[{"$f":"IF(E365=\"\",\"\",VLOOKUP('OPĆI DIO'!$C$1,'OPĆI DIO'!$L$4:$U$138,10,FALSE))","v":""},{"$f":"IF(E365=\"\",\"\",VLOOKUP('OPĆI DIO'!$C$1,'OPĆI DIO'!$L$4:$U$138,9,FALSE))","v":""},null,"",null,"",null,"","",null,0,0,null,{"$f":"IF(C365=\"\",\"\",'OPĆI DIO'!$C$1)","v":""},"","","","",""]
[{"$f":"IF(E366=\"\",\"\",VLOOKUP('OPĆI DIO'!$C$1,'OPĆI DIO'!$L$4:$U$138,10,FALSE))","v":""},{"$f":"IF(E366=\"\",\"\",VLOOKUP('OPĆI DIO'!$C$1,'OPĆI DIO'!$L$4:$U$138,9,FALSE))","v":""},null,"",null,"",null,"","",null,0,0,null,{"$f":"IF(C366=\"\",\"\",'OPĆI DIO'!$C$1)","v":""},"","","","",""]
[{"$f":"IF(E367=\"\",\"\",VLOOKUP('OPĆI DIO'!$C$1,'OPĆI DIO'!$L$4:$U$138,10,FALSE))","v":""},{"$f":"IF(E367=\"\",\"\",VLOOKUP('OPĆI DIO'!$C$1,'OPĆI DIO'!$L$4:$U$138,9,FALSE))","v":""},null,"",null,"",null,"","",null,0,0,null,{"$f":"IF(C367=\"\",\"\",'OPĆI DIO'!$C$1)","v":""},"","","","",""]
[{"$f":"IF(E368=\"\",\"\",VLOOKUP('OPĆI DIO'!$C$1,'OPĆI DIO'!$L$4:$U$138,10,FALSE))","v":""},{"$f":"IF(E368=\"\",\"\",VLOOKUP('OPĆI DIO'!$C$1,'OPĆI DIO'!$L$4:$U$138,9,FALSE))","v":""},null,"",null,"",null,"","",null,0,0,null,{"$f":"IF(C368=\"\",\"\",'OPĆI DIO'!$C$1)","v":""},"","","","",""]
[{"$f":"IF(E369=\"\",\"\",VLOOKUP('OPĆI DIO'!$C$1,'OPĆI DIO'!$L$4:$U$138,10,FALSE))","v":""},{"$f":"IF(E369=\"\",\"\",VLOOKUP('OPĆI DIO'!$C$1,'OPĆI DIO'!$L$4:$U$138,9,FALSE))","v":""},null,"",null,"",null,"","",null,0,0,null,{"$f":"IF(C369=\"\",\"\",'OPĆI DIO'!$C$1)","v":""},"","","","",""]
[{"$f":"IF(E370=\"\",\"\",VLOOKUP('OPĆI DIO'!$C$1,'OPĆI DIO'!$L$4:$U$138,10,FALSE))","v":""},{"$f":"IF(E370=\"\",\"\",VLOOKUP('OPĆI DIO'!$C$1,'OPĆI DIO'!$L$4:$U$138,9,FALSE))","v":""},null,"",null,"",null,"","",null,0,0,null,{"$f":"IF(C370=\"\",\"\",'OPĆI DIO'!$C$1)","v":""},"","","","",""]
[{"$f":"IF(E371=\"\",\"\",VLOOKUP('OPĆI DIO'!$C$1,'OPĆI DIO'!$L$4:$U$138,10,FALSE))","v":""},{"$f":"IF(E371=\"\",\"\",VLOOKUP('OPĆI DIO'!$C$1,'OPĆI DIO'!$L$4:$U$138,9,FALSE))","v":""},null,"",null,"",null,"","",null,0,0,null,{"$f":"IF(C371=\"\",\"\",'OPĆI DIO'!$C$1)","v":""},"","","","",""]
[{"$f":"IF(E372=\"\",\"\",VLOOKUP('OPĆI DIO'!$C$1,'OPĆI DIO'!$L$4:$U$138,10,FALSE))","v":""},{"$f":"IF(E372=\"\",\"\",VLOOKUP('OPĆI DIO'!$C$1,'OPĆI DIO'!$L$4:$U$138,9,FALSE))","v":""},null,"",null,"",null,"","",null,0,0,null,{"$f":"IF(C372=\"\",\"\",'OPĆI DIO'!$C$1)","v":""},"","","","",""]
[{"$f":"IF(E373=\"\",\"\",VLOOKUP('OPĆI DIO'!$C$1,'OPĆI DIO'!$L$4:$U$138,10,FALSE))","v":""},{"$f":"IF(E373=\"\",\"\",VLOOKUP('OPĆI DIO'!$C$1,'OPĆI DIO'!$L$4:$U$138,9,FALSE))","v":""},null,"",null,"",null,"","",null,0,0,null,{"$f":"IF(C373=\"\",\"\",'OPĆI DIO'!$C$1)","v":""},"","","","",""]
[{"$f":"IF(E374=\"\",\"\",VLOOKUP('OPĆI DIO'!$C$1,'OPĆI DIO'!$L$4:$U$138,10,FALSE))","v":""},{"$f":"IF(E374=\"\",\"\",VLOOKUP('OPĆI DIO'!$C$1,'OPĆI DIO'!$L$4:$U$138,9,FALSE))","v":""},null,"",null,"",null,"","",null,0,0,null,{"$f":"IF(C374=\"\",\"\",'OPĆI DIO'!$C$1)","v":""},"","","","",""]
[{"$f":"IF(E375=\"\",\"\",VLOOKUP('OPĆI DIO'!$C$1,'OPĆI DIO'!$L$4:$U$138,10,FALSE))","v":""},{"$f":"IF(E375=\"\",\"\",VLOOKUP('OPĆI DIO'!$C$1,'OPĆI DIO'!$L$4:$U$138,9,FALSE))","v":""},null,"",null,"",null,"","",null,0,0,null,{"$f":"IF(C375=\"\",\"\",'OPĆI DIO'!$C$1)","v":""},"","","","",""]
[{"$f":"IF(E376=\"\",\"\",VLOOKUP('OPĆI DIO'!$C$1,'OPĆI DIO'!$L$4:$U$138,10,FALSE))","v":""},{"$f":"IF(E376=\"\",\"\",VLOOKUP('OPĆI DIO'!$C$1,'OPĆI DIO'!$L$4:$U$138,9,FALSE))","v":""},null,"",null,"",null,"","",null,0,0,null,{"$f":"IF(C376=\"\",\"\",'OPĆI DIO'!$C$1)","v":""},"","","","",""]
[{"$f":"IF(E377=\"\",\"\",VLOOKUP('OPĆI DIO'!$C$1,'OPĆI DIO'!$L$4:$U$138,10,FALSE))","v":""},{"$f":"IF(E377=\"\",\"\",VLOOKUP('OPĆI DIO'!$C$1,'OPĆI DIO'!$L$4:$U$138,9,FALSE))","v":""},null,"",null,"",null,"","",null,0,0,null,{"$f":"IF(C377=\"\",\"\",'OPĆI DIO'!$C$1)","v":""},"","","","",""]
[{"$f":"IF(E378=\"\",\"\",VLOOKUP('OPĆI DIO'!$C$1,'OPĆI DIO'!$L$4:$U$138,10,FALSE))","v":""},{"$f":"IF(E378=\"\",\"\",VLOOKUP('OPĆI DIO'!$C$1,'OPĆI DIO'!$L$4:$U$138,9,FALSE))","v":""},null,"",null,"",null,"","",null,0,0,null,{"$f":"IF(C378=\"\",\"\",'OPĆI DIO'!$C$1)","v":""},"","","","",""]
[{"$f":"IF(E379=\"\",\"\",VLOOKUP('OPĆI DIO'!$C$1,'OPĆI DIO'!$L$4:$U$138,10,FALSE))","v":""},{"$f":"IF(E379=\"\",\"\",VLOOKUP('OPĆI DIO'!$C$1,'OPĆI DIO'!$L$4:$U$138,9,FALSE))","v":""},null,"",null,"",null,"","",null,0,0,null,{"$f":"IF(C379=\"\",\"\",'OPĆI DIO'!$C$1)","v":""},"","","","",""]
[{"$f":"IF(E380=\"\",\"\",VLOOKUP('OPĆI DIO'!$C$1,'OPĆI DIO'!$L$4:$U$138,10,FALSE))","v":""},{"$f":"IF(E380=\"\",\"\",VLOOKUP('OPĆI DIO'!$C$1,'OPĆI DIO'!$L$4:$U$138,9,FALSE))","v":""},null,"",null,"",null,"","",null,0,0,null,{"$f":"IF(C380=\"\",\"\",'OPĆI DIO'!$C$1)","v":""},"","","","",""]
[{"$f":"IF(E381=\"\",\"\",VLOOKUP('OPĆI DIO'!$C$1,'OPĆI DIO'!$L$4:$U$138,10,FALSE))","v":""},{"$f":"IF(E381=\"\",\"\",VLOOKUP('OPĆI DIO'!$C$1,'OPĆI DIO'!$L$4:$U$138,9,FALSE))","v":""},null,"",null,"",null,"","",null,0,0,null,{"$f":"IF(C381=\"\",\"\",'OPĆI DIO'!$C$1)","v":""},"","","","",""]
[{"$f":"IF(E382=\"\",\"\",VLOOKUP('OPĆI DIO'!$C$1,'OPĆI DIO'!$L$4:$U$138,10,FALSE))","v":""},{"$f":"IF(E382=\"\",\"\",VLOOKUP('OPĆI DIO'!$C$1,'OPĆI DIO'!$L$4:$U$138,9,FALSE))","v":""},null,"",null,"",null,"","",null,0,0,null,{"$f":"IF(C382=\"\",\"\",'OPĆI DIO'!$C$1)","v":""},"","","","",""]
[{"$f":"IF(E383=\"\",\"\",VLOOKUP('OPĆI DIO'!$C$1,'OPĆI DIO'!$L$4:$U$138,10,FALSE))","v":""},{"$f":"IF(E383=\"\",\"\",VLOOKUP('OPĆI DIO'!$C$1,'OPĆI DIO'!$L$4:$U$138,9,FALSE))","v":""},null,"",null,"",null,"","",null,0,0,null,{"$f":"IF(C383=\"\",\"\",'OPĆI DIO'!$C$1)","v":""},"","","","",""]
[{"$f":"IF(E384=\"\",\"\",VLOOKUP('OPĆI DIO'!$C$1,'OPĆI DIO'!$L$4:$U$138,10,FALSE))","v":""},{"$f":"IF(E384=\"\",\"\",VLOOKUP('OPĆI DIO'!$C$1,'OPĆI DIO'!$L$4:$U$138,9,FALSE))","v":""},null,"",null,"",null,"","",null,0,0,null,{"$f":"IF(C384=\"\",\"\",'OPĆI DIO'!$C$1)","v":""},"","","","",""]
[{"$f":"IF(E385=\"\",\"\",VLOOKUP('OPĆI DIO'!$C$1,'OPĆI DIO'!$L$4:$U$138,10,FALSE))","v":""},{"$f":"IF(E385=\"\",\"\",VLOOKUP('OPĆI DIO'!$C$1,'OPĆI DIO'!$L$4:$U$138,9,FALSE))","v":""},null,"",null,"",null,"","",null,0,0,null,{"$f":"IF(C385=\"\",\"\",'OPĆI DIO'!$C$1)","v":""},"","","","",""]
[{"$f":"IF(E386=\"\",\"\",VLOOKUP('OPĆI DIO'!$C$1,'OPĆI DIO'!$L$4:$U$138,10,FALSE))","v":""},{"$f":"IF(E386=\"\",\"\",VLOOKUP('OPĆI DIO'!$C$1,'OPĆI DIO'!$L$4:$U$138,9,FALSE))","v":""},null,"",null,"",null,"","",null,0,0,null,{"$f":"IF(C386=\"\",\"\",'OPĆI DIO'!$C$1)","v":""},"","","","",""]
[{"$f":"IF(E387=\"\",\"\",VLOOKUP('OPĆI DIO'!$C$1,'OPĆI DIO'!$L$4:$U$138,10,FALSE))","v":""},{"$f":"IF(E387=\"\",\"\",VLOOKUP('OPĆI DIO'!$C$1,'OPĆI DIO'!$L$4:$U$138,9,FALSE))","v":""},null,"",null,{"$f":"IFERROR(VLOOKUP(E387,$W$5:$Y$129,2,FALSE),\"\")","v":""},null,"","",null,0,0,null,{"$f":"IF(C387=\"\",\"\",'OPĆI DIO'!$C$1)","v":""},"","","","",""]
[{"$f":"IF(E388=\"\",\"\",VLOOKUP('OPĆI DIO'!$C$1,'OPĆI DIO'!$L$4:$U$138,10,FALSE))","v":""},{"$f":"IF(E388=\"\",\"\",VLOOKUP('OPĆI DIO'!$C$1,'OPĆI DIO'!$L$4:$U$138,9,FALSE))","v":""},null,{"$f":"IFERROR(VLOOKUP(C388,$T$6:$U$23,2,FALSE),\"\")","v":""},null,"",null,{"$f":"IFERROR(VLOOKUP(G388,$AC$6:$AD$353,2,FALSE),\"\")","v":""},{"$f":"IFERROR(VLOOKUP(G388,$AC$6:$AG$353,3,FALSE),\"\")","v":""},null,0,{"$f":"+J388+K388","v":0},null,{"$f":"IF(C388=\"\",\"\",'OPĆI DIO'!$C$1)","v":""},{"$f":"LEFT(E388,3)","v":""},{"$f":"LEFT(E388,2)","v":""},{"$f":"LEFT(C388,3)","v":""},{"$f":"IF(S388=\"5\",0,MID(I388,2,2))","v":""},{"$f":"LEFT(E388,1)","v":""}]
[{"$f":"IF(E389=\"\",\"\",VLOOKUP('OPĆI DIO'!$C$1,'OPĆI DIO'!$L$4:$U$138,10,FALSE))","v":""},{"$f":"IF(E389=\"\",\"\",VLOOKUP('OPĆI DIO'!$C$1,'OPĆI DIO'!$L$4:$U$138,9,FALSE))","v":""},null,"",null,"",null,"","",null,0,0,null,{"$f":"IF(C389=\"\",\"\",'OPĆI DIO'!$C$1)","v":""},"","","","",""]
[{"$f":"IF(E390=\"\",\"\",VLOOKUP('OPĆI DIO'!$C$1,'OPĆI DIO'!$L$4:$U$138,10,FALSE))","v":""},{"$f":"IF(E390=\"\",\"\",VLOOKUP('OPĆI DIO'!$C$1,'OPĆI DIO'!$L$4:$U$138,9,FALSE))","v":""},null,"",null,"",null,"","",null,0,0,null,{"$f":"IF(C390=\"\",\"\",'OPĆI DIO'!$C$1)","v":""},"","","","",""]
[{"$f":"IF(E391=\"\",\"\",VLOOKUP('OPĆI DIO'!$C$1,'OPĆI DIO'!$L$4:$U$138,10,FALSE))","v":""},{"$f":"IF(E391=\"\",\"\",VLOOKUP('OPĆI DIO'!$C$1,'OPĆI DIO'!$L$4:$U$138,9,FALSE))","v":""},null,"",null,"",null,"","",null,0,0,null,{"$f":"IF(C391=\"\",\"\",'OPĆI DIO'!$C$1)","v":""},"","","","",""]
[{"$f":"IF(E392=\"\",\"\",VLOOKUP('OPĆI DIO'!$C$1,'OPĆI DIO'!$L$4:$U$138,10,FALSE))","v":""},{"$f":"IF(E392=\"\",\"\",VLOOKUP('OPĆI DIO'!$C$1,'OPĆI DIO'!$L$4:$U$138,9,FALSE))","v":""},null,"",null,"",null,"","",null,0,0,null,{"$f":"IF(C392=\"\",\"\",'OPĆI DIO'!$C$1)","v":""},"","","","",""]
[{"$f":"IF(E393=\"\",\"\",VLOOKUP('OPĆI DIO'!$C$1,'OPĆI DIO'!$L$4:$U$138,10,FALSE))","v":""},{"$f":"IF(E393=\"\",\"\",VLOOKUP('OPĆI DIO'!$C$1,'OPĆI DIO'!$L$4:$U$138,9,FALSE))","v":""},null,"",null,"",null,"","",null,0,0,null,{"$f":"IF(C393=\"\",\"\",'OPĆI DIO'!$C$1)","v":""},"","","","",""]
[{"$f":"IF(E394=\"\",\"\",VLOOKUP('OPĆI DIO'!$C$1,'OPĆI DIO'!$L$4:$U$138,10,FALSE))","v":""},{"$f":"IF(E394=\"\",\"\",VLOOKUP('OPĆI DIO'!$C$1,'OPĆI DIO'!$L$4:$U$138,9,FALSE))","v":""},null,"",null,"",null,"","",null,0,0,null,{"$f":"IF(C394=\"\",\"\",'OPĆI DIO'!$C$1)","v":""},"","","","",""]
[{"$f":"IF(E395=\"\",\"\",VLOOKUP('OPĆI DIO'!$C$1,'OPĆI DIO'!$L$4:$U$138,10,FALSE))","v":""},{"$f":"IF(E395=\"\",\"\",VLOOKUP('OPĆI DIO'!$C$1,'OPĆI DIO'!$L$4:$U$138,9,FALSE))","v":""},null,"",null,"",null,"","",null,0,0,null,{"$f":"IF(C395=\"\",\"\",'OPĆI DIO'!$C$1)","v":""},"","","","",""]
[{"$f":"IF(E396=\"\",\"\",VLOOKUP('OPĆI DIO'!$C$1,'OPĆI DIO'!$L$4:$U$138,10,FALSE))","v":""},{"$f":"IF(E396=\"\",\"\",VLOOKUP('OPĆI DIO'!$C$1,'OPĆI DIO'!$L$4:$U$138,9,FALSE))","v":""},null,"",null,"",null,"","",null,0,0,null,{"$f":"IF(C396=\"\",\"\",'OPĆI DIO'!$C$1)","v":""},"","","","",""]
[{"$f":"IF(E397=\"\",\"\",VLOOKUP('OPĆI DIO'!$C$1,'OPĆI DIO'!$L$4:$U$138,10,FALSE))","v":""},{"$f":"IF(E397=\"\",\"\",VLOOKUP('OPĆI DIO'!$C$1,'OPĆI DIO'!$L$4:$U$138,9,FALSE))","v":""},null,"",null,"",null,"","",null,0,0,null,{"$f":"IF(C397=\"\",\"\",'OPĆI DIO'!$C$1)","v":""},"","","","",""]
[{"$f":"IF(E398=\"\",\"\",VLOOKUP('OPĆI DIO'!$C$1,'OPĆI DIO'!$L$4:$U$138,10,FALSE))","v":""},{"$f":"IF(E398=\"\",\"\",VLOOKUP('OPĆI DIO'!$C$1,'OPĆI DIO'!$L$4:$U$138,9,FALSE))","v":""},null,"",null,"",null,"","",null,0,0,null,{"$f":"IF(C398=\"\",\"\",'OPĆI DIO'!$C$1)","v":""},"","","","",""]
[{"$f":"IF(E399=\"\",\"\",VLOOKUP('OPĆI DIO'!$C$1,'OPĆI DIO'!$L$4:$U$138,10,FALSE))","v":""},{"$f":"IF(E399=\"\",\"\",VLOOKUP('OPĆI DIO'!$C$1,'OPĆI DIO'!$L$4:$U$138,9,FALSE))","v":""},null,"",null,"",null,"","",null,0,0,null,{"$f":"IF(C399=\"\",\"\",'OPĆI DIO'!$C$1)","v":""},"","","","",""]
[{"$f":"IF(E400=\"\",\"\",VLOOKUP('OPĆI DIO'!$C$1,'OPĆI DIO'!$L$4:$U$138,10,FALSE))","v":""},{"$f":"IF(E400=\"\",\"\",VLOOKUP('OPĆI DIO'!$C$1,'OPĆI DIO'!$L$4:$U$138,9,FALSE))","v":""},null,"",null,"",null,"","",null,0,0,null,{"$f":"IF(C400=\"\",\"\",'OPĆI DIO'!$C$1)","v":""},"","","","",""]
[{"$f":"IF(E401=\"\",\"\",VLOOKUP('OPĆI DIO'!$C$1,'OPĆI DIO'!$L$4:$U$138,10,FALSE))","v":""},{"$f":"IF(E401=\"\",\"\",VLOOKUP('OPĆI DIO'!$C$1,'OPĆI DIO'!$L$4:$U$138,9,FALSE))","v":""},null,"",null,"",null,"","",null,0,0,null,{"$f":"IF(C401=\"\",\"\",'OPĆI DIO'!$C$1)","v":""},"","","","",""]
[{"$f":"IF(E402=\"\",\"\",VLOOKUP('OPĆI DIO'!$C$1,'OPĆI DIO'!$L$4:$U$138,10,FALSE))","v":""},{"$f":"IF(E402=\"\",\"\",VLOOKUP('OPĆI DIO'!$C$1,'OPĆI DIO'!$L$4:$U$138,9,FALSE))","v":""},null,"",null,"",null,"","",null,0,0,null,{"$f":"IF(C402=\"\",\"\",'OPĆI DIO'!$C$1)","v":""},"","","","",""]
[{"$f":"IF(E403=\"\",\"\",VLOOKUP('OPĆI DIO'!$C$1,'OPĆI DIO'!$L$4:$U$138,10,FALSE))","v":""},{"$f":"IF(E403=\"\",\"\",VLOOKUP('OPĆI DIO'!$C$1,'OPĆI DIO'!$L$4:$U$138,9,FALSE))","v":""},null,"",null,"",null,"","",null,0,0,null,{"$f":"IF(C403=\"\",\"\",'OPĆI DIO'!$C$1)","v":""},"","","","",""]
[{"$f":"IF(E404=\"\",\"\",VLOOKUP('OPĆI DIO'!$C$1,'OPĆI DIO'!$L$4:$U$138,10,FALSE))","v":""},{"$f":"IF(E404=\"\",\"\",VLOOKUP('OPĆI DIO'!$C$1,'OPĆI DIO'!$L$4:$U$138,9,FALSE))","v":""},null,"",null,"",null,"","",null,0,0,null,{"$f":"IF(C404=\"\",\"\",'OPĆI DIO'!$C$1)","v":""},"","","","",""]
[{"$f":"IF(E405=\"\",\"\",VLOOKUP('OPĆI DIO'!$C$1,'OPĆI DIO'!$L$4:$U$138,10,FALSE))","v":""},{"$f":"IF(E405=\"\",\"\",VLOOKUP('OPĆI DIO'!$C$1,'OPĆI DIO'!$L$4:$U$138,9,FALSE))","v":""},null,"",null,"",null,"","",null,0,0,null,{"$f":"IF(C405=\"\",\"\",'OPĆI DIO'!$C$1)","v":""},"","","","",""]
[{"$f":"IF(E406=\"\",\"\",VLOOKUP('OPĆI DIO'!$C$1,'OPĆI DIO'!$L$4:$U$138,10,FALSE))","v":""},{"$f":"IF(E406=\"\",\"\",VLOOKUP('OPĆI DIO'!$C$1,'OPĆI DIO'!$L$4:$U$138,9,FALSE))","v":""},null,"",null,"",null,"","",null,0,0,null,{"$f":"IF(C406=\"\",\"\",'OPĆI DIO'!$C$1)","v":""},"","","","",""]
[{"$f":"IF(E407=\"\",\"\",VLOOKUP('OPĆI DIO'!$C$1,'OPĆI DIO'!$L$4:$U$138,10,FALSE))","v":""},{"$f":"IF(E407=\"\",\"\",VLOOKUP('OPĆI DIO'!$C$1,'OPĆI DIO'!$L$4:$U$138,9,FALSE))","v":""},null,"",null,"",null,"","",null,0,0,null,{"$f":"IF(C407=\"\",\"\",'OPĆI DIO'!$C$1)","v":""},"","","","",""]
[{"$f":"IF(E408=\"\",\"\",VLOOKUP('OPĆI DIO'!$C$1,'OPĆI DIO'!$L$4:$U$138,10,FALSE))","v":""},{"$f":"IF(E408=\"\",\"\",VLOOKUP('OPĆI DIO'!$C$1,'OPĆI DIO'!$L$4:$U$138,9,FALSE))","v":""},null,"",null,"",null,"","",null,0,0,null,{"$f":"IF(C408=\"\",\"\",'OPĆI DIO'!$C$1)","v":""},"","","","",""]
[{"$f":"IF(E409=\"\",\"\",VLOOKUP('OPĆI DIO'!$C$1,'OPĆI DIO'!$L$4:$U$138,10,FALSE))","v":""},{"$f":"IF(E409=\"\",\"\",VLOOKUP('OPĆI DIO'!$C$1,'OPĆI DIO'!$L$4:$U$138,9,FALSE))","v":""},null,"",null,"",null,"","",null,0,0,null,{"$f":"IF(C409=\"\",\"\",'OPĆI DIO'!$C$1)","v":""},"","","","",""]
[{"$f":"IF(E410=\"\",\"\",VLOOKUP('OPĆI DIO'!$C$1,'OPĆI DIO'!$L$4:$U$138,10,FALSE))","v":""},{"$f":"IF(E410=\"\",\"\",VLOOKUP('OPĆI DIO'!$C$1,'OPĆI DIO'!$L$4:$U$138,9,FALSE))","v":""},null,"",null,"",null,"","",null,0,0,null,{"$f":"IF(C410=\"\",\"\",'OPĆI DIO'!$C$1)","v":""},"","","","",""]
[{"$f":"IF(E411=\"\",\"\",VLOOKUP('OPĆI DIO'!$C$1,'OPĆI DIO'!$L$4:$U$138,10,FALSE))","v":""},{"$f":"IF(E411=\"\",\"\",VLOOKUP('OPĆI DIO'!$C$1,'OPĆI DIO'!$L$4:$U$138,9,FALSE))","v":""},null,"",null,"",null,"","",null,0,0,null,{"$f":"IF(C411=\"\",\"\",'OPĆI DIO'!$C$1)","v":""},"","","","",""]
[{"$f":"IF(E412=\"\",\"\",VLOOKUP('OPĆI DIO'!$C$1,'OPĆI DIO'!$L$4:$U$138,10,FALSE))","v":""},{"$f":"IF(E412=\"\",\"\",VLOOKUP('OPĆI DIO'!$C$1,'OPĆI DIO'!$L$4:$U$138,9,FALSE))","v":""},null,"",null,"",null,"","",null,0,0,null,{"$f":"IF(C412=\"\",\"\",'OPĆI DIO'!$C$1)","v":""},"","","","",""]
[{"$f":"IF(E413=\"\",\"\",VLOOKUP('OPĆI DIO'!$C$1,'OPĆI DIO'!$L$4:$U$138,10,FALSE))","v":""},{"$f":"IF(E413=\"\",\"\",VLOOKUP('OPĆI DIO'!$C$1,'OPĆI DIO'!$L$4:$U$138,9,FALSE))","v":""},null,"",null,"",null,"","",null,0,0,null,{"$f":"IF(C413=\"\",\"\",'OPĆI DIO'!$C$1)","v":""},"","","","",""]
[{"$f":"IF(E414=\"\",\"\",VLOOKUP('OPĆI DIO'!$C$1,'OPĆI DIO'!$L$4:$U$138,10,FALSE))","v":""},{"$f":"IF(E414=\"\",\"\",VLOOKUP('OPĆI DIO'!$C$1,'OPĆI DIO'!$L$4:$U$138,9,FALSE))","v":""},null,"",null,"",null,"","",null,0,0,null,{"$f":"IF(C414=\"\",\"\",'OPĆI DIO'!$C$1)","v":""},"","","","",""]
[{"$f":"IF(E415=\"\",\"\",VLOOKUP('OPĆI DIO'!$C$1,'OPĆI DIO'!$L$4:$U$138,10,FALSE))","v":""},{"$f":"IF(E415=\"\",\"\",VLOOKUP('OPĆI DIO'!$C$1,'OPĆI DIO'!$L$4:$U$138,9,FALSE))","v":""},null,"",null,"",null,"","",null,0,0,null,{"$f":"IF(C415=\"\",\"\",'OPĆI DIO'!$C$1)","v":""},"","","","",""]
[{"$f":"IF(E416=\"\",\"\",VLOOKUP('OPĆI DIO'!$C$1,'OPĆI DIO'!$L$4:$U$138,10,FALSE))","v":""},{"$f":"IF(E416=\"\",\"\",VLOOKUP('OPĆI DIO'!$C$1,'OPĆI DIO'!$L$4:$U$138,9,FALSE))","v":""},null,"",null,"",null,"","",null,0,0,null,{"$f":"IF(C416=\"\",\"\",'OPĆI DIO'!$C$1)","v":""},"","","","",""]
[{"$f":"IF(E417=\"\",\"\",VLOOKUP('OPĆI DIO'!$C$1,'OPĆI DIO'!$L$4:$U$138,10,FALSE))","v":""},{"$f":"IF(E417=\"\",\"\",VLOOKUP('OPĆI DIO'!$C$1,'OPĆI DIO'!$L$4:$U$138,9,FALSE))","v":""},null,"",null,"",null,"","",null,0,0,null,{"$f":"IF(C417=\"\",\"\",'OPĆI DIO'!$C$1)","v":""},"","","","",""]
[{"$f":"IF(E418=\"\",\"\",VLOOKUP('OPĆI DIO'!$C$1,'OPĆI DIO'!$L$4:$U$138,10,FALSE))","v":""},{"$f":"IF(E418=\"\",\"\",VLOOKUP('OPĆI DIO'!$C$1,'OPĆI DIO'!$L$4:$U$138,9,FALSE))","v":""},null,"",null,"",null,"","",null,0,0,null,{"$f":"IF(C418=\"\",\"\",'OPĆI DIO'!$C$1)","v":""},"","","","",""]
[{"$f":"IF(E419=\"\",\"\",VLOOKUP('OPĆI DIO'!$C$1,'OPĆI DIO'!$L$4:$U$138,10,FALSE))","v":""},{"$f":"IF(E419=\"\",\"\",VLOOKUP('OPĆI DIO'!$C$1,'OPĆI DIO'!$L$4:$U$138,9,FALSE))","v":""},null,"",null,"",null,"","",null,0,0,null,{"$f":"IF(C419=\"\",\"\",'OPĆI DIO'!$C$1)","v":""},"","","","",""]
[{"$f":"IF(E420=\"\",\"\",VLOOKUP('OPĆI DIO'!$C$1,'OPĆI DIO'!$L$4:$U$138,10,FALSE))","v":""},{"$f":"IF(E420=\"\",\"\",VLOOKUP('OPĆI DIO'!$C$1,'OPĆI DIO'!$L$4:$U$138,9,FALSE))","v":""},null,"",null,"",null,"","",null,0,0,null,{"$f":"IF(C420=\"\",\"\",'OPĆI DIO'!$C$1)","v":""},"","","","",""]
[{"$f":"IF(E421=\"\",\"\",VLOOKUP('OPĆI DIO'!$C$1,'OPĆI DIO'!$L$4:$U$138,10,FALSE))","v":""},{"$f":"IF(E421=\"\",\"\",VLOOKUP('OPĆI DIO'!$C$1,'OPĆI DIO'!$L$4:$U$138,9,FALSE))","v":""},null,"",null,"",null,"","",null,0,0,null,{"$f":"IF(C421=\"\",\"\",'OPĆI DIO'!$C$1)","v":""},"","","","",""]
[{"$f":"IF(E422=\"\",\"\",VLOOKUP('OPĆI DIO'!$C$1,'OPĆI DIO'!$L$4:$U$138,10,FALSE))","v":""},{"$f":"IF(E422=\"\",\"\",VLOOKUP('OPĆI DIO'!$C$1,'OPĆI DIO'!$L$4:$U$138,9,FALSE))","v":""},null,"",null,"",null,"","",null,0,0,null,{"$f":"IF(C422=\"\",\"\",'OPĆI DIO'!$C$1)","v":""},"","","","",""]
[{"$f":"IF(E423=\"\",\"\",VLOOKUP('OPĆI DIO'!$C$1,'OPĆI DIO'!$L$4:$U$138,10,FALSE))","v":""},{"$f":"IF(E423=\"\",\"\",VLOOKUP('OPĆI DIO'!$C$1,'OPĆI DIO'!$L$4:$U$138,9,FALSE))","v":""},null,"",null,"",null,"","",null,0,0,null,{"$f":"IF(C423=\"\",\"\",'OPĆI DIO'!$C$1)","v":""},"","","","",""]
[{"$f":"IF(E424=\"\",\"\",VLOOKUP('OPĆI DIO'!$C$1,'OPĆI DIO'!$L$4:$U$138,10,FALSE))","v":""},{"$f":"IF(E424=\"\",\"\",VLOOKUP('OPĆI DIO'!$C$1,'OPĆI DIO'!$L$4:$U$138,9,FALSE))","v":""},null,"",null,"",null,"","",null,0,0,null,{"$f":"IF(C424=\"\",\"\",'OPĆI DIO'!$C$1)","v":""},"","","","",""]
[{"$f":"IF(E425=\"\",\"\",VLOOKUP('OPĆI DIO'!$C$1,'OPĆI DIO'!$L$4:$U$138,10,FALSE))","v":""},{"$f":"IF(E425=\"\",\"\",VLOOKUP('OPĆI DIO'!$C$1,'OPĆI DIO'!$L$4:$U$138,9,FALSE))","v":""},null,"",null,"",null,"","",null,0,0,null,{"$f":"IF(C425=\"\",\"\",'OPĆI DIO'!$C$1)","v":""},"","","","",""]
[{"$f":"IF(E426=\"\",\"\",VLOOKUP('OPĆI DIO'!$C$1,'OPĆI DIO'!$L$4:$U$138,10,FALSE))","v":""},{"$f":"IF(E426=\"\",\"\",VLOOKUP('OPĆI DIO'!$C$1,'OPĆI DIO'!$L$4:$U$138,9,FALSE))","v":""},null,"",null,"",null,"","",null,0,0,null,{"$f":"IF(C426=\"\",\"\",'OPĆI DIO'!$C$1)","v":""},"","","","",""]
[{"$f":"IF(E427=\"\",\"\",VLOOKUP('OPĆI DIO'!$C$1,'OPĆI DIO'!$L$4:$U$138,10,FALSE))","v":""},{"$f":"IF(E427=\"\",\"\",VLOOKUP('OPĆI DIO'!$C$1,'OPĆI DIO'!$L$4:$U$138,9,FALSE))","v":""},null,"",null,"",null,"","",null,0,0,null,{"$f":"IF(C427=\"\",\"\",'OPĆI DIO'!$C$1)","v":""},"","","","",""]
[{"$f":"IF(E428=\"\",\"\",VLOOKUP('OPĆI DIO'!$C$1,'OPĆI DIO'!$L$4:$U$138,10,FALSE))","v":""},{"$f":"IF(E428=\"\",\"\",VLOOKUP('OPĆI DIO'!$C$1,'OPĆI DIO'!$L$4:$U$138,9,FALSE))","v":""},null,"",null,"",null,"","",null,0,0,null,{"$f":"IF(C428=\"\",\"\",'OPĆI DIO'!$C$1)","v":""},"","","","",""]
[{"$f":"IF(E429=\"\",\"\",VLOOKUP('OPĆI DIO'!$C$1,'OPĆI DIO'!$L$4:$U$138,10,FALSE))","v":""},{"$f":"IF(E429=\"\",\"\",VLOOKUP('OPĆI DIO'!$C$1,'OPĆI DIO'!$L$4:$U$138,9,FALSE))","v":""},null,"",null,"",null,"","",null,0,0,null,{"$f":"IF(C429=\"\",\"\",'OPĆI DIO'!$C$1)","v":""},"","","","",""]
[{"$f":"IF(E430=\"\",\"\",VLOOKUP('OPĆI DIO'!$C$1,'OPĆI DIO'!$L$4:$U$138,10,FALSE))","v":""},{"$f":"IF(E430=\"\",\"\",VLOOKUP('OPĆI DIO'!$C$1,'OPĆI DIO'!$L$4:$U$138,9,FALSE))","v":""},null,"",null,"",null,"","",null,0,0,null,{"$f":"IF(C430=\"\",\"\",'OPĆI DIO'!$C$1)","v":""},"","","","",""]
[{"$f":"IF(E431=\"\",\"\",VLOOKUP('OPĆI DIO'!$C$1,'OPĆI DIO'!$L$4:$U$138,10,FALSE))","v":""},{"$f":"IF(E431=\"\",\"\",VLOOKUP('OPĆI DIO'!$C$1,'OPĆI DIO'!$L$4:$U$138,9,FALSE))","v":""},null,"",null,"",null,"","",null,0,0,null,{"$f":"IF(C431=\"\",\"\",'OPĆI DIO'!$C$1)","v":""},"","","","",""]
[{"$f":"IF(E432=\"\",\"\",VLOOKUP('OPĆI DIO'!$C$1,'OPĆI DIO'!$L$4:$U$138,10,FALSE))","v":""},{"$f":"IF(E432=\"\",\"\",VLOOKUP('OPĆI DIO'!$C$1,'OPĆI DIO'!$L$4:$U$138,9,FALSE))","v":""},null,"",null,"",null,"","",null,0,0,null,{"$f":"IF(C432=\"\",\"\",'OPĆI DIO'!$C$1)","v":""},"","","","",""]
[{"$f":"IF(E433=\"\",\"\",VLOOKUP('OPĆI DIO'!$C$1,'OPĆI DIO'!$L$4:$U$138,10,FALSE))","v":""},{"$f":"IF(E433=\"\",\"\",VLOOKUP('OPĆI DIO'!$C$1,'OPĆI DIO'!$L$4:$U$138,9,FALSE))","v":""},null,"",null,"",null,"","",null,0,0,null,{"$f":"IF(C433=\"\",\"\",'OPĆI DIO'!$C$1)","v":""},"","","","",""]
[{"$f":"IF(E434=\"\",\"\",VLOOKUP('OPĆI DIO'!$C$1,'OPĆI DIO'!$L$4:$U$138,10,FALSE))","v":""},{"$f":"IF(E434=\"\",\"\",VLOOKUP('OPĆI DIO'!$C$1,'OPĆI DIO'!$L$4:$U$138,9,FALSE))","v":""},null,"",null,"",null,"","",null,null,0,null,{"$f":"IF(C434=\"\",\"\",'OPĆI DIO'!$C$1)","v":""},"","","","",""]
[{"$f":"IF(E435=\"\",\"\",VLOOKUP('OPĆI DIO'!$C$1,'OPĆI DIO'!$L$4:$U$138,10,FALSE))","v":""},{"$f":"IF(E435=\"\",\"\",VLOOKUP('OPĆI DIO'!$C$1,'OPĆI DIO'!$L$4:$U$138,9,FALSE))","v":""},null,"",null,"",null,"","",null,0,0,null,{"$f":"IF(C435=\"\",\"\",'OPĆI DIO'!$C$1)","v":""},"","","","",""]
[{"$f":"IF(E436=\"\",\"\",VLOOKUP('OPĆI DIO'!$C$1,'OPĆI DIO'!$L$4:$U$138,10,FALSE))","v":""},{"$f":"IF(E436=\"\",\"\",VLOOKUP('OPĆI DIO'!$C$1,'OPĆI DIO'!$L$4:$U$138,9,FALSE))","v":""},null,"",null,"",null,"","",null,0,0,null,{"$f":"IF(C436=\"\",\"\",'OPĆI DIO'!$C$1)","v":""},"","","","",""]
[{"$f":"IF(E437=\"\",\"\",VLOOKUP('OPĆI DIO'!$C$1,'OPĆI DIO'!$L$4:$U$138,10,FALSE))","v":""},{"$f":"IF(E437=\"\",\"\",VLOOKUP('OPĆI DIO'!$C$1,'OPĆI DIO'!$L$4:$U$138,9,FALSE))","v":""},null,"",null,"",null,"","",null,0,0,null,{"$f":"IF(C437=\"\",\"\",'OPĆI DIO'!$C$1)","v":""},"","","","",""]
[{"$f":"IF(E438=\"\",\"\",VLOOKUP('OPĆI DIO'!$C$1,'OPĆI DIO'!$L$4:$U$138,10,FALSE))","v":""},{"$f":"IF(E438=\"\",\"\",VLOOKUP('OPĆI DIO'!$C$1,'OPĆI DIO'!$L$4:$U$138,9,FALSE))","v":""},null,"",null,"",null,"","",null,0,0,null,{"$f":"IF(C438=\"\",\"\",'OPĆI DIO'!$C$1)","v":""},"","","","",""]
[{"$f":"IF(E439=\"\",\"\",VLOOKUP('OPĆI DIO'!$C$1,'OPĆI DIO'!$L$4:$U$138,10,FALSE))","v":""},{"$f":"IF(E439=\"\",\"\",VLOOKUP('OPĆI DIO'!$C$1,'OPĆI DIO'!$L$4:$U$138,9,FALSE))","v":""},null,"",null,"",null,"","",null,0,0,null,{"$f":"IF(C439=\"\",\"\",'OPĆI DIO'!$C$1)","v":""},"","","","",""]
[{"$f":"IF(E440=\"\",\"\",VLOOKUP('OPĆI DIO'!$C$1,'OPĆI DIO'!$L$4:$U$138,10,FALSE))","v":""},{"$f":"IF(E440=\"\",\"\",VLOOKUP('OPĆI DIO'!$C$1,'OPĆI DIO'!$L$4:$U$138,9,FALSE))","v":""},null,"",null,"",null,"","",null,0,0,null,{"$f":"IF(C440=\"\",\"\",'OPĆI DIO'!$C$1)","v":""},"","","","",""]
[{"$f":"IF(E441=\"\",\"\",VLOOKUP('OPĆI DIO'!$C$1,'OPĆI DIO'!$L$4:$U$138,10,FALSE))","v":""},{"$f":"IF(E441=\"\",\"\",VLOOKUP('OPĆI DIO'!$C$1,'OPĆI DIO'!$L$4:$U$138,9,FALSE))","v":""},null,"",null,"",null,"","",null,0,0,null,{"$f":"IF(C441=\"\",\"\",'OPĆI DIO'!$C$1)","v":""},"","","","",""]
[{"$f":"IF(E442=\"\",\"\",VLOOKUP('OPĆI DIO'!$C$1,'OPĆI DIO'!$L$4:$U$138,10,FALSE))","v":""},{"$f":"IF(E442=\"\",\"\",VLOOKUP('OPĆI DIO'!$C$1,'OPĆI DIO'!$L$4:$U$138,9,FALSE))","v":""},null,"",null,"",null,"","",null,0,0,null,{"$f":"IF(C442=\"\",\"\",'OPĆI DIO'!$C$1)","v":""},"","","","",""]
[{"$f":"IF(E443=\"\",\"\",VLOOKUP('OPĆI DIO'!$C$1,'OPĆI DIO'!$L$4:$U$138,10,FALSE))","v":""},{"$f":"IF(E443=\"\",\"\",VLOOKUP('OPĆI DIO'!$C$1,'OPĆI DIO'!$L$4:$U$138,9,FALSE))","v":""},null,"",null,"",null,"","",null,0,0,null,{"$f":"IF(C443=\"\",\"\",'OPĆI DIO'!$C$1)","v":""},"","","","",""]
[{"$f":"IF(E444=\"\",\"\",VLOOKUP('OPĆI DIO'!$C$1,'OPĆI DIO'!$L$4:$U$138,10,FALSE))","v":""},{"$f":"IF(E444=\"\",\"\",VLOOKUP('OPĆI DIO'!$C$1,'OPĆI DIO'!$L$4:$U$138,9,FALSE))","v":""},null,"",null,"",null,"","",null,0,0,null,{"$f":"IF(C444=\"\",\"\",'OPĆI DIO'!$C$1)","v":""},"","","","",""]
[{"$f":"IF(E445=\"\",\"\",VLOOKUP('OPĆI DIO'!$C$1,'OPĆI DIO'!$L$4:$U$138,10,FALSE))","v":""},{"$f":"IF(E445=\"\",\"\",VLOOKUP('OPĆI DIO'!$C$1,'OPĆI DIO'!$L$4:$U$138,9,FALSE))","v":""},null,"",null,"",null,"","",null,0,0,null,{"$f":"IF(C445=\"\",\"\",'OPĆI DIO'!$C$1)","v":""},"","","","",""]
[{"$f":"IF(E446=\"\",\"\",VLOOKUP('OPĆI DIO'!$C$1,'OPĆI DIO'!$L$4:$U$138,10,FALSE))","v":""},{"$f":"IF(E446=\"\",\"\",VLOOKUP('OPĆI DIO'!$C$1,'OPĆI DIO'!$L$4:$U$138,9,FALSE))","v":""},null,"",null,"",null,"","",null,0,0,null,{"$f":"IF(C446=\"\",\"\",'OPĆI DIO'!$C$1)","v":""},"","","","",""]
[{"$f":"IF(E447=\"\",\"\",VLOOKUP('OPĆI DIO'!$C$1,'OPĆI DIO'!$L$4:$U$138,10,FALSE))","v":""},{"$f":"IF(E447=\"\",\"\",VLOOKUP('OPĆI DIO'!$C$1,'OPĆI DIO'!$L$4:$U$138,9,FALSE))","v":""},null,"",null,"",null,"","",null,0,0,null,{"$f":"IF(C447=\"\",\"\",'OPĆI DIO'!$C$1)","v":""},"","","","",""]
[{"$f":"IF(E448=\"\",\"\",VLOOKUP('OPĆI DIO'!$C$1,'OPĆI DIO'!$L$4:$U$138,10,FALSE))","v":""},{"$f":"IF(E448=\"\",\"\",VLOOKUP('OPĆI DIO'!$C$1,'OPĆI DIO'!$L$4:$U$138,9,FALSE))","v":""},null,"",null,"",null,"","",null,0,0,null,{"$f":"IF(C448=\"\",\"\",'OPĆI DIO'!$C$1)","v":""},"","","","",""]
[{"$f":"IF(E449=\"\",\"\",VLOOKUP('OPĆI DIO'!$C$1,'OPĆI DIO'!$L$4:$U$138,10,FALSE))","v":""},{"$f":"IF(E449=\"\",\"\",VLOOKUP('OPĆI DIO'!$C$1,'OPĆI DIO'!$L$4:$U$138,9,FALSE))","v":""},null,"",null,"",null,"","",null,0,0,null,{"$f":"IF(C449=\"\",\"\",'OPĆI DIO'!$C$1)","v":""},"","","","",""]
[{"$f":"IF(E450=\"\",\"\",VLOOKUP('OPĆI DIO'!$C$1,'OPĆI DIO'!$L$4:$U$138,10,FALSE))","v":""},{"$f":"IF(E450=\"\",\"\",VLOOKUP('OPĆI DIO'!$C$1,'OPĆI DIO'!$L$4:$U$138,9,FALSE))","v":""},null,"",null,"",null,"","",null,0,0,null,{"$f":"IF(C450=\"\",\"\",'OPĆI DIO'!$C$1)","v":""},"","","","",""]
[{"$f":"IF(E451=\"\",\"\",VLOOKUP('OPĆI DIO'!$C$1,'OPĆI DIO'!$L$4:$U$138,10,FALSE))","v":""},{"$f":"IF(E451=\"\",\"\",VLOOKUP('OPĆI DIO'!$C$1,'OPĆI DIO'!$L$4:$U$138,9,FALSE))","v":""},null,"",null,{"$f":"IFERROR(VLOOKUP(E451,$W$5:$Y$129,2,FALSE),\"\")","v":""},null,"","",null,0,0,null,{"$f":"IF(C451=\"\",\"\",'OPĆI DIO'!$C$1)","v":""},"","","","",""]
[{"$f":"IF(E452=\"\",\"\",VLOOKUP('OPĆI DIO'!$C$1,'OPĆI DIO'!$L$4:$U$138,10,FALSE))","v":""},{"$f":"IF(E452=\"\",\"\",VLOOKUP('OPĆI DIO'!$C$1,'OPĆI DIO'!$L$4:$U$138,9,FALSE))","v":""},null,{"$f":"IFERROR(VLOOKUP(C452,$T$6:$U$23,2,FALSE),\"\")","v":""},null,"",null,{"$f":"IFERROR(VLOOKUP(G452,$AC$6:$AD$353,2,FALSE),\"\")","v":""},{"$f":"IFERROR(VLOOKUP(G452,$AC$6:$AG$353,3,FALSE),\"\")","v":""},null,0,{"$f":"+J452+K452","v":0},null,{"$f":"IF(C452=\"\",\"\",'OPĆI DIO'!$C$1)","v":""},{"$f":"LEFT(E452,3)","v":""},{"$f":"LEFT(E452,2)","v":""},{"$f":"LEFT(C452,3)","v":""},{"$f":"IF(S452=\"5\",0,MID(I452,2,2))","v":""},{"$f":"LEFT(E452,1)","v":""}]
[{"$f":"IF(E453=\"\",\"\",VLOOKUP('OPĆI DIO'!$C$1,'OPĆI DIO'!$L$4:$U$138,10,FALSE))","v":""},{"$f":"IF(E453=\"\",\"\",VLOOKUP('OPĆI DIO'!$C$1,'OPĆI DIO'!$L$4:$U$138,9,FALSE))","v":""},null,"",null,"",null,"","",null,0,0,null,{"$f":"IF(C453=\"\",\"\",'OPĆI DIO'!$C$1)","v":""},"","","","",""]
[{"$f":"IF(E454=\"\",\"\",VLOOKUP('OPĆI DIO'!$C$1,'OPĆI DIO'!$L$4:$U$138,10,FALSE))","v":""},{"$f":"IF(E454=\"\",\"\",VLOOKUP('OPĆI DIO'!$C$1,'OPĆI DIO'!$L$4:$U$138,9,FALSE))","v":""},null,"",null,"",null,"","",null,0,0,null,{"$f":"IF(C454=\"\",\"\",'OPĆI DIO'!$C$1)","v":""},"","","","",""]
[{"$f":"IF(E455=\"\",\"\",VLOOKUP('OPĆI DIO'!$C$1,'OPĆI DIO'!$L$4:$U$138,10,FALSE))","v":""},{"$f":"IF(E455=\"\",\"\",VLOOKUP('OPĆI DIO'!$C$1,'OPĆI DIO'!$L$4:$U$138,9,FALSE))","v":""},null,"",null,"",null,"","",null,0,0,null,{"$f":"IF(C455=\"\",\"\",'OPĆI DIO'!$C$1)","v":""},"","","","",""]
[{"$f":"IF(E456=\"\",\"\",VLOOKUP('OPĆI DIO'!$C$1,'OPĆI DIO'!$L$4:$U$138,10,FALSE))","v":""},{"$f":"IF(E456=\"\",\"\",VLOOKUP('OPĆI DIO'!$C$1,'OPĆI DIO'!$L$4:$U$138,9,FALSE))","v":""},null,"",null,"",null,"","",null,0,0,null,{"$f":"IF(C456=\"\",\"\",'OPĆI DIO'!$C$1)","v":""},"","","","",""]
[{"$f":"IF(E457=\"\",\"\",VLOOKUP('OPĆI DIO'!$C$1,'OPĆI DIO'!$L$4:$U$138,10,FALSE))","v":""},{"$f":"IF(E457=\"\",\"\",VLOOKUP('OPĆI DIO'!$C$1,'OPĆI DIO'!$L$4:$U$138,9,FALSE))","v":""},null,"",null,"",null,"","",null,0,0,null,{"$f":"IF(C457=\"\",\"\",'OPĆI DIO'!$C$1)","v":""},"","","","",""]
[{"$f":"IF(E458=\"\",\"\",VLOOKUP('OPĆI DIO'!$C$1,'OPĆI DIO'!$L$4:$U$138,10,FALSE))","v":""},{"$f":"IF(E458=\"\",\"\",VLOOKUP('OPĆI DIO'!$C$1,'OPĆI DIO'!$L$4:$U$138,9,FALSE))","v":""},null,"",null,"",null,"","",null,0,0,null,{"$f":"IF(C458=\"\",\"\",'OPĆI DIO'!$C$1)","v":""},"","","","",""]
[{"$f":"IF(E459=\"\",\"\",VLOOKUP('OPĆI DIO'!$C$1,'OPĆI DIO'!$L$4:$U$138,10,FALSE))","v":""},{"$f":"IF(E459=\"\",\"\",VLOOKUP('OPĆI DIO'!$C$1,'OPĆI DIO'!$L$4:$U$138,9,FALSE))","v":""},null,"",null,"",null,"","",null,0,0,null,{"$f":"IF(C459=\"\",\"\",'OPĆI DIO'!$C$1)","v":""},"","","","",""]
[{"$f":"IF(E460=\"\",\"\",VLOOKUP('OPĆI DIO'!$C$1,'OPĆI DIO'!$L$4:$U$138,10,FALSE))","v":""},{"$f":"IF(E460=\"\",\"\",VLOOKUP('OPĆI DIO'!$C$1,'OPĆI DIO'!$L$4:$U$138,9,FALSE))","v":""},null,"",null,"",null,"","",null,0,0,null,{"$f":"IF(C460=\"\",\"\",'OPĆI DIO'!$C$1)","v":""},"","","","",""]
[{"$f":"IF(E461=\"\",\"\",VLOOKUP('OPĆI DIO'!$C$1,'OPĆI DIO'!$L$4:$U$138,10,FALSE))","v":""},{"$f":"IF(E461=\"\",\"\",VLOOKUP('OPĆI DIO'!$C$1,'OPĆI DIO'!$L$4:$U$138,9,FALSE))","v":""},null,"",null,"",null,"","",null,0,0,null,{"$f":"IF(C461=\"\",\"\",'OPĆI DIO'!$C$1)","v":""},"","","","",""]
[{"$f":"IF(E462=\"\",\"\",VLOOKUP('OPĆI DIO'!$C$1,'OPĆI DIO'!$L$4:$U$138,10,FALSE))","v":""},{"$f":"IF(E462=\"\",\"\",VLOOKUP('OPĆI DIO'!$C$1,'OPĆI DIO'!$L$4:$U$138,9,FALSE))","v":""},null,"",null,"",null,"","",null,0,0,null,{"$f":"IF(C462=\"\",\"\",'OPĆI DIO'!$C$1)","v":""},"","","","",""]
[{"$f":"IF(E463=\"\",\"\",VLOOKUP('OPĆI DIO'!$C$1,'OPĆI DIO'!$L$4:$U$138,10,FALSE))","v":""},{"$f":"IF(E463=\"\",\"\",VLOOKUP('OPĆI DIO'!$C$1,'OPĆI DIO'!$L$4:$U$138,9,FALSE))","v":""},null,"",null,"",null,"","",null,0,0,null,{"$f":"IF(C463=\"\",\"\",'OPĆI DIO'!$C$1)","v":""},"","","","",""]
[{"$f":"IF(E464=\"\",\"\",VLOOKUP('OPĆI DIO'!$C$1,'OPĆI DIO'!$L$4:$U$138,10,FALSE))","v":""},{"$f":"IF(E464=\"\",\"\",VLOOKUP('OPĆI DIO'!$C$1,'OPĆI DIO'!$L$4:$U$138,9,FALSE))","v":""},null,"",null,"",null,"","",null,0,0,null,{"$f":"IF(C464=\"\",\"\",'OPĆI DIO'!$C$1)","v":""},"","","","",""]
[{"$f":"IF(E465=\"\",\"\",VLOOKUP('OPĆI DIO'!$C$1,'OPĆI DIO'!$L$4:$U$138,10,FALSE))","v":""},{"$f":"IF(E465=\"\",\"\",VLOOKUP('OPĆI DIO'!$C$1,'OPĆI DIO'!$L$4:$U$138,9,FALSE))","v":""},null,"",null,"",null,"","",null,0,0,null,{"$f":"IF(C465=\"\",\"\",'OPĆI DIO'!$C$1)","v":""},"","","","",""]
[{"$f":"IF(E466=\"\",\"\",VLOOKUP('OPĆI DIO'!$C$1,'OPĆI DIO'!$L$4:$U$138,10,FALSE))","v":""},{"$f":"IF(E466=\"\",\"\",VLOOKUP('OPĆI DIO'!$C$1,'OPĆI DIO'!$L$4:$U$138,9,FALSE))","v":""},null,"",null,"",null,"","",null,0,0,null,{"$f":"IF(C466=\"\",\"\",'OPĆI DIO'!$C$1)","v":""},"","","","",""]
[{"$f":"IF(E467=\"\",\"\",VLOOKUP('OPĆI DIO'!$C$1,'OPĆI DIO'!$L$4:$U$138,10,FALSE))","v":""},{"$f":"IF(E467=\"\",\"\",VLOOKUP('OPĆI DIO'!$C$1,'OPĆI DIO'!$L$4:$U$138,9,FALSE))","v":""},null,"",null,"",null,"","",null,0,0,null,{"$f":"IF(C467=\"\",\"\",'OPĆI DIO'!$C$1)","v":""},"","","","",""]
[{"$f":"IF(E468=\"\",\"\",VLOOKUP('OPĆI DIO'!$C$1,'OPĆI DIO'!$L$4:$U$138,10,FALSE))","v":""},{"$f":"IF(E468=\"\",\"\",VLOOKUP('OPĆI DIO'!$C$1,'OPĆI DIO'!$L$4:$U$138,9,FALSE))","v":""},null,"",null,"",null,"","",null,0,0,null,{"$f":"IF(C468=\"\",\"\",'OPĆI DIO'!$C$1)","v":""},"","","","",""]
[{"$f":"IF(E469=\"\",\"\",VLOOKUP('OPĆI DIO'!$C$1,'OPĆI DIO'!$L$4:$U$138,10,FALSE))","v":""},{"$f":"IF(E469=\"\",\"\",VLOOKUP('OPĆI DIO'!$C$1,'OPĆI DIO'!$L$4:$U$138,9,FALSE))","v":""},null,"",null,"",null,"","",null,0,0,null,{"$f":"IF(C469=\"\",\"\",'OPĆI DIO'!$C$1)","v":""},"","","","",""]
[{"$f":"IF(E470=\"\",\"\",VLOOKUP('OPĆI DIO'!$C$1,'OPĆI DIO'!$L$4:$U$138,10,FALSE))","v":""},{"$f":"IF(E470=\"\",\"\",VLOOKUP('OPĆI DIO'!$C$1,'OPĆI DIO'!$L$4:$U$138,9,FALSE))","v":""},null,"",null,"",null,"","",null,0,0,null,{"$f":"IF(C470=\"\",\"\",'OPĆI DIO'!$C$1)","v":""},"","","","",""]
[{"$f":"IF(E471=\"\",\"\",VLOOKUP('OPĆI DIO'!$C$1,'OPĆI DIO'!$L$4:$U$138,10,FALSE))","v":""},{"$f":"IF(E471=\"\",\"\",VLOOKUP('OPĆI DIO'!$C$1,'OPĆI DIO'!$L$4:$U$138,9,FALSE))","v":""},null,"",null,"",null,"","",null,0,0,null,{"$f":"IF(C471=\"\",\"\",'OPĆI DIO'!$C$1)","v":""},"","","","",""]
[{"$f":"IF(E472=\"\",\"\",VLOOKUP('OPĆI DIO'!$C$1,'OPĆI DIO'!$L$4:$U$138,10,FALSE))","v":""},{"$f":"IF(E472=\"\",\"\",VLOOKUP('OPĆI DIO'!$C$1,'OPĆI DIO'!$L$4:$U$138,9,FALSE))","v":""},null,"",null,"",null,"","",null,0,0,null,{"$f":"IF(C472=\"\",\"\",'OPĆI DIO'!$C$1)","v":""},"","","","",""]
[{"$f":"IF(E473=\"\",\"\",VLOOKUP('OPĆI DIO'!$C$1,'OPĆI DIO'!$L$4:$U$138,10,FALSE))","v":""},{"$f":"IF(E473=\"\",\"\",VLOOKUP('OPĆI DIO'!$C$1,'OPĆI DIO'!$L$4:$U$138,9,FALSE))","v":""},null,"",null,"",null,"","",null,0,0,null,{"$f":"IF(C473=\"\",\"\",'OPĆI DIO'!$C$1)","v":""},"","","","",""]
[{"$f":"IF(E474=\"\",\"\",VLOOKUP('OPĆI DIO'!$C$1,'OPĆI DIO'!$L$4:$U$138,10,FALSE))","v":""},{"$f":"IF(E474=\"\",\"\",VLOOKUP('OPĆI DIO'!$C$1,'OPĆI DIO'!$L$4:$U$138,9,FALSE))","v":""},null,"",null,"",null,"","",null,0,0,null,{"$f":"IF(C474=\"\",\"\",'OPĆI DIO'!$C$1)","v":""},"","","","",""]
[{"$f":"IF(E475=\"\",\"\",VLOOKUP('OPĆI DIO'!$C$1,'OPĆI DIO'!$L$4:$U$138,10,FALSE))","v":""},{"$f":"IF(E475=\"\",\"\",VLOOKUP('OPĆI DIO'!$C$1,'OPĆI DIO'!$L$4:$U$138,9,FALSE))","v":""},null,"",null,"",null,"","",null,0,0,null,{"$f":"IF(C475=\"\",\"\",'OPĆI DIO'!$C$1)","v":""},"","","","",""]
[{"$f":"IF(E476=\"\",\"\",VLOOKUP('OPĆI DIO'!$C$1,'OPĆI DIO'!$L$4:$U$138,10,FALSE))","v":""},{"$f":"IF(E476=\"\",\"\",VLOOKUP('OPĆI DIO'!$C$1,'OPĆI DIO'!$L$4:$U$138,9,FALSE))","v":""},null,"",null,"",null,"","",null,0,0,null,{"$f":"IF(C476=\"\",\"\",'OPĆI DIO'!$C$1)","v":""},"","","","",""]
[{"$f":"IF(E477=\"\",\"\",VLOOKUP('OPĆI DIO'!$C$1,'OPĆI DIO'!$L$4:$U$138,10,FALSE))","v":""},{"$f":"IF(E477=\"\",\"\",VLOOKUP('OPĆI DIO'!$C$1,'OPĆI DIO'!$L$4:$U$138,9,FALSE))","v":""},null,"",null,"",null,"","",null,0,0,null,{"$f":"IF(C477=\"\",\"\",'OPĆI DIO'!$C$1)","v":""},"","","","",""]
[{"$f":"IF(E478=\"\",\"\",VLOOKUP('OPĆI DIO'!$C$1,'OPĆI DIO'!$L$4:$U$138,10,FALSE))","v":""},{"$f":"IF(E478=\"\",\"\",VLOOKUP('OPĆI DIO'!$C$1,'OPĆI DIO'!$L$4:$U$138,9,FALSE))","v":""},null,"",null,"",null,"","",null,0,0,null,{"$f":"IF(C478=\"\",\"\",'OPĆI DIO'!$C$1)","v":""},"","","","",""]
[{"$f":"IF(E479=\"\",\"\",VLOOKUP('OPĆI DIO'!$C$1,'OPĆI DIO'!$L$4:$U$138,10,FALSE))","v":""},{"$f":"IF(E479=\"\",\"\",VLOOKUP('OPĆI DIO'!$C$1,'OPĆI DIO'!$L$4:$U$138,9,FALSE))","v":""},null,"",null,"",null,"","",null,0,0,null,{"$f":"IF(C479=\"\",\"\",'OPĆI DIO'!$C$1)","v":""},"","","","",""]
[{"$f":"IF(E480=\"\",\"\",VLOOKUP('OPĆI DIO'!$C$1,'OPĆI DIO'!$L$4:$U$138,10,FALSE))","v":""},{"$f":"IF(E480=\"\",\"\",VLOOKUP('OPĆI DIO'!$C$1,'OPĆI DIO'!$L$4:$U$138,9,FALSE))","v":""},null,"",null,"",null,"","",null,0,0,null,{"$f":"IF(C480=\"\",\"\",'OPĆI DIO'!$C$1)","v":""},"","","","",""]
[{"$f":"IF(E481=\"\",\"\",VLOOKUP('OPĆI DIO'!$C$1,'OPĆI DIO'!$L$4:$U$138,10,FALSE))","v":""},{"$f":"IF(E481=\"\",\"\",VLOOKUP('OPĆI DIO'!$C$1,'OPĆI DIO'!$L$4:$U$138,9,FALSE))","v":""},null,"",null,"",null,"","",null,0,0,null,{"$f":"IF(C481=\"\",\"\",'OPĆI DIO'!$C$1)","v":""},"","","","",""]
[{"$f":"IF(E482=\"\",\"\",VLOOKUP('OPĆI DIO'!$C$1,'OPĆI DIO'!$L$4:$U$138,10,FALSE))","v":""},{"$f":"IF(E482=\"\",\"\",VLOOKUP('OPĆI DIO'!$C$1,'OPĆI DIO'!$L$4:$U$138,9,FALSE))","v":""},null,"",null,"",null,"","",null,0,0,null,{"$f":"IF(C482=\"\",\"\",'OPĆI DIO'!$C$1)","v":""},"","","","",""]
[{"$f":"IF(E483=\"\",\"\",VLOOKUP('OPĆI DIO'!$C$1,'OPĆI DIO'!$L$4:$U$138,10,FALSE))","v":""},{"$f":"IF(E483=\"\",\"\",VLOOKUP('OPĆI DIO'!$C$1,'OPĆI DIO'!$L$4:$U$138,9,FALSE))","v":""},null,"",null,"",null,"","",null,0,0,null,{"$f":"IF(C483=\"\",\"\",'OPĆI DIO'!$C$1)","v":""},"","","","",""]
[{"$f":"IF(E484=\"\",\"\",VLOOKUP('OPĆI DIO'!$C$1,'OPĆI DIO'!$L$4:$U$138,10,FALSE))","v":""},{"$f":"IF(E484=\"\",\"\",VLOOKUP('OPĆI DIO'!$C$1,'OPĆI DIO'!$L$4:$U$138,9,FALSE))","v":""},null,"",null,"",null,"","",null,0,0,null,{"$f":"IF(C484=\"\",\"\",'OPĆI DIO'!$C$1)","v":""},"","","","",""]
[{"$f":"IF(E485=\"\",\"\",VLOOKUP('OPĆI DIO'!$C$1,'OPĆI DIO'!$L$4:$U$138,10,FALSE))","v":""},{"$f":"IF(E485=\"\",\"\",VLOOKUP('OPĆI DIO'!$C$1,'OPĆI DIO'!$L$4:$U$138,9,FALSE))","v":""},null,"",null,"",null,"","",null,0,0,null,{"$f":"IF(C485=\"\",\"\",'OPĆI DIO'!$C$1)","v":""},"","","","",""]
[{"$f":"IF(E486=\"\",\"\",VLOOKUP('OPĆI DIO'!$C$1,'OPĆI DIO'!$L$4:$U$138,10,FALSE))","v":""},{"$f":"IF(E486=\"\",\"\",VLOOKUP('OPĆI DIO'!$C$1,'OPĆI DIO'!$L$4:$U$138,9,FALSE))","v":""},null,"",null,"",null,"","",null,0,0,null,{"$f":"IF(C486=\"\",\"\",'OPĆI DIO'!$C$1)","v":""},"","","","",""]
[{"$f":"IF(E487=\"\",\"\",VLOOKUP('OPĆI DIO'!$C$1,'OPĆI DIO'!$L$4:$U$138,10,FALSE))","v":""},{"$f":"IF(E487=\"\",\"\",VLOOKUP('OPĆI DIO'!$C$1,'OPĆI DIO'!$L$4:$U$138,9,FALSE))","v":""},null,"",null,"",null,"","",null,0,0,null,{"$f":"IF(C487=\"\",\"\",'OPĆI DIO'!$C$1)","v":""},"","","","",""]
[{"$f":"IF(E488=\"\",\"\",VLOOKUP('OPĆI DIO'!$C$1,'OPĆI DIO'!$L$4:$U$138,10,FALSE))","v":""},{"$f":"IF(E488=\"\",\"\",VLOOKUP('OPĆI DIO'!$C$1,'OPĆI DIO'!$L$4:$U$138,9,FALSE))","v":""},null,"",null,"",null,"","",null,0,0,null,{"$f":"IF(C488=\"\",\"\",'OPĆI DIO'!$C$1)","v":""},"","","","",""]
[{"$f":"IF(E489=\"\",\"\",VLOOKUP('OPĆI DIO'!$C$1,'OPĆI DIO'!$L$4:$U$138,10,FALSE))","v":""},{"$f":"IF(E489=\"\",\"\",VLOOKUP('OPĆI DIO'!$C$1,'OPĆI DIO'!$L$4:$U$138,9,FALSE))","v":""},null,"",null,"",null,"","",null,0,0,null,{"$f":"IF(C489=\"\",\"\",'OPĆI DIO'!$C$1)","v":""},"","","","",""]
[{"$f":"IF(E490=\"\",\"\",VLOOKUP('OPĆI DIO'!$C$1,'OPĆI DIO'!$L$4:$U$138,10,FALSE))","v":""},{"$f":"IF(E490=\"\",\"\",VLOOKUP('OPĆI DIO'!$C$1,'OPĆI DIO'!$L$4:$U$138,9,FALSE))","v":""},null,"",null,"",null,"","",null,0,0,null,{"$f":"IF(C490=\"\",\"\",'OPĆI DIO'!$C$1)","v":""},"","","","",""]
[{"$f":"IF(E491=\"\",\"\",VLOOKUP('OPĆI DIO'!$C$1,'OPĆI DIO'!$L$4:$U$138,10,FALSE))","v":""},{"$f":"IF(E491=\"\",\"\",VLOOKUP('OPĆI DIO'!$C$1,'OPĆI DIO'!$L$4:$U$138,9,FALSE))","v":""},null,"",null,"",null,"","",null,0,0,null,{"$f":"IF(C491=\"\",\"\",'OPĆI DIO'!$C$1)","v":""},"","","","",""]
[{"$f":"IF(E492=\"\",\"\",VLOOKUP('OPĆI DIO'!$C$1,'OPĆI DIO'!$L$4:$U$138,10,FALSE))","v":""},{"$f":"IF(E492=\"\",\"\",VLOOKUP('OPĆI DIO'!$C$1,'OPĆI DIO'!$L$4:$U$138,9,FALSE))","v":""},null,"",null,"",null,"","",null,0,0,null,{"$f":"IF(C492=\"\",\"\",'OPĆI DIO'!$C$1)","v":""},"","","","",""]
[{"$f":"IF(E493=\"\",\"\",VLOOKUP('OPĆI DIO'!$C$1,'OPĆI DIO'!$L$4:$U$138,10,FALSE))","v":""},{"$f":"IF(E493=\"\",\"\",VLOOKUP('OPĆI DIO'!$C$1,'OPĆI DIO'!$L$4:$U$138,9,FALSE))","v":""},null,"",null,"",null,"","",null,0,0,null,{"$f":"IF(C493=\"\",\"\",'OPĆI DIO'!$C$1)","v":""},"","","","",""]
[{"$f":"IF(E494=\"\",\"\",VLOOKUP('OPĆI DIO'!$C$1,'OPĆI DIO'!$L$4:$U$138,10,FALSE))","v":""},{"$f":"IF(E494=\"\",\"\",VLOOKUP('OPĆI DIO'!$C$1,'OPĆI DIO'!$L$4:$U$138,9,FALSE))","v":""},null,"",null,"",null,"","",null,0,0,null,{"$f":"IF(C494=\"\",\"\",'OPĆI DIO'!$C$1)","v":""},"","","","",""]
[{"$f":"IF(E495=\"\",\"\",VLOOKUP('OPĆI DIO'!$C$1,'OPĆI DIO'!$L$4:$U$138,10,FALSE))","v":""},{"$f":"IF(E495=\"\",\"\",VLOOKUP('OPĆI DIO'!$C$1,'OPĆI DIO'!$L$4:$U$138,9,FALSE))","v":""},null,"",null,"",null,"","",null,0,0,null,{"$f":"IF(C495=\"\",\"\",'OPĆI DIO'!$C$1)","v":""},"","","","",""]
[{"$f":"IF(E496=\"\",\"\",VLOOKUP('OPĆI DIO'!$C$1,'OPĆI DIO'!$L$4:$U$138,10,FALSE))","v":""},{"$f":"IF(E496=\"\",\"\",VLOOKUP('OPĆI DIO'!$C$1,'OPĆI DIO'!$L$4:$U$138,9,FALSE))","v":""},null,"",null,"",null,"","",null,0,0,null,{"$f":"IF(C496=\"\",\"\",'OPĆI DIO'!$C$1)","v":""},"","","","",""]
[{"$f":"IF(E497=\"\",\"\",VLOOKUP('OPĆI DIO'!$C$1,'OPĆI DIO'!$L$4:$U$138,10,FALSE))","v":""},{"$f":"IF(E497=\"\",\"\",VLOOKUP('OPĆI DIO'!$C$1,'OPĆI DIO'!$L$4:$U$138,9,FALSE))","v":""},null,"",null,"",null,"","",null,0,0,null,{"$f":"IF(C497=\"\",\"\",'OPĆI DIO'!$C$1)","v":""},"","","","",""]
[{"$f":"IF(E498=\"\",\"\",VLOOKUP('OPĆI DIO'!$C$1,'OPĆI DIO'!$L$4:$U$138,10,FALSE))","v":""},{"$f":"IF(E498=\"\",\"\",VLOOKUP('OPĆI DIO'!$C$1,'OPĆI DIO'!$L$4:$U$138,9,FALSE))","v":""},null,"",null,"",null,"","",null,0,0,null,{"$f":"IF(C498=\"\",\"\",'OPĆI DIO'!$C$1)","v":""},"","","","",""]
[{"$f":"IF(E499=\"\",\"\",VLOOKUP('OPĆI DIO'!$C$1,'OPĆI DIO'!$L$4:$U$138,10,FALSE))","v":""},{"$f":"IF(E499=\"\",\"\",VLOOKUP('OPĆI DIO'!$C$1,'OPĆI DIO'!$L$4:$U$138,9,FALSE))","v":""},null,"",null,"",null,"","",null,0,0,null,{"$f":"IF(C499=\"\",\"\",'OPĆI DIO'!$C$1)","v":""},"","","","",""]
[{"$f":"IF(E500=\"\",\"\",VLOOKUP('OPĆI DIO'!$C$1,'OPĆI DIO'!$L$4:$U$138,10,FALSE))","v":""},{"$f":"IF(E500=\"\",\"\",VLOOKUP('OPĆI DIO'!$C$1,'OPĆI DIO'!$L$4:$U$138,9,FALSE))","v":""},null,"",null,"",null,"","",null,0,0,null,{"$f":"IF(C500=\"\",\"\",'OPĆI DIO'!$C$1)","v":""},"","","","",""]
[{"$f":"IF(E501=\"\",\"\",VLOOKUP('OPĆI DIO'!$C$1,'OPĆI DIO'!$L$4:$U$138,10,FALSE))","v":""},{"$f":"IF(E501=\"\",\"\",VLOOKUP('OPĆI DIO'!$C$1,'OPĆI DIO'!$L$4:$U$138,9,FALSE))","v":""},null,"",null,"",null,"","",null,0,0,null,{"$f":"IF(C501=\"\",\"\",'OPĆI DIO'!$C$1)","v":""},"","","","",""]

{"sheet":"Unos rashoda P4","index":3,"n_rows":1778,"n_cols":34,"rows_kept":1778,"merged":[[0,0,0,1]]}
["EU PODPROJEKTI - rashodi",null,{"$f":"IF(OR('OPĆI DIO'!C1=\"odaberite -\",'OPĆI DIO'!C1=\"\"),\"Molimo odaberite proračunskog korisnika na radnom listu Opći podaci!\",\"\")","v":""},{"$nulls":6},"u EUR"]
["IZVOR\n(odaberite)","OPIS IZVORA","Stavka\n(odaberite)","OPIS STAVKE","AKTIVNOST/PODPROJEKT\n(odaberite)","OPIS AKTIVNOSTI","FP","PLAN \n2025.","Povećanje iznos u plusu /\nsmanjenje iznos u minusu","NOVI PLAN 2025.","NAZIV NOVOG PODPROJEKTA","Vrijedi od: ","Vrijedi do: ","TKO JE UPLATITELJ SREDSTAVA ZA EU PROJEKT","OPIS PODPROJEKTA","Primatelj prijenosa","Ustanova","left3","left2","mid","left1"]
[51,{"$f":"IFERROR(VLOOKUP(A3,$V$6:$W$23,2,FALSE),\"\")","v":"Pomoći EU"},3211,{"$f":"IFERROR(VLOOKUP(C3,$Y$5:$AA$129,2,FALSE),\"\")","v":"Službena putovanja"},"A679072.218",{"$f":"IFERROR(VLOOKUP(E3,$AE$6:$AF$1763,2,FALSE),\"\")","v":"FASIH -Future Art and Science Industrial Heritage"},{"$f":"IFERROR(VLOOKUP(E3,$AE$6:$AH$1763,4,FALSE),\"\")","v":"0942"},{"v":2000,"d":"2,000"},{"v":-2000,"d":"-2,000"},{"$f":"+H3+I3","v":0},{"$nulls":6},{"$f":"IF(C3=\"\",\"\",'OPĆI DIO'!$C$1)","v":"38454 SVEUČILIŠTE U RIJECI - AKADEMIJA PRIMJENJENIH UMJETNOSTI"},{"$f":"LEFT(C3,3)","v":"321"},{"$f":"LEFT(C3,2)","v":"32"},{"$f":"IF(U3=\"5\",0,MID(G3,2,2))","v":"94"},{"$f":"LEFT(C3,1)","v":"3"}]
[51,{"$f":"IFERROR(VLOOKUP(A4,$V$6:$W$23,2,FALSE),\"\")","v":"Pomoći EU"},3222,{"$f":"IFERROR(VLOOKUP(C4,$Y$5:$AA$129,2,FALSE),\"\")","v":"Materijal i sirovine"},"A679072.218",{"$f":"IFERROR(VLOOKUP(E4,$AE$6:$AF$1763,2,FALSE),\"\")","v":"FASIH -Future Art and Science Industrial Heritage"},{"$f":"IFERROR(VLOOKUP(E4,$AE$6:$AH$1763,4,FALSE),\"\")","v":"0942"},{"v":1000,"d":"1,000"},-942,{"$f":"+H4+I4","v":58},{"$nulls":6},{"$f":"IF(C4=\"\",\"\",'OPĆI DIO'!$C$1)","v":"38454 SVEUČILIŠTE U RIJECI - AKADEMIJA PRIMJENJENIH UMJETNOSTI"},{"$f":"LEFT(C4,3)","v":"322"},{"$f":"LEFT(C4,2)","v":"32"},{"$f":"IF(U4=\"5\",0,MID(G4,2,2))","v":"94"},{"$f":"LEFT(C4,1)","v":"3"}]
[51,"Pomoći EU",3235,"Zakupnine i najamnine","A679072.218","FASIH -Future Art and Science Industrial Heritage","0942",500,{"v":2313,"d":"2,313"},{"v":2813,"d":"2,813"},{"$nulls":6},{"$f":"IF(C5=\"\",\"\",'OPĆI DIO'!$C$1)","v":"38454 SVEUČILIŠTE U RIJECI - AKADEMIJA PRIMJENJENIH UMJETNOSTI"},"323","32","94","3","IZVOR","OPIS IZVORA",null,3111,"Plaće za redovan rad",null,{"$f":"LEFT(Y5,2)","v":"31"},{"$f":"LEFT(Y5,3)","v":"311"},null,"AKTIVNOST","OPIS AKTIVNOSTI"]
[51,"Pomoći EU",3237,"Intelektualne i osobne usluge","A679072.218","FASIH -Future Art and Science Industrial Heritage","0942",{"v":3000,"d":"3,000"},{"v":1637,"d":"1,637"},{"v":4637,"d":"4,637"},{"$nulls":6},{"$f":"IF(C6=\"\",\"\",'OPĆI DIO'!$C$1)","v":"38454 SVEUČILIŠTE U RIJECI - AKADEMIJA PRIMJENJENIH UMJETNOSTI"},"323","32","94","3",11,"Opći prihodi i primici",null,3112,"Plaće u naravi",null,"31",{"$f":"LEFT(Y6,3)","v":"311"},null,"NOVI PODPROJEKT","NOVI PODPROJEKT","NOVI PODPROJEKT",{"$f":"IFERROR(VLOOKUP(AG6,AKT!$E$4:$G$351,3,FALSE),\"\")","v":"0942"}]
[51,"Pomoći EU",3241,"Naknade troškova osobama izvan radnog odnosa","A679072.218","FASIH -Future Art and Science Industrial Heritage","0942",{"v":1500,"d":"1,500"},{"v":-1500,"d":"-1,500"},0,{"$nulls":6},{"$f":"IF(C7=\"\",\"\",'OPĆI DIO'!$C$1)","v":"38454 SVEUČILIŠTE U RIJECI - AKADEMIJA PRIMJENJENIH UMJETNOSTI"},"324","32","94","3",12,"Sredstva učešća za pomoći",null,3113,"Plaće za prekovremeni rad",null,"31","311"]
[51,"Pomoći EU",3293,"Reprezentacija","A679072.218","FASIH -Future Art and Science Industrial Heritage","0942",{"v":1000,"d":"1,000"},-120,880,{"$nulls":6},{"$f":"IF(C8=\"\",\"\",'OPĆI DIO'!$C$1)","v":"38454 SVEUČILIŠTE U RIJECI - AKADEMIJA PRIMJENJENIH UMJETNOSTI"},"329","32","94","3",31,"Vlastiti prihodi",null,3114,"Plaće za posebne uvjete rada",null,"31","311",null,"A676072.001","ERASMUS PLUS-PROFFORMANCE-RAZVOJ SUSTAVA OCJENJIVANJA RADA I NAGRAĐIVANJA PROFESORA NA VISOKIM UČILIŠTIMA",{"$f":"LEFT(AE8,7)","v":"A676072"},{"$f":"IFERROR(VLOOKUP(AG8,AKT!$E$4:$G$351,3,FALSE),\"\")","v":"0970"}]
[51,"Pomoći EU",3111,"Plaće za redovan rad","A679072.218","FASIH -Future Art and Science Industrial Heritage","0942",null,{"v":1923,"d":"1,923"},{"v":1923,"d":"1,923"},{"$nulls":6},{"$f":"IF(C9=\"\",\"\",'OPĆI DIO'!$C$1)","v":"38454 SVEUČILIŠTE U RIJECI - AKADEMIJA PRIMJENJENIH UMJETNOSTI"},"311","31","94","3",41,"Prihodi od igara na sreću",null,3121,"Ostali rashodi za zaposlene",null,"31","312",null,"A676072.002","ERASMUS PLUS-AKTIVNOSTI SURADNIČKOG UČENJA I RESURSI ZA POTPORU NAČELA I SMJERNICA ZA SOCIJALNU DIMENZIJU",{"$f":"LEFT(AE9,7)","v":"A676072"},{"$f":"IFERROR(VLOOKUP(AG9,AKT!$E$4:$G$351,3,FALSE),\"\")","v":"0970"}]
[51,"Pomoći EU",3132,"Doprinosi za obvezno zdravstveno osiguranje","A679072.218","FASIH -Future Art and Science Industrial Heritage","0942",null,317,317,{"$nulls":6},{"$f":"IF(C10=\"\",\"\",'OPĆI DIO'!$C$1)","v":"38454 SVEUČILIŠTE U RIJECI - AKADEMIJA PRIMJENJENIH UMJETNOSTI"},"313","31","94","3",43,"Ostali prihodi za posebne namjene",null,3132,"Doprinosi za obvezno zdravstveno osiguranje",null,"31","313",null,"A676072.003","ERASMUS PLUS-EUROPSKO ISTRAŽIVANJE PRAĆENJA OSOBA S DIPLOMOM (GT-HRVATSKA)","A676072",{"$f":"IFERROR(VLOOKUP(AG10,AKT!$E$4:$G$351,3,FALSE),\"\")","v":"0970"}]
[51,"Pomoći EU",3212,"Naknade za prijevoz, za rad na terenu i odvojeni život","A679072.218","FASIH -Future Art and Science Industrial Heritage","0942",null,260,260,{"$nulls":6},{"$f":"IF(C11=\"\",\"\",'OPĆI DIO'!$C$1)","v":"38454 SVEUČILIŠTE U RIJECI - AKADEMIJA PRIMJENJENIH UMJETNOSTI"},"321","32","94","3",51,"Pomoći EU",null,3211,"Službena putovanja",null,"32","321",null,"A676072.004","ERASMUS PLUS-HAND IN HAND-OSNAŽIVANJE NASTAVNIKA DILJEM EUROPE","A676072",{"$f":"IFERROR(VLOOKUP(AG11,AKT!$E$4:$G$351,3,FALSE),\"\")","v":"0970"}]
[51,"Pomoći EU",3225,"Sitni inventar i auto gume","A679072.218","FASIH -Future Art and Science Industrial Heritage","0942",null,226,226,{"$nulls":6},{"$f":"IF(C12=\"\",\"\",'OPĆI DIO'!$C$1)","v":"38454 SVEUČILIŠTE U RIJECI - AKADEMIJA PRIMJENJENIH UMJETNOSTI"},"322","32","94","3",52,"Ostale pomoći",null,3212,"Naknade za prijevoz, za rad na terenu i odvojeni život",null,"32","321",null,"A676072.005","ERASMUS PLUS-BAQUAL-BOLJE AKADEMSKE KVALIFIKACIJE KROZ OSIGURAVANJE KVALITETE","A676072",{"$f":"IFERROR(VLOOKUP(AG12,AKT!$E$4:$G$351,3,FALSE),\"\")","v":"0970"}]
[51,"Pomoći EU",3233,"Usluge promidžbe i informiranja","A679072.218","FASIH -Future Art and Science Industrial Heritage","0942",null,{"v":2495,"d":"2,495"},{"v":2495,"d":"2,495"},{"$nulls":6},{"$f":"IF(C13=\"\",\"\",'OPĆI DIO'!$C$1)","v":"38454 SVEUČILIŠTE U RIJECI - AKADEMIJA PRIMJENJENIH UMJETNOSTI"},"323","32","94","3",552,"Švicarski instrument",null,3213,"Stručno usavršavanje zaposlenika",null,"32","321",null,"K578051.001","Znanstveno i tehnologijsko predviđanje","K578051",{"$f":"IFERROR(VLOOKUP(AG13,AKT!$E$4:$G$351,3,FALSE),\"\")","v":"0150"}]
[51,"Pomoći EU",3239,"Ostale usluge","A679072.218","FASIH -Future Art and Science Industrial Heritage","0942",null,{"v":4350,"d":"4,350"},{"v":4350,"d":"4,350"},{"$nulls":6},{"$f":"IF(C14=\"\",\"\",'OPĆI DIO'!$C$1)","v":"38454 SVEUČILIŠTE U RIJECI - AKADEMIJA PRIMJENJENIH UMJETNOSTI"},"323","32","94","3",559,"Ostale refundacije iz pomoći EU",null,3214,"Ostale naknade troškova zaposlenima",null,"32","321",null,"K578051.002","Ulaganje u znanost i inovacije (SIIF)","K578051",{"$f":"IFERROR(VLOOKUP(AG14,AKT!$E$4:$G$351,3,FALSE),\"\")","v":"0150"}]
[51,"Pomoći EU",4222,"Komunikacijska oprema","A679072.218","FASIH -Future Art and Science Industrial Heritage","0942",null,292,292,{"$nulls":6},{"$f":"IF(C15=\"\",\"\",'OPĆI DIO'!$C$1)","v":"38454 SVEUČILIŠTE U RIJECI - AKADEMIJA PRIMJENJENIH UMJETNOSTI"},"422","42","94","4",561,"Europski socijalni fond (ESF)",null,3221,"Uredski materijal i ostali materijalni rashodi",null,"32","322",null,"K578051.003","Jačanje kapaciteta za istraživanje, razvoj i inovacije (STRIP)","K578051",{"$f":"IFERROR(VLOOKUP(AG15,AKT!$E$4:$G$351,3,FALSE),\"\")","v":"0150"}]
[51,"Pomoći EU",4227,"Uređaji, strojevi i oprema za ostale namjene","A679072.218","FASIH -Future Art and Science Industrial Heritage","0942",null,258,258,{"$nulls":6},{"$f":"IF(C16=\"\",\"\",'OPĆI DIO'!$C$1)","v":"38454 SVEUČILIŠTE U RIJECI - AKADEMIJA PRIMJENJENIH UMJETNOSTI"},"422","42","94","4",563,"Europski fond za regionalni razvoj (ERDF)",null,3222,"Materijal i sirovine",null,"32","322",null,"K578051.004","Ulaganje u organizacijsku reformu i infrastrukturu sektora istraživanja, razvoja i inovacija","K578051",{"$f":"IFERROR(VLOOKUP(AG16,AKT!$E$4:$G$351,3,FALSE),\"\")","v":"0150"}]
[null,"",null,"",null,"","",null,0,0,{"$nulls":6},{"$f":"IF(C17=\"\",\"\",'OPĆI DIO'!$C$1)","v":""},"","","","",573,"Instrumenti Europskog gospodarskog prostora i ostali instrumenti",null,3223,"Energija",null,"32","322",null,"K578051.005","Veliki projekt: ˝Dječji centar za translacijsku medicinu˝ Dječje bolnice Srebrnjak","K578051",{"$f":"IFERROR(VLOOKUP(AG17,AKT!$E$4:$G$351,3,FALSE),\"\")","v":"0150"}]
[null,"",null,"",null,"","",null,0,0,{"$nulls":6},{"$f":"IF(C18=\"\",\"\",'OPĆI DIO'!$C$1)","v":""},"","","","",581,"Mehanizam za oporavak i otpornost",null,3224,"Materijal i dijelovi za tekuće i investicijsko održavanje",null,"32","322",null,"K578051.008","Poziv Centri kompetencija","K578051",{"$f":"IFERROR(VLOOKUP(AG18,AKT!$E$4:$G$351,3,FALSE),\"\")","v":"0150"}]
[null,"",null,"",null,{"$f":"IFERROR(VLOOKUP(E19,$AE$6:$AF$1763,2,FALSE),\"\")","v":""},{"$f":"IFERROR(VLOOKUP(E19,$AE$6:$AH$1763,4,FALSE),\"\")","v":""},null,0,0,{"$nulls":6},{"$f":"IF(C19=\"\",\"\",'OPĆI DIO'!$C$1)","v":""},"","",{"$f":"IF(U19=\"5\",0,MID(G19,2,2))","v":""},"",61,"Donacije",null,3225,"Sitni inventar i auto gume",null,"32","322",null,"K578051.009","Tehnička pomoć za MZO","K578051",{"$f":"IFERROR(VLOOKUP(AG19,AKT!$E$4:$G$351,3,FALSE),\"\")","v":"0150"}]
[null,"",null,"",null,"","",null,0,0,{"$nulls":6},{"$f":"IF(C20=\"\",\"\",'OPĆI DIO'!$C$1)","v":""},"","","","",63," Inozemne donacije ",null,3226,"Vojna sredstva za jednokratnu upotrebu",null,"32","322",null,"K676068.001","MZO-Vrhunska istraživanja Znanstvenih centara izvrsnosti","K676068",{"$f":"IFERROR(VLOOKUP(AG20,AKT!$E$4:$G$351,3,FALSE),\"\")","v":"0150"}]
[null,"",null,"",null,"","",null,0,0,{"$nulls":6},{"$f":"IF(C21=\"\",\"\",'OPĆI DIO'!$C$1)","v":""},"","","","",71,"Prihodi od nefin. imovine i nadoknade štete s osnova osig.",null,3227,"Službena, radna i zaštitna odjeća i obuća",null,"32","322",null,"K676068.002","MZO-HORIZON EUROPE","K676068",{"$f":"IFERROR(VLOOKUP(AG21,AKT!$E$4:$G$351,3,FALSE),\"\")","v":"0150"}]
[null,"",null,"",null,"","",null,0,0,{"$nulls":6},{"$f":"IF(C22=\"\",\"\",'OPĆI DIO'!$C$1)","v":""},"","","","",810,"Namjenski primici -ostali",null,3231,"Usluge telefona, pošte i prijevoza",null,"32","323",null,"K676068.004","MZO-Tehnička pomoć OP ULJP 2021.-2027.","K676068",{"$f":"IFERROR(VLOOKUP(AG22,AKT!$E$4:$G$351,3,FALSE),\"\")","v":"0150"}]
[null,"",null,"",null,"","",null,0,0,{"$nulls":6},{"$f":"IF(C23=\"\",\"\",'OPĆI DIO'!$C$1)","v":""},"","","","",815,"Namjenski primitak - NPOO",null,3232,"Usluge tekućeg i investicijskog održavanja",null,"32","323",null,"K733067.016","Dodjela stipendija  studentima u socio-ekonomski nepovoljnom položaju","K733067",{"$f":"IFERROR(VLOOKUP(AG23,AKT!$E$4:$G$351,3,FALSE),\"\")","v":"0950"}]
[null,"",null,"",null,"","",null,0,0,{"$nulls":6},{"$f":"IF(C24=\"\",\"\",'OPĆI DIO'!$C$1)","v":""},"","","","",83,"Namjenski primici od inozemnog zaduživanja",null,3233,"Usluge promidžbe i informiranja",null,"32","323",null,"K733067.017","Daljnja provedba CKR - izrada predmetnih kurikuluma posebnih programa za učenike s teškoćama u razvoju i studijskih programa iz sektora odgoja i obrazovanja","K733067",{"$f":"IFERROR(VLOOKUP(AG24,AKT!$E$4:$G$351,3,FALSE),\"\")","v":"0950"}]
[null,"",null,"",null,"","",null,0,0,{"$nulls":6},{"$f":"IF(C25=\"\",\"\",'OPĆI DIO'!$C$1)","v":""},"","","","",{"$nulls":3},3234,"Komunalne usluge",null,"32","323",null,"K733067.019","Potpora tijelima za unaprjeđenje HKO-a i promicanje jednakog pristupa kvalitetnom i uključivom obrazovanju i osposobljavanju","K733067",{"$f":"IFERROR(VLOOKUP(AG25,AKT!$E$4:$G$351,3,FALSE),\"\")","v":"0950"}]
[null,"",null,"",null,"","",null,0,0,{"$nulls":6},{"$f":"IF(C26=\"\",\"\",'OPĆI DIO'!$C$1)","v":""},"","","","",{"$nulls":3},3235,"Zakupnine i najamnine",null,"32","323",null,"K733067.021","Osiguravanje pomoćnika u nastavi i stručnih komunikacijskih posrednika učenicima s teškoćama u razvoju u osnovnoškolskim i srednjoškolskim odgojno-obrazovnim ustanovama","K733067",{"$f":"IFERROR(VLOOKUP(AG26,AKT!$E$4:$G$351,3,FALSE),\"\")","v":"0950"}]
[null,"",null,"",null,"","",null,0,0,{"$nulls":6},{"$f":"IF(C27=\"\",\"\",'OPĆI DIO'!$C$1)","v":""},"","","","",{"$nulls":3},3236,"Zdravstvene i veterinarske usluge",null,"32","323",null,"K818050.008","Razvoj, unapređenje i provedba stručne prakse u visokom obrazovanju","K818050",{"$f":"IFERROR(VLOOKUP(AG27,AKT!$E$4:$G$351,3,FALSE),\"\")","v":"0950"}]
[null,"",null,"",null,"","",null,0,0,{"$nulls":6},{"$f":"IF(C28=\"\",\"\",'OPĆI DIO'!$C$1)","v":""},"","","","",{"$nulls":3},3237,"Intelektualne i osobne usluge",null,"32","323",null,"K818050.009","Sufinanciranje troškova uključivanja djece  u socio-ekonomski nepovoljnoj situaciji u predškolske ustanove","K818050",{"$f":"IFERROR(VLOOKUP(AG28,AKT!$E$4:$G$351,3,FALSE),\"\")","v":"0950"}]
[null,"",null,"",null,"","",null,0,0,{"$nulls":6},{"$f":"IF(C29=\"\",\"\",'OPĆI DIO'!$C$1)","v":""},"","","","",{"$nulls":3},3238,"Računalne usluge",null,"32","323",null,"K818050.011","Uspostava regionalnih centara kompetencija u strukovnom obrazovanju u odabranim sektorima","K818050",{"$f":"IFERROR(VLOOKUP(AG29,AKT!$E$4:$G$351,3,FALSE),\"\")","v":"0950"}]
[null,"",null,"",null,"","",null,0,0,{"$nulls":6},{"$f":"IF(C30=\"\",\"\",'OPĆI DIO'!$C$1)","v":""},"","","","",{"$nulls":3},3239,"Ostale usluge",null,"32","323",null,"K818050.023","MZO Tehnička pomoć OP ULJP faza I","K818050",{"$f":"IFERROR(VLOOKUP(AG30,AKT!$E$4:$G$351,3,FALSE),\"\")","v":"0950"}]
[null,"",null,"",null,"","",null,0,0,{"$nulls":6},{"$f":"IF(C31=\"\",\"\",'OPĆI DIO'!$C$1)","v":""},"","","","",{"$nulls":3},3241,"Naknade troškova osobama izvan radnog odnosa",null,"32","324",null,"K818050.024","Informatizacija procesa i uspostava cjelovite elektroničke usluge upisa u odgojne i obrazovne ustanove","K818050",{"$f":"IFERROR(VLOOKUP(AG31,AKT!$E$4:$G$351,3,FALSE),\"\")","v":"0950"}]
[null,"",null,"",null,"","",null,0,0,{"$nulls":6},{"$f":"IF(C32=\"\",\"\",'OPĆI DIO'!$C$1)","v":""},"","","","",{"$nulls":3},3291,"Naknade za rad predstavničkih i izvršnih tijela, povjerensta",null,"32","329",null,"K818050.026","Osiguravanje pomoćnika u nastavi i stručnih komunikacijskih posrednika učenicima s teškoćama u razvoju u osnovnoškolskim i srednjoškolskim odgojno-obrazovnim ustanovama - faza IV","K818050",{"$f":"IFERROR(VLOOKUP(AG32,AKT!$E$4:$G$351,3,FALSE),\"\")","v":"0950"}]
[null,"",null,"",null,"","",null,0,0,{"$nulls":6},{"$f":"IF(C33=\"\",\"\",'OPĆI DIO'!$C$1)","v":""},"","","","",{"$nulls":3},3292,"Premije osiguranja",null,"32","329",null,"A679071.001","ERASMUS+ projekt razvijanja i certificiranja nastavnog plana obrazovnog modula logistike na diplomskim studijima Sveučilišta u Osijeku","A679071",{"$f":"IFERROR(VLOOKUP(AG33,AKT!$E$4:$G$351,3,FALSE),\"\")","v":"0942"}]
[null,"",null,"",null,"","",null,0,0,{"$nulls":6},{"$f":"IF(C34=\"\",\"\",'OPĆI DIO'!$C$1)","v":""},"","","","",{"$nulls":3},3293,"Reprezentacija",null,"32","329",null,"A679071.002","ERASMUS+ projekt uvođenja novog kolegija u nastavni plan i program Ekonomskog fakulteta u Osijeku","A679071",{"$f":"IFERROR(VLOOKUP(AG34,AKT!$E$4:$G$351,3,FALSE),\"\")","v":"0942"}]
[null,"",null,"",null,"","",null,0,0,{"$nulls":6},{"$f":"IF(C35=\"\",\"\",'OPĆI DIO'!$C$1)","v":""},"","","","",{"$nulls":3},3293,"  Reprezentacija",null,"32","329",null,"A679071.003","ERASMUS+ projekt unaprjeđenja i promicanja telekomunikacijskog inženjeringa","A679071",{"$f":"IFERROR(VLOOKUP(AG35,AKT!$E$4:$G$351,3,FALSE),\"\")","v":"0942"}]
[null,"",null,"",null,"","",null,0,0,{"$nulls":6},{"$f":"IF(C36=\"\",\"\",'OPĆI DIO'!$C$1)","v":""},"","","","",{"$nulls":3},3294,"Članarine i norme",null,"32","329",null,"A679071.004","ERASMUS + Ključna mjera 2: suradnja za inovacije i razmjena dobre prakse - e-ProfEng","A679071",{"$f":"IFERROR(VLOOKUP(AG36,AKT!$E$4:$G$351,3,FALSE),\"\")","v":"0942"}]
[null,"",null,"",null,"","",null,0,0,{"$nulls":6},{"$f":"IF(C37=\"\",\"\",'OPĆI DIO'!$C$1)","v":""},"","","","",{"$nulls":3},3295,"Pristojbe i naknade",null,"32","329",null,"A679071.005","ERASMUS+ projekt individualne mobilnosti nastavnog i nenastavnog osoblja kroz boravak na inozemnim ustanovama","A679071",{"$f":"IFERROR(VLOOKUP(AG37,AKT!$E$4:$G$351,3,FALSE),\"\")","v":"0942"}]
[null,"",null,"",null,"","",null,0,0,{"$nulls":6},{"$f":"IF(C38=\"\",\"\",'OPĆI DIO'!$C$1)","v":""},"","","","",{"$nulls":3},3296,"Troškovi sudskih postupaka",null,"32","329",null,"A679071.006","ERASMUS+ projekt međukulturalne razmjene stručnih znanja u građevinarstvu","A679071",{"$f":"IFERROR(VLOOKUP(AG38,AKT!$E$4:$G$351,3,FALSE),\"\")","v":"0942"}]
[null,"",null,"",null,"","",null,0,0,{"$nulls":6},{"$f":"IF(C39=\"\",\"\",'OPĆI DIO'!$C$1)","v":""},"","","","",{"$nulls":3},3299,"Ostali nespomenuti rashodi poslovanja",null,"32","329",null,"A679071.007","ERASMUS+ projekt razvijanja pedagoških vještina kroz boravak na inozemnim ustanovama","A679071",{"$f":"IFERROR(VLOOKUP(AG39,AKT!$E$4:$G$351,3,FALSE),\"\")","v":"0942"}]
[null,"",null,"",null,"","",null,0,0,{"$nulls":6},{"$f":"IF(C40=\"\",\"\",'OPĆI DIO'!$C$1)","v":""},"","","","",{"$nulls":3},3411,"Kamate za izdane trezorske zapise",null,"34","341",null,"A679071.008","Projekt energetske obnove zgrade - Strojarski fakultet Slavonski Brod","A679071",{"$f":"IFERROR(VLOOKUP(AG40,AKT!$E$4:$G$351,3,FALSE),\"\")","v":"0942"}]
[null,"",null,"",null,"","",null,0,0,{"$nulls":6},{"$f":"IF(C41=\"\",\"\",'OPĆI DIO'!$C$1)","v":""},"","","","",{"$nulls":3},3422,"Kamate za primljene kredite i zajmove od kreditnih i ostalih",null,"34","342",null,"A679071.009","IPA AGRICULTURAL WASTE projekt poboljšanja konkurentnosti regionalnih ekonomskih subjekata u prekograničnom području","A679071",{"$f":"IFERROR(VLOOKUP(AG41,AKT!$E$4:$G$351,3,FALSE),\"\")","v":"0942"}]
[null,"",null,"",null,"","",null,0,0,{"$nulls":6},{"$f":"IF(C42=\"\",\"\",'OPĆI DIO'!$C$1)","v":""},"","","","",{"$nulls":3},3423,"Kamate za primljene kredite i zajmove od kreditnih i ostalih",null,"34","342",null,"A679071.010","INTERREG IPA Ozelenjivanje gradova","A679071",{"$f":"IFERROR(VLOOKUP(AG42,AKT!$E$4:$G$351,3,FALSE),\"\")","v":"0942"}]
[null,"",null,"",null,"","",null,0,0,{"$nulls":6},{"$f":"IF(C43=\"\",\"\",'OPĆI DIO'!$C$1)","v":""},"","","","",{"$nulls":3},3427,"Kamate za primljene zajmove od trgovačkih društava i obrtnik",null,"34","342",null,"A679071.011","ARDENT-Unapređenje ruralnog razvoja kroz poduzetničko obrazovanje za odrasle","A679071",{"$f":"IFERROR(VLOOKUP(AG43,AKT!$E$4:$G$351,3,FALSE),\"\")","v":"0942"}]
[null,"",null,"",null,"","",null,0,0,{"$nulls":6},{"$f":"IF(C44=\"\",\"\",'OPĆI DIO'!$C$1)","v":""},"","","","",{"$nulls":3},3431,"Bankarske usluge i usluge platnog prometa",null,"34","343",null,"A679071.012","EUFams II - Olakšavanje prekograničnog obiteljskog života","A679071",{"$f":"IFERROR(VLOOKUP(AG44,AKT!$E$4:$G$351,3,FALSE),\"\")","v":"0942"}]
[null,"",null,"",null,"","",null,0,0,{"$nulls":6},{"$f":"IF(C45=\"\",\"\",'OPĆI DIO'!$C$1)","v":""},"","","","",{"$nulls":3},3432,"Negativne tečajne razlike i razlike zbog primjene valutne kl",null,"34","343",null,"A679071.013","Zaštita otmičnih majki u postupku za povratak: Raskrižje između nasilja u obitelji i roditeljskog otmica djeteta","A679071",{"$f":"IFERROR(VLOOKUP(AG45,AKT!$E$4:$G$351,3,FALSE),\"\")","v":"0942"}]
[null,"",null,"",null,"","",null,0,0,{"$nulls":6},{"$f":"IF(C46=\"\",\"\",'OPĆI DIO'!$C$1)","v":""},"","","","",{"$nulls":3},3433,"Zatezne kamate",null,"34","343",null,"A679071.014","INTERREG IPA CBC Hrvatska - Srbija","A679071",{"$f":"IFERROR(VLOOKUP(AG46,AKT!$E$4:$G$351,3,FALSE),\"\")","v":"0942"}]
[null,"",null,"",null,"","",null,0,0,{"$nulls":6},{"$f":"IF(C47=\"\",\"\",'OPĆI DIO'!$C$1)","v":""},"","","","",{"$nulls":3},3434,"Ostali nespomenuti financijski rashodi",null,"34","343",null,"A679071.015","HKO-ELE- Primjena Hrvatskog kvalifikacijskog okvira za sveučilišne studijske programe u području elektrotehnike","A679071",{"$f":"IFERROR(VLOOKUP(AG47,AKT!$E$4:$G$351,3,FALSE),\"\")","v":"0942"}]
[null,"",null,"",null,"","",null,0,0,{"$nulls":6},{"$f":"IF(C48=\"\",\"\",'OPĆI DIO'!$C$1)","v":""},"","","","",{"$nulls":3},3511,"Subvencije kreditnim i ostalim financijskim institucijama u",null,"35","351",null,"A679071.016","INTERREG SeNs Wetlands","A679071",{"$f":"IFERROR(VLOOKUP(AG48,AKT!$E$4:$G$351,3,FALSE),\"\")","v":"0942"}]
[null,"",null,"",null,"","",null,0,0,{"$nulls":6},{"$f":"IF(C49=\"\",\"\",'OPĆI DIO'!$C$1)","v":""},"","","","",{"$nulls":3},3512,"Subvencije trgovačkim društvima u javnom sektoru",null,"35","351",null,"A679071.017","INTERREG Rescue","A679071",{"$f":"IFERROR(VLOOKUP(AG49,AKT!$E$4:$G$351,3,FALSE),\"\")","v":"0942"}]
[null,"",null,"",null,"","",null,0,0,{"$nulls":6},{"$f":"IF(C50=\"\",\"\",'OPĆI DIO'!$C$1)","v":""},"","","","",{"$nulls":3},3522,"Subvencije trgovačkim društvima izvan javnog sektora",null,"35","352",null,"A679071.018","ERAMCA-Procjena ekološkog rizika i ublažavanje imovine kulturne baštine u Srednjoj Aziji","A679071",{"$f":"IFERROR(VLOOKUP(AG50,AKT!$E$4:$G$351,3,FALSE),\"\")","v":"0942"}]
[null,"",null,"",null,"","",null,0,0,{"$nulls":6},{"$f":"IF(C51=\"\",\"\",'OPĆI DIO'!$C$1)","v":""},"","","","",{"$nulls":3},3531,"Subvencije trgovačkim društvima, zadrugama, poljoprivrednici",null,"35","353",null,"A679071.019","Znanstveni centar izvrsnosti personalizirana briga o zdravlju","A679071",{"$f":"IFERROR(VLOOKUP(AG51,AKT!$E$4:$G$351,3,FALSE),\"\")","v":"0942"}]
[null,"",null,"",null,"","",null,0,0,{"$nulls":6},{"$f":"IF(C52=\"\",\"\",'OPĆI DIO'!$C$1)","v":""},"","","","",{"$nulls":3},3611,"Tekuće pomoći inozemnim vladama",null,"36","361",null,"A679071.020","IPA INTERREG CBC","A679071",{"$f":"IFERROR(VLOOKUP(AG52,AKT!$E$4:$G$351,3,FALSE),\"\")","v":"0942"}]
[null,"",null,"",null,"","",null,0,0,{"$nulls":6},{"$f":"IF(C53=\"\",\"\",'OPĆI DIO'!$C$1)","v":""},"","","","",{"$nulls":3},3621,"Tekuće pomoći međunarodnim organizacijama te institucijama i",null,"36","362",null,"A679071.021","Potpora za očuvanje, održivo korištenje i razvoj genetskih izvora u poljoprivredi","A679071",{"$f":"IFERROR(VLOOKUP(AG53,AKT!$E$4:$G$351,3,FALSE),\"\")","v":"0942"}]
[null,"",null,"",null,"","",null,0,0,{"$nulls":6},{"$f":"IF(C54=\"\",\"\",'OPĆI DIO'!$C$1)","v":""},"","","","",{"$nulls":3},3631,"Tekuće pomoći unutar općeg proračuna",null,"36","363",null,"A679071.022","Izvrsnost i učinkovitost u visokom obrazovanju u polju ekonomije (E4)","A679071",{"$f":"IFERROR(VLOOKUP(AG54,AKT!$E$4:$G$351,3,FALSE),\"\")","v":"0942"}]
[null,"",null,"",null,"","",null,0,0,{"$nulls":6},{"$f":"IF(C55=\"\",\"\",'OPĆI DIO'!$C$1)","v":""},"","","","",{"$nulls":3},3632,"Kapitalne pomoći unutar općeg proračuna",null,"36","363",null,"A679071.023","Unaprjeđenje kvalitete studiranja na pravnim fakultetima u Hrvatskoj","A679071",{"$f":"IFERROR(VLOOKUP(AG55,AKT!$E$4:$G$351,3,FALSE),\"\")","v":"0942"}]
[null,"",null,"",null,"","",null,0,0,{"$nulls":6},{"$f":"IF(C56=\"\",\"\",'OPĆI DIO'!$C$1)","v":""},"","","","",{"$nulls":3},3661,"Tekuće pomoći proračunskim korisnicima drugih proračuna",null,"36","366",null,"A679071.024","Projekt razvoja karijere mladih istraživača - izobrazba novih doktora znanosti","A679071",{"$f":"IFERROR(VLOOKUP(AG56,AKT!$E$4:$G$351,3,FALSE),\"\")","v":"0942"}]
[null,"",null,"",null,"","",null,0,0,{"$nulls":6},{"$f":"IF(C57=\"\",\"\",'OPĆI DIO'!$C$1)","v":""},"","","","",{"$nulls":3},3662,"Kapitalne pomoći proračunskim korisnicima drugih proračuna",null,"36","366",null,"A679071.025","IRI PROJEKT - AGROSIMPA","A679071",{"$f":"IFERROR(VLOOKUP(AG57,AKT!$E$4:$G$351,3,FALSE),\"\")","v":"0942"}]
[null,"",null,"",null,"","",null,0,0,{"$nulls":6},{"$f":"IF(C58=\"\",\"\",'OPĆI DIO'!$C$1)","v":""},"","","","",{"$nulls":3},3681,"Tekuće pomoći temeljem prijenosa EU sredstava",null,"36","368",null,"A679071.026","IPA INTERREG CBC ESTABLISHING DEVELOPMENT OF SUSTAINABLE CROSS BORDER CLUSTERS","A679071",{"$f":"IFERROR(VLOOKUP(AG58,AKT!$E$4:$G$351,3,FALSE),\"\")","v":"0942"}]
[null,"",null,"",null,"","",null,0,0,{"$nulls":6},{"$f":"IF(C59=\"\",\"\",'OPĆI DIO'!$C$1)","v":""},"","","","",{"$nulls":3},3682,"Kapitalne pomoći temeljem prijenosa EU sredstava",null,"36","368",null,"A679071.027","APPLERESIST","A679071",{"$f":"IFERROR(VLOOKUP(AG59,AKT!$E$4:$G$351,3,FALSE),\"\")","v":"0942"}]
[null,"",null,"",null,"","",null,0,0,{"$nulls":6},{"$f":"IF(C60=\"\",\"\",'OPĆI DIO'!$C$1)","v":""},"","","","",{"$nulls":3},3691,"Tekući prijenosi između proračunskih korisnika istog proraču",null,"36","369",null,"A679071.028","BIO4FEED PARTNER","A679071",{"$f":"IFERROR(VLOOKUP(AG60,AKT!$E$4:$G$351,3,FALSE),\"\")","v":"0942"}]
[null,"",null,"",null,"","",null,0,0,{"$nulls":6},{"$f":"IF(C61=\"\",\"\",'OPĆI DIO'!$C$1)","v":""},"","","","",{"$nulls":3},3692,"Kapitalni prijenosi između proračunskih korisnika istog pror",null,"36","369",null,"A679071.029","AGROEKOTEH HAPIH","A679071",{"$f":"IFERROR(VLOOKUP(AG61,AKT!$E$4:$G$351,3,FALSE),\"\")","v":"0942"}]
[null,"",null,"",null,"","",null,0,0,{"$nulls":6},{"$f":"IF(C62=\"\",\"\",'OPĆI DIO'!$C$1)","v":""},"","","","",{"$nulls":3},3693,"Tekući prijenosi između proračunskih korisnika istog proraču",null,"36","369",null,"A679071.030","ERASMUS K2 - FAKULTET AGROBIOTEHNIČKIH ZNANOSTI OSIJEK","A679071",{"$f":"IFERROR(VLOOKUP(AG62,AKT!$E$4:$G$351,3,FALSE),\"\")","v":"0942"}]
[null,"",null,"",null,"","",null,0,0,{"$nulls":6},{"$f":"IF(C63=\"\",\"\",'OPĆI DIO'!$C$1)","v":""},"","","","",{"$nulls":3},3694,"Kapitalni prijenosi između proračunskih korisnika istog pror",null,"36","369",null,"A679071.031","TRAIN -CE-FOOD","A679071",{"$f":"IFERROR(VLOOKUP(AG63,AKT!$E$4:$G$351,3,FALSE),\"\")","v":"0942"}]
[null,"",null,"",null,"","",null,0,0,{"$nulls":6},{"$f":"IF(C64=\"\",\"\",'OPĆI DIO'!$C$1)","v":""},"","","","",{"$nulls":3},3711,"Naknade građ. i kuć. u novcu-neposr. ili putem ust.izvan js",null,"37","371",null,"A679071.032","HARISA","A679071",{"$f":"IFERROR(VLOOKUP(AG64,AKT!$E$4:$G$351,3,FALSE),\"\")","v":"0942"}]
[null,"",null,"",null,"","",null,0,0,{"$nulls":6},{"$f":"IF(C65=\"\",\"\",'OPĆI DIO'!$C$1)","v":""},"","","","",{"$nulls":3},3712,"Naknade građ. i kuć. u naravi-neposr. ili putem ust.izvan js",null,"37","371",null,"A679071.033","HKO na razini visokog obrazovanja","A679071",{"$f":"IFERROR(VLOOKUP(AG65,AKT!$E$4:$G$351,3,FALSE),\"\")","v":"0942"}]
[null,"",null,"",null,"","",null,0,0,{"$nulls":6},{"$f":"IF(C66=\"\",\"\",'OPĆI DIO'!$C$1)","v":""},"","","","",{"$nulls":3},3713,"Naknade građanima i kućanstvima u novcu - putem ustanova u j",null,"37","371",null,"A679071.034","Jean Monnet Module  Language and EU Law Excellence","A679071",{"$f":"IFERROR(VLOOKUP(AG66,AKT!$E$4:$G$351,3,FALSE),\"\")","v":"0942"}]
[null,"",null,"",null,"","",null,0,0,{"$nulls":6},{"$f":"IF(C67=\"\",\"\",'OPĆI DIO'!$C$1)","v":""},"","","","",{"$nulls":3},3714,"Naknade građanima i kućanstvima u naravi - putem ustanova u",null,"37","371",null,"A679071.035","ICT u poljoprivrednim znanostima","A679071",{"$f":"IFERROR(VLOOKUP(AG67,AKT!$E$4:$G$351,3,FALSE),\"\")","v":"0942"}]
[null,{"$f":"IFERROR(VLOOKUP(A68,$V$6:$W$23,2,FALSE),\"\")","v":""},null,{"$f":"IFERROR(VLOOKUP(C68,$Y$5:$AA$129,2,FALSE),\"\")","v":""},null,{"$f":"IFERROR(VLOOKUP(E68,$AE$6:$AF$1763,2,FALSE),\"\")","v":""},{"$f":"IFERROR(VLOOKUP(E68,$AE$6:$AH$1763,4,FALSE),\"\")","v":""},null,0,{"$f":"+H68+I68","v":0},{"$nulls":6},{"$f":"IF(C68=\"\",\"\",'OPĆI DIO'!$C$1)","v":""},{"$f":"LEFT(C68,3)","v":""},{"$f":"LEFT(C68,2)","v":""},{"$f":"IF(U68=\"5\",0,MID(G68,2,2))","v":""},{"$f":"LEFT(C68,1)","v":""},{"$nulls":3},3715,"Naknade građanima i kućanstvima na temelju osiguranja iz EU",null,"37","371",null,"A679071.036","ERASMUS+GAMe based learning in MAthematics","A679071",{"$f":"IFERROR(VLOOKUP(AG68,AKT!$E$4:$G$351,3,FALSE),\"\")","v":"0942"}]
[null,"",null,"",null,"","",null,0,0,{"$nulls":6},{"$f":"IF(C69=\"\",\"\",'OPĆI DIO'!$C$1)","v":""},"","","","",{"$nulls":3},3721,"Naknade građanima i kućanstvima u novcu",null,{"$f":"LEFT(Y69,2)","v":"37"},"372",null,"A679071.037","EU Contemporary Puppetry Critical Platform","A679071",{"$f":"IFERROR(VLOOKUP(AG69,AKT!$E$4:$G$351,3,FALSE),\"\")","v":"0942"}]
[null,"",null,"",null,"","",null,0,0,{"$nulls":6},{"$f":"IF(C70=\"\",\"\",'OPĆI DIO'!$C$1)","v":""},"","","","",{"$nulls":3},3722,"Naknade građanima i kućanstvima u naravi",null,"37",{"$f":"LEFT(Y70,3)","v":"372"},null,"A679071.038","Istraživanje i razvoj inovativne funkcionalne hrane za pčele radi povećanja efikasnosti globalne pčelarske proizvodnje.","A679071",{"$f":"IFERROR(VLOOKUP(AG70,AKT!$E$4:$G$351,3,FALSE),\"\")","v":"0942"}]
[null,"",null,"",null,"","",null,0,0,{"$nulls":6},{"$f":"IF(C71=\"\",\"\",'OPĆI DIO'!$C$1)","v":""},"","","","",{"$nulls":3},3723,"Naknade građanima i kućanstvima iz EU sredstava",null,"37","372",null,"A679071.039","Bioproscpecting Jadranskog mora","A679071",{"$f":"IFERROR(VLOOKUP(AG71,AKT!$E$4:$G$351,3,FALSE),\"\")","v":"0942"}]
[null,"",null,"",null,"","",null,0,0,{"$nulls":6},{"$f":"IF(C72=\"\",\"\",'OPĆI DIO'!$C$1)","v":""},"","","","",{"$nulls":3},3811,"Tekuće donacije u novcu",null,"38","381",null,"A679071.040","Internacionalizacija visokog obrazovanja - razvoj studijskih programa na stranim jezicima u prioritetnim područjima i združenih studija","A679071",{"$f":"IFERROR(VLOOKUP(AG72,AKT!$E$4:$G$351,3,FALSE),\"\")","v":"0942"}]
[null,"",null,"",null,"","",null,0,0,{"$nulls":6},{"$f":"IF(C73=\"\",\"\",'OPĆI DIO'!$C$1)","v":""},"","","","",{"$nulls":3},3812,"Tekuće donacije u naravi",null,"38","381",null,"A679071.041","Generation Peace: Children, Conflict and Competing Identities in Europe",{"$f":"LEFT(AE73,7)","v":"A679071"},{"$f":"IFERROR(VLOOKUP(AG73,AKT!$E$4:$G$351,3,FALSE),\"\")","v":"0942"}]
[null,"",null,"",null,"","",null,0,0,{"$nulls":6},{"$f":"IF(C74=\"\",\"\",'OPĆI DIO'!$C$1)","v":""},"","","","",{"$nulls":3},3813,"Tekuće donacije iz EU sredstava",null,"38","381",null,"A679071.042","Interpreting Child-Centredness to support Quality and Diversity in Early Childhood Education and Care","A679071",{"$f":"IFERROR(VLOOKUP(AG74,AKT!$E$4:$G$351,3,FALSE),\"\")","v":"0942"}]
[null,"",null,"",null,"","",null,0,0,{"$nulls":6},{"$f":"IF(C75=\"\",\"\",'OPĆI DIO'!$C$1)","v":""},"","","","",{"$nulls":3},3821,"Kapitalne donacije neprofitnim organizacijama",null,"38","382",null,"A679071.043","Helping Kids! Promoting Positive Intergroup Relations and Peacebuilding in Divided Societies","A679071",{"$f":"IFERROR(VLOOKUP(AG75,AKT!$E$4:$G$351,3,FALSE),\"\")","v":"0942"}]
[null,"",null,"",null,"","",null,0,0,{"$nulls":6},{"$f":"IF(C76=\"\",\"\",'OPĆI DIO'!$C$1)","v":""},"","","","",{"$nulls":3},3831,"Naknade šteta pravnim i fizičkim osobama",null,"38","383",null,"A679071.044","Mobility and Inclusion in Multilingual Europe","A679071",{"$f":"IFERROR(VLOOKUP(AG76,AKT!$E$4:$G$351,3,FALSE),\"\")","v":"0942"}]
[null,"",null,"",null,"","",null,0,0,{"$nulls":6},{"$f":"IF(C77=\"\",\"\",'OPĆI DIO'!$C$1)","v":""},"","","","",{"$nulls":3},3832,"Penali, ležarine i drugo",null,"38","383",null,"A679071.045","Kompetencijski standardi nastavnika, pedagoga i mentora","A679071",{"$f":"IFERROR(VLOOKUP(AG77,AKT!$E$4:$G$351,3,FALSE),\"\")","v":"0942"}]
[null,"",null,"",null,"","",null,0,0,{"$nulls":6},{"$f":"IF(C78=\"\",\"\",'OPĆI DIO'!$C$1)","v":""},"","","","",{"$nulls":3},3833,"Naknade šteta zaposlenicima",null,"38","383",null,"A679071.046","Kompetencijski standardi nastavnika, pedagoga i mentora","A679071",{"$f":"IFERROR(VLOOKUP(AG78,AKT!$E$4:$G$351,3,FALSE),\"\")","v":"0942"}]
[null,"",null,"",null,"","",null,0,0,{"$nulls":6},{"$f":"IF(C79=\"\",\"\",'OPĆI DIO'!$C$1)","v":""},"","","","",{"$nulls":3},3834,"Ugovorene kazne i ostale naknade šteta",null,"38","383",null,"A679071.047","ERASMUS+ STRATEŠKO PARTNERSTVO INSPIRED -  Innovative Solutions for Practicallity and Impact in Refugee and Migration Oriented Education (agreement no. 2017-1-HR01-KA203-035359)","A679071",{"$f":"IFERROR(VLOOKUP(AG79,AKT!$E$4:$G$351,3,FALSE),\"\")","v":"0942"}]
[null,"",null,"",null,"","",null,0,0,{"$nulls":6},{"$f":"IF(C80=\"\",\"\",'OPĆI DIO'!$C$1)","v":""},"","","","",{"$nulls":3},3835,"Ostale kazne",null,"38","383",null,"A679071.048","Treasure- OBZOR 2020 (Obzor 2020- horizon projket TreasureDiversity of local pig breeds and production systems for high quality traditional products and sustainable pork chains\"Ugovaratelj Kmetijski institut Slovenije)","A679071",{"$f":"IFERROR(VLOOKUP(AG80,AKT!$E$4:$G$351,3,FALSE),\"\")","v":"0942"}]
[null,"",null,"",null,"","",null,0,0,{"$nulls":6},{"$f":"IF(C81=\"\",\"\",'OPĆI DIO'!$C$1)","v":""},"","","","",{"$nulls":3},3861,"Kapitalne pomoći kreditnim i ostalim financijskim institucijama te trgovačkim društvima u javnom sektoru",null,"38","386",null,"A679071.049","Digital Education for Crisis Situations: Times when there is no alternative (DECriS)","A679071",{"$f":"IFERROR(VLOOKUP(AG81,AKT!$E$4:$G$351,3,FALSE),\"\")","v":"0942"}]
[null,"",null,"",null,"","",null,0,0,{"$nulls":6},{"$f":"IF(C82=\"\",\"\",'OPĆI DIO'!$C$1)","v":""},"","","","",{"$nulls":3},3862,"Kapitalne pomoći kreditnim i ostalim financijskim institucijama te trgovačkim društvima i zadrugama izvan javnog sektora",null,"38","386",null,"A679071.050","HRZZ Vlakna i proteini kao osnova za razvoj novih bioaktivnih dodataka hrani (ESF)","A679071",{"$f":"IFERROR(VLOOKUP(AG82,AKT!$E$4:$G$351,3,FALSE),\"\")","v":"0942"}]
[null,"",null,"",null,"","",null,0,0,{"$nulls":6},{"$f":"IF(C83=\"\",\"\",'OPĆI DIO'!$C$1)","v":""},"","","","",{"$nulls":3},3863,"Kapitalne pomoći poljoprivrednicima i obrtnicima",null,"38","386",null,"A679071.051","CUVid – Curriculum Video Erasmus +","A679071",{"$f":"IFERROR(VLOOKUP(AG83,AKT!$E$4:$G$351,3,FALSE),\"\")","v":"0942"}]
[null,"",null,"",null,"","",null,0,0,{"$nulls":6},{"$f":"IF(C84=\"\",\"\",'OPĆI DIO'!$C$1)","v":""},"","","","",{"$nulls":3},4111,"Zemljište",null,"41","411",null,"A679071.052","Modern logistics learning: Certified module on master study level","A679071",{"$f":"IFERROR(VLOOKUP(AG84,AKT!$E$4:$G$351,3,FALSE),\"\")","v":"0942"}]
[null,"",null,"",null,"","",null,0,0,{"$nulls":6},{"$f":"IF(C85=\"\",\"\",'OPĆI DIO'!$C$1)","v":""},"","","","",{"$nulls":3},4113,"Ostala prirodna materijalna imovina",null,"41","411",null,"A679071.053","VIRTUALS - VIRTUAL VISITING PROFESSORS ERASMUS +","A679071",{"$f":"IFERROR(VLOOKUP(AG85,AKT!$E$4:$G$351,3,FALSE),\"\")","v":"0942"}]
[null,"",null,"",null,"","",null,0,0,{"$nulls":6},{"$f":"IF(C86=\"\",\"\",'OPĆI DIO'!$C$1)","v":""},"","","","",{"$nulls":3},4122,"Koncesije",null,"41","412",null,"A679071.054","CroViZone  - Prilagodba vinogradarskih zona RH klimatskim promjenama Operativni program Konkurentnost i kohezija","A679071",{"$f":"IFERROR(VLOOKUP(AG86,AKT!$E$4:$G$351,3,FALSE),\"\")","v":"0942"}]
[null,"",null,"",null,"","",null,0,0,{"$nulls":6},{"$f":"IF(C87=\"\",\"\",'OPĆI DIO'!$C$1)","v":""},"","","","",{"$nulls":3},4123,"Licence",null,"41","412",null,"A679071.055","Istraživanje i razvoj samoizbijajućeg betona za 3D printer s dodatkom pepela","A679071",{"$f":"IFERROR(VLOOKUP(AG87,AKT!$E$4:$G$351,3,FALSE),\"\")","v":"0942"}]
[null,"",null,"",null,"","",null,0,0,{"$nulls":6},{"$f":"IF(C88=\"\",\"\",'OPĆI DIO'!$C$1)","v":""},"","","","",{"$nulls":3},4124,"Ostala prava",null,"41","412",null,"A679071.056","Erasmus + 'Time to Become Digital in Law - DIGinLAW","A679071",{"$f":"IFERROR(VLOOKUP(AG88,AKT!$E$4:$G$351,3,FALSE),\"\")","v":"0942"}]
[null,"",null,"",null,"","",null,0,0,{"$nulls":6},{"$f":"IF(C89=\"\",\"\",'OPĆI DIO'!$C$1)","v":""},"","","","",{"$nulls":3},4126,"Ostala nematerijalna imovina",null,"41","412",null,"A679071.057","EU PLATFORMA SUVREMENOG LUTKARSTVA","A679071",{"$f":"IFERROR(VLOOKUP(AG89,AKT!$E$4:$G$351,3,FALSE),\"\")","v":"0942"}]
[null,"",null,"",null,"","",null,0,0,{"$nulls":6},{"$f":"IF(C90=\"\",\"\",'OPĆI DIO'!$C$1)","v":""},"","","","",{"$nulls":3},4211,"Stambeni objekti",null,"42","421",null,"A679071.058","CSI: CustomDigiTeach-društveni utjecaj prilagođenim formatima poučavanja","A679071",{"$f":"IFERROR(VLOOKUP(AG90,AKT!$E$4:$G$351,3,FALSE),\"\")","v":"0942"}]
[null,"",null,"",null,"","",null,0,0,{"$nulls":6},{"$f":"IF(C91=\"\",\"\",'OPĆI DIO'!$C$1)","v":""},"","","","",{"$nulls":3},4212,"Poslovni objekti",null,"42","421",null,"A679071.059","VirtuOS-uspostava regionalnog centra kompetentnosti u sektoru turizma i ugostiteljstva","A679071",{"$f":"IFERROR(VLOOKUP(AG91,AKT!$E$4:$G$351,3,FALSE),\"\")","v":"0942"}]
[null,"",null,"",null,"","",null,0,0,{"$nulls":6},{"$f":"IF(C92=\"\",\"\",'OPĆI DIO'!$C$1)","v":""},"","","","",{"$nulls":3},4213,"Ceste, željeznice i ostali prometni objekti",null,"42","421",null,"A679071.060","HRZZ PROJEKT -DOKTORANDI BIOTEHNIČKIH ZNANOSTI","A679071",{"$f":"IFERROR(VLOOKUP(AG92,AKT!$E$4:$G$351,3,FALSE),\"\")","v":"0942"}]
[null,"",null,"",null,"","",null,0,0,{"$nulls":6},{"$f":"IF(C93=\"\",\"\",'OPĆI DIO'!$C$1)","v":""},"","","","",{"$nulls":3},4214,"Ostali građevinski objekti",null,"42","421",null,"A679071.061","DATACROSS–Napredne metode i tehnologije u znanosti o podacima i kooperativnim sustavima","A679071",{"$f":"IFERROR(VLOOKUP(AG93,AKT!$E$4:$G$351,3,FALSE),\"\")","v":"0942"}]
[null,"",null,"",null,"","",null,0,0,{"$nulls":6},{"$f":"IF(C94=\"\",\"\",'OPĆI DIO'!$C$1)","v":""},"","","","",{"$nulls":3},4221,"Uredska oprema i namještaj",null,"42","422",null,"A679071.062","EUROCC - konzorcijski sporazum o suradnji (EuroHPC) na projektu stvaranja nacionalnih centara kompetencije","A679071",{"$f":"IFERROR(VLOOKUP(AG94,AKT!$E$4:$G$351,3,FALSE),\"\")","v":"0942"}]
[null,"",null,"",null,"","",null,0,0,{"$nulls":6},{"$f":"IF(C95=\"\",\"\",'OPĆI DIO'!$C$1)","v":""},"","","","",{"$nulls":3},4222,"Komunikacijska oprema",null,"42","422",null,"A679071.063","Erasmus+DECriS European Summer School on Information Science 2021","A679071",{"$f":"IFERROR(VLOOKUP(AG95,AKT!$E$4:$G$351,3,FALSE),\"\")","v":"0942"}]
[null,"",null,"",null,"","",null,0,0,{"$nulls":6},{"$f":"IF(C96=\"\",\"\",'OPĆI DIO'!$C$1)","v":""},"","","","",{"$nulls":3},4223,"Oprema za održavanje i zaštitu",null,"42","422",null,"A679071.064","RCK VirtuOS-regionalni centri kompetentnosti (RCK) u sektoru turizma i ugostiteljstva","A679071",{"$f":"IFERROR(VLOOKUP(AG96,AKT!$E$4:$G$351,3,FALSE),\"\")","v":"0942"}]
[null,"",null,"",null,"","",null,0,0,{"$nulls":6},{"$f":"IF(C97=\"\",\"\",'OPĆI DIO'!$C$1)","v":""},"","","","",{"$nulls":3},4224,"Medicinska i laboratorijska oprema",null,"42","422",null,"A679071.065","Prilagodba mjera kontrole populacije komaraca zbog klimatskih promjena u RH","A679071",{"$f":"IFERROR(VLOOKUP(AG97,AKT!$E$4:$G$351,3,FALSE),\"\")","v":"0942"}]
[null,"",null,"",null,"","",null,0,0,{"$nulls":6},{"$f":"IF(C98=\"\",\"\",'OPĆI DIO'!$C$1)","v":""},"","","","",{"$nulls":3},4225,"Instrumenti, uređaji i strojevi",null,"42","422",null,"A679071.066","Ulaganje u znanost i inovacije (SIIF)","A679071",{"$f":"IFERROR(VLOOKUP(AG98,AKT!$E$4:$G$351,3,FALSE),\"\")","v":"0942"}]
[null,"",null,"",null,"","",null,0,0,{"$nulls":6},{"$f":"IF(C99=\"\",\"\",'OPĆI DIO'!$C$1)","v":""},"","","","",{"$nulls":3},4226,"Sportska i glazbena oprema",null,"42","422",null,"A679071.067","APPLERESIST-Genetska otpornost jabuke","A679071",{"$f":"IFERROR(VLOOKUP(AG99,AKT!$E$4:$G$351,3,FALSE),\"\")","v":"0942"}]
[null,"",null,"",null,"","",null,0,0,{"$nulls":6},{"$f":"IF(C100=\"\",\"\",'OPĆI DIO'!$C$1)","v":""},"","","","",{"$nulls":3},4227,"Uređaji, strojevi i oprema za ostale namjene",null,"42","422",null,"A679071.068","TANDEM+ EIT HEI","A679071",{"$f":"IFERROR(VLOOKUP(AG100,AKT!$E$4:$G$351,3,FALSE),\"\")","v":"0942"}]
[null,"",null,"",null,"","",null,0,0,{"$nulls":6},{"$f":"IF(C101=\"\",\"\",'OPĆI DIO'!$C$1)","v":""},"","","","",{"$nulls":3},4231,"Prijevozna sredstva u cestovnom prometu",null,"42","423",null,"A679071.069","EUFORIA-EIT Urban Mobility BP2021","A679071",{"$f":"IFERROR(VLOOKUP(AG101,AKT!$E$4:$G$351,3,FALSE),\"\")","v":"0942"}]
[null,"",null,"",null,"","",null,0,0,{"$nulls":6},{"$f":"IF(C102=\"\",\"\",'OPĆI DIO'!$C$1)","v":""},"","","","",{"$nulls":3},4233,"Prijevozna sredstva u pomorskom i riječnom prometu",null,"42","423",null,"A679071.070","ERASMUS K2","A679071",{"$f":"IFERROR(VLOOKUP(AG102,AKT!$E$4:$G$351,3,FALSE),\"\")","v":"0942"}]
[null,"",null,"",null,"","",null,0,0,{"$nulls":6},{"$f":"IF(C103=\"\",\"\",'OPĆI DIO'!$C$1)","v":""},"","","","",{"$nulls":3},4241,"Knjige",null,"42","424",null,"A679071.071","Istraživanje i razvoj inovativnih drvnih zidnih obloga, pregradnih i nosivih zidova za održivu gradnju u poduzeću Spačva d.d. KK.01.2.1.0244","A679071",{"$f":"IFERROR(VLOOKUP(AG103,AKT!$E$4:$G$351,3,FALSE),\"\")","v":"0942"}]
[null,"",null,"",null,"","",null,0,0,{"$nulls":6},{"$f":"IF(C104=\"\",\"\",'OPĆI DIO'!$C$1)","v":""},"","","","",{"$nulls":3},4242,"Umjetnička djela (izložena u galerijama, muzejima i slično)",null,"42","424",null,"A679071.072","Istraživanje i razvoj samozbijajućeg betona i betona za 3D printer sa dodatkom biopepela, šifra KK.01.2.1.02.0055.","A679071",{"$f":"IFERROR(VLOOKUP(AG104,AKT!$E$4:$G$351,3,FALSE),\"\")","v":"0942"}]
[null,"",null,"",null,"","",null,0,0,{"$nulls":6},{"$f":"IF(C105=\"\",\"\",'OPĆI DIO'!$C$1)","v":""},"","","","",{"$nulls":3},4244,"Ostale nespomenute izložbene vrijednosti",null,"42","424",null,"A679071.073","Partnership for Virtual Laboratories in Civil Engineering - PARFORCE (pr. broj: 2020-1-DE01-KA226-HE-005783)","A679071",{"$f":"IFERROR(VLOOKUP(AG105,AKT!$E$4:$G$351,3,FALSE),\"\")","v":"0942"}]
[null,"",null,"",null,"","",null,0,0,{"$nulls":6},{"$f":"IF(C106=\"\",\"\",'OPĆI DIO'!$C$1)","v":""},"","","","",{"$nulls":3},4251,"Višegodišnji nasadi",null,"42","425",null,"A679071.074","IRI PROJEKT - AGROSIMPA","A679071",{"$f":"IFERROR(VLOOKUP(AG106,AKT!$E$4:$G$351,3,FALSE),\"\")","v":"0942"}]
[null,"",null,"",null,"","",null,0,0,{"$nulls":6},{"$f":"IF(C107=\"\",\"\",'OPĆI DIO'!$C$1)","v":""},"","","","",{"$nulls":3},4252,"Osnovno stado",null,"42","425",null,"A679071.075","Znanstveni centar izvrsnosti personalizirana briga o zdravlju","A679071",{"$f":"IFERROR(VLOOKUP(AG107,AKT!$E$4:$G$351,3,FALSE),\"\")","v":"0942"}]
[null,"",null,"",null,"","",null,0,0,{"$nulls":6},{"$f":"IF(C108=\"\",\"\",'OPĆI DIO'!$C$1)","v":""},"","","","",{"$nulls":3},4262,"Ulaganja u računalne programe",null,"42","426",null,"A679071.076","HEAL-IN-ONE","A679071",{"$f":"IFERROR(VLOOKUP(AG108,AKT!$E$4:$G$351,3,FALSE),\"\")","v":"0942"}]
[null,"",null,"",null,"","",null,0,0,{"$nulls":6},{"$f":"IF(C109=\"\",\"\",'OPĆI DIO'!$C$1)","v":""},"","","","",{"$nulls":3},4263,"Umjetnička, literarna i znanstvena djela",null,"42","426",null,"A679071.077","TANDEM+ (Transformation, Acceleration, Networking, Development, Entrepreneurial education and Mentoring+)","A679071",{"$f":"IFERROR(VLOOKUP(AG109,AKT!$E$4:$G$351,3,FALSE),\"\")","v":"0942"}]
[null,"",null,"",null,"","",null,0,0,{"$nulls":6},{"$f":"IF(C110=\"\",\"\",'OPĆI DIO'!$C$1)","v":""},"","","","",{"$nulls":3},4264,"Ostala nematerijalna proizvedena imovina",null,"42","426",null,"A679071.078","EUFORIA - Education Framework for Urban Resilience Innovation Activities","A679071",{"$f":"IFERROR(VLOOKUP(AG110,AKT!$E$4:$G$351,3,FALSE),\"\")","v":"0942"}]
[null,"",null,"",null,"","",null,0,0,{"$nulls":6},{"$f":"IF(C111=\"\",\"\",'OPĆI DIO'!$C$1)","v":""},"","","","",{"$nulls":3},4312,"Pohranjene knjige, umjetnička djela i slične vrijednosti",null,"43","431",null,"A679071.079","South and East European Competition Law Center of Excellence - Jean Monnet Competition Law COE - prof. Akšamović","A679071",{"$f":"IFERROR(VLOOKUP(AG111,AKT!$E$4:$G$351,3,FALSE),\"\")","v":"0942"}]
[null,"",null,"",null,"","",null,0,0,{"$nulls":6},{"$f":"IF(C112=\"\",\"\",'OPĆI DIO'!$C$1)","v":""},"","","","",{"$nulls":3},4411,"Strateške zalihe",null,"44","441",null,"A679071.080","Umrežani stacionarni baterijski spremnici energija USBSE","A679071",{"$f":"IFERROR(VLOOKUP(AG112,AKT!$E$4:$G$351,3,FALSE),\"\")","v":"0942"}]
[null,"",null,"",null,"","",null,0,0,{"$nulls":6},{"$f":"IF(C113=\"\",\"\",'OPĆI DIO'!$C$1)","v":""},"","","","",{"$nulls":3},4511,"Dodatna ulaganja na građevinskim objektima",null,"45","451",null,"A679071.081","„ REsearch-based teaching for life-long LEARNing“ (RELEARN)","A679071",{"$f":"IFERROR(VLOOKUP(AG113,AKT!$E$4:$G$351,3,FALSE),\"\")","v":"0942"}]
[null,"",null,"",null,"","",null,0,0,{"$nulls":6},{"$f":"IF(C114=\"\",\"\",'OPĆI DIO'!$C$1)","v":""},"","","","",{"$nulls":3},4521,"Dodatna ulaganja na postrojenjima i opremi",null,"45","452",null,"A679071.082","DATACROSS – Napredne metode i tehnologije u znanosti o podacima i kooperativnim sustavima","A679071",{"$f":"IFERROR(VLOOKUP(AG114,AKT!$E$4:$G$351,3,FALSE),\"\")","v":"0942"}]
[null,"",null,"",null,"","",null,0,0,{"$nulls":6},{"$f":"IF(C115=\"\",\"\",'OPĆI DIO'!$C$1)","v":""},"","","","",{"$nulls":3},4531,"Dodatna ulaganja na prijevoznim sredstvima",null,"45","453",null,"A679071.083","Istraživanje utjecaja metalnih promotora rijetkih zemalja i stupnja uređenja na redoks svojstva sustava CeO2-ZrO2","A679071",{"$f":"IFERROR(VLOOKUP(AG115,AKT!$E$4:$G$351,3,FALSE),\"\")","v":"0942"}]
[null,"",null,"",null,"","",null,0,0,{"$nulls":6},{"$f":"IF(C116=\"\",\"\",'OPĆI DIO'!$C$1)","v":""},"","","","",{"$nulls":3},4541,"Dodatna ulaganja za ostalu nefinancijsku imovinu",null,"45","454",null,"A679071.084","Umrežani stacionarni baterijski spremnici energija USBSE","A679071",{"$f":"IFERROR(VLOOKUP(AG116,AKT!$E$4:$G$351,3,FALSE),\"\")","v":"0942"}]
[null,"",null,"",null,"","",null,0,0,{"$nulls":6},{"$f":"IF(C117=\"\",\"\",'OPĆI DIO'!$C$1)","v":""},"","","","",{"$nulls":3},5121,"Dani zajmovi neprofitnim organizacijama, građanima i kućanst",null,"51","512",null,"A679071.085","EYES HEARTS HANDS Urban Revolution","A679071",{"$f":"IFERROR(VLOOKUP(AG117,AKT!$E$4:$G$351,3,FALSE),\"\")","v":"0942"}]
[null,"",null,"",null,"","",null,0,0,{"$nulls":6},{"$f":"IF(C118=\"\",\"\",'OPĆI DIO'!$C$1)","v":""},"","","","",{"$nulls":3},5443,"Otplata glavnice primljenih kredita od tuzemnih kreditnih in",null,"54","544",null,"A679071.086","Documenting chardak house for preserving endangered wooden structure along Drava and Danube rivers in Croatia EWAP2010LG","A679071",{"$f":"IFERROR(VLOOKUP(AG118,AKT!$E$4:$G$351,3,FALSE),\"\")","v":"0942"}]
[null,"",null,"",null,{"$f":"IFERROR(VLOOKUP(E119,$AE$6:$AF$1763,2,FALSE),\"\")","v":""},{"$f":"IFERROR(VLOOKUP(E119,$AE$6:$AH$1763,4,FALSE),\"\")","v":""},null,0,0,{"$nulls":6},{"$f":"IF(C119=\"\",\"\",'OPĆI DIO'!$C$1)","v":""},"","","","",{"$nulls":3},5121,"Dani zajmovi neprofitnim organizacijama, građanima i kućanstvima u tuzemstvu",null,"51","512",null,"A679071.087","Intelligent Methods for Structures, Elements and Materials","A679071",{"$f":"IFERROR(VLOOKUP(AG119,AKT!$E$4:$G$351,3,FALSE),\"\")","v":"0942"}]
[null,"",null,"",null,{"$f":"IFERROR(VLOOKUP(E120,$AE$6:$AF$1763,2,FALSE),\"\")","v":""},{"$f":"IFERROR(VLOOKUP(E120,$AE$6:$AH$1763,4,FALSE),\"\")","v":""},null,0,0,{"$nulls":6},{"$f":"IF(C120=\"\",\"\",'OPĆI DIO'!$C$1)","v":""},"","","","",{"$nulls":3},5122,"Dani zajmovi neprofitnim organizacijama, građanima i kućanstvima u inozemstvu",null,"51","512",null,"A679071.088","ERASMUS + 2022-1-RO01-KA220-HED-000088958","A679071",{"$f":"IFERROR(VLOOKUP(AG120,AKT!$E$4:$G$351,3,FALSE),\"\")","v":"0942"}]
[null,"",null,"",null,"","",null,0,0,{"$nulls":6},{"$f":"IF(C121=\"\",\"\",'OPĆI DIO'!$C$1)","v":""},"","","","",{"$nulls":3},5141,"Dani zajmovi trgovačkim društvima u javnom sektoru",null,"51","514",null,"A679071.089","ERASMUS +  KA220-HED 000089900","A679071",{"$f":"IFERROR(VLOOKUP(AG121,AKT!$E$4:$G$351,3,FALSE),\"\")","v":"0942"}]
[null,"",null,"",null,"","",null,0,0,{"$nulls":6},{"$f":"IF(C122=\"\",\"\",'OPĆI DIO'!$C$1)","v":""},"","","","",{"$nulls":3},5181,"Izdaci za depozite u kreditnim i ostalim financijskim institucijama - tuzemni",null,"51","518",null,"A679071.090","Erasmus + 2021-1- RS01-KA220-HED 000032054 HEAL-IN-ONE","A679071",{"$f":"IFERROR(VLOOKUP(AG122,AKT!$E$4:$G$351,3,FALSE),\"\")","v":"0942"}]
[null,"",null,"",null,"","",null,0,0,{"$nulls":6},{"$f":"IF(C123=\"\",\"\",'OPĆI DIO'!$C$1)","v":""},"","","","",{"$nulls":3},5183,"Izdaci za jamčevne pologe ",null,"51","518",null,"A679071.091","ERAMUS EDU-2022-CBHE 101082564","A679071",{"$f":"IFERROR(VLOOKUP(AG123,AKT!$E$4:$G$351,3,FALSE),\"\")","v":"0942"}]
[null,"",null,"",null,"","",null,0,0,{"$nulls":6},{"$f":"IF(C124=\"\",\"\",'OPĆI DIO'!$C$1)","v":""},"","","","",{"$nulls":3},5422,"Otplata glavnice primljenih kredita od kreditnih institucija u javnom sektoru",null,"54","542",null,"A679071.092","BeeGuards HORIZON -CL6-2022- BIODIV-02","A679071",{"$f":"IFERROR(VLOOKUP(AG124,AKT!$E$4:$G$351,3,FALSE),\"\")","v":"0942"}]
[null,"",null,"",null,"","",null,0,0,{"$nulls":6},{"$f":"IF(C125=\"\",\"\",'OPĆI DIO'!$C$1)","v":""},"","","","",{"$nulls":3},5431,"Otplata glavnice primljenih zajmova od trgovačkih društava u javnom sektoru",null,"54","543",null,"A679071.093","PARTNERSTVO NA PRIMA PROJEKTU SAFEGUARDING AGROECOSYSTEM RESILIENCE UNDER CLIMATE CHANGE THROUGH EFFICIENT POLLINATION AND SUSTAINABLE BEEKEEPING SAFE AGROBEE","A679071",{"$f":"IFERROR(VLOOKUP(AG125,AKT!$E$4:$G$351,3,FALSE),\"\")","v":"0942"}]
[null,"",null,"",null,"","",null,0,0,{"$nulls":6},{"$f":"IF(C126=\"\",\"\",'OPĆI DIO'!$C$1)","v":""},"","","","",{"$nulls":3},5443,"Otplata glavnice primljenih kredita od tuzemnih kreditnih institucija izvan javnog sektora",null,"54","544",null,"A679071.094","BILATERALA HRVATSKA -NORVEŠKA","A679071",{"$f":"IFERROR(VLOOKUP(AG126,AKT!$E$4:$G$351,3,FALSE),\"\")","v":"0942"}]
[null,"",null,"",null,"","",null,0,0,{"$nulls":6},{"$f":"IF(C127=\"\",\"\",'OPĆI DIO'!$C$1)","v":""},"","","","",{"$nulls":3},5445,"Otplata glavnice primljenih zajmova od ostalih tuzemnih financijskih institucija izvan javnog sektora",null,"54","544",null,"A679071.095","Life projekt (MURA-DRAVA-DUNAV)","A679071",{"$f":"IFERROR(VLOOKUP(AG127,AKT!$E$4:$G$351,3,FALSE),\"\")","v":"0942"}]
[null,"",null,"",null,"","",null,0,0,{"$nulls":6},{"$f":"IF(C128=\"\",\"\",'OPĆI DIO'!$C$1)","v":""},"","","","",{"$nulls":3},5453,"Otplata glavnice primljenih zajmova od tuzemnih trgovačkih društava izvan javnog sektora",null,"54","545",null,"A679071.096","European Climate Initiative EUKI","A679071",{"$f":"IFERROR(VLOOKUP(AG128,AKT!$E$4:$G$351,3,FALSE),\"\")","v":"0942"}]
[null,"",null,"",null,"","",null,0,0,{"$nulls":6},{"$f":"IF(C129=\"\",\"\",'OPĆI DIO'!$C$1)","v":""},"","","","",{"$nulls":3},5472,"Otplata glavnice primljenih zajmova od županijskih proračuna",null,"54","547",null,"A679071.097","BAS4SC - Business Analytics Skills for the Future-proof Supply Chains","A679071",{"$f":"IFERROR(VLOOKUP(AG129,AKT!$E$4:$G$351,3,FALSE),\"\")","v":"0942"}]
[null,"",null,"",null,"","",null,0,0,{"$nulls":6},{"$f":"IF(C130=\"\",\"\",'OPĆI DIO'!$C$1)","v":""},"","","","",{"$nulls":9},"A679071.098","European support for children at risk of poverty (EU-SHINE)","A679071",{"$f":"IFERROR(VLOOKUP(AG130,AKT!$E$4:$G$351,3,FALSE),\"\")","v":"0942"}]
[null,"",null,"",null,"","",null,0,0,{"$nulls":6},{"$f":"IF(C131=\"\",\"\",'OPĆI DIO'!$C$1)","v":""},"","","","",{"$nulls":9},"A679071.099","European Union and Gender Equality (EUGEquality)","A679071",{"$f":"IFERROR(VLOOKUP(AG131,AKT!$E$4:$G$351,3,FALSE),\"\")","v":"0942"}]
[null,{"$f":"IFERROR(VLOOKUP(A132,$V$6:$W$23,2,FALSE),\"\")","v":""},null,{"$f":"IFERROR(VLOOKUP(C132,$Y$5:$AA$129,2,FALSE),\"\")","v":""},null,{"$f":"IFERROR(VLOOKUP(E132,$AE$6:$AF$1763,2,FALSE),\"\")","v":""},{"$f":"IFERROR(VLOOKUP(E132,$AE$6:$AH$1763,4,FALSE),\"\")","v":""},null,0,{"$f":"+H132+I132","v":0},{"$nulls":6},{"$f":"IF(C132=\"\",\"\",'OPĆI DIO'!$C$1)","v":""},{"$f":"LEFT(C132,3)","v":""},{"$f":"LEFT(C132,2)","v":""},{"$f":"IF(U132=\"5\",0,MID(G132,2,2))","v":""},{"$f":"LEFT(C132,1)","v":""},{"$nulls":9},"A679071.100","REGIONALNI ZNANSTVENI CENTAR PANONSKE HRVATSKE 04-UBS-Š-0619/22-14","A679071",{"$f":"IFERROR(VLOOKUP(AG132,AKT!$E$4:$G$351,3,FALSE),\"\")","v":"0942"}]
[null,"",null,"",null,"","",null,0,0,{"$nulls":6},{"$f":"IF(C133=\"\",\"\",'OPĆI DIO'!$C$1)","v":""},"","","","",{"$nulls":9},"A679071.101","HORIZON-MISS-2022-OCEAN-01-101112736 Restore4Life","A679071",{"$f":"IFERROR(VLOOKUP(AG133,AKT!$E$4:$G$351,3,FALSE),\"\")","v":"0942"}]
[null,"",null,"",null,"","",null,0,0,{"$nulls":6},{"$f":"IF(C134=\"\",\"\",'OPĆI DIO'!$C$1)","v":""},"","","","",{"$nulls":9},"A679071.102","NEWAVES","A679071",{"$f":"IFERROR(VLOOKUP(AG134,AKT!$E$4:$G$351,3,FALSE),\"\")","v":"0942"}]
[null,"",null,"",null,"","",null,0,0,{"$nulls":6},{"$f":"IF(C135=\"\",\"\",'OPĆI DIO'!$C$1)","v":""},"","","","",{"$nulls":9},"A679072.001","ERASMUS+ projekt razvoja prometnih modaliteta kod trajekata i putničkih brodova","A679072",{"$f":"IFERROR(VLOOKUP(AG135,AKT!$E$4:$G$351,3,FALSE),\"\")","v":"0942"}]
[null,"",null,"",null,"","",null,0,0,{"$nulls":6},{"$f":"IF(C136=\"\",\"\",'OPĆI DIO'!$C$1)","v":""},"","","","",{"$nulls":9},"A679072.002","INTERREG DIGILOGOS projekt digitalizacije logistike multimodalnog teretnog i putničkog transporta Italije i Hrvatske","A679072",{"$f":"IFERROR(VLOOKUP(AG136,AKT!$E$4:$G$351,3,FALSE),\"\")","v":"0942"}]
[null,"",null,"",null,"","",null,0,0,{"$nulls":6},{"$f":"IF(C137=\"\",\"\",'OPĆI DIO'!$C$1)","v":""},"","","","",{"$nulls":9},"A679072.003","ERASMUS+ projekt ujednačavanja standarda kvalifikacija za zvanja u unutarnjoj plovidbi na razini EU",{"$f":"LEFT(AE137,7)","v":"A679072"},{"$f":"IFERROR(VLOOKUP(AG137,AKT!$E$4:$G$351,3,FALSE),\"\")","v":"0942"}]
[null,"",null,"",null,"","",null,0,0,{"$nulls":6},{"$f":"IF(C138=\"\",\"\",'OPĆI DIO'!$C$1)","v":""},"","","","",{"$nulls":9},"A679072.004","INTERREG ECOSUSTAIN projekt unaprjeđenja upravljanja zaštićenim područjima uvođenjem novih ICT tehnologija","A679072",{"$f":"IFERROR(VLOOKUP(AG138,AKT!$E$4:$G$351,3,FALSE),\"\")","v":"0942"}]
[null,"",null,"",null,"","",null,0,0,{"$nulls":6},{"$f":"IF(C139=\"\",\"\",'OPĆI DIO'!$C$1)","v":""},"","","","",{"$nulls":9},"A679072.005","ERASMUS+ACTS+ on line projekt izrade platforme za učenje COLREGS-a u pomorstvu","A679072",{"$f":"IFERROR(VLOOKUP(AG139,AKT!$E$4:$G$351,3,FALSE),\"\")","v":"0942"}]
[null,"",null,"",null,"","",null,0,0,{"$nulls":6},{"$f":"IF(C140=\"\",\"\",'OPĆI DIO'!$C$1)","v":""},"","","","",{"$nulls":9},"A679072.006","ERASMUS+ SKILLS ON BORD projekt edukacije voditelja brodica i zapovjednika jahti","A679072",{"$f":"IFERROR(VLOOKUP(AG140,AKT!$E$4:$G$351,3,FALSE),\"\")","v":"0942"}]
[null,"",null,"",null,"","",null,0,0,{"$nulls":6},{"$f":"IF(C141=\"\",\"\",'OPĆI DIO'!$C$1)","v":""},"","","","",{"$nulls":9},"A679072.007","ERASMUS+ SKILLS projekt definiranja modula zanimanja na tržištu rada na kopnu po završetku karijere na brodovima","A679072",{"$f":"IFERROR(VLOOKUP(AG141,AKT!$E$4:$G$351,3,FALSE),\"\")","v":"0942"}]
[null,"",null,"",null,"","",null,0,0,{"$nulls":6},{"$f":"IF(C142=\"\",\"\",'OPĆI DIO'!$C$1)","v":""},"","","","",{"$nulls":9},"A679072.008","INTERREG DEEPSEA projekt razvoja sustava upravljanja i inovativnih usluga za nautičare u lukama temeljenih na obnovljivim izvorima energije","A679072",{"$f":"IFERROR(VLOOKUP(AG142,AKT!$E$4:$G$351,3,FALSE),\"\")","v":"0942"}]
[null,"",null,"",null,"","",null,0,0,{"$nulls":6},{"$f":"IF(C143=\"\",\"\",'OPĆI DIO'!$C$1)","v":""},"","","","",{"$nulls":9},"A679072.009","INTERREG E-CHAIN projekt izrade modularnog softvera  za poboljšanje povezanosti i uskladu podataka Jadranske Intermodalne Mreže","A679072",{"$f":"IFERROR(VLOOKUP(AG143,AKT!$E$4:$G$351,3,FALSE),\"\")","v":"0942"}]
[null,"",null,"",null,"","",null,0,0,{"$nulls":6},{"$f":"IF(C144=\"\",\"\",'OPĆI DIO'!$C$1)","v":""},"","","","",{"$nulls":9},"A679072.010","INTERREG PROMARES projekt unaprjeđenja suradnje u logistici pomorskog i multimodalnog teretnog prometa za sve luke","A679072",{"$f":"IFERROR(VLOOKUP(AG144,AKT!$E$4:$G$351,3,FALSE),\"\")","v":"0942"}]
[null,"",null,"",null,"","",null,0,0,{"$nulls":6},{"$f":"IF(C145=\"\",\"\",'OPĆI DIO'!$C$1)","v":""},"","","","",{"$nulls":9},"A679072.011","ERASMUS+ LOGIN projekt pripreme stvaranja sustava kvalifikacija i programa za izobrazbu kadrova u logistici","A679072",{"$f":"IFERROR(VLOOKUP(AG145,AKT!$E$4:$G$351,3,FALSE),\"\")","v":"0942"}]
[null,"",null,"",null,"","",null,0,0,{"$nulls":6},{"$f":"IF(C146=\"\",\"\",'OPĆI DIO'!$C$1)","v":""},"","","","",{"$nulls":9},"A679072.012","H2020 GLYCOVAX projekt obrazovanja i interakcije s industrijom mladih znanstvenika u racionalnom dizajnu cjepiva protiv glikokonjugata","A679072",{"$f":"IFERROR(VLOOKUP(AG146,AKT!$E$4:$G$351,3,FALSE),\"\")","v":"0942"}]
[null,"",null,"",null,"","",null,0,0,{"$nulls":6},{"$f":"IF(C147=\"\",\"\",'OPĆI DIO'!$C$1)","v":""},"","","","",{"$nulls":9},"A679072.013","Post-traumatic Integration projekt razvijanja svijesti i edukacija stručnjaka za rad s izbjeglicama","A679072",{"$f":"IFERROR(VLOOKUP(AG147,AKT!$E$4:$G$351,3,FALSE),\"\")","v":"0942"}]
[null,"",null,"",null,"","",null,0,0,{"$nulls":6},{"$f":"IF(C148=\"\",\"\",'OPĆI DIO'!$C$1)","v":""},"","","","",{"$nulls":9},"A679072.014","Projekt Europskog društva za izučavanje traumatskog stresa","A679072",{"$f":"IFERROR(VLOOKUP(AG148,AKT!$E$4:$G$351,3,FALSE),\"\")","v":"0942"}]
[null,"",null,"",null,"","",null,0,0,{"$nulls":6},{"$f":"IF(C149=\"\",\"\",'OPĆI DIO'!$C$1)","v":""},"","","","",{"$nulls":9},"A679072.015","ERASMUS+ projekt jačanja kapaciteta za izučavanje medicine boli u zemljama zapadnog Balkana","A679072",{"$f":"IFERROR(VLOOKUP(AG149,AKT!$E$4:$G$351,3,FALSE),\"\")","v":"0942"}]
[null,"",null,"",null,"","",null,0,0,{"$nulls":6},{"$f":"IF(C150=\"\",\"\",'OPĆI DIO'!$C$1)","v":""},"","","","",{"$nulls":9},"A679072.016","ERASMUS projekt proučavanja socijalnog angažmana za rješavanje izazova kroničnih bolesti","A679072",{"$f":"IFERROR(VLOOKUP(AG150,AKT!$E$4:$G$351,3,FALSE),\"\")","v":"0942"}]
[null,"",null,"",null,"","",null,0,0,{"$nulls":6},{"$f":"IF(C151=\"\",\"\",'OPĆI DIO'!$C$1)","v":""},"","","","",{"$nulls":9},"A679072.017","H2020 PIXEL Učinkovito korištenje resursa, održivi razvoj i zeleni rast luka i okolnih gradova","A679072",{"$f":"IFERROR(VLOOKUP(AG151,AKT!$E$4:$G$351,3,FALSE),\"\")","v":"0942"}]
[null,"",null,"",null,"","",null,0,0,{"$nulls":6},{"$f":"IF(C152=\"\",\"\",'OPĆI DIO'!$C$1)","v":""},"","","","",{"$nulls":9},"A679072.018","Wom@rts projekt promicanja razvoja svijesti o ravnopravnosti spolova kroz transnacionalnu mrežu i platformu","A679072",{"$f":"IFERROR(VLOOKUP(AG152,AKT!$E$4:$G$351,3,FALSE),\"\")","v":"0942"}]
[null,"",null,"",null,"","",null,0,0,{"$nulls":6},{"$f":"IF(C153=\"\",\"\",'OPĆI DIO'!$C$1)","v":""},"","","","",{"$nulls":9},"A679072.019","INTERREG DANUBE Inno HPC","A679072",{"$f":"IFERROR(VLOOKUP(AG153,AKT!$E$4:$G$351,3,FALSE),\"\")","v":"0942"}]
[null,"",null,"",null,"","",null,0,0,{"$nulls":6},{"$f":"IF(C154=\"\",\"\",'OPĆI DIO'!$C$1)","v":""},"","","","",{"$nulls":9},"A679072.020","ERASMUS+ PESHES Jačanje kapaciteta u području visokog obrazovanja","A679072",{"$f":"IFERROR(VLOOKUP(AG154,AKT!$E$4:$G$351,3,FALSE),\"\")","v":"0942"}]
[null,"",null,"",null,"","",null,0,0,{"$nulls":6},{"$f":"IF(C155=\"\",\"\",'OPĆI DIO'!$C$1)","v":""},"","","","",{"$nulls":9},"A679072.021","ERASMUS+ TEFCE Prema europskom okviru za angažiranje visokog obrazovanja u zajednici","A679072",{"$f":"IFERROR(VLOOKUP(AG155,AKT!$E$4:$G$351,3,FALSE),\"\")","v":"0942"}]
[null,"",null,"",null,"","",null,0,0,{"$nulls":6},{"$f":"IF(C156=\"\",\"\",'OPĆI DIO'!$C$1)","v":""},"","","","",{"$nulls":9},"A679072.022","INTERREG BEAT Plava poboljšanja za prijenos tehnologije","A679072",{"$f":"IFERROR(VLOOKUP(AG156,AKT!$E$4:$G$351,3,FALSE),\"\")","v":"0942"}]
[null,"",null,"",null,"","",null,0,0,{"$nulls":6},{"$f":"IF(C157=\"\",\"\",'OPĆI DIO'!$C$1)","v":""},"","","","",{"$nulls":9},"A679072.023","INTERREG ADRIREEF Istraživanje potencijala grebena u Jadranskom moru s ciljem jačanja Plave ekonomije","A679072",{"$f":"IFERROR(VLOOKUP(AG157,AKT!$E$4:$G$351,3,FALSE),\"\")","v":"0942"}]
[null,"",null,"",null,"","",null,0,0,{"$nulls":6},{"$f":"IF(C158=\"\",\"\",'OPĆI DIO'!$C$1)","v":""},"","","","",{"$nulls":9},"A679072.024","ERASMUS+ Projekt Interaktivni tečaj za teoriju kontrole (ICCT) 2018-1-SI01-KA203-047081","A679072",{"$f":"IFERROR(VLOOKUP(AG158,AKT!$E$4:$G$351,3,FALSE),\"\")","v":"0942"}]
[null,"",null,"",null,"","",null,0,0,{"$nulls":6},{"$f":"IF(C159=\"\",\"\",'OPĆI DIO'!$C$1)","v":""},"","","","",{"$nulls":9},"A679072.025","HORIZON 2020-MSCA-ITN-2019 - THREAD","A679072",{"$f":"IFERROR(VLOOKUP(AG159,AKT!$E$4:$G$351,3,FALSE),\"\")","v":"0942"}]
[null,"",null,"",null,"","",null,0,0,{"$nulls":6},{"$f":"IF(C160=\"\",\"\",'OPĆI DIO'!$C$1)","v":""},"","","","",{"$nulls":9},"A679072.026","ERASMUS + SWARM PROJEKT","A679072",{"$f":"IFERROR(VLOOKUP(AG160,AKT!$E$4:$G$351,3,FALSE),\"\")","v":"0942"}]
[null,"",null,"",null,"","",null,0,0,{"$nulls":6},{"$f":"IF(C161=\"\",\"\",'OPĆI DIO'!$C$1)","v":""},"","","","",{"$nulls":9},"A679072.027","H2020 Financijski nadzor i tehnološka usklađenost","A679072",{"$f":"IFERROR(VLOOKUP(AG161,AKT!$E$4:$G$351,3,FALSE),\"\")","v":"0942"}]
[null,"",null,"",null,"","",null,0,0,{"$nulls":6},{"$f":"IF(C162=\"\",\"\",'OPĆI DIO'!$C$1)","v":""},"","","","",{"$nulls":9},"A679072.028","Transformativni turizam u europskoj prijestolnici kulture","A679072",{"$f":"IFERROR(VLOOKUP(AG162,AKT!$E$4:$G$351,3,FALSE),\"\")","v":"0942"}]
[null,"",null,"",null,"","",null,0,0,{"$nulls":6},{"$f":"IF(C163=\"\",\"\",'OPĆI DIO'!$C$1)","v":""},"","","","",{"$nulls":9},"A679072.029","ManuFacturing model upravljanja i osposobljavanja za industriju 4.0 u Jadransko-jonskoj regiji","A679072",{"$f":"IFERROR(VLOOKUP(AG163,AKT!$E$4:$G$351,3,FALSE),\"\")","v":"0942"}]
[null,"",null,"",null,"","",null,0,0,{"$nulls":6},{"$f":"IF(C164=\"\",\"\",'OPĆI DIO'!$C$1)","v":""},"","","","",{"$nulls":9},"A679072.030","ERASMUS+ TEACHING2030 -FMTU Opatija 2017.-2020.","A679072",{"$f":"IFERROR(VLOOKUP(AG164,AKT!$E$4:$G$351,3,FALSE),\"\")","v":"0942"}]
[null,"",null,"",null,"","",null,0,0,{"$nulls":6},{"$f":"IF(C165=\"\",\"\",'OPĆI DIO'!$C$1)","v":""},"","","","",{"$nulls":9},"A679072.031","INTERREG SLO-HR MITSKI PARK, FMTU-Kozina","A679072",{"$f":"IFERROR(VLOOKUP(AG165,AKT!$E$4:$G$351,3,FALSE),\"\")","v":"0942"}]
[null,"",null,"",null,"","",null,0,0,{"$nulls":6},{"$f":"IF(C166=\"\",\"\",'OPĆI DIO'!$C$1)","v":""},"","","","",{"$nulls":9},"A679072.032","INTERREG ITA-HR ADRIAAQUANET,Sv. Udine","A679072",{"$f":"IFERROR(VLOOKUP(AG166,AKT!$E$4:$G$351,3,FALSE),\"\")","v":"0942"}]
[null,"",null,"",null,"","",null,0,0,{"$nulls":6},{"$f":"IF(C167=\"\",\"\",'OPĆI DIO'!$C$1)","v":""},"","","","",{"$nulls":9},"A679072.033","ERASMUS+ Promicanje strateškog pristupa sportskoj diplomaciji EU-a(UK)","A679072",{"$f":"IFERROR(VLOOKUP(AG167,AKT!$E$4:$G$351,3,FALSE),\"\")","v":"0942"}]
[null,"",null,"",null,"","",null,0,0,{"$nulls":6},{"$f":"IF(C168=\"\",\"\",'OPĆI DIO'!$C$1)","v":""},"","","","",{"$nulls":9},"A679072.034","Personalizirano rješenje u europskom zakonu o obitelji i sukcesiji (PSEFS) (I)","A679072",{"$f":"IFERROR(VLOOKUP(AG168,AKT!$E$4:$G$351,3,FALSE),\"\")","v":"0942"}]
[null,"",null,"",null,"","",null,0,0,{"$nulls":6},{"$f":"IF(C169=\"\",\"\",'OPĆI DIO'!$C$1)","v":""},"","","","",{"$nulls":9},"A679072.035","Modernizacija master programa","A679072",{"$f":"IFERROR(VLOOKUP(AG169,AKT!$E$4:$G$351,3,FALSE),\"\")","v":"0942"}]
[null,"",null,"",null,"","",null,0,0,{"$nulls":6},{"$f":"IF(C170=\"\",\"\",'OPĆI DIO'!$C$1)","v":""},"","","","",{"$nulls":9},"A679072.036","Raznolikost izvršnih naslova u prekograničnoj naplati duga EU-EU-En4s","A679072",{"$f":"IFERROR(VLOOKUP(AG170,AKT!$E$4:$G$351,3,FALSE),\"\")","v":"0942"}]
[null,"",null,"",null,"","",null,0,0,{"$nulls":6},{"$f":"IF(C171=\"\",\"\",'OPĆI DIO'!$C$1)","v":""},"","","","",{"$nulls":9},"A679072.037","Povećavanje i proširenje odgovora T-stanica na glioblastoma","A679072",{"$f":"IFERROR(VLOOKUP(AG171,AKT!$E$4:$G$351,3,FALSE),\"\")","v":"0942"}]
[null,"",null,"",null,"","",null,0,0,{"$nulls":6},{"$f":"IF(C172=\"\",\"\",'OPĆI DIO'!$C$1)","v":""},"","","","",{"$nulls":9},"A679072.038","Podrška obiteljskog njegovatelja - strategije i alati za promicanje mentalnog i emocionalnog zdravlja njegovatelja","A679072",{"$f":"IFERROR(VLOOKUP(AG172,AKT!$E$4:$G$351,3,FALSE),\"\")","v":"0942"}]
[null,"",null,"",null,"","",null,0,0,{"$nulls":6},{"$f":"IF(C173=\"\",\"\",'OPĆI DIO'!$C$1)","v":""},"","","","",{"$nulls":9},"A679072.039","HERA - Zdravstvo kao javni prostor: Socijalna integracija i socijalna raznolikost u kontekstu pristupa zdravstvenoj skrbi u Europi","A679072",{"$f":"IFERROR(VLOOKUP(AG173,AKT!$E$4:$G$351,3,FALSE),\"\")","v":"0942"}]
[null,"",null,"",null,"","",null,0,0,{"$nulls":6},{"$f":"IF(C174=\"\",\"\",'OPĆI DIO'!$C$1)","v":""},"","","","",{"$nulls":9},"A679072.040","VALUECARE - METODOLOGIJA NA VRIJEDNOSTI ZA INTEGRIRANU NjEGU PODRUČENA IcT-om","A679072",{"$f":"IFERROR(VLOOKUP(AG174,AKT!$E$4:$G$351,3,FALSE),\"\")","v":"0942"}]
[null,"",null,"",null,"","",null,0,0,{"$nulls":6},{"$f":"IF(C175=\"\",\"\",'OPĆI DIO'!$C$1)","v":""},"","","","",{"$nulls":9},"A679072.041","ERASMUS+ SKILLSEA","A679072",{"$f":"IFERROR(VLOOKUP(AG175,AKT!$E$4:$G$351,3,FALSE),\"\")","v":"0942"}]
[null,"",null,"",null,"","",null,0,0,{"$nulls":6},{"$f":"IF(C176=\"\",\"\",'OPĆI DIO'!$C$1)","v":""},"","","","",{"$nulls":9},"A679072.042","Umjetnička i humanistička poduzetnička središta","A679072",{"$f":"IFERROR(VLOOKUP(AG176,AKT!$E$4:$G$351,3,FALSE),\"\")","v":"0942"}]
[null,"",null,"",null,"","",null,0,0,{"$nulls":6},{"$f":"IF(C177=\"\",\"\",'OPĆI DIO'!$C$1)","v":""},"","","","",{"$nulls":9},"A679072.043","ERASMUS + Coding4girls","A679072",{"$f":"IFERROR(VLOOKUP(AG177,AKT!$E$4:$G$351,3,FALSE),\"\")","v":"0942"}]
[null,"",null,"",null,"","",null,0,0,{"$nulls":6},{"$f":"IF(C178=\"\",\"\",'OPĆI DIO'!$C$1)","v":""},"","","","",{"$nulls":9},"A679072.044","ERASMUS +LANGUIDE","A679072",{"$f":"IFERROR(VLOOKUP(AG178,AKT!$E$4:$G$351,3,FALSE),\"\")","v":"0942"}]
[null,"",null,"",null,"","",null,0,0,{"$nulls":6},{"$f":"IF(C179=\"\",\"\",'OPĆI DIO'!$C$1)","v":""},"","","","",{"$nulls":9},"A679072.045","INTERREG Sigurno sidrenje i zaštita morske trave u Jadranskom moru-SASPAS","A679072",{"$f":"IFERROR(VLOOKUP(AG179,AKT!$E$4:$G$351,3,FALSE),\"\")","v":"0942"}]
[null,"",null,"",null,"","",null,0,0,{"$nulls":6},{"$f":"IF(C180=\"\",\"\",'OPĆI DIO'!$C$1)","v":""},"","","","",{"$nulls":9},"A679072.046","SPEAR - Podržavanje i implantacija planova za rodnu ravnopravnost u istraživanju","A679072",{"$f":"IFERROR(VLOOKUP(AG180,AKT!$E$4:$G$351,3,FALSE),\"\")","v":"0942"}]
[null,"",null,"",null,"","",null,0,0,{"$nulls":6},{"$f":"IF(C181=\"\",\"\",'OPĆI DIO'!$C$1)","v":""},"","","","",{"$nulls":9},"A679072.047","OBZOR 2020 -HERITAGE- Podržavanje i implantacija planova za rodnu ravnopravnost u istraživanju","A679072",{"$f":"IFERROR(VLOOKUP(AG181,AKT!$E$4:$G$351,3,FALSE),\"\")","v":"0942"}]
[null,"",null,"",null,"","",null,0,0,{"$nulls":6},{"$f":"IF(C182=\"\",\"\",'OPĆI DIO'!$C$1)","v":""},"","","","",{"$nulls":9},"A679072.048","Različitost u javnom i privatnom sektoru","A679072",{"$f":"IFERROR(VLOOKUP(AG182,AKT!$E$4:$G$351,3,FALSE),\"\")","v":"0942"}]
[null,"",null,"",null,"","",null,0,0,{"$nulls":6},{"$f":"IF(C183=\"\",\"\",'OPĆI DIO'!$C$1)","v":""},"","","","",{"$nulls":9},"A679072.049","PROMEHS","A679072",{"$f":"IFERROR(VLOOKUP(AG183,AKT!$E$4:$G$351,3,FALSE),\"\")","v":"0942"}]
[null,"",null,"",null,"","",null,0,0,{"$nulls":6},{"$f":"IF(C184=\"\",\"\",'OPĆI DIO'!$C$1)","v":""},"","","","",{"$nulls":9},"A679072.050","ERASMUS + Digitalna društvena inovacija: nove obrazovne kompetencije za socijalnu uključenost","A679072",{"$f":"IFERROR(VLOOKUP(AG184,AKT!$E$4:$G$351,3,FALSE),\"\")","v":"0942"}]
[null,"",null,"",null,"","",null,0,0,{"$nulls":6},{"$f":"IF(C185=\"\",\"\",'OPĆI DIO'!$C$1)","v":""},"","","","",{"$nulls":9},"A679072.051","HKO-Dig IT - Izrada standarda zanimanja i standarda kvalifikacija u djelatnostima računarstva","A679072",{"$f":"IFERROR(VLOOKUP(AG185,AKT!$E$4:$G$351,3,FALSE),\"\")","v":"0942"}]
[null,"",null,"",null,"","",null,0,0,{"$nulls":6},{"$f":"IF(C186=\"\",\"\",'OPĆI DIO'!$C$1)","v":""},"","","","",{"$nulls":9},"A679072.052","HKO-ELE Primjena Hrvatskog kvalifikacijskog okvira za sveučilišne studijske programe u području elektrotehnike","A679072",{"$f":"IFERROR(VLOOKUP(AG186,AKT!$E$4:$G$351,3,FALSE),\"\")","v":"0942"}]
[null,"",null,"",null,"","",null,0,0,{"$nulls":6},{"$f":"IF(C187=\"\",\"\",'OPĆI DIO'!$C$1)","v":""},"","","","",{"$nulls":9},"A679072.053","Novi koncepti vektora citomegaloviralnog cjepiva","A679072",{"$f":"IFERROR(VLOOKUP(AG187,AKT!$E$4:$G$351,3,FALSE),\"\")","v":"0942"}]
[null,"",null,"",null,"","",null,0,0,{"$nulls":6},{"$f":"IF(C188=\"\",\"\",'OPĆI DIO'!$C$1)","v":""},"","","","",{"$nulls":9},"A679072.054","Rješavanje m04 paradoksa: Izbjegavanje samo-prepoznavanja koji nedostaje i ubijanje CD8 T stanica MAT uORF","A679072",{"$f":"IFERROR(VLOOKUP(AG188,AKT!$E$4:$G$351,3,FALSE),\"\")","v":"0942"}]
[null,"",null,"",null,"","",null,0,0,{"$nulls":6},{"$f":"IF(C189=\"\",\"\",'OPĆI DIO'!$C$1)","v":""},"","","","",{"$nulls":9},"A679072.055","PROLOG   (HOK projekt)","A679072",{"$f":"IFERROR(VLOOKUP(AG189,AKT!$E$4:$G$351,3,FALSE),\"\")","v":"0942"}]
[null,"",null,"",null,"","",null,0,0,{"$nulls":6},{"$f":"IF(C190=\"\",\"\",'OPĆI DIO'!$C$1)","v":""},"","","","",{"$nulls":9},"A679072.056","GLAT-Igre za učenje algoritamskog mišljenja","A679072",{"$f":"IFERROR(VLOOKUP(AG190,AKT!$E$4:$G$351,3,FALSE),\"\")","v":"0942"}]
[null,"",null,"",null,"","",null,0,0,{"$nulls":6},{"$f":"IF(C191=\"\",\"\",'OPĆI DIO'!$C$1)","v":""},"","","","",{"$nulls":9},"A679072.057","DIP2Future: Razvoj obrazovnih programa, standarda kvalifikacije i standarda zanimanja iz područja IKT-a u skladu s HKO-om","A679072",{"$f":"IFERROR(VLOOKUP(AG191,AKT!$E$4:$G$351,3,FALSE),\"\")","v":"0942"}]
[null,"",null,"",null,"","",null,0,0,{"$nulls":6},{"$f":"IF(C192=\"\",\"\",'OPĆI DIO'!$C$1)","v":""},"","","","",{"$nulls":9},"A679072.058","Veleri- OI IoT School: Razvoj racionalnog obrazovnog programa","A679072",{"$f":"IFERROR(VLOOKUP(AG192,AKT!$E$4:$G$351,3,FALSE),\"\")","v":"0942"}]
[null,"",null,"",null,"","",null,0,0,{"$nulls":6},{"$f":"IF(C193=\"\",\"\",'OPĆI DIO'!$C$1)","v":""},"","","","",{"$nulls":9},"A679072.059","Bioprospecting Jadranskog mora","A679072",{"$f":"IFERROR(VLOOKUP(AG193,AKT!$E$4:$G$351,3,FALSE),\"\")","v":"0942"}]
[null,"",null,"",null,"","",null,0,0,{"$nulls":6},{"$f":"IF(C194=\"\",\"\",'OPĆI DIO'!$C$1)","v":""},"","","","",{"$nulls":9},"A679072.060","SEEYW - Podržavanje obrazovanja mladih radnika","A679072",{"$f":"IFERROR(VLOOKUP(AG194,AKT!$E$4:$G$351,3,FALSE),\"\")","v":"0942"}]
[null,"",null,"",null,"","",null,0,0,{"$nulls":6},{"$f":"IF(C195=\"\",\"\",'OPĆI DIO'!$C$1)","v":""},"","","","",{"$nulls":9},"A679072.061","Turistička valorizacija reprezentativnih spomenika riječke industrijske baštine","A679072",{"$f":"IFERROR(VLOOKUP(AG195,AKT!$E$4:$G$351,3,FALSE),\"\")","v":"0942"}]
[null,{"$f":"IFERROR(VLOOKUP(A196,$V$6:$W$23,2,FALSE),\"\")","v":""},null,{"$f":"IFERROR(VLOOKUP(C196,$Y$5:$AA$129,2,FALSE),\"\")","v":""},null,{"$f":"IFERROR(VLOOKUP(E196,$AE$6:$AF$1763,2,FALSE),\"\")","v":""},{"$f":"IFERROR(VLOOKUP(E196,$AE$6:$AH$1763,4,FALSE),\"\")","v":""},null,0,{"$f":"+H196+I196","v":0},{"$nulls":6},{"$f":"IF(C196=\"\",\"\",'OPĆI DIO'!$C$1)","v":""},{"$f":"LEFT(C196,3)","v":""},{"$f":"LEFT(C196,2)","v":""},{"$f":"IF(U196=\"5\",0,MID(G196,2,2))","v":""},{"$f":"LEFT(C196,1)","v":""},{"$nulls":9},"A679072.062","ERASMUS + 2019. Mobilnost studenata i osoblja između programskih i partnerskih zemalja (KA107)","A679072",{"$f":"IFERROR(VLOOKUP(AG196,AKT!$E$4:$G$351,3,FALSE),\"\")","v":"0942"}]
[null,"",null,"",null,"","",null,0,0,{"$nulls":6},{"$f":"IF(C197=\"\",\"\",'OPĆI DIO'!$C$1)","v":""},"","","","",{"$nulls":9},"A679072.063","CEKOM Podrška razvoju centara kompetencija","A679072",{"$f":"IFERROR(VLOOKUP(AG197,AKT!$E$4:$G$351,3,FALSE),\"\")","v":"0942"}]
[null,"",null,"",null,"","",null,0,0,{"$nulls":6},{"$f":"IF(C198=\"\",\"\",'OPĆI DIO'!$C$1)","v":""},"","","","",{"$nulls":9},"A679072.064","Nova generacija visokoprotočnih gliko-servisa","A679072",{"$f":"IFERROR(VLOOKUP(AG198,AKT!$E$4:$G$351,3,FALSE),\"\")","v":"0942"}]
[null,"",null,"",null,"","",null,0,0,{"$nulls":6},{"$f":"IF(C199=\"\",\"\",'OPĆI DIO'!$C$1)","v":""},"","","","",{"$nulls":9},"A679072.065","Industrijska baština","A679072",{"$f":"IFERROR(VLOOKUP(AG199,AKT!$E$4:$G$351,3,FALSE),\"\")","v":"0942"}]
[null,"",null,"",null,"","",null,0,0,{"$nulls":6},{"$f":"IF(C200=\"\",\"\",'OPĆI DIO'!$C$1)","v":""},"","","","",{"$nulls":9},"A679072.066","DATACROSS – Napredne metode i tehnologije u znanosti o podatcima i kooperativnim sustavima)","A679072",{"$f":"IFERROR(VLOOKUP(AG200,AKT!$E$4:$G$351,3,FALSE),\"\")","v":"0942"}]
[null,"",null,"",null,"","",null,0,0,{"$nulls":6},{"$f":"IF(C201=\"\",\"\",'OPĆI DIO'!$C$1)","v":""},"","","","",{"$nulls":9},"A679072.067","DATACROSS – Napredne metode i tehnologije u znanosti o podatcima i kooperativnim sustavima",{"$f":"LEFT(AE201,7)","v":"A679072"},{"$f":"IFERROR(VLOOKUP(AG201,AKT!$E$4:$G$351,3,FALSE),\"\")","v":"0942"}]
[null,"",null,"",null,"","",null,0,0,{"$nulls":6},{"$f":"IF(C202=\"\",\"\",'OPĆI DIO'!$C$1)","v":""},"","","","",{"$nulls":9},"A679072.068","KLIMOD","A679072",{"$f":"IFERROR(VLOOKUP(AG202,AKT!$E$4:$G$351,3,FALSE),\"\")","v":"0942"}]
[null,"",null,"",null,"","",null,0,0,{"$nulls":6},{"$f":"IF(C203=\"\",\"\",'OPĆI DIO'!$C$1)","v":""},"","","","",{"$nulls":9},"A679072.069","Capacity Building of BLUE Economy Stakeholders to Effectively use CROWFUNDING","A679072",{"$f":"IFERROR(VLOOKUP(AG203,AKT!$E$4:$G$351,3,FALSE),\"\")","v":"0942"}]
[null,"",null,"",null,"","",null,0,0,{"$nulls":6},{"$f":"IF(C204=\"\",\"\",'OPĆI DIO'!$C$1)","v":""},"","","","",{"$nulls":9},"A679072.070","Provedba HKO-a na razini visokog obrazovanja - EFRI","A679072",{"$f":"IFERROR(VLOOKUP(AG204,AKT!$E$4:$G$351,3,FALSE),\"\")","v":"0942"}]
[null,"",null,"",null,"","",null,0,0,{"$nulls":6},{"$f":"IF(C205=\"\",\"\",'OPĆI DIO'!$C$1)","v":""},"","","","",{"$nulls":9},"A679072.071","Social and Creative - EFRI","A679072",{"$f":"IFERROR(VLOOKUP(AG205,AKT!$E$4:$G$351,3,FALSE),\"\")","v":"0942"}]
[null,"",null,"",null,"","",null,0,0,{"$nulls":6},{"$f":"IF(C206=\"\",\"\",'OPĆI DIO'!$C$1)","v":""},"","","","",{"$nulls":9},"A679072.072","MI – jučer, danas, sutra","A679072",{"$f":"IFERROR(VLOOKUP(AG206,AKT!$E$4:$G$351,3,FALSE),\"\")","v":"0942"}]
[null,"",null,"",null,"","",null,0,0,{"$nulls":6},{"$f":"IF(C207=\"\",\"\",'OPĆI DIO'!$C$1)","v":""},"","","","",{"$nulls":9},"A679072.073","RCK PECEPT - REG. CENTAR PROFESIJA U TURIZMU","A679072",{"$f":"IFERROR(VLOOKUP(AG207,AKT!$E$4:$G$351,3,FALSE),\"\")","v":"0942"}]
[null,"",null,"",null,"","",null,0,0,{"$nulls":6},{"$f":"IF(C208=\"\",\"\",'OPĆI DIO'!$C$1)","v":""},"","","","",{"$nulls":9},"A679072.074","RECEZA-REGIONALNI CENTAR ZABOK","A679072",{"$f":"IFERROR(VLOOKUP(AG208,AKT!$E$4:$G$351,3,FALSE),\"\")","v":"0942"}]
[null,"",null,"",null,"","",null,0,0,{"$nulls":6},{"$f":"IF(C209=\"\",\"\",'OPĆI DIO'!$C$1)","v":""},"","","","",{"$nulls":9},"A679072.075","ERASMUS+ CAMPMASTER, SVEUČILIŠTE U RIJECI","A679072",{"$f":"IFERROR(VLOOKUP(AG209,AKT!$E$4:$G$351,3,FALSE),\"\")","v":"0942"}]
[null,"",null,"",null,"","",null,0,0,{"$nulls":6},{"$f":"IF(C210=\"\",\"\",'OPĆI DIO'!$C$1)","v":""},"","","","",{"$nulls":9},"A679072.076","Train to enforce — Train 2 EN4CE’","A679072",{"$f":"IFERROR(VLOOKUP(AG210,AKT!$E$4:$G$351,3,FALSE),\"\")","v":"0942"}]
[null,"",null,"",null,"","",null,0,0,{"$nulls":6},{"$f":"IF(C211=\"\",\"\",'OPĆI DIO'!$C$1)","v":""},"","","","",{"$nulls":9},"A679072.077","HKO na razini visokog obrazovanja","A679072",{"$f":"IFERROR(VLOOKUP(AG211,AKT!$E$4:$G$351,3,FALSE),\"\")","v":"0942"}]
[null,"",null,"",null,"","",null,0,0,{"$nulls":6},{"$f":"IF(C212=\"\",\"\",'OPĆI DIO'!$C$1)","v":""},"","","","",{"$nulls":9},"A679072.078","Menage a trois: Neuro-endocrino-immune regulation of metabolic homeostasis","A679072",{"$f":"IFERROR(VLOOKUP(AG212,AKT!$E$4:$G$351,3,FALSE),\"\")","v":"0942"}]
[null,"",null,"",null,"","",null,0,0,{"$nulls":6},{"$f":"IF(C213=\"\",\"\",'OPĆI DIO'!$C$1)","v":""},"","","","",{"$nulls":9},"A679072.079","Razvoj inovativnog brzog testa za dijagnozu subkliničkog mastitisa u mliječnih krava","A679072",{"$f":"IFERROR(VLOOKUP(AG213,AKT!$E$4:$G$351,3,FALSE),\"\")","v":"0942"}]
[null,"",null,"",null,"","",null,0,0,{"$nulls":6},{"$f":"IF(C214=\"\",\"\",'OPĆI DIO'!$C$1)","v":""},"","","","",{"$nulls":9},"A679072.080","Rino sprej","A679072",{"$f":"IFERROR(VLOOKUP(AG214,AKT!$E$4:$G$351,3,FALSE),\"\")","v":"0942"}]
[null,"",null,"",null,"","",null,0,0,{"$nulls":6},{"$f":"IF(C215=\"\",\"\",'OPĆI DIO'!$C$1)","v":""},"","","","",{"$nulls":9},"A679072.081","ERASMUS+ COMPETING","A679072",{"$f":"IFERROR(VLOOKUP(AG215,AKT!$E$4:$G$351,3,FALSE),\"\")","v":"0942"}]
[null,"",null,"",null,"","",null,0,0,{"$nulls":6},{"$f":"IF(C216=\"\",\"\",'OPĆI DIO'!$C$1)","v":""},"","","","",{"$nulls":9},"A679072.082","INTERREG  PSAMIDES","A679072",{"$f":"IFERROR(VLOOKUP(AG216,AKT!$E$4:$G$351,3,FALSE),\"\")","v":"0942"}]
[null,"",null,"",null,"","",null,0,0,{"$nulls":6},{"$f":"IF(C217=\"\",\"\",'OPĆI DIO'!$C$1)","v":""},"","","","",{"$nulls":9},"A679072.083","OPK KONKURENTNOST I KOHEZIJA ProtectAS","A679072",{"$f":"IFERROR(VLOOKUP(AG217,AKT!$E$4:$G$351,3,FALSE),\"\")","v":"0942"}]
[null,"",null,"",null,"","",null,0,0,{"$nulls":6},{"$f":"IF(C218=\"\",\"\",'OPĆI DIO'!$C$1)","v":""},"","","","",{"$nulls":9},"A679072.084","INTERREG MIMOSA","A679072",{"$f":"IFERROR(VLOOKUP(AG218,AKT!$E$4:$G$351,3,FALSE),\"\")","v":"0942"}]
[null,"",null,"",null,"","",null,0,0,{"$nulls":6},{"$f":"IF(C219=\"\",\"\",'OPĆI DIO'!$C$1)","v":""},"","","","",{"$nulls":9},"A679072.085","INTERREG FRAMEWORK","A679072",{"$f":"IFERROR(VLOOKUP(AG219,AKT!$E$4:$G$351,3,FALSE),\"\")","v":"0942"}]
[null,"",null,"",null,"","",null,0,0,{"$nulls":6},{"$f":"IF(C220=\"\",\"\",'OPĆI DIO'!$C$1)","v":""},"","","","",{"$nulls":9},"A679072.086","Infant Theory of Mind-H2020-MSCA-IF-2017","A679072",{"$f":"IFERROR(VLOOKUP(AG220,AKT!$E$4:$G$351,3,FALSE),\"\")","v":"0942"}]
[null,"",null,"",null,"","",null,0,0,{"$nulls":6},{"$f":"IF(C221=\"\",\"\",'OPĆI DIO'!$C$1)","v":""},"","","","",{"$nulls":9},"A679072.087","MindBot","A679072",{"$f":"IFERROR(VLOOKUP(AG221,AKT!$E$4:$G$351,3,FALSE),\"\")","v":"0942"}]
[null,"",null,"",null,"","",null,0,0,{"$nulls":6},{"$f":"IF(C222=\"\",\"\",'OPĆI DIO'!$C$1)","v":""},"","","","",{"$nulls":9},"A679072.088","BEAT - Blue enhancement action for technology transfer","A679072",{"$f":"IFERROR(VLOOKUP(AG222,AKT!$E$4:$G$351,3,FALSE),\"\")","v":"0942"}]
[null,"",null,"",null,"","",null,0,0,{"$nulls":6},{"$f":"IF(C223=\"\",\"\",'OPĆI DIO'!$C$1)","v":""},"","","","",{"$nulls":9},"A679072.089","YUFE (The Young Universities for the Future of Europe)","A679072",{"$f":"IFERROR(VLOOKUP(AG223,AKT!$E$4:$G$351,3,FALSE),\"\")","v":"0942"}]
[null,"",null,"",null,"","",null,0,0,{"$nulls":6},{"$f":"IF(C224=\"\",\"\",'OPĆI DIO'!$C$1)","v":""},"","","","",{"$nulls":9},"A679072.090","DIOSI - Developing and implementing hands-on training on Open Science and Open Innovation for Early Career Researchers","A679072",{"$f":"IFERROR(VLOOKUP(AG224,AKT!$E$4:$G$351,3,FALSE),\"\")","v":"0942"}]
[null,"",null,"",null,"","",null,0,0,{"$nulls":6},{"$f":"IF(C225=\"\",\"\",'OPĆI DIO'!$C$1)","v":""},"","","","",{"$nulls":9},"A679072.091","YUFERING - YUFE Transforming Research and Innovation through Europe-wide Knowledge Transfer","A679072",{"$f":"IFERROR(VLOOKUP(AG225,AKT!$E$4:$G$351,3,FALSE),\"\")","v":"0942"}]
[null,"",null,"",null,"","",null,0,0,{"$nulls":6},{"$f":"IF(C226=\"\",\"\",'OPĆI DIO'!$C$1)","v":""},"","","","",{"$nulls":9},"A679072.092","Measuring the Social Dimension of Culture (MESOC)","A679072",{"$f":"IFERROR(VLOOKUP(AG226,AKT!$E$4:$G$351,3,FALSE),\"\")","v":"0942"}]
[null,"",null,"",null,"","",null,0,0,{"$nulls":6},{"$f":"IF(C227=\"\",\"\",'OPĆI DIO'!$C$1)","v":""},"","","","",{"$nulls":9},"A679072.093","KAFKa Kroatistika, Andragogija, Filozofija i Kulturologija - usklađivanje s HKO-om","A679072",{"$f":"IFERROR(VLOOKUP(AG227,AKT!$E$4:$G$351,3,FALSE),\"\")","v":"0942"}]
[null,"",null,"",null,"","",null,0,0,{"$nulls":6},{"$f":"IF(C228=\"\",\"\",'OPĆI DIO'!$C$1)","v":""},"","","","",{"$nulls":9},"A679072.094","INTERREG InnovaMare projekt","A679072",{"$f":"IFERROR(VLOOKUP(AG228,AKT!$E$4:$G$351,3,FALSE),\"\")","v":"0942"}]
[null,"",null,"",null,"","",null,0,0,{"$nulls":6},{"$f":"IF(C229=\"\",\"\",'OPĆI DIO'!$C$1)","v":""},"","","","",{"$nulls":9},"A679072.095","CEKOM Smart City.4DII","A679072",{"$f":"IFERROR(VLOOKUP(AG229,AKT!$E$4:$G$351,3,FALSE),\"\")","v":"0942"}]
[null,"",null,"",null,"","",null,0,0,{"$nulls":6},{"$f":"IF(C230=\"\",\"\",'OPĆI DIO'!$C$1)","v":""},"","","","",{"$nulls":9},"A679072.096","THEY LIVE Student lives revealed through context-based art practices","A679072",{"$f":"IFERROR(VLOOKUP(AG230,AKT!$E$4:$G$351,3,FALSE),\"\")","v":"0942"}]
[null,"",null,"",null,"","",null,0,0,{"$nulls":6},{"$f":"IF(C231=\"\",\"\",'OPĆI DIO'!$C$1)","v":""},"","","","",{"$nulls":9},"A679072.097","ALGOLITTLE","A679072",{"$f":"IFERROR(VLOOKUP(AG231,AKT!$E$4:$G$351,3,FALSE),\"\")","v":"0942"}]
[null,"",null,"",null,"","",null,0,0,{"$nulls":6},{"$f":"IF(C232=\"\",\"\",'OPĆI DIO'!$C$1)","v":""},"","","","",{"$nulls":9},"A679072.098","Peshes - Erazmus +","A679072",{"$f":"IFERROR(VLOOKUP(AG232,AKT!$E$4:$G$351,3,FALSE),\"\")","v":"0942"}]
[null,"",null,"",null,"","",null,0,0,{"$nulls":6},{"$f":"IF(C233=\"\",\"\",'OPĆI DIO'!$C$1)","v":""},"","","","",{"$nulls":9},"A679072.099","INNO HPC","A679072",{"$f":"IFERROR(VLOOKUP(AG233,AKT!$E$4:$G$351,3,FALSE),\"\")","v":"0942"}]
[null,"",null,"",null,"","",null,0,0,{"$nulls":6},{"$f":"IF(C234=\"\",\"\",'OPĆI DIO'!$C$1)","v":""},"","","","",{"$nulls":9},"A679072.100","ORG BIO","A679072",{"$f":"IFERROR(VLOOKUP(AG234,AKT!$E$4:$G$351,3,FALSE),\"\")","v":"0942"}]
[null,"",null,"",null,"","",null,0,0,{"$nulls":6},{"$f":"IF(C235=\"\",\"\",'OPĆI DIO'!$C$1)","v":""},"","","","",{"$nulls":9},"A679072.101","In Math","A679072",{"$f":"IFERROR(VLOOKUP(AG235,AKT!$E$4:$G$351,3,FALSE),\"\")","v":"0942"}]
[null,"",null,"",null,"","",null,0,0,{"$nulls":6},{"$f":"IF(C236=\"\",\"\",'OPĆI DIO'!$C$1)","v":""},"","","","",{"$nulls":9},"A679072.102","Roles of miRNAs in Herpes simplex virus 1 infection“ (HSVmiR-IJ)","A679072",{"$f":"IFERROR(VLOOKUP(AG236,AKT!$E$4:$G$351,3,FALSE),\"\")","v":"0942"}]
[null,"",null,"",null,"","",null,0,0,{"$nulls":6},{"$f":"IF(C237=\"\",\"\",'OPĆI DIO'!$C$1)","v":""},"","","","",{"$nulls":9},"A679072.103","ERASMUS+ CAMPMASTER, SVEUČILIŠTE U RIJECI","A679072",{"$f":"IFERROR(VLOOKUP(AG237,AKT!$E$4:$G$351,3,FALSE),\"\")","v":"0942"}]
[null,"",null,"",null,"","",null,0,0,{"$nulls":6},{"$f":"IF(C238=\"\",\"\",'OPĆI DIO'!$C$1)","v":""},"","","","",{"$nulls":9},"A679072.104","Sustainable service - FFRI","A679072",{"$f":"IFERROR(VLOOKUP(AG238,AKT!$E$4:$G$351,3,FALSE),\"\")","v":"0942"}]
[null,"",null,"",null,"","",null,0,0,{"$nulls":6},{"$f":"IF(C239=\"\",\"\",'OPĆI DIO'!$C$1)","v":""},"","","","",{"$nulls":9},"A679072.105","MEHR- Modernity, Education and Human Rights","A679072",{"$f":"IFERROR(VLOOKUP(AG239,AKT!$E$4:$G$351,3,FALSE),\"\")","v":"0942"}]
[null,"",null,"",null,"","",null,0,0,{"$nulls":6},{"$f":"IF(C240=\"\",\"\",'OPĆI DIO'!$C$1)","v":""},"","","","",{"$nulls":9},"A679072.106","Povećanje zapošljivosti studenata kroz unapređenje Centra za karijere i razvoj stručne prakse – CEZAR","A679072",{"$f":"IFERROR(VLOOKUP(AG240,AKT!$E$4:$G$351,3,FALSE),\"\")","v":"0942"}]
[null,"",null,"",null,"","",null,0,0,{"$nulls":6},{"$f":"IF(C241=\"\",\"\",'OPĆI DIO'!$C$1)","v":""},"","","","",{"$nulls":9},"A679072.107","SLIHE","A679072",{"$f":"IFERROR(VLOOKUP(AG241,AKT!$E$4:$G$351,3,FALSE),\"\")","v":"0942"}]
[null,"",null,"",null,"","",null,0,0,{"$nulls":6},{"$f":"IF(C242=\"\",\"\",'OPĆI DIO'!$C$1)","v":""},"","","","",{"$nulls":9},"A679072.108","Taec","A679072",{"$f":"IFERROR(VLOOKUP(AG242,AKT!$E$4:$G$351,3,FALSE),\"\")","v":"0942"}]
[null,"",null,"",null,"","",null,0,0,{"$nulls":6},{"$f":"IF(C243=\"\",\"\",'OPĆI DIO'!$C$1)","v":""},"","","","",{"$nulls":9},"A679072.109","AHEH","A679072",{"$f":"IFERROR(VLOOKUP(AG243,AKT!$E$4:$G$351,3,FALSE),\"\")","v":"0942"}]
[null,"",null,"",null,"","",null,0,0,{"$nulls":6},{"$f":"IF(C244=\"\",\"\",'OPĆI DIO'!$C$1)","v":""},"","","","",{"$nulls":9},"A679072.110","AThEME","A679072",{"$f":"IFERROR(VLOOKUP(AG244,AKT!$E$4:$G$351,3,FALSE),\"\")","v":"0942"}]
[null,"",null,"",null,"","",null,0,0,{"$nulls":6},{"$f":"IF(C245=\"\",\"\",'OPĆI DIO'!$C$1)","v":""},"","","","",{"$nulls":9},"A679072.111","E-confidence","A679072",{"$f":"IFERROR(VLOOKUP(AG245,AKT!$E$4:$G$351,3,FALSE),\"\")","v":"0942"}]
[null,"",null,"",null,"","",null,0,0,{"$nulls":6},{"$f":"IF(C246=\"\",\"\",'OPĆI DIO'!$C$1)","v":""},"","","","",{"$nulls":9},"A679072.112","HRMinHEI","A679072",{"$f":"IFERROR(VLOOKUP(AG246,AKT!$E$4:$G$351,3,FALSE),\"\")","v":"0942"}]
[null,"",null,"",null,"","",null,0,0,{"$nulls":6},{"$f":"IF(C247=\"\",\"\",'OPĆI DIO'!$C$1)","v":""},"","","","",{"$nulls":9},"A679072.113","ERASMUS+ ATHLETS FOOT","A679072",{"$f":"IFERROR(VLOOKUP(AG247,AKT!$E$4:$G$351,3,FALSE),\"\")","v":"0942"}]
[null,"",null,"",null,"","",null,0,0,{"$nulls":6},{"$f":"IF(C248=\"\",\"\",'OPĆI DIO'!$C$1)","v":""},"","","","",{"$nulls":9},"A679072.114","eTMS IRI projekt","A679072",{"$f":"IFERROR(VLOOKUP(AG248,AKT!$E$4:$G$351,3,FALSE),\"\")","v":"0942"}]
[null,"",null,"",null,"","",null,0,0,{"$nulls":6},{"$f":"IF(C249=\"\",\"\",'OPĆI DIO'!$C$1)","v":""},"","","","",{"$nulls":9},"A679072.115","OPK Konkurentnost i kohezija ProtectAS","A679072",{"$f":"IFERROR(VLOOKUP(AG249,AKT!$E$4:$G$351,3,FALSE),\"\")","v":"0942"}]
[null,"",null,"",null,"","",null,0,0,{"$nulls":6},{"$f":"IF(C250=\"\",\"\",'OPĆI DIO'!$C$1)","v":""},"","","","",{"$nulls":9},"A679072.116","RIVIERA 4SEASONS","A679072",{"$f":"IFERROR(VLOOKUP(AG250,AKT!$E$4:$G$351,3,FALSE),\"\")","v":"0942"}]
[null,"",null,"",null,"","",null,0,0,{"$nulls":6},{"$f":"IF(C251=\"\",\"\",'OPĆI DIO'!$C$1)","v":""},"","","","",{"$nulls":9},"A679072.117","FOST INNO EU","A679072",{"$f":"IFERROR(VLOOKUP(AG251,AKT!$E$4:$G$351,3,FALSE),\"\")","v":"0942"}]
[null,"",null,"",null,"","",null,0,0,{"$nulls":6},{"$f":"IF(C252=\"\",\"\",'OPĆI DIO'!$C$1)","v":""},"","","","",{"$nulls":9},"A679072.118","ERASMUS+ FOODBIZ","A679072",{"$f":"IFERROR(VLOOKUP(AG252,AKT!$E$4:$G$351,3,FALSE),\"\")","v":"0942"}]
[null,"",null,"",null,"","",null,0,0,{"$nulls":6},{"$f":"IF(C253=\"\",\"\",'OPĆI DIO'!$C$1)","v":""},"","","","",{"$nulls":9},"A679072.119","MORZ - Mreže Organizacije Ribara i Znanstvenika","A679072",{"$f":"IFERROR(VLOOKUP(AG253,AKT!$E$4:$G$351,3,FALSE),\"\")","v":"0942"}]
[null,"",null,"",null,"","",null,0,0,{"$nulls":6},{"$f":"IF(C254=\"\",\"\",'OPĆI DIO'!$C$1)","v":""},"","","","",{"$nulls":9},"A679072.120","Jean Monnet - centar izvrsnosti","A679072",{"$f":"IFERROR(VLOOKUP(AG254,AKT!$E$4:$G$351,3,FALSE),\"\")","v":"0942"}]
[null,"",null,"",null,"","",null,0,0,{"$nulls":6},{"$f":"IF(C255=\"\",\"\",'OPĆI DIO'!$C$1)","v":""},"","","","",{"$nulls":9},"A679072.121","IRI-2 ABsistemDCiCloud (korisnik AlarmAutomatika d.o.o.Rijeka)","A679072",{"$f":"IFERROR(VLOOKUP(AG255,AKT!$E$4:$G$351,3,FALSE),\"\")","v":"0942"}]
[null,"",null,"",null,"","",null,0,0,{"$nulls":6},{"$f":"IF(C256=\"\",\"\",'OPĆI DIO'!$C$1)","v":""},"","","","",{"$nulls":9},"A679072.122","IRI-2 Razvoj ekoloških proizvodnih procesa i novih proizvoda visoke kvalitete aktivnostima istraživanja i razvoja (korisnik Feroplast d.o.o.Buje)","A679072",{"$f":"IFERROR(VLOOKUP(AG256,AKT!$E$4:$G$351,3,FALSE),\"\")","v":"0942"}]
[null,"",null,"",null,"","",null,0,0,{"$nulls":6},{"$f":"IF(C257=\"\",\"\",'OPĆI DIO'!$C$1)","v":""},"","","","",{"$nulls":9},"A679072.123","EuroCC","A679072",{"$f":"IFERROR(VLOOKUP(AG257,AKT!$E$4:$G$351,3,FALSE),\"\")","v":"0942"}]
[null,"",null,"",null,"","",null,0,0,{"$nulls":6},{"$f":"IF(C258=\"\",\"\",'OPĆI DIO'!$C$1)","v":""},"","","","",{"$nulls":9},"A679072.124","Arts and Humanities Entrpreneurship Hubs","A679072",{"$f":"IFERROR(VLOOKUP(AG258,AKT!$E$4:$G$351,3,FALSE),\"\")","v":"0942"}]
[null,"",null,"",null,"","",null,0,0,{"$nulls":6},{"$f":"IF(C259=\"\",\"\",'OPĆI DIO'!$C$1)","v":""},"","","","",{"$nulls":9},"A679072.125","Erasmus +Transnational Alignment of English Competences for University Lectures” (TAEC)","A679072",{"$f":"IFERROR(VLOOKUP(AG259,AKT!$E$4:$G$351,3,FALSE),\"\")","v":"0942"}]
[null,{"$f":"IFERROR(VLOOKUP(A260,$V$6:$W$23,2,FALSE),\"\")","v":""},null,{"$f":"IFERROR(VLOOKUP(C260,$Y$5:$AA$129,2,FALSE),\"\")","v":""},null,{"$f":"IFERROR(VLOOKUP(E260,$AE$6:$AF$1763,2,FALSE),\"\")","v":""},{"$f":"IFERROR(VLOOKUP(E260,$AE$6:$AH$1763,4,FALSE),\"\")","v":""},null,0,{"$f":"+H260+I260","v":0},{"$nulls":6},{"$f":"IF(C260=\"\",\"\",'OPĆI DIO'!$C$1)","v":""},{"$f":"LEFT(C260,3)","v":""},{"$f":"LEFT(C260,2)","v":""},{"$f":"IF(U260=\"5\",0,MID(G260,2,2))","v":""},{"$f":"LEFT(C260,1)","v":""},{"$nulls":9},"A679072.126","ERASMUS +  Inclusion through CrowdFunding”(\"InCrowd”)","A679072",{"$f":"IFERROR(VLOOKUP(AG260,AKT!$E$4:$G$351,3,FALSE),\"\")","v":"0942"}]
[null,"",null,"",null,"","",null,0,0,{"$nulls":6},{"$f":"IF(C261=\"\",\"\",'OPĆI DIO'!$C$1)","v":""},"","","","",{"$nulls":9},"A679072.127","ERASMUS + E-laboratory for digital education (LaDiEd)","A679072",{"$f":"IFERROR(VLOOKUP(AG261,AKT!$E$4:$G$351,3,FALSE),\"\")","v":"0942"}]
[null,"",null,"",null,"","",null,0,0,{"$nulls":6},{"$f":"IF(C262=\"\",\"\",'OPĆI DIO'!$C$1)","v":""},"","","","",{"$nulls":9},"A679072.128","INTERREG ADRION EUREKA","A679072",{"$f":"IFERROR(VLOOKUP(AG262,AKT!$E$4:$G$351,3,FALSE),\"\")","v":"0942"}]
[null,"",null,"",null,"","",null,0,0,{"$nulls":6},{"$f":"IF(C263=\"\",\"\",'OPĆI DIO'!$C$1)","v":""},"","","","",{"$nulls":9},"A679072.129","Erazmus partnerske zemlje 2019/2021 - HR01-KA107-060242","A679072",{"$f":"IFERROR(VLOOKUP(AG263,AKT!$E$4:$G$351,3,FALSE),\"\")","v":"0942"}]
[null,"",null,"",null,"","",null,0,0,{"$nulls":6},{"$f":"IF(C264=\"\",\"\",'OPĆI DIO'!$C$1)","v":""},"","","","",{"$nulls":9},"A679072.130","Erazmus partnerske zemlje 2018/2020 - HR01-KA107-046921","A679072",{"$f":"IFERROR(VLOOKUP(AG264,AKT!$E$4:$G$351,3,FALSE),\"\")","v":"0942"}]
[null,"",null,"",null,"","",null,0,0,{"$nulls":6},{"$f":"IF(C265=\"\",\"\",'OPĆI DIO'!$C$1)","v":""},"","","","",{"$nulls":9},"A679072.131","Erazmus 2020 - HR01-KA107-077121",{"$f":"LEFT(AE265,7)","v":"A679072"},{"$f":"IFERROR(VLOOKUP(AG265,AKT!$E$4:$G$351,3,FALSE),\"\")","v":"0942"}]
[null,"",null,"",null,"","",null,0,0,{"$nulls":6},{"$f":"IF(C266=\"\",\"\",'OPĆI DIO'!$C$1)","v":""},"","","","",{"$nulls":9},"A679072.132","Erazmus 2019/20 - HR01-KA103-060229","A679072",{"$f":"IFERROR(VLOOKUP(AG266,AKT!$E$4:$G$351,3,FALSE),\"\")","v":"0942"}]
[null,"",null,"",null,"","",null,0,0,{"$nulls":6},{"$f":"IF(C267=\"\",\"\",'OPĆI DIO'!$C$1)","v":""},"","","","",{"$nulls":9},"A679072.133","Erazmus 2020/21 - HR01-KA103-077087","A679072",{"$f":"IFERROR(VLOOKUP(AG267,AKT!$E$4:$G$351,3,FALSE),\"\")","v":"0942"}]
[null,"",null,"",null,"","",null,0,0,{"$nulls":6},{"$f":"IF(C268=\"\",\"\",'OPĆI DIO'!$C$1)","v":""},"","","","",{"$nulls":9},"A679072.134","Zdravstveni opservatorij","A679072",{"$f":"IFERROR(VLOOKUP(AG268,AKT!$E$4:$G$351,3,FALSE),\"\")","v":"0942"}]
[null,"",null,"",null,"","",null,0,0,{"$nulls":6},{"$f":"IF(C269=\"\",\"\",'OPĆI DIO'!$C$1)","v":""},"","","","",{"$nulls":9},"A679072.135","e-škole:  Razvoj sustava digitalno zrelih škola","A679072",{"$f":"IFERROR(VLOOKUP(AG269,AKT!$E$4:$G$351,3,FALSE),\"\")","v":"0942"}]
[null,"",null,"",null,"","",null,0,0,{"$nulls":6},{"$f":"IF(C270=\"\",\"\",'OPĆI DIO'!$C$1)","v":""},"","","","",{"$nulls":9},"A679072.136","ON IT - mrežno pravo u turizmu","A679072",{"$f":"IFERROR(VLOOKUP(AG270,AKT!$E$4:$G$351,3,FALSE),\"\")","v":"0942"}]
[null,"",null,"",null,"","",null,0,0,{"$nulls":6},{"$f":"IF(C271=\"\",\"\",'OPĆI DIO'!$C$1)","v":""},"","","","",{"$nulls":9},"A679072.137","INCOMPEDU - INOVATIVNO NATJECANJE U ONLINE VISOKOM OBRAZOVANJU","A679072",{"$f":"IFERROR(VLOOKUP(AG271,AKT!$E$4:$G$351,3,FALSE),\"\")","v":"0942"}]
[null,"",null,"",null,"","",null,0,0,{"$nulls":6},{"$f":"IF(C272=\"\",\"\",'OPĆI DIO'!$C$1)","v":""},"","","","",{"$nulls":9},"A679072.138","Predgotovljene zgrade gotovo nulte energije proizvedene na industrijski način","A679072",{"$f":"IFERROR(VLOOKUP(AG272,AKT!$E$4:$G$351,3,FALSE),\"\")","v":"0942"}]
[null,"",null,"",null,"","",null,0,0,{"$nulls":6},{"$f":"IF(C273=\"\",\"\",'OPĆI DIO'!$C$1)","v":""},"","","","",{"$nulls":9},"A679072.139","ZACJEL","A679072",{"$f":"IFERROR(VLOOKUP(AG273,AKT!$E$4:$G$351,3,FALSE),\"\")","v":"0942"}]
[null,"",null,"",null,"","",null,0,0,{"$nulls":6},{"$f":"IF(C274=\"\",\"\",'OPĆI DIO'!$C$1)","v":""},"","","","",{"$nulls":9},"A679072.140","PRI-MJER","A679072",{"$f":"IFERROR(VLOOKUP(AG274,AKT!$E$4:$G$351,3,FALSE),\"\")","v":"0942"}]
[null,"",null,"",null,"","",null,0,0,{"$nulls":6},{"$f":"IF(C275=\"\",\"\",'OPĆI DIO'!$C$1)","v":""},"","","","",{"$nulls":9},"A679072.141","Biologija citomegalovirusne infekcije u mozgu tijekom razvoja i u latenciji","A679072",{"$f":"IFERROR(VLOOKUP(AG275,AKT!$E$4:$G$351,3,FALSE),\"\")","v":"0942"}]
[null,"",null,"",null,"","",null,0,0,{"$nulls":6},{"$f":"IF(C276=\"\",\"\",'OPĆI DIO'!$C$1)","v":""},"","","","",{"$nulls":9},"A679072.142","Reprogramiranje IEL -a na crijevnoj epitelnoj barijeri tijekom infekcije virusom","A679072",{"$f":"IFERROR(VLOOKUP(AG276,AKT!$E$4:$G$351,3,FALSE),\"\")","v":"0942"}]
[null,"",null,"",null,"","",null,0,0,{"$nulls":6},{"$f":"IF(C277=\"\",\"\",'OPĆI DIO'!$C$1)","v":""},"","","","",{"$nulls":9},"A679072.143","E-obuka o primjeni obiteljskog zakona EU-a za prekogranične parove kroz tečajeve e-učenja","A679072",{"$f":"IFERROR(VLOOKUP(AG277,AKT!$E$4:$G$351,3,FALSE),\"\")","v":"0942"}]
[null,"",null,"",null,"","",null,0,0,{"$nulls":6},{"$f":"IF(C278=\"\",\"\",'OPĆI DIO'!$C$1)","v":""},"","","","",{"$nulls":9},"A679072.144","EMPLOYS - razumijevanje, vrednovanje i poboljšanje dobrog upravljanja u radnim odnosima sportaša u olimpijskim sportovima u Europi","A679072",{"$f":"IFERROR(VLOOKUP(AG278,AKT!$E$4:$G$351,3,FALSE),\"\")","v":"0942"}]
[null,"",null,"",null,"","",null,0,0,{"$nulls":6},{"$f":"IF(C279=\"\",\"\",'OPĆI DIO'!$C$1)","v":""},"","","","",{"$nulls":9},"A679072.145","Erazmus +  HiPowerEd","A679072",{"$f":"IFERROR(VLOOKUP(AG279,AKT!$E$4:$G$351,3,FALSE),\"\")","v":"0942"}]
[null,"",null,"",null,"","",null,0,0,{"$nulls":6},{"$f":"IF(C280=\"\",\"\",'OPĆI DIO'!$C$1)","v":""},"","","","",{"$nulls":9},"A679072.146","Erazmus 2021 - HR01-KA131-HED-000003063","A679072",{"$f":"IFERROR(VLOOKUP(AG280,AKT!$E$4:$G$351,3,FALSE),\"\")","v":"0942"}]
[null,"",null,"",null,"","",null,0,0,{"$nulls":6},{"$f":"IF(C281=\"\",\"\",'OPĆI DIO'!$C$1)","v":""},"","","","",{"$nulls":9},"A679072.147","Inno4YUFE","A679072",{"$f":"IFERROR(VLOOKUP(AG281,AKT!$E$4:$G$351,3,FALSE),\"\")","v":"0942"}]
[null,"",null,"",null,"","",null,0,0,{"$nulls":6},{"$f":"IF(C282=\"\",\"\",'OPĆI DIO'!$C$1)","v":""},"","","","",{"$nulls":9},"A679072.148","APOLD - Akademsko politehničko društvo","A679072",{"$f":"IFERROR(VLOOKUP(AG282,AKT!$E$4:$G$351,3,FALSE),\"\")","v":"0942"}]
[null,"",null,"",null,"","",null,0,0,{"$nulls":6},{"$f":"IF(C283=\"\",\"\",'OPĆI DIO'!$C$1)","v":""},"","","","",{"$nulls":9},"A679072.149","Flumen","A679072",{"$f":"IFERROR(VLOOKUP(AG283,AKT!$E$4:$G$351,3,FALSE),\"\")","v":"0942"}]
[null,"",null,"",null,"","",null,0,0,{"$nulls":6},{"$f":"IF(C284=\"\",\"\",'OPĆI DIO'!$C$1)","v":""},"","","","",{"$nulls":9},"A679072.150","EnLeMaH - Erazmus +","A679072",{"$f":"IFERROR(VLOOKUP(AG284,AKT!$E$4:$G$351,3,FALSE),\"\")","v":"0942"}]
[null,"",null,"",null,"","",null,0,0,{"$nulls":6},{"$f":"IF(C285=\"\",\"\",'OPĆI DIO'!$C$1)","v":""},"","","","",{"$nulls":9},"A679072.151","Projekt STEM(AJMO!)","A679072",{"$f":"IFERROR(VLOOKUP(AG285,AKT!$E$4:$G$351,3,FALSE),\"\")","v":"0942"}]
[null,"",null,"",null,"","",null,0,0,{"$nulls":6},{"$f":"IF(C286=\"\",\"\",'OPĆI DIO'!$C$1)","v":""},"","","","",{"$nulls":9},"A679072.152","ERASMUS + Sustrainable - Obuka za održivost","A679072",{"$f":"IFERROR(VLOOKUP(AG286,AKT!$E$4:$G$351,3,FALSE),\"\")","v":"0942"}]
[null,"",null,"",null,"","",null,0,0,{"$nulls":6},{"$f":"IF(C287=\"\",\"\",'OPĆI DIO'!$C$1)","v":""},"","","","",{"$nulls":9},"A679072.153","ERASMUS + HIPowerEd","A679072",{"$f":"IFERROR(VLOOKUP(AG287,AKT!$E$4:$G$351,3,FALSE),\"\")","v":"0942"}]
[null,"",null,"",null,"","",null,0,0,{"$nulls":6},{"$f":"IF(C288=\"\",\"\",'OPĆI DIO'!$C$1)","v":""},"","","","",{"$nulls":9},"A679072.154","IRI-2 Adria Smart Room","A679072",{"$f":"IFERROR(VLOOKUP(AG288,AKT!$E$4:$G$351,3,FALSE),\"\")","v":"0942"}]
[null,"",null,"",null,"","",null,0,0,{"$nulls":6},{"$f":"IF(C289=\"\",\"\",'OPĆI DIO'!$C$1)","v":""},"","","","",{"$nulls":9},"A679072.155","ERASMUS+ BLISS","A679072",{"$f":"IFERROR(VLOOKUP(AG289,AKT!$E$4:$G$351,3,FALSE),\"\")","v":"0942"}]
[null,"",null,"",null,"","",null,0,0,{"$nulls":6},{"$f":"IF(C290=\"\",\"\",'OPĆI DIO'!$C$1)","v":""},"","","","",{"$nulls":9},"A679072.156","ERASMUS+ TSAAI","A679072",{"$f":"IFERROR(VLOOKUP(AG290,AKT!$E$4:$G$351,3,FALSE),\"\")","v":"0942"}]
[null,"",null,"",null,"","",null,0,0,{"$nulls":6},{"$f":"IF(C291=\"\",\"\",'OPĆI DIO'!$C$1)","v":""},"","","","",{"$nulls":9},"A679072.157","Euro CC2","A679072",{"$f":"IFERROR(VLOOKUP(AG291,AKT!$E$4:$G$351,3,FALSE),\"\")","v":"0942"}]
[null,"",null,"",null,"","",null,0,0,{"$nulls":6},{"$f":"IF(C292=\"\",\"\",'OPĆI DIO'!$C$1)","v":""},"","","","",{"$nulls":9},"A679072.158","ERASMUS+ WICT","A679072",{"$f":"IFERROR(VLOOKUP(AG292,AKT!$E$4:$G$351,3,FALSE),\"\")","v":"0942"}]
[null,"",null,"",null,"","",null,0,0,{"$nulls":6},{"$f":"IF(C293=\"\",\"\",'OPĆI DIO'!$C$1)","v":""},"","","","",{"$nulls":9},"A679072.159","ERASMUS+ Girls go STEM","A679072",{"$f":"IFERROR(VLOOKUP(AG293,AKT!$E$4:$G$351,3,FALSE),\"\")","v":"0942"}]
[null,"",null,"",null,"","",null,0,0,{"$nulls":6},{"$f":"IF(C294=\"\",\"\",'OPĆI DIO'!$C$1)","v":""},"","","","",{"$nulls":9},"A679072.160","INNO2MARE","A679072",{"$f":"IFERROR(VLOOKUP(AG294,AKT!$E$4:$G$351,3,FALSE),\"\")","v":"0942"}]
[null,"",null,"",null,"","",null,0,0,{"$nulls":6},{"$f":"IF(C295=\"\",\"\",'OPĆI DIO'!$C$1)","v":""},"","","","",{"$nulls":9},"A679072.161","ERASMUS + THE CAREER GARDEN","A679072",{"$f":"IFERROR(VLOOKUP(AG295,AKT!$E$4:$G$351,3,FALSE),\"\")","v":"0942"}]
[null,"",null,"",null,"","",null,0,0,{"$nulls":6},{"$f":"IF(C296=\"\",\"\",'OPĆI DIO'!$C$1)","v":""},"","","","",{"$nulls":9},"A679072.162","UKV","A679072",{"$f":"IFERROR(VLOOKUP(AG296,AKT!$E$4:$G$351,3,FALSE),\"\")","v":"0942"}]
[null,"",null,"",null,"","",null,0,0,{"$nulls":6},{"$f":"IF(C297=\"\",\"\",'OPĆI DIO'!$C$1)","v":""},"","","","",{"$nulls":9},"A679072.163","Collaborative and transparent use of Learning Analytics in online university courses, valuing the learner role and exploiting advanced monitoring equipment (skraćeno: We-Collab)","A679072",{"$f":"IFERROR(VLOOKUP(AG297,AKT!$E$4:$G$351,3,FALSE),\"\")","v":"0942"}]
[null,"",null,"",null,"","",null,0,0,{"$nulls":6},{"$f":"IF(C298=\"\",\"\",'OPĆI DIO'!$C$1)","v":""},"","","","",{"$nulls":9},"A679072.164","The International Summer School “International Environment and European Integration\"","A679072",{"$f":"IFERROR(VLOOKUP(AG298,AKT!$E$4:$G$351,3,FALSE),\"\")","v":"0942"}]
[null,"",null,"",null,"","",null,0,0,{"$nulls":6},{"$f":"IF(C299=\"\",\"\",'OPĆI DIO'!$C$1)","v":""},"","","","",{"$nulls":9},"A679072.165","HORIZON BOLSTER","A679072",{"$f":"IFERROR(VLOOKUP(AG299,AKT!$E$4:$G$351,3,FALSE),\"\")","v":"0942"}]
[null,"",null,"",null,"","",null,0,0,{"$nulls":6},{"$f":"IF(C300=\"\",\"\",'OPĆI DIO'!$C$1)","v":""},"","","","",{"$nulls":9},"A679072.166","HYPRO4ST","A679072",{"$f":"IFERROR(VLOOKUP(AG300,AKT!$E$4:$G$351,3,FALSE),\"\")","v":"0942"}]
[null,"",null,"",null,"","",null,0,0,{"$nulls":6},{"$f":"IF(C301=\"\",\"\",'OPĆI DIO'!$C$1)","v":""},"","","","",{"$nulls":9},"A679072.167","SOCIAL GREEN DEAL","A679072",{"$f":"IFERROR(VLOOKUP(AG301,AKT!$E$4:$G$351,3,FALSE),\"\")","v":"0942"}]
[null,"",null,"",null,"","",null,0,0,{"$nulls":6},{"$f":"IF(C302=\"\",\"\",'OPĆI DIO'!$C$1)","v":""},"","","","",{"$nulls":9},"A679072.168","EU -FAMPRO  2020","A679072",{"$f":"IFERROR(VLOOKUP(AG302,AKT!$E$4:$G$351,3,FALSE),\"\")","v":"0942"}]
[null,"",null,"",null,"","",null,0,0,{"$nulls":6},{"$f":"IF(C303=\"\",\"\",'OPĆI DIO'!$C$1)","v":""},"","","","",{"$nulls":9},"A679072.169","ERASMUS+ EEARLYCARE-T","A679072",{"$f":"IFERROR(VLOOKUP(AG303,AKT!$E$4:$G$351,3,FALSE),\"\")","v":"0942"}]
[null,"",null,"",null,"","",null,0,0,{"$nulls":6},{"$f":"IF(C304=\"\",\"\",'OPĆI DIO'!$C$1)","v":""},"","","","",{"$nulls":9},"A679072.170","ERASMUS+ TIPS","A679072",{"$f":"IFERROR(VLOOKUP(AG304,AKT!$E$4:$G$351,3,FALSE),\"\")","v":"0942"}]
[null,"",null,"",null,"","",null,0,0,{"$nulls":6},{"$f":"IF(C305=\"\",\"\",'OPĆI DIO'!$C$1)","v":""},"","","","",{"$nulls":9},"A679072.171","Young Universities for the Future of Europe (YUFE) Alliance 2030","A679072",{"$f":"IFERROR(VLOOKUP(AG305,AKT!$E$4:$G$351,3,FALSE),\"\")","v":"0942"}]
[null,"",null,"",null,"","",null,0,0,{"$nulls":6},{"$f":"IF(C306=\"\",\"\",'OPĆI DIO'!$C$1)","v":""},"","","","",{"$nulls":9},"A679072.172","RAPIDE - Relevant assessment and pedagogies for inclusive digital education","A679072",{"$f":"IFERROR(VLOOKUP(AG306,AKT!$E$4:$G$351,3,FALSE),\"\")","v":"0942"}]
[null,"",null,"",null,"","",null,0,0,{"$nulls":6},{"$f":"IF(C307=\"\",\"\",'OPĆI DIO'!$C$1)","v":""},"","","","",{"$nulls":9},"A679072.173","SHEFCE - Steering Higher Education for Community Engagement","A679072",{"$f":"IFERROR(VLOOKUP(AG307,AKT!$E$4:$G$351,3,FALSE),\"\")","v":"0942"}]
[null,"",null,"",null,"","",null,0,0,{"$nulls":6},{"$f":"IF(C308=\"\",\"\",'OPĆI DIO'!$C$1)","v":""},"","","","",{"$nulls":9},"A679072.174","OPUS - Open Universal Science","A679072",{"$f":"IFERROR(VLOOKUP(AG308,AKT!$E$4:$G$351,3,FALSE),\"\")","v":"0942"}]
[null,"",null,"",null,"","",null,0,0,{"$nulls":6},{"$f":"IF(C309=\"\",\"\",'OPĆI DIO'!$C$1)","v":""},"","","","",{"$nulls":9},"A679072.175","INNO2MARE - Strengthening the capacity for excellence of Slovenian and Croatian innovation ecosystems to support the digital and green transitions of maritime regions”","A679072",{"$f":"IFERROR(VLOOKUP(AG309,AKT!$E$4:$G$351,3,FALSE),\"\")","v":"0942"}]
[null,"",null,"",null,"","",null,0,0,{"$nulls":6},{"$f":"IF(C310=\"\",\"\",'OPĆI DIO'!$C$1)","v":""},"","","","",{"$nulls":9},"A679072.176","YUFE4Postdocs - Young Universities for the Future of Europe - Postdoc programme","A679072",{"$f":"IFERROR(VLOOKUP(AG310,AKT!$E$4:$G$351,3,FALSE),\"\")","v":"0942"}]
[null,"",null,"",null,"","",null,0,0,{"$nulls":6},{"$f":"IF(C311=\"\",\"\",'OPĆI DIO'!$C$1)","v":""},"","","","",{"$nulls":9},"A679072.177","EDIH Adria - European Digital Innovation Hub Adriatic Croatia","A679072",{"$f":"IFERROR(VLOOKUP(AG311,AKT!$E$4:$G$351,3,FALSE),\"\")","v":"0942"}]
[null,"",null,"",null,"","",null,0,0,{"$nulls":6},{"$f":"IF(C312=\"\",\"\",'OPĆI DIO'!$C$1)","v":""},"","","","",{"$nulls":9},"A679072.178","SECURE - Sustainable Careers for Researcher Empowerment","A679072",{"$f":"IFERROR(VLOOKUP(AG312,AKT!$E$4:$G$351,3,FALSE),\"\")","v":"0942"}]
[null,"",null,"",null,"","",null,0,0,{"$nulls":6},{"$f":"IF(C313=\"\",\"\",'OPĆI DIO'!$C$1)","v":""},"","","","",{"$nulls":9},"A679072.179","Erasmus mobilnost - 2022-1-HR01-KA131-HED-000051706","A679072",{"$f":"IFERROR(VLOOKUP(AG313,AKT!$E$4:$G$351,3,FALSE),\"\")","v":"0942"}]
[null,"",null,"",null,"","",null,0,0,{"$nulls":6},{"$f":"IF(C314=\"\",\"\",'OPĆI DIO'!$C$1)","v":""},"","","","",{"$nulls":9},"A679072.180","Erasmus mobilnost - 2022-1-HR01-KA171-HED-000072407","A679072",{"$f":"IFERROR(VLOOKUP(AG314,AKT!$E$4:$G$351,3,FALSE),\"\")","v":"0942"}]
[null,"",null,"",null,"","",null,0,0,{"$nulls":6},{"$f":"IF(C315=\"\",\"\",'OPĆI DIO'!$C$1)","v":""},"","","","",{"$nulls":9},"A679072.181","MORZ - Mreža organizacija znanstvenika i ribara","A679072",{"$f":"IFERROR(VLOOKUP(AG315,AKT!$E$4:$G$351,3,FALSE),\"\")","v":"0942"}]
[null,"",null,"",null,"","",null,0,0,{"$nulls":6},{"$f":"IF(C316=\"\",\"\",'OPĆI DIO'!$C$1)","v":""},"","","","",{"$nulls":9},"A679072.182","RIBES - Razvoj Inovativnih Brodskih Eneregetskih Sustava","A679072",{"$f":"IFERROR(VLOOKUP(AG316,AKT!$E$4:$G$351,3,FALSE),\"\")","v":"0942"}]
[null,"",null,"",null,"","",null,0,0,{"$nulls":6},{"$f":"IF(C317=\"\",\"\",'OPĆI DIO'!$C$1)","v":""},"","","","",{"$nulls":9},"A679072.183","The Western University of Timișoara","A679072",{"$f":"IFERROR(VLOOKUP(AG317,AKT!$E$4:$G$351,3,FALSE),\"\")","v":"0942"}]
[null,"",null,"",null,"","",null,0,0,{"$nulls":6},{"$f":"IF(C318=\"\",\"\",'OPĆI DIO'!$C$1)","v":""},"","","","",{"$nulls":9},"A679072.184","INTERREG CLASS 4.0.","A679072",{"$f":"IFERROR(VLOOKUP(AG318,AKT!$E$4:$G$351,3,FALSE),\"\")","v":"0942"}]
[null,"",null,"",null,"","",null,0,0,{"$nulls":6},{"$f":"IF(C319=\"\",\"\",'OPĆI DIO'!$C$1)","v":""},"","","","",{"$nulls":9},"A679072.185","DigSea","A679072",{"$f":"IFERROR(VLOOKUP(AG319,AKT!$E$4:$G$351,3,FALSE),\"\")","v":"0942"}]
[null,"",null,"",null,"","",null,0,0,{"$nulls":6},{"$f":"IF(C320=\"\",\"\",'OPĆI DIO'!$C$1)","v":""},"","","","",{"$nulls":9},"A679072.186","INNO2MARE HORIZON2020","A679072",{"$f":"IFERROR(VLOOKUP(AG320,AKT!$E$4:$G$351,3,FALSE),\"\")","v":"0942"}]
[null,"",null,"",null,"","",null,0,0,{"$nulls":6},{"$f":"IF(C321=\"\",\"\",'OPĆI DIO'!$C$1)","v":""},"","","","",{"$nulls":9},"A679072.187","HEALTHY SAILING HORIZON2020","A679072",{"$f":"IFERROR(VLOOKUP(AG321,AKT!$E$4:$G$351,3,FALSE),\"\")","v":"0942"}]
[null,"",null,"",null,"","",null,0,0,{"$nulls":6},{"$f":"IF(C322=\"\",\"\",'OPĆI DIO'!$C$1)","v":""},"","","","",{"$nulls":9},"A679072.188","SAFENAV HORIZON2020","A679072",{"$f":"IFERROR(VLOOKUP(AG322,AKT!$E$4:$G$351,3,FALSE),\"\")","v":"0942"}]
[null,"",null,"",null,"","",null,0,0,{"$nulls":6},{"$f":"IF(C323=\"\",\"\",'OPĆI DIO'!$C$1)","v":""},"","","","",{"$nulls":9},"A679072.189","UPSKILLS","A679072",{"$f":"IFERROR(VLOOKUP(AG323,AKT!$E$4:$G$351,3,FALSE),\"\")","v":"0942"}]
[null,{"$f":"IFERROR(VLOOKUP(A324,$V$6:$W$23,2,FALSE),\"\")","v":""},null,{"$f":"IFERROR(VLOOKUP(C324,$Y$5:$AA$129,2,FALSE),\"\")","v":""},null,{"$f":"IFERROR(VLOOKUP(E324,$AE$6:$AF$1763,2,FALSE),\"\")","v":""},{"$f":"IFERROR(VLOOKUP(E324,$AE$6:$AH$1763,4,FALSE),\"\")","v":""},null,0,{"$f":"+H324+I324","v":0},{"$nulls":6},{"$f":"IF(C324=\"\",\"\",'OPĆI DIO'!$C$1)","v":""},{"$f":"LEFT(C324,3)","v":""},{"$f":"LEFT(C324,2)","v":""},{"$f":"IF(U324=\"5\",0,MID(G324,2,2))","v":""},{"$f":"LEFT(C324,1)","v":""},{"$nulls":9},"A679072.190","TEAM","A679072",{"$f":"IFERROR(VLOOKUP(AG324,AKT!$E$4:$G$351,3,FALSE),\"\")","v":"0942"}]
[null,"",null,"",null,"","",null,0,0,{"$nulls":6},{"$f":"IF(C325=\"\",\"\",'OPĆI DIO'!$C$1)","v":""},"","","","",{"$nulls":9},"A679072.191","REVENANT","A679072",{"$f":"IFERROR(VLOOKUP(AG325,AKT!$E$4:$G$351,3,FALSE),\"\")","v":"0942"}]
[null,"",null,"",null,"","",null,0,0,{"$nulls":6},{"$f":"IF(C326=\"\",\"\",'OPĆI DIO'!$C$1)","v":""},"","","","",{"$nulls":9},"A679072.192","REMCO  \"Upskilling (digital skills) workers in the counselling sector for remote services provision","A679072",{"$f":"IFERROR(VLOOKUP(AG326,AKT!$E$4:$G$351,3,FALSE),\"\")","v":"0942"}]
[null,"",null,"",null,"","",null,0,0,{"$nulls":6},{"$f":"IF(C327=\"\",\"\",'OPĆI DIO'!$C$1)","v":""},"","","","",{"$nulls":9},"A679072.193","The Western University of Timișoara","A679072",{"$f":"IFERROR(VLOOKUP(AG327,AKT!$E$4:$G$351,3,FALSE),\"\")","v":"0942"}]
[null,"",null,"",null,"","",null,0,0,{"$nulls":6},{"$f":"IF(C328=\"\",\"\",'OPĆI DIO'!$C$1)","v":""},"","","","",{"$nulls":9},"A679072.194","Noć istraživača","A679072",{"$f":"IFERROR(VLOOKUP(AG328,AKT!$E$4:$G$351,3,FALSE),\"\")","v":"0942"}]
[null,"",null,"",null,"","",null,0,0,{"$nulls":6},{"$f":"IF(C329=\"\",\"\",'OPĆI DIO'!$C$1)","v":""},"","","","",{"$nulls":9},"A679072.195","ERASMUS + OPEN GLASS ROOM",{"$f":"LEFT(AE329,7)","v":"A679072"},{"$f":"IFERROR(VLOOKUP(AG329,AKT!$E$4:$G$351,3,FALSE),\"\")","v":"0942"}]
[null,"",null,"",null,"","",null,0,0,{"$nulls":6},{"$f":"IF(C330=\"\",\"\",'OPĆI DIO'!$C$1)","v":""},"","","","",{"$nulls":9},"A679072.196","GDHRNet - Global Digital Human Rights Network","A679072",{"$f":"IFERROR(VLOOKUP(AG330,AKT!$E$4:$G$351,3,FALSE),\"\")","v":"0942"}]
[null,"",null,"",null,"","",null,0,0,{"$nulls":6},{"$f":"IF(C331=\"\",\"\",'OPĆI DIO'!$C$1)","v":""},"","","","",{"$nulls":9},"A679072.197","LAW IN EVERYDAY LIFE - THE LAW PROJECT","A679072",{"$f":"IFERROR(VLOOKUP(AG331,AKT!$E$4:$G$351,3,FALSE),\"\")","v":"0942"}]
[null,"",null,"",null,"","",null,0,0,{"$nulls":6},{"$f":"IF(C332=\"\",\"\",'OPĆI DIO'!$C$1)","v":""},"","","","",{"$nulls":9},"A679072.198","(Horizon Europe) ATLANTIS – Improved Resilience of Critical Infrastructures Against Large Scale Transnational and Systemic Risks","A679072",{"$f":"IFERROR(VLOOKUP(AG332,AKT!$E$4:$G$351,3,FALSE),\"\")","v":"0942"}]
[null,"",null,"",null,"","",null,0,0,{"$nulls":6},{"$f":"IF(C333=\"\",\"\",'OPĆI DIO'!$C$1)","v":""},"","","","",{"$nulls":9},"A679072.199","EMFAF-2023-BlueCareers Next Blue Generation","A679072",{"$f":"IFERROR(VLOOKUP(AG333,AKT!$E$4:$G$351,3,FALSE),\"\")","v":"0942"}]
[null,"",null,"",null,"","",null,0,0,{"$nulls":6},{"$f":"IF(C334=\"\",\"\",'OPĆI DIO'!$C$1)","v":""},"","","","",{"$nulls":9},"A679072.200","– The Usage of Multipurpose Tasks in Maritime Simulation","A679072",{"$f":"IFERROR(VLOOKUP(AG334,AKT!$E$4:$G$351,3,FALSE),\"\")","v":"0942"}]
[null,"",null,"",null,"","",null,0,0,{"$nulls":6},{"$f":"IF(C335=\"\",\"\",'OPĆI DIO'!$C$1)","v":""},"","","","",{"$nulls":9},"A679072.201","Erasmus+ MASK - Marine Robots for Better Sea Knowledge Awareness","A679072",{"$f":"IFERROR(VLOOKUP(AG335,AKT!$E$4:$G$351,3,FALSE),\"\")","v":"0942"}]
[null,"",null,"",null,"","",null,0,0,{"$nulls":6},{"$f":"IF(C336=\"\",\"\",'OPĆI DIO'!$C$1)","v":""},"","","","",{"$nulls":9},"A679072.202","(Horizon Europe) ZEAS - Ferry demonstrator for the switch to safe use of sustainable climate neutral fuels in Adriatic – Zero Emission Adriatic Ships.","A679072",{"$f":"IFERROR(VLOOKUP(AG336,AKT!$E$4:$G$351,3,FALSE),\"\")","v":"0942"}]
[null,"",null,"",null,"","",null,0,0,{"$nulls":6},{"$f":"IF(C337=\"\",\"\",'OPĆI DIO'!$C$1)","v":""},"","","","",{"$nulls":9},"A679072.203","REVENANT","A679072",{"$f":"IFERROR(VLOOKUP(AG337,AKT!$E$4:$G$351,3,FALSE),\"\")","v":"0942"}]
[null,"",null,"",null,"","",null,0,0,{"$nulls":6},{"$f":"IF(C338=\"\",\"\",'OPĆI DIO'!$C$1)","v":""},"","","","",{"$nulls":9},"A679072.204","Leveraging Individual SDG Contributions by University Staff (SDG i-Level)","A679072",{"$f":"IFERROR(VLOOKUP(AG338,AKT!$E$4:$G$351,3,FALSE),\"\")","v":"0942"}]
[null,"",null,"",null,"","",null,0,0,{"$nulls":6},{"$f":"IF(C339=\"\",\"\",'OPĆI DIO'!$C$1)","v":""},"","","","",{"$nulls":9},"A679072.205","UPSKILLS","A679072",{"$f":"IFERROR(VLOOKUP(AG339,AKT!$E$4:$G$351,3,FALSE),\"\")","v":"0942"}]
[null,"",null,"",null,"","",null,0,0,{"$nulls":6},{"$f":"IF(C340=\"\",\"\",'OPĆI DIO'!$C$1)","v":""},"","","","",{"$nulls":9},"A679072.206","Erasmus+ projekt „DiToM: Diagnostic Tool in Mathematics“","A679072",{"$f":"IFERROR(VLOOKUP(AG340,AKT!$E$4:$G$351,3,FALSE),\"\")","v":"0942"}]
[null,"",null,"",null,"","",null,0,0,{"$nulls":6},{"$f":"IF(C341=\"\",\"\",'OPĆI DIO'!$C$1)","v":""},"","","","",{"$nulls":9},"A679072.207","INTERREG BLUE RECHARGE","A679072",{"$f":"IFERROR(VLOOKUP(AG341,AKT!$E$4:$G$351,3,FALSE),\"\")","v":"0942"}]
[null,"",null,"",null,"","",null,0,0,{"$nulls":6},{"$f":"IF(C342=\"\",\"\",'OPĆI DIO'!$C$1)","v":""},"","","","",{"$nulls":9},"A679072.208","ECOMONITOR","A679072",{"$f":"IFERROR(VLOOKUP(AG342,AKT!$E$4:$G$351,3,FALSE),\"\")","v":"0942"}]
[null,"",null,"",null,"","",null,0,0,{"$nulls":6},{"$f":"IF(C343=\"\",\"\",'OPĆI DIO'!$C$1)","v":""},"","","","",{"$nulls":9},"A679072.209","Virtual EDU - 2022-1-RO01-KA220-HED-000086331","A679072",{"$f":"IFERROR(VLOOKUP(AG343,AKT!$E$4:$G$351,3,FALSE),\"\")","v":"0942"}]
[null,"",null,"",null,"","",null,0,0,{"$nulls":6},{"$f":"IF(C344=\"\",\"\",'OPĆI DIO'!$C$1)","v":""},"","","","",{"$nulls":9},"A679072.210","FOCI - Future-proof Criteria for Innovative European Education","A679072",{"$f":"IFERROR(VLOOKUP(AG344,AKT!$E$4:$G$351,3,FALSE),\"\")","v":"0942"}]
[null,"",null,"",null,"","",null,0,0,{"$nulls":6},{"$f":"IF(C345=\"\",\"\",'OPĆI DIO'!$C$1)","v":""},"","","","",{"$nulls":9},"A679072.211","CO-PLANET - Community Placemaking Network for SE Europe","A679072",{"$f":"IFERROR(VLOOKUP(AG345,AKT!$E$4:$G$351,3,FALSE),\"\")","v":"0942"}]
[null,"",null,"",null,"","",null,0,0,{"$nulls":6},{"$f":"IF(C346=\"\",\"\",'OPĆI DIO'!$C$1)","v":""},"","","","",{"$nulls":9},"A679072.212","ICONIC","A679072",{"$f":"IFERROR(VLOOKUP(AG346,AKT!$E$4:$G$351,3,FALSE),\"\")","v":"0942"}]
[null,"",null,"",null,"","",null,0,0,{"$nulls":6},{"$f":"IF(C347=\"\",\"\",'OPĆI DIO'!$C$1)","v":""},"","","","",{"$nulls":9},"A679072.213","FASIH","A679072",{"$f":"IFERROR(VLOOKUP(AG347,AKT!$E$4:$G$351,3,FALSE),\"\")","v":"0942"}]
[null,"",null,"",null,"","",null,0,0,{"$nulls":6},{"$f":"IF(C348=\"\",\"\",'OPĆI DIO'!$C$1)","v":""},"","","","",{"$nulls":9},"A679072.214","NAHV - North Adriatic Hydrogen Valley","A679072",{"$f":"IFERROR(VLOOKUP(AG348,AKT!$E$4:$G$351,3,FALSE),\"\")","v":"0942"}]
[null,"",null,"",null,"","",null,0,0,{"$nulls":6},{"$f":"IF(C349=\"\",\"\",'OPĆI DIO'!$C$1)","v":""},"","","","",{"$nulls":9},"A679072.215","space - Supporting Professionals and Academics for Community Engagement in Higher Education","A679072",{"$f":"IFERROR(VLOOKUP(AG349,AKT!$E$4:$G$351,3,FALSE),\"\")","v":"0942"}]
[null,"",null,"",null,"","",null,0,0,{"$nulls":6},{"$f":"IF(C350=\"\",\"\",'OPĆI DIO'!$C$1)","v":""},"","","","",{"$nulls":9},"A679072.216","Erasmus projekt 2023-1-HR01-KA131-HED-000113440","A679072",{"$f":"IFERROR(VLOOKUP(AG350,AKT!$E$4:$G$351,3,FALSE),\"\")","v":"0942"}]
[null,"",null,"",null,"","",null,0,0,{"$nulls":6},{"$f":"IF(C351=\"\",\"\",'OPĆI DIO'!$C$1)","v":""},"","","","",{"$nulls":9},"A679072.217","\"Erasmus+KA220-VET - Cooperation partnerships in vocationaleducation and training\"","A679072",{"$f":"IFERROR(VLOOKUP(AG351,AKT!$E$4:$G$351,3,FALSE),\"\")","v":"0942"}]
[null,"",null,"",null,"","",null,0,0,{"$nulls":6},{"$f":"IF(C352=\"\",\"\",'OPĆI DIO'!$C$1)","v":""},"","","","",{"$nulls":9},"A679072.218","FASIH -Future Art and Science Industrial Heritage","A679072",{"$f":"IFERROR(VLOOKUP(AG352,AKT!$E$4:$G$351,3,FALSE),\"\")","v":"0942"}]
[null,"",null,"",null,"","",null,0,0,{"$nulls":6},{"$f":"IF(C353=\"\",\"\",'OPĆI DIO'!$C$1)","v":""},"","","","",{"$nulls":9},"A679072.219","GREENCODE - Building an Eco-Friendly Future  with Robots","A679072",{"$f":"IFERROR(VLOOKUP(AG353,AKT!$E$4:$G$351,3,FALSE),\"\")","v":"0942"}]
[null,"",null,"",null,"","",null,0,0,{"$nulls":6},{"$f":"IF(C354=\"\",\"\",'OPĆI DIO'!$C$1)","v":""},"","","","",{"$nulls":9},"A679072.220","Eduskills+SEL","A679072",{"$f":"IFERROR(VLOOKUP(AG354,AKT!$E$4:$G$351,3,FALSE),\"\")","v":"0942"}]
[null,"",null,"",null,"","",null,0,0,{"$nulls":6},{"$f":"IF(C355=\"\",\"\",'OPĆI DIO'!$C$1)","v":""},"","","","",{"$nulls":9},"A679072.221","Mental health Ambassadors in VET","A679072",{"$f":"IFERROR(VLOOKUP(AG355,AKT!$E$4:$G$351,3,FALSE),\"\")","v":"0942"}]
[null,"",null,"",null,"","",null,0,0,{"$nulls":6},{"$f":"IF(C356=\"\",\"\",'OPĆI DIO'!$C$1)","v":""},"","","","",{"$nulls":9},"A679073.001","ERASMUS+projekt organizacije studijskog boravka, stručnog osposobljavanja i mobilnosti studenata i zaposlenika Sveučilišta u Dubrovniku","A679073",{"$f":"IFERROR(VLOOKUP(AG356,AKT!$E$4:$G$351,3,FALSE),\"\")","v":"0942"}]
[null,"",null,"",null,"","",null,0,0,{"$nulls":6},{"$f":"IF(C357=\"\",\"\",'OPĆI DIO'!$C$1)","v":""},"","","","",{"$nulls":9},"A679073.002","ERASMUS+ Mobilnost studenata i osoblja unutar programskih zemalja-KA103","A679073",{"$f":"IFERROR(VLOOKUP(AG357,AKT!$E$4:$G$351,3,FALSE),\"\")","v":"0942"}]
[null,"",null,"",null,"","",null,0,0,{"$nulls":6},{"$f":"IF(C358=\"\",\"\",'OPĆI DIO'!$C$1)","v":""},"","","","",{"$nulls":9},"A679073.003","ERASMUS+ mobilnost studenata i osoblja unutar programskih zemalja","A679073",{"$f":"IFERROR(VLOOKUP(AG358,AKT!$E$4:$G$351,3,FALSE),\"\")","v":"0942"}]
[null,"",null,"",null,"","",null,0,0,{"$nulls":6},{"$f":"IF(C359=\"\",\"\",'OPĆI DIO'!$C$1)","v":""},"","","","",{"$nulls":9},"A679073.004","ERASMUS+ mobilnost studenata između programskih i partnerskih zemalja","A679073",{"$f":"IFERROR(VLOOKUP(AG359,AKT!$E$4:$G$351,3,FALSE),\"\")","v":"0942"}]
[null,"",null,"",null,"","",null,0,0,{"$nulls":6},{"$f":"IF(C360=\"\",\"\",'OPĆI DIO'!$C$1)","v":""},"","","","",{"$nulls":9},"A679073.005","ELEGANT - poboljšanje podučavanja, učenja i mogućnosti diplomiranja","A679073",{"$f":"IFERROR(VLOOKUP(AG360,AKT!$E$4:$G$351,3,FALSE),\"\")","v":"0942"}]
[null,"",null,"",null,"","",null,0,0,{"$nulls":6},{"$f":"IF(C361=\"\",\"\",'OPĆI DIO'!$C$1)","v":""},"","","","",{"$nulls":9},"A679073.006","Digitalno poduzetničko obrazovanje kroz virtualni trening","A679073",{"$f":"IFERROR(VLOOKUP(AG361,AKT!$E$4:$G$351,3,FALSE),\"\")","v":"0942"}]
[null,"",null,"",null,"","",null,0,0,{"$nulls":6},{"$f":"IF(C362=\"\",\"\",'OPĆI DIO'!$C$1)","v":""},"","","","",{"$nulls":9},"A679073.007","IDEA - digitalno poduzetništvo","A679073",{"$f":"IFERROR(VLOOKUP(AG362,AKT!$E$4:$G$351,3,FALSE),\"\")","v":"0942"}]
[null,"",null,"",null,"","",null,0,0,{"$nulls":6},{"$f":"IF(C363=\"\",\"\",'OPĆI DIO'!$C$1)","v":""},"","","","",{"$nulls":9},"A679073.008","EXCHANGE - Istraživanje prekogranične vodene biološke raznolikosti","A679073",{"$f":"IFERROR(VLOOKUP(AG363,AKT!$E$4:$G$351,3,FALSE),\"\")","v":"0942"}]
[null,"",null,"",null,"","",null,0,0,{"$nulls":6},{"$f":"IF(C364=\"\",\"\",'OPĆI DIO'!$C$1)","v":""},"","","","",{"$nulls":9},"A679073.009","Razvoj sustava kontrole i obrane luka od unosa stranih vrsta ( ProtectAS)","A679073",{"$f":"IFERROR(VLOOKUP(AG364,AKT!$E$4:$G$351,3,FALSE),\"\")","v":"0942"}]
[null,"",null,"",null,"","",null,0,0,{"$nulls":6},{"$f":"IF(C365=\"\",\"\",'OPĆI DIO'!$C$1)","v":""},"","","","",{"$nulls":9},"A679073.010","FishAqu - Poboljšanje znanja u održivom upravljanju ribarstvom i akvakulturi u mediteranskoj regiji","A679073",{"$f":"IFERROR(VLOOKUP(AG365,AKT!$E$4:$G$351,3,FALSE),\"\")","v":"0942"}]
[null,"",null,"",null,"","",null,0,0,{"$nulls":6},{"$f":"IF(C366=\"\",\"\",'OPĆI DIO'!$C$1)","v":""},"","","","",{"$nulls":9},"A679073.011","DigIT - izrada standarda zanimanja i standarda kvalifikacija u djelatnostima računarstva","A679073",{"$f":"IFERROR(VLOOKUP(AG366,AKT!$E$4:$G$351,3,FALSE),\"\")","v":"0942"}]
[null,"",null,"",null,"","",null,0,0,{"$nulls":6},{"$f":"IF(C367=\"\",\"\",'OPĆI DIO'!$C$1)","v":""},"","","","",{"$nulls":9},"A679073.012","Start-up Nacija: Hrvatska Tematska mreža za razvoj poduzetništva i samozapošljavanja","A679073",{"$f":"IFERROR(VLOOKUP(AG367,AKT!$E$4:$G$351,3,FALSE),\"\")","v":"0942"}]
[null,"",null,"",null,"","",null,0,0,{"$nulls":6},{"$f":"IF(C368=\"\",\"\",'OPĆI DIO'!$C$1)","v":""},"","","","",{"$nulls":9},"A679073.013","MARLESS -prekogranične mjere podizanja svijesti o morskom otpadu","A679073",{"$f":"IFERROR(VLOOKUP(AG368,AKT!$E$4:$G$351,3,FALSE),\"\")","v":"0942"}]
[null,"",null,"",null,"","",null,0,0,{"$nulls":6},{"$f":"IF(C369=\"\",\"\",'OPĆI DIO'!$C$1)","v":""},"","","","",{"$nulls":9},"A679073.014","Cisto more, pretraživanje, identifikacija i prikupljanje morskog otpada s bespilotnim podvodnim i površinskim plovilima","A679073",{"$f":"IFERROR(VLOOKUP(AG369,AKT!$E$4:$G$351,3,FALSE),\"\")","v":"0942"}]
[null,"",null,"",null,"","",null,0,0,{"$nulls":6},{"$f":"IF(C370=\"\",\"\",'OPĆI DIO'!$C$1)","v":""},"","","","",{"$nulls":9},"A679073.015","Innovamare: Razvoj inovativnih tehnologija za održivost Jadranskog mora","A679073",{"$f":"IFERROR(VLOOKUP(AG370,AKT!$E$4:$G$351,3,FALSE),\"\")","v":"0942"}]
[null,"",null,"",null,"","",null,0,0,{"$nulls":6},{"$f":"IF(C371=\"\",\"\",'OPĆI DIO'!$C$1)","v":""},"","","","",{"$nulls":9},"A679073.016","DATACROSS- napredne metode i tehnologije u znanosti o podatcima i kooperativnim sustavima","A679073",{"$f":"IFERROR(VLOOKUP(AG371,AKT!$E$4:$G$351,3,FALSE),\"\")","v":"0942"}]
[null,"",null,"",null,"","",null,0,0,{"$nulls":6},{"$f":"IF(C372=\"\",\"\",'OPĆI DIO'!$C$1)","v":""},"","","","",{"$nulls":9},"A679073.017","HKO-ELE- primjena HKO za sveučilišne studijske programe u području elektrotehnike","A679073",{"$f":"IFERROR(VLOOKUP(AG372,AKT!$E$4:$G$351,3,FALSE),\"\")","v":"0942"}]
[null,"",null,"",null,"","",null,0,0,{"$nulls":6},{"$f":"IF(C373=\"\",\"\",'OPĆI DIO'!$C$1)","v":""},"","","","",{"$nulls":9},"A679073.018","Izvrsnost i učinkovitost u visokom obrazovanju u polju ekonomije E4","A679073",{"$f":"IFERROR(VLOOKUP(AG373,AKT!$E$4:$G$351,3,FALSE),\"\")","v":"0942"}]
[null,"",null,"",null,"","",null,0,0,{"$nulls":6},{"$f":"IF(C374=\"\",\"\",'OPĆI DIO'!$C$1)","v":""},"","","","",{"$nulls":9},"A679073.019","Agrobioraznolikost- osnova za prilagodbu i ublažavanje posljedica klimatskih promjena u poljoprivredi","A679073",{"$f":"IFERROR(VLOOKUP(AG374,AKT!$E$4:$G$351,3,FALSE),\"\")","v":"0942"}]
[null,"",null,"",null,"","",null,0,0,{"$nulls":6},{"$f":"IF(C375=\"\",\"\",'OPĆI DIO'!$C$1)","v":""},"","","","",{"$nulls":9},"A679073.020","SeaClear","A679073",{"$f":"IFERROR(VLOOKUP(AG375,AKT!$E$4:$G$351,3,FALSE),\"\")","v":"0942"}]
[null,"",null,"",null,"","",null,0,0,{"$nulls":6},{"$f":"IF(C376=\"\",\"\",'OPĆI DIO'!$C$1)","v":""},"","","","",{"$nulls":9},"A679073.021","EUCNC2020","A679073",{"$f":"IFERROR(VLOOKUP(AG376,AKT!$E$4:$G$351,3,FALSE),\"\")","v":"0942"}]
[null,"",null,"",null,"","",null,0,0,{"$nulls":6},{"$f":"IF(C377=\"\",\"\",'OPĆI DIO'!$C$1)","v":""},"","","","",{"$nulls":9},"A679073.022","CERGE","A679073",{"$f":"IFERROR(VLOOKUP(AG377,AKT!$E$4:$G$351,3,FALSE),\"\")","v":"0942"}]
[null,"",null,"",null,"","",null,0,0,{"$nulls":6},{"$f":"IF(C378=\"\",\"\",'OPĆI DIO'!$C$1)","v":""},"","","","",{"$nulls":9},"A679073.023","ESSENCE - usavršavanje vještina za njegovanje konkurentnosti i zapošljavanja","A679073",{"$f":"IFERROR(VLOOKUP(AG378,AKT!$E$4:$G$351,3,FALSE),\"\")","v":"0942"}]
[null,"",null,"",null,"","",null,0,0,{"$nulls":6},{"$f":"IF(C379=\"\",\"\",'OPĆI DIO'!$C$1)","v":""},"","","","",{"$nulls":9},"A679073.024","VIBES -Osnaživanje virtualnih poslovnih vještina","A679073",{"$f":"IFERROR(VLOOKUP(AG379,AKT!$E$4:$G$351,3,FALSE),\"\")","v":"0942"}]
[null,"",null,"",null,"","",null,0,0,{"$nulls":6},{"$f":"IF(C380=\"\",\"\",'OPĆI DIO'!$C$1)","v":""},"","","","",{"$nulls":9},"A679073.025","ESMERALD - Pojačavanje otpornosti malih i srednjih poduzeća nakon zaključavanja","A679073",{"$f":"IFERROR(VLOOKUP(AG380,AKT!$E$4:$G$351,3,FALSE),\"\")","v":"0942"}]
[null,"",null,"",null,"","",null,0,0,{"$nulls":6},{"$f":"IF(C381=\"\",\"\",'OPĆI DIO'!$C$1)","v":""},"","","","",{"$nulls":9},"A679073.026","Uspostava Regionalnog centra kompetentnosti u turizmu i ugostiteljstvu Dubrovnik-RCK","A679073",{"$f":"IFERROR(VLOOKUP(AG381,AKT!$E$4:$G$351,3,FALSE),\"\")","v":"0942"}]
[null,"",null,"",null,"","",null,0,0,{"$nulls":6},{"$f":"IF(C382=\"\",\"\",'OPĆI DIO'!$C$1)","v":""},"","","","",{"$nulls":9},"A679073.027","Reconnect science with the blue society (Blue-connect)","A679073",{"$f":"IFERROR(VLOOKUP(AG382,AKT!$E$4:$G$351,3,FALSE),\"\")","v":"0942"}]
[null,"",null,"",null,"","",null,0,0,{"$nulls":6},{"$f":"IF(C383=\"\",\"\",'OPĆI DIO'!$C$1)","v":""},"","","","",{"$nulls":9},"A679073.028","MARIPET -Innovative Curiculum to evaluate Marine Fishery Discard as raw pet food for sustainable Europe","A679073",{"$f":"IFERROR(VLOOKUP(AG383,AKT!$E$4:$G$351,3,FALSE),\"\")","v":"0942"}]
[null,"",null,"",null,"","",null,0,0,{"$nulls":6},{"$f":"IF(C384=\"\",\"\",'OPĆI DIO'!$C$1)","v":""},"","","","",{"$nulls":9},"A679073.029","Gamification  Education to Nurture Intraprenership at Enterprise (GENIE)","A679073",{"$f":"IFERROR(VLOOKUP(AG384,AKT!$E$4:$G$351,3,FALSE),\"\")","v":"0942"}]
[null,"",null,"",null,"","",null,0,0,{"$nulls":6},{"$f":"IF(C385=\"\",\"\",'OPĆI DIO'!$C$1)","v":""},"","","","",{"$nulls":9},"A679073.030","Booming digital literacy skills among education","A679073",{"$f":"IFERROR(VLOOKUP(AG385,AKT!$E$4:$G$351,3,FALSE),\"\")","v":"0942"}]
[null,"",null,"",null,"","",null,0,0,{"$nulls":6},{"$f":"IF(C386=\"\",\"\",'OPĆI DIO'!$C$1)","v":""},"","","","",{"$nulls":9},"A679073.031","Erasmus KA131 2021","A679073",{"$f":"IFERROR(VLOOKUP(AG386,AKT!$E$4:$G$351,3,FALSE),\"\")","v":"0942"}]
[null,"",null,"",null,"","",null,0,0,{"$nulls":6},{"$f":"IF(C387=\"\",\"\",'OPĆI DIO'!$C$1)","v":""},"","","","",{"$nulls":9},"A679073.032","Erasmus KA1312022","A679073",{"$f":"IFERROR(VLOOKUP(AG387,AKT!$E$4:$G$351,3,FALSE),\"\")","v":"0942"}]
[null,{"$f":"IFERROR(VLOOKUP(A388,$V$6:$W$23,2,FALSE),\"\")","v":""},null,{"$f":"IFERROR(VLOOKUP(C388,$Y$5:$AA$129,2,FALSE),\"\")","v":""},null,{"$f":"IFERROR(VLOOKUP(E388,$AE$6:$AF$1763,2,FALSE),\"\")","v":""},{"$f":"IFERROR(VLOOKUP(E388,$AE$6:$AH$1763,4,FALSE),\"\")","v":""},null,0,{"$f":"+H388+I388","v":0},{"$nulls":6},{"$f":"IF(C388=\"\",\"\",'OPĆI DIO'!$C$1)","v":""},{"$f":"LEFT(C388,3)","v":""},{"$f":"LEFT(C388,2)","v":""},{"$f":"IF(U388=\"5\",0,MID(G388,2,2))","v":""},{"$f":"LEFT(C388,1)","v":""},{"$nulls":9},"A679073.033","Erasmus+ KA171 2022.g","A679073",{"$f":"IFERROR(VLOOKUP(AG388,AKT!$E$4:$G$351,3,FALSE),\"\")","v":"0942"}]
[null,"",null,"",null,"","",null,0,0,{"$nulls":6},{"$f":"IF(C389=\"\",\"\",'OPĆI DIO'!$C$1)","v":""},"","","","",{"$nulls":9},"A679073.034","2023-1-HR01-KA131-HED-000122003","A679073",{"$f":"IFERROR(VLOOKUP(AG389,AKT!$E$4:$G$351,3,FALSE),\"\")","v":"0942"}]
[null,"",null,"",null,"","",null,0,0,{"$nulls":6},{"$f":"IF(C390=\"\",\"\",'OPĆI DIO'!$C$1)","v":""},"","","","",{"$nulls":9},"A679073.035","2023-1-HR01-KA171-HED-000136027","A679073",{"$f":"IFERROR(VLOOKUP(AG390,AKT!$E$4:$G$351,3,FALSE),\"\")","v":"0942"}]
[null,"",null,"",null,"","",null,0,0,{"$nulls":6},{"$f":"IF(C391=\"\",\"\",'OPĆI DIO'!$C$1)","v":""},"","","","",{"$nulls":9},"A679073.036","AFISHE-Development of Aquaculture and Fisheries Education for Green Deal in Armenia and Ukraine: from education to ecology.","A679073",{"$f":"IFERROR(VLOOKUP(AG391,AKT!$E$4:$G$351,3,FALSE),\"\")","v":"0942"}]
[null,"",null,"",null,"","",null,0,0,{"$nulls":6},{"$f":"IF(C392=\"\",\"\",'OPĆI DIO'!$C$1)","v":""},"","","","",{"$nulls":9},"A679073.037","PLAY2GREEN:Serious Gaming for Universal Access to Green Education","A679073",{"$f":"IFERROR(VLOOKUP(AG392,AKT!$E$4:$G$351,3,FALSE),\"\")","v":"0942"}]
[null,"",null,"",null,"","",null,0,0,{"$nulls":6},{"$f":"IF(C393=\"\",\"\",'OPĆI DIO'!$C$1)","v":""},"","","","",{"$nulls":9},"A679073.038","SEACLEAR 2.0",{"$f":"LEFT(AE393,7)","v":"A679073"},{"$f":"IFERROR(VLOOKUP(AG393,AKT!$E$4:$G$351,3,FALSE),\"\")","v":"0942"}]
[null,"",null,"",null,"","",null,0,0,{"$nulls":6},{"$f":"IF(C394=\"\",\"\",'OPĆI DIO'!$C$1)","v":""},"","","","",{"$nulls":9},"A679073.039","Adriatic Digital Media Observatory (ADMO)","A679073",{"$f":"IFERROR(VLOOKUP(AG394,AKT!$E$4:$G$351,3,FALSE),\"\")","v":"0942"}]
[null,"",null,"",null,"","",null,0,0,{"$nulls":6},{"$f":"IF(C395=\"\",\"\",'OPĆI DIO'!$C$1)","v":""},"","","","",{"$nulls":9},"A679073.040","Uspostava Centra za provjeru informacija i građansku otpornost DU-CHECK","A679073",{"$f":"IFERROR(VLOOKUP(AG395,AKT!$E$4:$G$351,3,FALSE),\"\")","v":"0942"}]
[null,"",null,"",null,"","",null,0,0,{"$nulls":6},{"$f":"IF(C396=\"\",\"\",'OPĆI DIO'!$C$1)","v":""},"","","","",{"$nulls":9},"A679074.001","INTERREG MELAdetect projekt prekogranične suradnje u liječenju različitih vrsta melanoma","A679074",{"$f":"IFERROR(VLOOKUP(AG396,AKT!$E$4:$G$351,3,FALSE),\"\")","v":"0942"}]
[null,"",null,"",null,"","",null,0,0,{"$nulls":6},{"$f":"IF(C397=\"\",\"\",'OPĆI DIO'!$C$1)","v":""},"","","","",{"$nulls":9},"A679074.002","INTERREG STRONGER projekt osnivanja prekograničnog klastera i e-platforme iz područja prerađivačke industrije ljekovitog i začinskog bilja","A679074",{"$f":"IFERROR(VLOOKUP(AG397,AKT!$E$4:$G$351,3,FALSE),\"\")","v":"0942"}]
[null,"",null,"",null,"","",null,0,0,{"$nulls":6},{"$f":"IF(C398=\"\",\"\",'OPĆI DIO'!$C$1)","v":""},"","","","",{"$nulls":9},"A679074.003","INTERREG APPRODI projekt izrade strateškog plana za poticanje ekoturizma kroz istraživanja o povijesnim utjecajima pomorskog prometa","A679074",{"$f":"IFERROR(VLOOKUP(AG398,AKT!$E$4:$G$351,3,FALSE),\"\")","v":"0942"}]
[null,"",null,"",null,"","",null,0,0,{"$nulls":6},{"$f":"IF(C399=\"\",\"\",'OPĆI DIO'!$C$1)","v":""},"","","","",{"$nulls":9},"A679074.004","Zadar Baštini projekt stvaranja kulturno-turističkog proizvoda grada Zadra s ciljem povećanja turističke posjećenosti","A679074",{"$f":"IFERROR(VLOOKUP(AG399,AKT!$E$4:$G$351,3,FALSE),\"\")","v":"0942"}]
[null,"",null,"",null,"","",null,0,0,{"$nulls":6},{"$f":"IF(C400=\"\",\"\",'OPĆI DIO'!$C$1)","v":""},"","","","",{"$nulls":9},"A679074.005","MADE IN-LAND projekt očuvanja prirodnih i kulturnih resursa u unutrašnjosti Italije i Hrvatske","A679074",{"$f":"IFERROR(VLOOKUP(AG400,AKT!$E$4:$G$351,3,FALSE),\"\")","v":"0942"}]
[null,"",null,"",null,"","",null,0,0,{"$nulls":6},{"$f":"IF(C401=\"\",\"\",'OPĆI DIO'!$C$1)","v":""},"","","","",{"$nulls":9},"A679074.006","INTERREG DISCOVER projekt pozicioniranja slabije poznatih mjesta Italije i  Hrvatske na turističku kartu ponude","A679074",{"$f":"IFERROR(VLOOKUP(AG401,AKT!$E$4:$G$351,3,FALSE),\"\")","v":"0942"}]
[null,"",null,"",null,"","",null,0,0,{"$nulls":6},{"$f":"IF(C402=\"\",\"\",'OPĆI DIO'!$C$1)","v":""},"","","","",{"$nulls":9},"A679074.007","INTERREG REPLICATE projekt revitalizacije zabačenih područja i izgubljene baštine","A679074",{"$f":"IFERROR(VLOOKUP(AG402,AKT!$E$4:$G$351,3,FALSE),\"\")","v":"0942"}]
[null,"",null,"",null,"","",null,0,0,{"$nulls":6},{"$f":"IF(C403=\"\",\"\",'OPĆI DIO'!$C$1)","v":""},"","","","",{"$nulls":9},"A679074.008","INTERREG GUTTA projekt pilot akcije pronalaska eko-rute s naglaskom na zaštitu okoliša","A679074",{"$f":"IFERROR(VLOOKUP(AG403,AKT!$E$4:$G$351,3,FALSE),\"\")","v":"0942"}]
[null,"",null,"",null,"","",null,0,0,{"$nulls":6},{"$f":"IF(C404=\"\",\"\",'OPĆI DIO'!$C$1)","v":""},"","","","",{"$nulls":9},"A679074.009","INTERREG AADRIREEF -Inovativno iskorištavanje jadranskih grebena radi jačanja plave ekonomije","A679074",{"$f":"IFERROR(VLOOKUP(AG404,AKT!$E$4:$G$351,3,FALSE),\"\")","v":"0942"}]
[null,"",null,"",null,"","",null,0,0,{"$nulls":6},{"$f":"IF(C405=\"\",\"\",'OPĆI DIO'!$C$1)","v":""},"","","","",{"$nulls":9},"A679074.010","ERASMUS + LA GUIDE","A679074",{"$f":"IFERROR(VLOOKUP(AG405,AKT!$E$4:$G$351,3,FALSE),\"\")","v":"0942"}]
[null,"",null,"",null,"","",null,0,0,{"$nulls":6},{"$f":"IF(C406=\"\",\"\",'OPĆI DIO'!$C$1)","v":""},"","","","",{"$nulls":9},"A679074.011","ERASMUS + EU-CONEXUXS","A679074",{"$f":"IFERROR(VLOOKUP(AG406,AKT!$E$4:$G$351,3,FALSE),\"\")","v":"0942"}]
[null,"",null,"",null,"","",null,0,0,{"$nulls":6},{"$f":"IF(C407=\"\",\"\",'OPĆI DIO'!$C$1)","v":""},"","","","",{"$nulls":9},"A679074.012","SAN -Pametna poljoprivredna mreža","A679074",{"$f":"IFERROR(VLOOKUP(AG407,AKT!$E$4:$G$351,3,FALSE),\"\")","v":"0942"}]
[null,"",null,"",null,"","",null,0,0,{"$nulls":6},{"$f":"IF(C408=\"\",\"\",'OPĆI DIO'!$C$1)","v":""},"","","","",{"$nulls":9},"A679074.013","ERASMUS+ KA1- mobilnost u visokom obrazovanju","A679074",{"$f":"IFERROR(VLOOKUP(AG408,AKT!$E$4:$G$351,3,FALSE),\"\")","v":"0942"}]
[null,"",null,"",null,"","",null,0,0,{"$nulls":6},{"$f":"IF(C409=\"\",\"\",'OPĆI DIO'!$C$1)","v":""},"","","","",{"$nulls":9},"A679074.014","OPERAS- P H2020-INFRADEV-2018-2020","A679074",{"$f":"IFERROR(VLOOKUP(AG409,AKT!$E$4:$G$351,3,FALSE),\"\")","v":"0942"}]
[null,"",null,"",null,"","",null,0,0,{"$nulls":6},{"$f":"IF(C410=\"\",\"\",'OPĆI DIO'!$C$1)","v":""},"","","","",{"$nulls":9},"A679074.015","BUDI SPREMAN I KOMPETENTAN","A679074",{"$f":"IFERROR(VLOOKUP(AG410,AKT!$E$4:$G$351,3,FALSE),\"\")","v":"0942"}]
[null,"",null,"",null,"","",null,0,0,{"$nulls":6},{"$f":"IF(C411=\"\",\"\",'OPĆI DIO'!$C$1)","v":""},"","","","",{"$nulls":9},"A679074.016","STREAM Interreg Italija Hrvatska","A679074",{"$f":"IFERROR(VLOOKUP(AG411,AKT!$E$4:$G$351,3,FALSE),\"\")","v":"0942"}]
[null,"",null,"",null,"","",null,0,0,{"$nulls":6},{"$f":"IF(C412=\"\",\"\",'OPĆI DIO'!$C$1)","v":""},"","","","",{"$nulls":9},"A679074.017","Interreg Italija Hrvatska ERDF","A679074",{"$f":"IFERROR(VLOOKUP(AG412,AKT!$E$4:$G$351,3,FALSE),\"\")","v":"0942"}]
[null,"",null,"",null,"","",null,0,0,{"$nulls":6},{"$f":"IF(C413=\"\",\"\",'OPĆI DIO'!$C$1)","v":""},"","","","",{"$nulls":9},"A679074.018","VODI ME  Vode Imotske krajine","A679074",{"$f":"IFERROR(VLOOKUP(AG413,AKT!$E$4:$G$351,3,FALSE),\"\")","v":"0942"}]
[null,"",null,"",null,"","",null,0,0,{"$nulls":6},{"$f":"IF(C414=\"\",\"\",'OPĆI DIO'!$C$1)","v":""},"","","","",{"$nulls":9},"A679074.019","TRIPLE  H2020-INFRAEOSC-2018-2020","A679074",{"$f":"IFERROR(VLOOKUP(AG414,AKT!$E$4:$G$351,3,FALSE),\"\")","v":"0942"}]
[null,"",null,"",null,"","",null,0,0,{"$nulls":6},{"$f":"IF(C415=\"\",\"\",'OPĆI DIO'!$C$1)","v":""},"","","","",{"$nulls":9},"A679074.020","SHEMA  Proizvodnja hrane u kružnom biog","A679074",{"$f":"IFERROR(VLOOKUP(AG415,AKT!$E$4:$G$351,3,FALSE),\"\")","v":"0942"}]
[null,"",null,"",null,"","",null,0,0,{"$nulls":6},{"$f":"IF(C416=\"\",\"\",'OPĆI DIO'!$C$1)","v":""},"","","","",{"$nulls":9},"A679074.021","2CODE Intrr.  CBC Hrvatska -BIH i  - Crna gora","A679074",{"$f":"IFERROR(VLOOKUP(AG416,AKT!$E$4:$G$351,3,FALSE),\"\")","v":"0942"}]
[null,"",null,"",null,"","",null,0,0,{"$nulls":6},{"$f":"IF(C417=\"\",\"\",'OPĆI DIO'!$C$1)","v":""},"","","","",{"$nulls":9},"A679074.022","ERASMUS+ EU-CONEXUS Plus","A679074",{"$f":"IFERROR(VLOOKUP(AG417,AKT!$E$4:$G$351,3,FALSE),\"\")","v":"0942"}]
[null,"",null,"",null,"","",null,0,0,{"$nulls":6},{"$f":"IF(C418=\"\",\"\",'OPĆI DIO'!$C$1)","v":""},"","","","",{"$nulls":9},"A679074.023","Poboljšanje učinkovitosti brodske propulzije optimizacijom propelera","A679074",{"$f":"IFERROR(VLOOKUP(AG418,AKT!$E$4:$G$351,3,FALSE),\"\")","v":"0942"}]
[null,"",null,"",null,"","",null,0,0,{"$nulls":6},{"$f":"IF(C419=\"\",\"\",'OPĆI DIO'!$C$1)","v":""},"","","","",{"$nulls":9},"A679074.024","SCEE - Students Civic Engagement European Project","A679074",{"$f":"IFERROR(VLOOKUP(AG419,AKT!$E$4:$G$351,3,FALSE),\"\")","v":"0942"}]
[null,"",null,"",null,"","",null,0,0,{"$nulls":6},{"$f":"IF(C420=\"\",\"\",'OPĆI DIO'!$C$1)","v":""},"","","","",{"$nulls":9},"A679074.025","DIGITClue - Digital Inclusion","A679074",{"$f":"IFERROR(VLOOKUP(AG420,AKT!$E$4:$G$351,3,FALSE),\"\")","v":"0942"}]
[null,"",null,"",null,"","",null,0,0,{"$nulls":6},{"$f":"IF(C421=\"\",\"\",'OPĆI DIO'!$C$1)","v":""},"","","","",{"$nulls":9},"A679074.026","TEAPOT - Alati za obrazovanje s umjetničkom percepcijom za otvorenu transmisiju","A679074",{"$f":"IFERROR(VLOOKUP(AG421,AKT!$E$4:$G$351,3,FALSE),\"\")","v":"0942"}]
[null,"",null,"",null,"","",null,0,0,{"$nulls":6},{"$f":"IF(C422=\"\",\"\",'OPĆI DIO'!$C$1)","v":""},"","","","",{"$nulls":9},"A679074.027","BLUE-CONNECT - RECONNECT SCIENCE WITH THE BLUE SOCIETY","A679074",{"$f":"IFERROR(VLOOKUP(AG422,AKT!$E$4:$G$351,3,FALSE),\"\")","v":"0942"}]
[null,"",null,"",null,"","",null,0,0,{"$nulls":6},{"$f":"IF(C423=\"\",\"\",'OPĆI DIO'!$C$1)","v":""},"","","","",{"$nulls":9},"A679074.028","SHIE - Sports Disability Inclusive Experience","A679074",{"$f":"IFERROR(VLOOKUP(AG423,AKT!$E$4:$G$351,3,FALSE),\"\")","v":"0942"}]
[null,"",null,"",null,"","",null,0,0,{"$nulls":6},{"$f":"IF(C424=\"\",\"\",'OPĆI DIO'!$C$1)","v":""},"","","","",{"$nulls":9},"A679074.029","PODUZMI - Učinkovito aktivno PODUčavanje i učenje o PODUzetništvu u gospodarski nerazvijenim i ruralnim PODručjima ","A679074",{"$f":"IFERROR(VLOOKUP(AG424,AKT!$E$4:$G$351,3,FALSE),\"\")","v":"0942"}]
[null,"",null,"",null,"","",null,0,0,{"$nulls":6},{"$f":"IF(C425=\"\",\"\",'OPĆI DIO'!$C$1)","v":""},"","","","",{"$nulls":9},"A679074.030","STEM COUNTY - Jačanje STEM vještina u osnovnim školama u Zadarskoj županiji","A679074",{"$f":"IFERROR(VLOOKUP(AG425,AKT!$E$4:$G$351,3,FALSE),\"\")","v":"0942"}]
[null,"",null,"",null,"","",null,0,0,{"$nulls":6},{"$f":"IF(C426=\"\",\"\",'OPĆI DIO'!$C$1)","v":""},"","","","",{"$nulls":9},"A679074.031","LIFE21-ENV-IT-LIFE MICROFIGHTER","A679074",{"$f":"IFERROR(VLOOKUP(AG426,AKT!$E$4:$G$351,3,FALSE),\"\")","v":"0942"}]
[null,"",null,"",null,"","",null,0,0,{"$nulls":6},{"$f":"IF(C427=\"\",\"\",'OPĆI DIO'!$C$1)","v":""},"","","","",{"$nulls":9},"A679074.032","OPERAS-PLUS","A679074",{"$f":"IFERROR(VLOOKUP(AG427,AKT!$E$4:$G$351,3,FALSE),\"\")","v":"0942"}]
[null,"",null,"",null,"","",null,0,0,{"$nulls":6},{"$f":"IF(C428=\"\",\"\",'OPĆI DIO'!$C$1)","v":""},"","","","",{"$nulls":9},"A679074.033","DIAMAS","A679074",{"$f":"IFERROR(VLOOKUP(AG428,AKT!$E$4:$G$351,3,FALSE),\"\")","v":"0942"}]
[null,"",null,"",null,"","",null,0,0,{"$nulls":6},{"$f":"IF(C429=\"\",\"\",'OPĆI DIO'!$C$1)","v":""},"","","","",{"$nulls":9},"A679074.034","CRAFT-OA","A679074",{"$f":"IFERROR(VLOOKUP(AG429,AKT!$E$4:$G$351,3,FALSE),\"\")","v":"0942"}]
[null,"",null,"",null,"","",null,0,0,{"$nulls":6},{"$f":"IF(C430=\"\",\"\",'OPĆI DIO'!$C$1)","v":""},"","","","",{"$nulls":9},"A679074.035","I-MORE - Inovacije za razvoj održive marikulture","A679074",{"$f":"IFERROR(VLOOKUP(AG430,AKT!$E$4:$G$351,3,FALSE),\"\")","v":"0942"}]
[null,"",null,"",null,"","",null,0,0,{"$nulls":6},{"$f":"IF(C431=\"\",\"\",'OPĆI DIO'!$C$1)","v":""},"","","","",{"$nulls":9},"A679074.036","EU-CONEXUS RFS","A679074",{"$f":"IFERROR(VLOOKUP(AG431,AKT!$E$4:$G$351,3,FALSE),\"\")","v":"0942"}]
[null,"",null,"",null,"","",null,0,0,{"$nulls":6},{"$f":"IF(C432=\"\",\"\",'OPĆI DIO'!$C$1)","v":""},"","","","",{"$nulls":9},"A679074.037","IDEA-net","A679074",{"$f":"IFERROR(VLOOKUP(AG432,AKT!$E$4:$G$351,3,FALSE),\"\")","v":"0942"}]
[null,"",null,"",null,"","",null,0,0,{"$nulls":6},{"$f":"IF(C433=\"\",\"\",'OPĆI DIO'!$C$1)","v":""},"","","","",{"$nulls":9},"A679074.038","BREATH","A679074",{"$f":"IFERROR(VLOOKUP(AG433,AKT!$E$4:$G$351,3,FALSE),\"\")","v":"0942"}]
[null,"",null,"",null,"","",null,0,0,{"$nulls":6},{"$f":"IF(C434=\"\",\"\",'OPĆI DIO'!$C$1)","v":""},"","","","",{"$nulls":9},"A679074.039","2023-1-HR01-KA220-HED-000164970","A679074",{"$f":"IFERROR(VLOOKUP(AG434,AKT!$E$4:$G$351,3,FALSE),\"\")","v":"0942"}]
[null,"",null,"",null,"","",null,0,0,{"$nulls":6},{"$f":"IF(C435=\"\",\"\",'OPĆI DIO'!$C$1)","v":""},"","","","",{"$nulls":9},"A679075.001","INTERREG DA SPACE projekt interdisciplinarne i međunarodne suradnja povezivanja akademskog, gospodarskog, istraživačkog i javnog sektora","A679075",{"$f":"IFERROR(VLOOKUP(AG435,AKT!$E$4:$G$351,3,FALSE),\"\")","v":"0942"}]
[null,"",null,"",null,"","",null,0,0,{"$nulls":6},{"$f":"IF(C436=\"\",\"\",'OPĆI DIO'!$C$1)","v":""},"","","","",{"$nulls":9},"A679075.002","INTERREG RE-WIND projekt prekogranične suradnje Italije i Hrvatske kroz neiskorišteni potencijal prirodne i kulturne baštine","A679075",{"$f":"IFERROR(VLOOKUP(AG436,AKT!$E$4:$G$351,3,FALSE),\"\")","v":"0942"}]
[null,"",null,"",null,"","",null,0,0,{"$nulls":6},{"$f":"IF(C437=\"\",\"\",'OPĆI DIO'!$C$1)","v":""},"","","","",{"$nulls":9},"A679075.003","INTERREG ADRIATIC ATLAS projekt prekogranične suradnje Italije i Hrvatske kroz neiskorišteni potencijal prirodne i kulturne baštine i poticanje pokretanja ICT tvrtki","A679075",{"$f":"IFERROR(VLOOKUP(AG437,AKT!$E$4:$G$351,3,FALSE),\"\")","v":"0942"}]
[null,"",null,"",null,"","",null,0,0,{"$nulls":6},{"$f":"IF(C438=\"\",\"\",'OPĆI DIO'!$C$1)","v":""},"","","","",{"$nulls":9},"A679075.004","INTERREG ALTEROUTES projekt krajobraznog upravljanja s ciljem smanjenja pritiska masovnog turizma na dragocjenu povijesnu baštinu","A679075",{"$f":"IFERROR(VLOOKUP(AG438,AKT!$E$4:$G$351,3,FALSE),\"\")","v":"0942"}]
[null,"",null,"",null,"","",null,0,0,{"$nulls":6},{"$f":"IF(C439=\"\",\"\",'OPĆI DIO'!$C$1)","v":""},"","","","",{"$nulls":9},"A679075.005","INTERREG RIVERS projekt poticanja kulturne industrije Italije i Hrvatske kroz praćenje podrijetla krajolika rijeka i njihovih ušća duž jadranske obale","A679075",{"$f":"IFERROR(VLOOKUP(AG439,AKT!$E$4:$G$351,3,FALSE),\"\")","v":"0942"}]
[null,"",null,"",null,"","",null,0,0,{"$nulls":6},{"$f":"IF(C440=\"\",\"\",'OPĆI DIO'!$C$1)","v":""},"","","","",{"$nulls":9},"A679075.006","INTERREG ARTHUR projekt praćenja i mjerenja kapaciteta noćenja u turističkim destinacijama radi usmjeravanja na manje opterećena turistička područja","A679075",{"$f":"IFERROR(VLOOKUP(AG440,AKT!$E$4:$G$351,3,FALSE),\"\")","v":"0942"}]
[null,"",null,"",null,"","",null,0,0,{"$nulls":6},{"$f":"IF(C441=\"\",\"\",'OPĆI DIO'!$C$1)","v":""},"","","","",{"$nulls":9},"A679075.007","ERASMUS KA103 Mobilnost studenata i osoblja Sveučilišta u Puli","A679075",{"$f":"IFERROR(VLOOKUP(AG441,AKT!$E$4:$G$351,3,FALSE),\"\")","v":"0942"}]
[null,"",null,"",null,"","",null,0,0,{"$nulls":6},{"$f":"IF(C442=\"\",\"\",'OPĆI DIO'!$C$1)","v":""},"","","","",{"$nulls":9},"A679075.008","ERASMUS KA107 Odlazne i dolazne mobilnosti studenata i osoblja Sveučilišta u Puli","A679075",{"$f":"IFERROR(VLOOKUP(AG442,AKT!$E$4:$G$351,3,FALSE),\"\")","v":"0942"}]
[null,"",null,"",null,"","",null,0,0,{"$nulls":6},{"$f":"IF(C443=\"\",\"\",'OPĆI DIO'!$C$1)","v":""},"","","","",{"$nulls":9},"A679075.009","ERASMUS+ KA2 - razvoj kapaciteta WILLIAM","A679075",{"$f":"IFERROR(VLOOKUP(AG443,AKT!$E$4:$G$351,3,FALSE),\"\")","v":"0942"}]
[null,"",null,"",null,"","",null,0,0,{"$nulls":6},{"$f":"IF(C444=\"\",\"\",'OPĆI DIO'!$C$1)","v":""},"","","","",{"$nulls":9},"A679075.010","ERASMUS KA2 - DYNAMIC","A679075",{"$f":"IFERROR(VLOOKUP(AG444,AKT!$E$4:$G$351,3,FALSE),\"\")","v":"0942"}]
[null,"",null,"",null,"","",null,0,0,{"$nulls":6},{"$f":"IF(C445=\"\",\"\",'OPĆI DIO'!$C$1)","v":""},"","","","",{"$nulls":9},"A679075.011","ERASMUS + KA103 Broj: 2020-1-HR01-KA103-077157 - Mobilnost studenata i osoblja Sveučilišta u Puli","A679075",{"$f":"IFERROR(VLOOKUP(AG445,AKT!$E$4:$G$351,3,FALSE),\"\")","v":"0942"}]
[null,"",null,"",null,"","",null,0,0,{"$nulls":6},{"$f":"IF(C446=\"\",\"\",'OPĆI DIO'!$C$1)","v":""},"","","","",{"$nulls":9},"A679075.012","ERASMUS + KA107 Broj: 2020-1-HR01-KA107-077587 - Odlazne i dolazne mobilnosti studenata i osoblja Sveučilišta u Puli","A679075",{"$f":"IFERROR(VLOOKUP(AG446,AKT!$E$4:$G$351,3,FALSE),\"\")","v":"0942"}]
[null,"",null,"",null,"","",null,0,0,{"$nulls":6},{"$f":"IF(C447=\"\",\"\",'OPĆI DIO'!$C$1)","v":""},"","","","",{"$nulls":9},"A679075.013","ERASMUS + KA202 broj: 2019-1-HR01-KA202-061006 - strukovno obrazovanje i osposobljavanje","A679075",{"$f":"IFERROR(VLOOKUP(AG447,AKT!$E$4:$G$351,3,FALSE),\"\")","v":"0942"}]
[null,"",null,"",null,"","",null,0,0,{"$nulls":6},{"$f":"IF(C448=\"\",\"\",'OPĆI DIO'!$C$1)","v":""},"","","","",{"$nulls":9},"A679075.014","Projekt \"IN DIV EU\"","A679075",{"$f":"IFERROR(VLOOKUP(AG448,AKT!$E$4:$G$351,3,FALSE),\"\")","v":"0942"}]
[null,"",null,"",null,"","",null,0,0,{"$nulls":6},{"$f":"IF(C449=\"\",\"\",'OPĆI DIO'!$C$1)","v":""},"","","","",{"$nulls":9},"A679075.015","HKO FET","A679075",{"$f":"IFERROR(VLOOKUP(AG449,AKT!$E$4:$G$351,3,FALSE),\"\")","v":"0942"}]
[null,"",null,"",null,"","",null,0,0,{"$nulls":6},{"$f":"IF(C450=\"\",\"\",'OPĆI DIO'!$C$1)","v":""},"","","","",{"$nulls":9},"A679075.016","Partnerstvo između znanstvenika I ribara","A679075",{"$f":"IFERROR(VLOOKUP(AG450,AKT!$E$4:$G$351,3,FALSE),\"\")","v":"0942"}]
[null,"",null,"",null,"","",null,0,0,{"$nulls":6},{"$f":"IF(C451=\"\",\"\",'OPĆI DIO'!$C$1)","v":""},"","","","",{"$nulls":9},"A679075.017","EU projekt - DA SPACE","A679075",{"$f":"IFERROR(VLOOKUP(AG451,AKT!$E$4:$G$351,3,FALSE),\"\")","v":"0942"}]
[null,{"$f":"IFERROR(VLOOKUP(A452,$V$6:$W$23,2,FALSE),\"\")","v":""},null,{"$f":"IFERROR(VLOOKUP(C452,$Y$5:$AA$129,2,FALSE),\"\")","v":""},null,{"$f":"IFERROR(VLOOKUP(E452,$AE$6:$AF$1763,2,FALSE),\"\")","v":""},{"$f":"IFERROR(VLOOKUP(E452,$AE$6:$AH$1763,4,FALSE),\"\")","v":""},null,0,{"$f":"+H452+I452","v":0},{"$nulls":6},{"$f":"IF(C452=\"\",\"\",'OPĆI DIO'!$C$1)","v":""},{"$f":"LEFT(C452,3)","v":""},{"$f":"LEFT(C452,2)","v":""},{"$f":"IF(U452=\"5\",0,MID(G452,2,2))","v":""},{"$f":"LEFT(C452,1)","v":""},{"$nulls":9},"A679075.018","Projekt IN DIV E","A679075",{"$f":"IFERROR(VLOOKUP(AG452,AKT!$E$4:$G$351,3,FALSE),\"\")","v":"0942"}]
[null,"",null,"",null,"","",null,0,0,{"$nulls":6},{"$f":"IF(C453=\"\",\"\",'OPĆI DIO'!$C$1)","v":""},"","","","",{"$nulls":9},"A679075.019","HKO FET","A679075",{"$f":"IFERROR(VLOOKUP(AG453,AKT!$E$4:$G$351,3,FALSE),\"\")","v":"0942"}]
[null,"",null,"",null,"","",null,0,0,{"$nulls":6},{"$f":"IF(C454=\"\",\"\",'OPĆI DIO'!$C$1)","v":""},"","","","",{"$nulls":9},"A679075.020","Partnerstvo između znanstvenika I ribara","A679075",{"$f":"IFERROR(VLOOKUP(AG454,AKT!$E$4:$G$351,3,FALSE),\"\")","v":"0942"}]
[null,"",null,"",null,"","",null,0,0,{"$nulls":6},{"$f":"IF(C455=\"\",\"\",'OPĆI DIO'!$C$1)","v":""},"","","","",{"$nulls":9},"A679075.021","EU projekt  DA SPACE","A679075",{"$f":"IFERROR(VLOOKUP(AG455,AKT!$E$4:$G$351,3,FALSE),\"\")","v":"0942"}]
[null,"",null,"",null,"","",null,0,0,{"$nulls":6},{"$f":"IF(C456=\"\",\"\",'OPĆI DIO'!$C$1)","v":""},"","","","",{"$nulls":9},"A679075.022","HKO-izvrsnost i učinkovitost na razini visokog obrazovanja","A679075",{"$f":"IFERROR(VLOOKUP(AG456,AKT!$E$4:$G$351,3,FALSE),\"\")","v":"0942"}]
[null,"",null,"",null,"","",null,0,0,{"$nulls":6},{"$f":"IF(C457=\"\",\"\",'OPĆI DIO'!$C$1)","v":""},"","","","",{"$nulls":9},"A679075.023","Integrirani sustav uzgoja alternativnih vrsta školjkaša u uvjetima klimatskih promjena",{"$f":"LEFT(AE457,7)","v":"A679075"},{"$f":"IFERROR(VLOOKUP(AG457,AKT!$E$4:$G$351,3,FALSE),\"\")","v":"0942"}]
[null,"",null,"",null,"","",null,0,0,{"$nulls":6},{"$f":"IF(C458=\"\",\"\",'OPĆI DIO'!$C$1)","v":""},"","","","",{"$nulls":9},"A679075.024","KLIK Pula-centar za kompetentno cjeloživotno razvijanje inovativnih znanja i vještina u sektoru ugostiteljstva i turizma","A679075",{"$f":"IFERROR(VLOOKUP(AG458,AKT!$E$4:$G$351,3,FALSE),\"\")","v":"0942"}]
[null,"",null,"",null,"","",null,0,0,{"$nulls":6},{"$f":"IF(C459=\"\",\"\",'OPĆI DIO'!$C$1)","v":""},"","","","",{"$nulls":9},"A679075.025","BRIGHT PROJEKT ERASMUS","A679075",{"$f":"IFERROR(VLOOKUP(AG459,AKT!$E$4:$G$351,3,FALSE),\"\")","v":"0942"}]
[null,"",null,"",null,"","",null,0,0,{"$nulls":6},{"$f":"IF(C460=\"\",\"\",'OPĆI DIO'!$C$1)","v":""},"","","","",{"$nulls":9},"A679075.026","ACTIVE AND INCLUSIVE TEACHING OF LITERACY","A679075",{"$f":"IFERROR(VLOOKUP(AG460,AKT!$E$4:$G$351,3,FALSE),\"\")","v":"0942"}]
[null,"",null,"",null,"","",null,0,0,{"$nulls":6},{"$f":"IF(C461=\"\",\"\",'OPĆI DIO'!$C$1)","v":""},"","","","",{"$nulls":9},"A679075.027","PROJEKT SUSTAINABILITY","A679075",{"$f":"IFERROR(VLOOKUP(AG461,AKT!$E$4:$G$351,3,FALSE),\"\")","v":"0942"}]
[null,"",null,"",null,"","",null,0,0,{"$nulls":6},{"$f":"IF(C462=\"\",\"\",'OPĆI DIO'!$C$1)","v":""},"","","","",{"$nulls":9},"A679075.028","JEAN MOUNET MODULE \"HEVET\"","A679075",{"$f":"IFERROR(VLOOKUP(AG462,AKT!$E$4:$G$351,3,FALSE),\"\")","v":"0942"}]
[null,"",null,"",null,"","",null,0,0,{"$nulls":6},{"$f":"IF(C463=\"\",\"\",'OPĆI DIO'!$C$1)","v":""},"","","","",{"$nulls":9},"A679075.029","BLUE CONNECT (OBZOR EUROPA, ISTRAŽIVAČKI PROJEKTI)","A679075",{"$f":"IFERROR(VLOOKUP(AG463,AKT!$E$4:$G$351,3,FALSE),\"\")","v":"0942"}]
[null,"",null,"",null,"","",null,0,0,{"$nulls":6},{"$f":"IF(C464=\"\",\"\",'OPĆI DIO'!$C$1)","v":""},"","","","",{"$nulls":9},"A679075.030","ERASMUS 2021-1-HR01-KA131-HED-000004325","A679075",{"$f":"IFERROR(VLOOKUP(AG464,AKT!$E$4:$G$351,3,FALSE),\"\")","v":"0942"}]
[null,"",null,"",null,"","",null,0,0,{"$nulls":6},{"$f":"IF(C465=\"\",\"\",'OPĆI DIO'!$C$1)","v":""},"","","","",{"$nulls":9},"A679075.031","ADRIPROTOUR","A679075",{"$f":"IFERROR(VLOOKUP(AG465,AKT!$E$4:$G$351,3,FALSE),\"\")","v":"0942"}]
[null,"",null,"",null,"","",null,0,0,{"$nulls":6},{"$f":"IF(C466=\"\",\"\",'OPĆI DIO'!$C$1)","v":""},"","","","",{"$nulls":9},"A679075.032","ERASMUS+ \"DESIGNCARE\"","A679075",{"$f":"IFERROR(VLOOKUP(AG466,AKT!$E$4:$G$351,3,FALSE),\"\")","v":"0942"}]
[null,"",null,"",null,"","",null,0,0,{"$nulls":6},{"$f":"IF(C467=\"\",\"\",'OPĆI DIO'!$C$1)","v":""},"","","","",{"$nulls":9},"A679075.033","CACAO 2021-1-HR01-KA220-SCH-000027781","A679075",{"$f":"IFERROR(VLOOKUP(AG467,AKT!$E$4:$G$351,3,FALSE),\"\")","v":"0942"}]
[null,"",null,"",null,"","",null,0,0,{"$nulls":6},{"$f":"IF(C468=\"\",\"\",'OPĆI DIO'!$C$1)","v":""},"","","","",{"$nulls":9},"A679075.034","2022-1-HR01-KA131-HED-000057180","A679075",{"$f":"IFERROR(VLOOKUP(AG468,AKT!$E$4:$G$351,3,FALSE),\"\")","v":"0942"}]
[null,"",null,"",null,"","",null,0,0,{"$nulls":6},{"$f":"IF(C469=\"\",\"\",'OPĆI DIO'!$C$1)","v":""},"","","","",{"$nulls":9},"A679075.035","EUROPEAN DIGITAL INNOVATION HUB ADRIATIC CROATIA (EDIH ADRIA)","A679075",{"$f":"IFERROR(VLOOKUP(AG469,AKT!$E$4:$G$351,3,FALSE),\"\")","v":"0942"}]
[null,"",null,"",null,"","",null,0,0,{"$nulls":6},{"$f":"IF(C470=\"\",\"\",'OPĆI DIO'!$C$1)","v":""},"","","","",{"$nulls":9},"A679075.036","2023-1-HR01-KA131-HED-000126399","A679075",{"$f":"IFERROR(VLOOKUP(AG470,AKT!$E$4:$G$351,3,FALSE),\"\")","v":"0942"}]
[null,"",null,"",null,"","",null,0,0,{"$nulls":6},{"$f":"IF(C471=\"\",\"\",'OPĆI DIO'!$C$1)","v":""},"","","","",{"$nulls":9},"A679075.037","PROJEKT AQUAMON","A679075",{"$f":"IFERROR(VLOOKUP(AG471,AKT!$E$4:$G$351,3,FALSE),\"\")","v":"0942"}]
[null,"",null,"",null,"","",null,0,0,{"$nulls":6},{"$f":"IF(C472=\"\",\"\",'OPĆI DIO'!$C$1)","v":""},"","","","",{"$nulls":9},"A679075.038","PROJEKT DMC KLASTER","A679075",{"$f":"IFERROR(VLOOKUP(AG472,AKT!$E$4:$G$351,3,FALSE),\"\")","v":"0942"}]
[null,"",null,"",null,"","",null,0,0,{"$nulls":6},{"$f":"IF(C473=\"\",\"\",'OPĆI DIO'!$C$1)","v":""},"","","","",{"$nulls":9},"A679075.039","PROJEKT CARDEA","A679075",{"$f":"IFERROR(VLOOKUP(AG473,AKT!$E$4:$G$351,3,FALSE),\"\")","v":"0942"}]
[null,"",null,"",null,"","",null,0,0,{"$nulls":6},{"$f":"IF(C474=\"\",\"\",'OPĆI DIO'!$C$1)","v":""},"","","","",{"$nulls":9},"A679076.001","INTERREG SLO-HR Živi dvorci - projekt očuvanja kulturnog nasljeđa","A679076",{"$f":"IFERROR(VLOOKUP(AG474,AKT!$E$4:$G$351,3,FALSE),\"\")","v":"0942"}]
[null,"",null,"",null,"","",null,0,0,{"$nulls":6},{"$f":"IF(C475=\"\",\"\",'OPĆI DIO'!$C$1)","v":""},"","","","",{"$nulls":9},"A679076.002","ERASMUS+ KA103 Mobilnost studenata i osoblja Veleučilišta u Vukovaru","A679076",{"$f":"IFERROR(VLOOKUP(AG475,AKT!$E$4:$G$351,3,FALSE),\"\")","v":"0942"}]
[null,"",null,"",null,"","",null,0,0,{"$nulls":6},{"$f":"IF(C476=\"\",\"\",'OPĆI DIO'!$C$1)","v":""},"","","","",{"$nulls":9},"A679076.003","ERASMUS+ KA107","A679076",{"$f":"IFERROR(VLOOKUP(AG476,AKT!$E$4:$G$351,3,FALSE),\"\")","v":"0942"}]
[null,"",null,"",null,"","",null,0,0,{"$nulls":6},{"$f":"IF(C477=\"\",\"\",'OPĆI DIO'!$C$1)","v":""},"","","","",{"$nulls":9},"A679076.004","LIFE LYNX 16/NAT/SI/000634","A679076",{"$f":"IFERROR(VLOOKUP(AG477,AKT!$E$4:$G$351,3,FALSE),\"\")","v":"0942"}]
[null,"",null,"",null,"","",null,0,0,{"$nulls":6},{"$f":"IF(C478=\"\",\"\",'OPĆI DIO'!$C$1)","v":""},"","","","",{"$nulls":9},"A679076.005","Erasmus+","A679076",{"$f":"IFERROR(VLOOKUP(AG478,AKT!$E$4:$G$351,3,FALSE),\"\")","v":"0942"}]
[null,"",null,"",null,"","",null,0,0,{"$nulls":6},{"$f":"IF(C479=\"\",\"\",'OPĆI DIO'!$C$1)","v":""},"","","","",{"$nulls":9},"A679076.006","Milk-ed","A679076",{"$f":"IFERROR(VLOOKUP(AG479,AKT!$E$4:$G$351,3,FALSE),\"\")","v":"0942"}]
[null,"",null,"",null,"","",null,0,0,{"$nulls":6},{"$f":"IF(C480=\"\",\"\",'OPĆI DIO'!$C$1)","v":""},"","","","",{"$nulls":9},"A679076.007","EDUAGRNTERREG V-A HUNGARYI, I","A679076",{"$f":"IFERROR(VLOOKUP(AG480,AKT!$E$4:$G$351,3,FALSE),\"\")","v":"0942"}]
[null,"",null,"",null,"","",null,0,0,{"$nulls":6},{"$f":"IF(C481=\"\",\"\",'OPĆI DIO'!$C$1)","v":""},"","","","",{"$nulls":9},"A679076.008","Odčepljivanje ruralnog naslijeđa: autohtona proizvodnja fermentiranih pića za lokalnu kulturnu i okolišnu održivost, 2018-1-0682","A679076",{"$f":"IFERROR(VLOOKUP(AG481,AKT!$E$4:$G$351,3,FALSE),\"\")","v":"0942"}]
[null,"",null,"",null,"","",null,0,0,{"$nulls":6},{"$f":"IF(C482=\"\",\"\",'OPĆI DIO'!$C$1)","v":""},"","","","",{"$nulls":9},"A679076.009","Moderno obrazovanje prvostupnika mehatronike","A679076",{"$f":"IFERROR(VLOOKUP(AG482,AKT!$E$4:$G$351,3,FALSE),\"\")","v":"0942"}]
[null,"",null,"",null,"","",null,0,0,{"$nulls":6},{"$f":"IF(C483=\"\",\"\",'OPĆI DIO'!$C$1)","v":""},"","","","",{"$nulls":9},"A679076.010","Snaga vještina","A679076",{"$f":"IFERROR(VLOOKUP(AG483,AKT!$E$4:$G$351,3,FALSE),\"\")","v":"0942"}]
[null,"",null,"",null,"","",null,0,0,{"$nulls":6},{"$f":"IF(C484=\"\",\"\",'OPĆI DIO'!$C$1)","v":""},"","","","",{"$nulls":9},"A679076.011","Snaga vještina","A679076",{"$f":"IFERROR(VLOOKUP(AG484,AKT!$E$4:$G$351,3,FALSE),\"\")","v":"0942"}]
[null,"",null,"",null,"","",null,0,0,{"$nulls":6},{"$f":"IF(C485=\"\",\"\",'OPĆI DIO'!$C$1)","v":""},"","","","",{"$nulls":9},"A679076.012","Bespilotne letjelice","A679076",{"$f":"IFERROR(VLOOKUP(AG485,AKT!$E$4:$G$351,3,FALSE),\"\")","v":"0942"}]
[null,"",null,"",null,"","",null,0,0,{"$nulls":6},{"$f":"IF(C486=\"\",\"\",'OPĆI DIO'!$C$1)","v":""},"","","","",{"$nulls":9},"A679076.013","Stipendiranje studenata visokih učilišta iz područja biotehničkih znanosti na području Slavonije, Baranje i Srijema","A679076",{"$f":"IFERROR(VLOOKUP(AG486,AKT!$E$4:$G$351,3,FALSE),\"\")","v":"0942"}]
[null,"",null,"",null,"","",null,0,0,{"$nulls":6},{"$f":"IF(C487=\"\",\"\",'OPĆI DIO'!$C$1)","v":""},"","","","",{"$nulls":9},"A679076.014","Measures","A679076",{"$f":"IFERROR(VLOOKUP(AG487,AKT!$E$4:$G$351,3,FALSE),\"\")","v":"0942"}]
[null,"",null,"",null,"","",null,0,0,{"$nulls":6},{"$f":"IF(C488=\"\",\"\",'OPĆI DIO'!$C$1)","v":""},"","","","",{"$nulls":9},"A679076.015","Izgradnja studentskog doma u Požegi","A679076",{"$f":"IFERROR(VLOOKUP(AG488,AKT!$E$4:$G$351,3,FALSE),\"\")","v":"0942"}]
[null,"",null,"",null,"","",null,0,0,{"$nulls":6},{"$f":"IF(C489=\"\",\"\",'OPĆI DIO'!$C$1)","v":""},"","","","",{"$nulls":9},"A679076.016","Projekt Horizon 2020-Nextgen Microfluidics    \"Next generation test bed for upscaling of microfluidic devices based on nano-enabled surfaces and membranes\"","A679076",{"$f":"IFERROR(VLOOKUP(AG489,AKT!$E$4:$G$351,3,FALSE),\"\")","v":"0942"}]
[null,"",null,"",null,"","",null,0,0,{"$nulls":6},{"$f":"IF(C490=\"\",\"\",'OPĆI DIO'!$C$1)","v":""},"","","","",{"$nulls":9},"A679076.017","Razvoj uređaja sa potopljenim isparivačem","A679076",{"$f":"IFERROR(VLOOKUP(AG490,AKT!$E$4:$G$351,3,FALSE),\"\")","v":"0942"}]
[null,"",null,"",null,"","",null,0,0,{"$nulls":6},{"$f":"IF(C491=\"\",\"\",'OPĆI DIO'!$C$1)","v":""},"","","","",{"$nulls":9},"A679076.018","Internacionalizacija stručnog diplomskog spec.studija Informacijska sigurnost i digitalna forenzika TVZ-a","A679076",{"$f":"IFERROR(VLOOKUP(AG491,AKT!$E$4:$G$351,3,FALSE),\"\")","v":"0942"}]
[null,"",null,"",null,"","",null,0,0,{"$nulls":6},{"$f":"IF(C492=\"\",\"\",'OPĆI DIO'!$C$1)","v":""},"","","","",{"$nulls":9},"A679076.019","PROJEKT CODEIN 2020-1-HR01-KA226-HE094713","A679076",{"$f":"IFERROR(VLOOKUP(AG492,AKT!$E$4:$G$351,3,FALSE),\"\")","v":"0942"}]
[null,"",null,"",null,"","",null,0,0,{"$nulls":6},{"$f":"IF(C493=\"\",\"\",'OPĆI DIO'!$C$1)","v":""},"","","","",{"$nulls":9},"A679076.020","PROJEKT KA107-077451 (2020-2022) ( ERASMUS+)","A679076",{"$f":"IFERROR(VLOOKUP(AG493,AKT!$E$4:$G$351,3,FALSE),\"\")","v":"0942"}]
[null,"",null,"",null,"","",null,0,0,{"$nulls":6},{"$f":"IF(C494=\"\",\"\",'OPĆI DIO'!$C$1)","v":""},"","","","",{"$nulls":9},"A679076.021","PROJEKT KA103-077131 (2020-2022) ( ERASMUS+)","A679076",{"$f":"IFERROR(VLOOKUP(AG494,AKT!$E$4:$G$351,3,FALSE),\"\")","v":"0942"}]
[null,"",null,"",null,"","",null,0,0,{"$nulls":6},{"$f":"IF(C495=\"\",\"\",'OPĆI DIO'!$C$1)","v":""},"","","","",{"$nulls":9},"A679076.022","INTERREG ITALY-CROATIA RECOLOR","A679076",{"$f":"IFERROR(VLOOKUP(AG495,AKT!$E$4:$G$351,3,FALSE),\"\")","v":"0942"}]
[null,"",null,"",null,"","",null,0,0,{"$nulls":6},{"$f":"IF(C496=\"\",\"\",'OPĆI DIO'!$C$1)","v":""},{"$f":"LEFT(C496,3)","v":""},"","","",{"$nulls":9},"A679076.023","PROJEKT KA103-060319 (2019-2020) ( ERASMUS+)","A679076",{"$f":"IFERROR(VLOOKUP(AG496,AKT!$E$4:$G$351,3,FALSE),\"\")","v":"0942"}]
[null,"",null,"",null,"","",null,0,0,{"$nulls":6},{"$f":"IF(C497=\"\",\"\",'OPĆI DIO'!$C$1)","v":""},"","","","",{"$nulls":9},"A679076.024","Rekonstrukcija zgrade oružane za centar kompetencija","A679076",{"$f":"IFERROR(VLOOKUP(AG497,AKT!$E$4:$G$351,3,FALSE),\"\")","v":"0942"}]
[null,"",null,"",null,"","",null,0,0,{"$nulls":6},{"$f":"IF(C498=\"\",\"\",'OPĆI DIO'!$C$1)","v":""},"","","","",{"$nulls":9},"A679076.025","Uncorking rural heritahege - autohtona proizvodnja fermentiranih pića radi lokalne kulturne i ekološke održivosti","A679076",{"$f":"IFERROR(VLOOKUP(AG498,AKT!$E$4:$G$351,3,FALSE),\"\")","v":"0942"}]
[null,"",null,"",null,"","",null,0,0,{"$nulls":6},{"$f":"IF(C499=\"\",\"\",'OPĆI DIO'!$C$1)","v":""},"","","","",{"$nulls":9},"A679076.026","ERASMUS+ KA2 - Digital Education in Nursing","A679076",{"$f":"IFERROR(VLOOKUP(AG499,AKT!$E$4:$G$351,3,FALSE),\"\")","v":"0942"}]
[null,"",null,"",null,"","",null,0,0,{"$nulls":6},{"$f":"IF(C500=\"\",\"\",'OPĆI DIO'!$C$1)","v":""},"","","","",{"$nulls":9},"A679076.027","Razvoj, unapređenje i provedba stručne prakse u visokom obrazovanju","A679076",{"$f":"IFERROR(VLOOKUP(AG500,AKT!$E$4:$G$351,3,FALSE),\"\")","v":"0942"}]
[null,"",null,"",null,"","",null,0,0,{"$nulls":6},{"$f":"IF(C501=\"\",\"\",'OPĆI DIO'!$C$1)","v":""},"","","","",{"$nulls":9},"A679076.028","Drvoproizvod","A679076",{"$f":"IFERROR(VLOOKUP(AG501,AKT!$E$4:$G$351,3,FALSE),\"\")","v":"0942"}]
[{"$nulls":30},"A679076.029","Karijera i ja","A679076",{"$f":"IFERROR(VLOOKUP(AG502,AKT!$E$4:$G$351,3,FALSE),\"\")","v":"0942"}]
[{"$nulls":30},"A679076.030","Pročišćavanje vode","A679076",{"$f":"IFERROR(VLOOKUP(AG503,AKT!$E$4:$G$351,3,FALSE),\"\")","v":"0942"}]
[{"$nulls":30},"A679076.031","Atrij znanja","A679076",{"$f":"IFERROR(VLOOKUP(AG504,AKT!$E$4:$G$351,3,FALSE),\"\")","v":"0942"}]
[{"$nulls":30},"A679076.032","Drvoproizvod- Divine Parquet","A679076",{"$f":"IFERROR(VLOOKUP(AG505,AKT!$E$4:$G$351,3,FALSE),\"\")","v":"0942"}]
[{"$nulls":30},"A679076.033","Struka i ti","A679076",{"$f":"IFERROR(VLOOKUP(AG506,AKT!$E$4:$G$351,3,FALSE),\"\")","v":"0942"}]
[{"$nulls":30},"A679076.034","Karijera i ja","A679076",{"$f":"IFERROR(VLOOKUP(AG507,AKT!$E$4:$G$351,3,FALSE),\"\")","v":"0942"}]
[{"$nulls":30},"A679076.035","Pročišćavanje voda","A679076",{"$f":"IFERROR(VLOOKUP(AG508,AKT!$E$4:$G$351,3,FALSE),\"\")","v":"0942"}]
[{"$nulls":30},"A679076.036","Modifikacija procesa zrenja sira","A679076",{"$f":"IFERROR(VLOOKUP(AG509,AKT!$E$4:$G$351,3,FALSE),\"\")","v":"0942"}]
[{"$nulls":30},"A679076.037","EUKI Europenan Climate Initiative 2022","A679076",{"$f":"IFERROR(VLOOKUP(AG510,AKT!$E$4:$G$351,3,FALSE),\"\")","v":"0942"}]
[{"$nulls":30},"A679076.038","Podmjera 10.2.","A679076",{"$f":"IFERROR(VLOOKUP(AG511,AKT!$E$4:$G$351,3,FALSE),\"\")","v":"0942"}]
[{"$nulls":30},"A679076.039","PODMJERA 16.1.2 OPERATIVNE SKUPINE","A679076",{"$f":"IFERROR(VLOOKUP(AG512,AKT!$E$4:$G$351,3,FALSE),\"\")","v":"0942"}]
[{"$nulls":30},"A679076.040","BeEmTel KA220","A679076",{"$f":"IFERROR(VLOOKUP(AG513,AKT!$E$4:$G$351,3,FALSE),\"\")","v":"0942"}]
[{"$nulls":30},"A679076.041","UPPSCAP KA220","A679076",{"$f":"IFERROR(VLOOKUP(AG514,AKT!$E$4:$G$351,3,FALSE),\"\")","v":"0942"}]
[{"$nulls":30},"A679076.042","DEN KA226","A679076",{"$f":"IFERROR(VLOOKUP(AG515,AKT!$E$4:$G$351,3,FALSE),\"\")","v":"0942"}]
[{"$nulls":30},"A679076.043","Mjera 1.1.2. APPRRR","A679076",{"$f":"IFERROR(VLOOKUP(AG516,AKT!$E$4:$G$351,3,FALSE),\"\")","v":"0942"}]
[{"$nulls":30},"A679076.044","SIMBA- Simulation based learining","A679076",{"$f":"IFERROR(VLOOKUP(AG517,AKT!$E$4:$G$351,3,FALSE),\"\")","v":"0942"}]
[{"$nulls":30},"A679076.045","REGIONALNI ZNANSTVENI CENTAR LORI","A679076",{"$f":"IFERROR(VLOOKUP(AG518,AKT!$E$4:$G$351,3,FALSE),\"\")","v":"0942"}]
[{"$nulls":30},"A679076.046","Vraćanje dijela objekta \"Oružane\" u stanje prije potresa","A679076",{"$f":"IFERROR(VLOOKUP(AG519,AKT!$E$4:$G$351,3,FALSE),\"\")","v":"0942"}]
[{"$nulls":30},"A679076.047","AgriNext - Inkubator poljoprivredne i ruralne izvrsnosti i platforma za razmjenu kompetencija","A679076",{"$f":"IFERROR(VLOOKUP(AG520,AKT!$E$4:$G$351,3,FALSE),\"\")","v":"0942"}]
[{"$nulls":30},"A679076.048","SMARTER",{"$f":"LEFT(AE521,7)","v":"A679076"},{"$f":"IFERROR(VLOOKUP(AG521,AKT!$E$4:$G$351,3,FALSE),\"\")","v":"0942"}]
[{"$nulls":30},"A679076.049","Seed2STEM: Planting the Future of Education","A679076",{"$f":"IFERROR(VLOOKUP(AG522,AKT!$E$4:$G$351,3,FALSE),\"\")","v":"0942"}]
[{"$nulls":30},"A679076.050","AgriNext - Inkubator poljoprivredne i ruralne izvrsnosti i platforma za razmjenu kompetencija","A679076",{"$f":"IFERROR(VLOOKUP(AG523,AKT!$E$4:$G$351,3,FALSE),\"\")","v":"0942"}]
[{"$nulls":30},"A679076.051","Alati za iskustveno učenje za stjecanje kompetencija SMART opskrbnog lanca - SMARTER","A679076",{"$f":"IFERROR(VLOOKUP(AG524,AKT!$E$4:$G$351,3,FALSE),\"\")","v":"0942"}]
[{"$nulls":30},"A679076.052","Seed2STEM: Planting the Future of Education","A679076",{"$f":"IFERROR(VLOOKUP(AG525,AKT!$E$4:$G$351,3,FALSE),\"\")","v":"0942"}]
[{"$nulls":30},"A679077.001","BLUTOURSYSTEM projekt unaprjeđenja okvira za održivi rast Plavog turizma","A679077",{"$f":"IFERROR(VLOOKUP(AG526,AKT!$E$4:$G$351,3,FALSE),\"\")","v":"0942"}]
[{"$nulls":30},"A679077.002","ERASMUS+ Inovativna poslovna suradnja - model inovativnog učenja u području turizma","A679077",{"$f":"IFERROR(VLOOKUP(AG527,AKT!$E$4:$G$351,3,FALSE),\"\")","v":"0942"}]
[{"$nulls":30},"A679077.003","INTERREG MEDITERAN projekt unaprjeđenja turističkog znanja za oblikovanje i vođenje održivog turizma","A679077",{"$f":"IFERROR(VLOOKUP(AG528,AKT!$E$4:$G$351,3,FALSE),\"\")","v":"0942"}]
[{"$nulls":30},"A679077.004","ERASMUS+ Novi sveučilišni kurikul Cultural Studies in Business","A679077",{"$f":"IFERROR(VLOOKUP(AG529,AKT!$E$4:$G$351,3,FALSE),\"\")","v":"0942"}]
[{"$nulls":30},"A679077.005","WIRE 2020 Inovacije ekosustava i razvoj regija Europe","A679077",{"$f":"IFERROR(VLOOKUP(AG530,AKT!$E$4:$G$351,3,FALSE),\"\")","v":"0942"}]
[{"$nulls":30},"A679077.006","GIANTLEAP Nezagađivački promet autobusa s Pem gorivim stanicama","A679077",{"$f":"IFERROR(VLOOKUP(AG531,AKT!$E$4:$G$351,3,FALSE),\"\")","v":"0942"}]
[{"$nulls":30},"A679077.007","HYDRIDE4MOBILITY Razvoj komunalnih vozila pomoću MH spremnika vodika i PEM gorivnih ćelija","A679077",{"$f":"IFERROR(VLOOKUP(AG532,AKT!$E$4:$G$351,3,FALSE),\"\")","v":"0942"}]
[{"$nulls":30},"A679077.008","SAVE Sport Against Violence and Exclusion - Sportom protiv nasilja i isključenosti","A679077",{"$f":"IFERROR(VLOOKUP(AG533,AKT!$E$4:$G$351,3,FALSE),\"\")","v":"0942"}]
[{"$nulls":30},"A679077.009","ESA Program sportskih aktivnosti za djecu s tipičnim razvojem i potrebama","A679077",{"$f":"IFERROR(VLOOKUP(AG534,AKT!$E$4:$G$351,3,FALSE),\"\")","v":"0942"}]
[{"$nulls":30},"A679077.010","ENTIRE Mapiranje normativnog okvira za etiku provođenja istraživanja","A679077",{"$f":"IFERROR(VLOOKUP(AG535,AKT!$E$4:$G$351,3,FALSE),\"\")","v":"0942"}]
[{"$nulls":30},"A679077.011","VIR2UE Etika utemeljena na istraživačkoj čestitosti","A679077",{"$f":"IFERROR(VLOOKUP(AG536,AKT!$E$4:$G$351,3,FALSE),\"\")","v":"0942"}]
[{"$nulls":30},"A679077.012","SOPs4RI Europski kodeks ponašanja za istraživačku čestitost","A679077",{"$f":"IFERROR(VLOOKUP(AG537,AKT!$E$4:$G$351,3,FALSE),\"\")","v":"0942"}]
[{"$nulls":30},"A679077.013","INTERREG IPA CBC HR-BA-ME Unaprjeđenje dijagnostičkih i terapijskih usluga medicine spavanja u prekograničnom području južne Hrvatske i zapadne Bosne i Hercegovine","A679077",{"$f":"IFERROR(VLOOKUP(AG538,AKT!$E$4:$G$351,3,FALSE),\"\")","v":"0942"}]
[{"$nulls":30},"A679077.014","COSME COS Europska poduzetnička mreža za potporu i savjet gospodarstvenicima diljem Europe","A679077",{"$f":"IFERROR(VLOOKUP(AG539,AKT!$E$4:$G$351,3,FALSE),\"\")","v":"0942"}]
[{"$nulls":30},"A679077.015","OBZOR 2020 MIROR Europski program združenog doktorata radi integrirane obuke na doktorskoj razini","A679077",{"$f":"IFERROR(VLOOKUP(AG540,AKT!$E$4:$G$351,3,FALSE),\"\")","v":"0942"}]
[{"$nulls":30},"A679077.016","OBZOR 2020 TPTF_ERN Promocija znanosti u društvu","A679077",{"$f":"IFERROR(VLOOKUP(AG541,AKT!$E$4:$G$351,3,FALSE),\"\")","v":"0942"}]
[{"$nulls":30},"A679077.017","FP7 PREPARE Usklađene velike kliničke studije o zaraznim bolestima u 27 država članica EU","A679077",{"$f":"IFERROR(VLOOKUP(AG542,AKT!$E$4:$G$351,3,FALSE),\"\")","v":"0942"}]
[{"$nulls":30},"A679077.018","ERASMUS+ EUNIT Internacionalizacija visokoobrazovnih institucija u zemljama regije južnog Mediterana","A679077",{"$f":"IFERROR(VLOOKUP(AG543,AKT!$E$4:$G$351,3,FALSE),\"\")","v":"0942"}]
[{"$nulls":30},"A679077.019","ERASMUS+ BESTSDI Izrada kurikula na temu infrastrukture prostornih podataka u zemljama Zapadnog Balkana","A679077",{"$f":"IFERROR(VLOOKUP(AG544,AKT!$E$4:$G$351,3,FALSE),\"\")","v":"0942"}]
[{"$nulls":30},"A679077.020","ERASMUS+ InCounselling50+ Razvoj holističkog i znanstveno utemeljenog koncepta za inovativno savjetovanje i usmjeravanje kroz karijeru","A679077",{"$f":"IFERROR(VLOOKUP(AG545,AKT!$E$4:$G$351,3,FALSE),\"\")","v":"0942"}]
[{"$nulls":30},"A679077.021","ERASMUS+ FINAC Razvoj novih postdiplomskih studija u Republici Srbiji i Albaniji iz financijskog upravljanja, računovodstva i kontrolinga","A679077",{"$f":"IFERROR(VLOOKUP(AG546,AKT!$E$4:$G$351,3,FALSE),\"\")","v":"0942"}]
[{"$nulls":30},"A679077.022","ERASMUS+ CAPUS Očuvanje umjetnosti u javnim prostorima","A679077",{"$f":"IFERROR(VLOOKUP(AG547,AKT!$E$4:$G$351,3,FALSE),\"\")","v":"0942"}]
[{"$nulls":30},"A679077.023","ERASMUS+ FOODQA Poticanje suradnje akademije i industrije u sigurnosti i kvaliteti hrane","A679077",{"$f":"IFERROR(VLOOKUP(AG548,AKT!$E$4:$G$351,3,FALSE),\"\")","v":"0942"}]
[{"$nulls":30},"A679077.024","ERASMUS+ CABUFAL Izgradnja kapaciteta Pravnog fakulteta Crne Gore u procesu pristupanja EU","A679077",{"$f":"IFERROR(VLOOKUP(AG549,AKT!$E$4:$G$351,3,FALSE),\"\")","v":"0942"}]
[{"$nulls":30},"A679077.025","ERASMUS+ MEMUD MA studij u području urbanog dizajna za područje centralne i jugoistočne Europe","A679077",{"$f":"IFERROR(VLOOKUP(AG550,AKT!$E$4:$G$351,3,FALSE),\"\")","v":"0942"}]
[{"$nulls":30},"A679077.026","EUROPEAID: INTERCAP projekt mijenjanja javne percepcije o migracijama, sigurnosti i održivom razvoju u međuzavisnom svijetu","A679077",{"$f":"IFERROR(VLOOKUP(AG551,AKT!$E$4:$G$351,3,FALSE),\"\")","v":"0942"}]
[{"$nulls":30},"A679077.027","ERASMUS+ SpeculativeEDU projekt obrazovanja i stjecanja iskustva u području dizajna u nastajanju","A679077",{"$f":"IFERROR(VLOOKUP(AG552,AKT!$E$4:$G$351,3,FALSE),\"\")","v":"0942"}]
[{"$nulls":30},"A679077.028","ERASMUS+ dodjela bespovratnih sredstava studiranja i prakse kod mobilnosti nastavnog i nenastavnog osoblja Sveučilišta u Splitu","A679077",{"$f":"IFERROR(VLOOKUP(AG553,AKT!$E$4:$G$351,3,FALSE),\"\")","v":"0942"}]
[{"$nulls":30},"A679077.029","ERASMUS+ Programske zemlje KA103 Mobilnost studenata i osoblja Sveučilišta u Splitu","A679077",{"$f":"IFERROR(VLOOKUP(AG554,AKT!$E$4:$G$351,3,FALSE),\"\")","v":"0942"}]
[{"$nulls":30},"A679077.030","ERASMUS+ Programske zemlje KA103 Mobilnost studenata i osoblja Sveučilišta u Splitu","A679077",{"$f":"IFERROR(VLOOKUP(AG555,AKT!$E$4:$G$351,3,FALSE),\"\")","v":"0942"}]
[{"$nulls":30},"A679077.031","ERASMUS+ Programske zemlje KA103 Mobilnost studenata i osoblja Sveučilišta u Splitu","A679077",{"$f":"IFERROR(VLOOKUP(AG556,AKT!$E$4:$G$351,3,FALSE),\"\")","v":"0942"}]
[{"$nulls":30},"A679077.032","ERASMUS+ Programske zemlje KA103 Mobilnost studenata i osoblja Sveučilišta u Splitu","A679077",{"$f":"IFERROR(VLOOKUP(AG557,AKT!$E$4:$G$351,3,FALSE),\"\")","v":"0942"}]
[{"$nulls":30},"A679077.033","ERASMUS+  Partnerske zemlje KA107 Odlazne i dolazne mobilnosti studenata i osoblja Sveučilišta u Splitu","A679077",{"$f":"IFERROR(VLOOKUP(AG558,AKT!$E$4:$G$351,3,FALSE),\"\")","v":"0942"}]
[{"$nulls":30},"A679077.034","ERASMUS KA107 Odlazne i dolazne mobilnosti studenata i osoblja Sveučilišta u Splitu","A679077",{"$f":"IFERROR(VLOOKUP(AG559,AKT!$E$4:$G$351,3,FALSE),\"\")","v":"0942"}]
[{"$nulls":30},"A679077.035","ERASMUS+  Partnerske zemlje KA107 Odlazne i dolazne mobilnosti studenata i osoblja Sveučilišta u Splitu","A679077",{"$f":"IFERROR(VLOOKUP(AG560,AKT!$E$4:$G$351,3,FALSE),\"\")","v":"0942"}]
[{"$nulls":30},"A679077.036","ERASMUS+  Partnerske zemlje KA107 Odlazne i dolazne mobilnosti studenata i osoblja Sveučilišta u Splitu","A679077",{"$f":"IFERROR(VLOOKUP(AG561,AKT!$E$4:$G$351,3,FALSE),\"\")","v":"0942"}]
[{"$nulls":30},"A679077.037","INTERREG-NET4mPLASTIC- Nove tehnologije za detekciju i analizu marko i mirkoplastike u Jadranskom bazenu","A679077",{"$f":"IFERROR(VLOOKUP(AG562,AKT!$E$4:$G$351,3,FALSE),\"\")","v":"0942"}]
[{"$nulls":30},"A679077.038","INTERREG PMO-GATE - sprječavanje, upravljanje i prevladavanje rizika od prirodnih katastrofa radi ublažavanja njihova utjecaja na gospodarstvo i društvo","A679077",{"$f":"IFERROR(VLOOKUP(AG563,AKT!$E$4:$G$351,3,FALSE),\"\")","v":"0942"}]
[{"$nulls":30},"A679077.039","INTERREG DEEP-SEA – Razvoj planiranja energetske učinkovitosti i mobilnih usluga marina na Jadranskoj obali","A679077",{"$f":"IFERROR(VLOOKUP(AG564,AKT!$E$4:$G$351,3,FALSE),\"\")","v":"0942"}]
[{"$nulls":30},"A679077.040","INTERREG E-CITIJENS - Sustav za podršku odlučivanju (SPO) u upravljanju hitnim situacijama za potrebe civilne zaštite zasnovan na građanskom novinarstvu, a za poboljšanje sigurnosti na području Jadrana","A679077",{"$f":"IFERROR(VLOOKUP(AG565,AKT!$E$4:$G$351,3,FALSE),\"\")","v":"0942"}]
[{"$nulls":30},"A679077.041","INTERREG MoST - Monitoring prodora slane vode u obalne vodonosnike i testiranje pilot projekata za smanjenje štetnog utjecaja od zaslanjivanja","A679077",{"$f":"IFERROR(VLOOKUP(AG566,AKT!$E$4:$G$351,3,FALSE),\"\")","v":"0942"}]
[{"$nulls":30},"A679077.042","INTERREG AdSWiM - Upravljano korištenje pročišćenih komunalnih otpadnih voda radi kvalitete Jadranskog mora","A679077",{"$f":"IFERROR(VLOOKUP(AG567,AKT!$E$4:$G$351,3,FALSE),\"\")","v":"0942"}]
[{"$nulls":30},"A679077.043","INTERREG Plastic Busters MPA: Očuvanje biološke raznolikosti od plastike u zaštićenim morskim područjima na Mediteranu","A679077",{"$f":"IFERROR(VLOOKUP(AG568,AKT!$E$4:$G$351,3,FALSE),\"\")","v":"0942"}]
[{"$nulls":30},"A679077.044","SHExtreme","A679077",{"$f":"IFERROR(VLOOKUP(AG569,AKT!$E$4:$G$351,3,FALSE),\"\")","v":"0942"}]
[{"$nulls":30},"A679077.045","ERASMUS + Izgradnja kapaciteta za plavi rast i razvoj kurikuluma morskog ribarstva u Albaniji","A679077",{"$f":"IFERROR(VLOOKUP(AG570,AKT!$E$4:$G$351,3,FALSE),\"\")","v":"0942"}]
[{"$nulls":30},"A679077.046","INTERREG MED ARISTOIL","A679077",{"$f":"IFERROR(VLOOKUP(AG571,AKT!$E$4:$G$351,3,FALSE),\"\")","v":"0942"}]
[{"$nulls":30},"A679077.047","INTERREG FAIRSEA- Ribolov u jadranskoj regiji zajednički pristup ekosustavu","A679077",{"$f":"IFERROR(VLOOKUP(AG572,AKT!$E$4:$G$351,3,FALSE),\"\")","v":"0942"}]
[{"$nulls":30},"A679077.048","INTERREG  WATERCARE","A679077",{"$f":"IFERROR(VLOOKUP(AG573,AKT!$E$4:$G$351,3,FALSE),\"\")","v":"0942"}]
[{"$nulls":30},"A679077.049","IP-ojačani, suzbijanje štetočina i izvan sezone IPM usmjeren protiv novih i novih voćnih muha","A679077",{"$f":"IFERROR(VLOOKUP(AG574,AKT!$E$4:$G$351,3,FALSE),\"\")","v":"0942"}]
[{"$nulls":30},"A679077.050","Društvene znanosti i humanističke znanosti u međusektorskoj suradnji za bolje obrazovanje i održive inovacije","A679077",{"$f":"IFERROR(VLOOKUP(AG575,AKT!$E$4:$G$351,3,FALSE),\"\")","v":"0942"}]
[{"$nulls":30},"A679077.051","BLUEWBC - Održivi razvoj BLUE ekonomija putem visokog obrazovanja i inovacija u zemljama zapadnog Balkana","A679077",{"$f":"IFERROR(VLOOKUP(AG576,AKT!$E$4:$G$351,3,FALSE),\"\")","v":"0942"}]
[{"$nulls":30},"A679077.052","SEA EU - Europsko sveučilište mora","A679077",{"$f":"IFERROR(VLOOKUP(AG577,AKT!$E$4:$G$351,3,FALSE),\"\")","v":"0942"}]
[{"$nulls":30},"A679077.053","RMPPI - HR-BA-ME262- Održiva prekogranična inicijativa za obnovljive mikroelektrane","A679077",{"$f":"IFERROR(VLOOKUP(AG578,AKT!$E$4:$G$351,3,FALSE),\"\")","v":"0942"}]
[{"$nulls":30},"A679077.054","DATACROSS – Napredne metode i tehnologije u znanosti o podacima i kooperativnim sustavima","A679077",{"$f":"IFERROR(VLOOKUP(AG579,AKT!$E$4:$G$351,3,FALSE),\"\")","v":"0942"}]
[{"$nulls":30},"A679077.055","STIM-REI","A679077",{"$f":"IFERROR(VLOOKUP(AG580,AKT!$E$4:$G$351,3,FALSE),\"\")","v":"0942"}]
[{"$nulls":30},"A679077.056","Primjena HKO za sveučilišne studijske programe u području elektrotehnike","A679077",{"$f":"IFERROR(VLOOKUP(AG581,AKT!$E$4:$G$351,3,FALSE),\"\")","v":"0942"}]
[{"$nulls":30},"A679077.057","EUROfusion","A679077",{"$f":"IFERROR(VLOOKUP(AG582,AKT!$E$4:$G$351,3,FALSE),\"\")","v":"0942"}]
[{"$nulls":30},"A679077.058","FizKO - Razvoj studija fizike uz primjernu HKO","A679077",{"$f":"IFERROR(VLOOKUP(AG583,AKT!$E$4:$G$351,3,FALSE),\"\")","v":"0942"}]
[{"$nulls":30},"A679077.059","Razvoj tehnologije za procjenu autopurifikacijskih sposobnosti priobalnih voda","A679077",{"$f":"IFERROR(VLOOKUP(AG584,AKT!$E$4:$G$351,3,FALSE),\"\")","v":"0942"}]
[{"$nulls":30},"A679077.060","GEOBIZ",{"$f":"LEFT(AE585,7)","v":"A679077"},{"$f":"IFERROR(VLOOKUP(AG585,AKT!$E$4:$G$351,3,FALSE),\"\")","v":"0942"}]
[{"$nulls":30},"A679077.061","PROMISE -Personalizirana medicina- osnovna edukacija","A679077",{"$f":"IFERROR(VLOOKUP(AG586,AKT!$E$4:$G$351,3,FALSE),\"\")","v":"0942"}]
[{"$nulls":30},"A679077.062","mathSTEM - Podučavanje matematike i izrada smjernica za mathSTEM metodologiju","A679077",{"$f":"IFERROR(VLOOKUP(AG587,AKT!$E$4:$G$351,3,FALSE),\"\")","v":"0942"}]
[{"$nulls":30},"A679077.063","ERASMUS+ KA104 Obrazovanje odraslih","A679077",{"$f":"IFERROR(VLOOKUP(AG588,AKT!$E$4:$G$351,3,FALSE),\"\")","v":"0942"}]
[{"$nulls":30},"A679077.064","Provedba HKO u stručnim studijima računarstva","A679077",{"$f":"IFERROR(VLOOKUP(AG589,AKT!$E$4:$G$351,3,FALSE),\"\")","v":"0942"}]
[{"$nulls":30},"A679077.065","ASPEMS - Aktivni sustav za pohranu električne energije i stabilizaciju elektroenergetske mreže","A679077",{"$f":"IFERROR(VLOOKUP(AG590,AKT!$E$4:$G$351,3,FALSE),\"\")","v":"0942"}]
[{"$nulls":30},"A679077.066","ISPIS – Razvoj funkcionalnog prototipa sustava za potrage i spašavanja ljudi pomoću bespilotnih letjelica","A679077",{"$f":"IFERROR(VLOOKUP(AG591,AKT!$E$4:$G$351,3,FALSE),\"\")","v":"0942"}]
[{"$nulls":30},"A679077.067","Razvoj karijera mladih istraživača","A679077",{"$f":"IFERROR(VLOOKUP(AG592,AKT!$E$4:$G$351,3,FALSE),\"\")","v":"0942"}]
[{"$nulls":30},"A679077.068","Pametni kulturni turizam kao pokretač održivog razvoja europskih regija","A679077",{"$f":"IFERROR(VLOOKUP(AG593,AKT!$E$4:$G$351,3,FALSE),\"\")","v":"0942"}]
[{"$nulls":30},"A679077.069","CAAT","A679077",{"$f":"IFERROR(VLOOKUP(AG594,AKT!$E$4:$G$351,3,FALSE),\"\")","v":"0942"}]
[{"$nulls":30},"A679077.070","EUROCC -Nacionalni centri za kompetencije u okviru, Obzor 2020","A679077",{"$f":"IFERROR(VLOOKUP(AG595,AKT!$E$4:$G$351,3,FALSE),\"\")","v":"0942"}]
[{"$nulls":30},"A679077.071","RCK","A679077",{"$f":"IFERROR(VLOOKUP(AG596,AKT!$E$4:$G$351,3,FALSE),\"\")","v":"0942"}]
[{"$nulls":30},"A679077.072","IRA1 - CEKOM: Razvoj inovativnih kompozitnih struktura za zvučnu izolaciju","A679077",{"$f":"IFERROR(VLOOKUP(AG597,AKT!$E$4:$G$351,3,FALSE),\"\")","v":"0942"}]
[{"$nulls":30},"A679077.073","IRA2-CEKOM: Razvoj napredne integralne numeričke procedure","A679077",{"$f":"IFERROR(VLOOKUP(AG598,AKT!$E$4:$G$351,3,FALSE),\"\")","v":"0942"}]
[{"$nulls":30},"A679077.074","IRA 3-CEKOM: Inovativno rješenje vodomlaznog propulzora ","A679077",{"$f":"IFERROR(VLOOKUP(AG599,AKT!$E$4:$G$351,3,FALSE),\"\")","v":"0942"}]
[{"$nulls":30},"A679077.075","IRA5 CEKOM : Razvoj LNG sustava za brodove pogonjene motorima na dvojno gorivo (FO/LNG) ","A679077",{"$f":"IFERROR(VLOOKUP(AG600,AKT!$E$4:$G$351,3,FALSE),\"\")","v":"0942"}]
[{"$nulls":30},"A679077.076","IRA 7-CEKOM: Razvoj LNG spremnika za plovne objekte za skladištenje i regasifikaciju LNG-a ","A679077",{"$f":"IFERROR(VLOOKUP(AG601,AKT!$E$4:$G$351,3,FALSE),\"\")","v":"0942"}]
[{"$nulls":30},"A679077.077","IRA 8-CEKOM: Razvoj novih konstrukcijskih i tehnoloških rješenja natpalubnih konstrukcija i elemenata od aluminijevih legura ","A679077",{"$f":"IFERROR(VLOOKUP(AG602,AKT!$E$4:$G$351,3,FALSE),\"\")","v":"0942"}]
[{"$nulls":30},"A679077.078","IRA 10-CEKOM: Razvoj inovativnog pristupa u procesu opremanja broda putem proširene stvarnosti ","A679077",{"$f":"IFERROR(VLOOKUP(AG603,AKT!$E$4:$G$351,3,FALSE),\"\")","v":"0942"}]
[{"$nulls":30},"A679077.079","IRA 11-CEKOM: Razvoj uređaja za praćenje rada brodskog motora analizom akustičnog signala ","A679077",{"$f":"IFERROR(VLOOKUP(AG604,AKT!$E$4:$G$351,3,FALSE),\"\")","v":"0942"}]
[{"$nulls":30},"A679077.080","IRA 12-CEKOM: Razvoj plutajuće platforme od umjetno zamrznute vode na zračnim komorama ","A679077",{"$f":"IFERROR(VLOOKUP(AG605,AKT!$E$4:$G$351,3,FALSE),\"\")","v":"0942"}]
[{"$nulls":30},"A679077.081","IRA 15-CEKOM: Razvoj paketa palubne opreme specijalnih brodova različitih namjena za uzgajališta ribe ","A679077",{"$f":"IFERROR(VLOOKUP(AG606,AKT!$E$4:$G$351,3,FALSE),\"\")","v":"0942"}]
[{"$nulls":30},"A679077.082","IRA 16-CEKOM: Brodski pritezni sustavi namijenjeni pozicioniranju plovnih objekata","A679077",{"$f":"IFERROR(VLOOKUP(AG607,AKT!$E$4:$G$351,3,FALSE),\"\")","v":"0942"}]
[{"$nulls":30},"A679077.083","VODIME - Vode Imotske krajine","A679077",{"$f":"IFERROR(VLOOKUP(AG608,AKT!$E$4:$G$351,3,FALSE),\"\")","v":"0942"}]
[{"$nulls":30},"A679077.084","CEKOM, Razvoj centara kompetencija","A679077",{"$f":"IFERROR(VLOOKUP(AG609,AKT!$E$4:$G$351,3,FALSE),\"\")","v":"0942"}]
[{"$nulls":30},"A679077.085","WRECKS4ALL: jačanje i diverzifikacija turističke ponude na Jadranu","A679077",{"$f":"IFERROR(VLOOKUP(AG610,AKT!$E$4:$G$351,3,FALSE),\"\")","v":"0942"}]
[{"$nulls":30},"A679077.086","Europska akademija za poslovno i financijsko pravo","A679077",{"$f":"IFERROR(VLOOKUP(AG611,AKT!$E$4:$G$351,3,FALSE),\"\")","v":"0942"}]
[{"$nulls":30},"A679077.087","Usluge podrške poslovanju i inovacijama u Hrvatskoj - upravljanje ključnim računima - SSBI-CRO-KAM5","A679077",{"$f":"IFERROR(VLOOKUP(AG612,AKT!$E$4:$G$351,3,FALSE),\"\")","v":"0942"}]
[{"$nulls":30},"A679077.088","Ispitni sloj sljedeće generacije za nadogradnju mikrofluidnih uređaja na bazi nano omogućenih površina i membrana","A679077",{"$f":"IFERROR(VLOOKUP(AG613,AKT!$E$4:$G$351,3,FALSE),\"\")","v":"0942"}]
[{"$nulls":30},"A679077.089","MareMathics- Inovativni pristup u matematičkom obrazovanju za studente pomorstva","A679077",{"$f":"IFERROR(VLOOKUP(AG614,AKT!$E$4:$G$351,3,FALSE),\"\")","v":"0942"}]
[{"$nulls":30},"A679077.090","Bio zaštitne kulture i bioaktivni ekstrakti kao održive kombinirane strategije za poboljšanje roka trajanja kvarljive mediteranske hrane (BioProMedFood)","A679077",{"$f":"IFERROR(VLOOKUP(AG615,AKT!$E$4:$G$351,3,FALSE),\"\")","v":"0942"}]
[{"$nulls":30},"A679077.091","Jačanje održivih akcija, otpornosti, suradnje i usklađivanja širom i od strane Saveza SEA-EU","A679077",{"$f":"IFERROR(VLOOKUP(AG616,AKT!$E$4:$G$351,3,FALSE),\"\")","v":"0942"}]
[{"$nulls":30},"A679077.092","Dalje od akademske zajednice: širenje horizonta karijere doktoranda u pomorskim i pomorskim znanostima u Europi","A679077",{"$f":"IFERROR(VLOOKUP(AG617,AKT!$E$4:$G$351,3,FALSE),\"\")","v":"0942"}]
[{"$nulls":30},"A679077.093","Korištenje energije i zeleni javni prijevoz u budućim pametnim gradovima: Inovativni program podučavanja za studente, dionike i poduzetnike","A679077",{"$f":"IFERROR(VLOOKUP(AG618,AKT!$E$4:$G$351,3,FALSE),\"\")","v":"0942"}]
[{"$nulls":30},"A679077.094","ITSHEC- Integracija transverzalnih vještina u visoko obrazovanje i kurikulum zdravstvene i socijalne skrbi","A679077",{"$f":"IFERROR(VLOOKUP(AG619,AKT!$E$4:$G$351,3,FALSE),\"\")","v":"0942"}]
[{"$nulls":30},"A679077.095","INQUAPH- Inovativni alati za ocjenu kvalitete za studije farmacije u Bosni i Hercegovini","A679077",{"$f":"IFERROR(VLOOKUP(AG620,AKT!$E$4:$G$351,3,FALSE),\"\")","v":"0942"}]
[{"$nulls":30},"A679077.096","EPISECC- Uspostaviti paneuropski informacijski prostor za poboljšanje sigurnosti građana","A679077",{"$f":"IFERROR(VLOOKUP(AG621,AKT!$E$4:$G$351,3,FALSE),\"\")","v":"0942"}]
[{"$nulls":30},"A679077.097","Metode u istraživanju istraživanja MiRoR","A679077",{"$f":"IFERROR(VLOOKUP(AG622,AKT!$E$4:$G$351,3,FALSE),\"\")","v":"0942"}]
[{"$nulls":30},"A679077.098","Provedba HKO-a na razini visokog obrazovanja","A679077",{"$f":"IFERROR(VLOOKUP(AG623,AKT!$E$4:$G$351,3,FALSE),\"\")","v":"0942"}]
[{"$nulls":30},"A679077.099","Uspostava regionalnih centara kompetencija u strukovnom obrazovanju u odabranim sektorima","A679077",{"$f":"IFERROR(VLOOKUP(AG624,AKT!$E$4:$G$351,3,FALSE),\"\")","v":"0942"}]
[{"$nulls":30},"A679077.100","SAPPHIRE - Projekt „System Automation of PEMFCs with Prognostics and Health management for Improved Reliability and Economy“","A679077",{"$f":"IFERROR(VLOOKUP(AG625,AKT!$E$4:$G$351,3,FALSE),\"\")","v":"0942"}]
[{"$nulls":30},"A679077.101","AUTORE - Automotive derivative energy system","A679077",{"$f":"IFERROR(VLOOKUP(AG626,AKT!$E$4:$G$351,3,FALSE),\"\")","v":"0942"}]
[{"$nulls":30},"A679077.102","REFUNDACIJE DJELATNICIMA KOJI SUDJELUJU NA EU PROJEKTIMA","A679077",{"$f":"IFERROR(VLOOKUP(AG627,AKT!$E$4:$G$351,3,FALSE),\"\")","v":"0942"}]
[{"$nulls":30},"A679077.103","Erasmus+ mobilnost nastavnog i nenastavnog osblja u natječajnoj godini 2019","A679077",{"$f":"IFERROR(VLOOKUP(AG628,AKT!$E$4:$G$351,3,FALSE),\"\")","v":"0942"}]
[{"$nulls":30},"A679077.104","EPISECC","A679077",{"$f":"IFERROR(VLOOKUP(AG629,AKT!$E$4:$G$351,3,FALSE),\"\")","v":"0942"}]
[{"$nulls":30},"A679077.105","COST - NEW FRONTIERS OF PEER REVIEW","A679077",{"$f":"IFERROR(VLOOKUP(AG630,AKT!$E$4:$G$351,3,FALSE),\"\")","v":"0942"}]
[{"$nulls":30},"A679077.106","MLE - EUROPSKA KOMISIJA - GOVERMENTAL EXPERTS","A679077",{"$f":"IFERROR(VLOOKUP(AG631,AKT!$E$4:$G$351,3,FALSE),\"\")","v":"0942"}]
[{"$nulls":30},"A679077.107","Projekt Horizon 2020-FF IPM \"In-silico boosted, pest prevention and off-season focused IPM against new and emerging fruit flies ('OFF-Season' FF- IPM)\"","A679077",{"$f":"IFERROR(VLOOKUP(AG632,AKT!$E$4:$G$351,3,FALSE),\"\")","v":"0942"}]
[{"$nulls":30},"A679077.108","Projekt Potential for Using SIT, Mating Disruption and Other IPM Tools to Eradicate Box Tree Moth Incursions in the U.S.","A679077",{"$f":"IFERROR(VLOOKUP(AG633,AKT!$E$4:$G$351,3,FALSE),\"\")","v":"0942"}]
[{"$nulls":30},"A679077.109","Erasmus Plus Ka103 2020","A679077",{"$f":"IFERROR(VLOOKUP(AG634,AKT!$E$4:$G$351,3,FALSE),\"\")","v":"0942"}]
[{"$nulls":30},"A679077.110","Erasmus Mundus SUNBEAM -  Structured UNiversity mobility between the Balkans and Europe for the Adriatic-ionian Macro-region","A679077",{"$f":"IFERROR(VLOOKUP(AG635,AKT!$E$4:$G$351,3,FALSE),\"\")","v":"0942"}]
[{"$nulls":30},"A679077.111","Projekt Horizon 2020-Nextgen Microfluidics    \"Next generation test bed for upscaling of microfluidic devices based on nano-enabled surfaces and membranes\"","A679077",{"$f":"IFERROR(VLOOKUP(AG636,AKT!$E$4:$G$351,3,FALSE),\"\")","v":"0942"}]
[{"$nulls":30},"A679077.112","SI4CARE-  Socijalne inovacije za integriranu zdravstvenu njegu starijeg stanovništva u ADRION regijama","A679077",{"$f":"IFERROR(VLOOKUP(AG637,AKT!$E$4:$G$351,3,FALSE),\"\")","v":"0942"}]
[{"$nulls":30},"A679077.113","FirEURisk-holistička strategija za upravljenje požarima raslinja na području Europe","A679077",{"$f":"IFERROR(VLOOKUP(AG638,AKT!$E$4:$G$351,3,FALSE),\"\")","v":"0942"}]
[{"$nulls":30},"A679077.114","COST Action TU1208-znanstveno-tehnološka primjena radara za prodiranje u tlo u građevinarstvu","A679077",{"$f":"IFERROR(VLOOKUP(AG639,AKT!$E$4:$G$351,3,FALSE),\"\")","v":"0942"}]
[{"$nulls":30},"A679077.115","Razvoj putničkog jedrenjaka s nultom emisijom ispušnih plinova","A679077",{"$f":"IFERROR(VLOOKUP(AG640,AKT!$E$4:$G$351,3,FALSE),\"\")","v":"0942"}]
[{"$nulls":30},"A679077.116","Sustav za uspostavu stabilne elektro-distribucijske mreže (GRIDS)","A679077",{"$f":"IFERROR(VLOOKUP(AG641,AKT!$E$4:$G$351,3,FALSE),\"\")","v":"0942"}]
[{"$nulls":30},"A679077.117","CHIC","A679077",{"$f":"IFERROR(VLOOKUP(AG642,AKT!$E$4:$G$351,3,FALSE),\"\")","v":"0942"}]
[{"$nulls":30},"A679077.118","FAIR - automatsko institucionalno priznavanje","A679077",{"$f":"IFERROR(VLOOKUP(AG643,AKT!$E$4:$G$351,3,FALSE),\"\")","v":"0942"}]
[{"$nulls":30},"A679077.119","IRI - povećanje razvoja novih proizvoda i usluga (lijepljeni lamelirani nosači od tvrdog drveta)","A679077",{"$f":"IFERROR(VLOOKUP(AG644,AKT!$E$4:$G$351,3,FALSE),\"\")","v":"0942"}]
[{"$nulls":30},"A679077.120","PINNA NOBILIS SSMA","A679077",{"$f":"IFERROR(VLOOKUP(AG645,AKT!$E$4:$G$351,3,FALSE),\"\")","v":"0942"}]
[{"$nulls":30},"A679077.121","Erasmus+ KA131 2021","A679077",{"$f":"IFERROR(VLOOKUP(AG646,AKT!$E$4:$G$351,3,FALSE),\"\")","v":"0942"}]
[{"$nulls":30},"A679077.122","IRI Perm Beton-sustav odvodnje na horizontalnim površinama od propusnog betona","A679077",{"$f":"IFERROR(VLOOKUP(AG647,AKT!$E$4:$G$351,3,FALSE),\"\")","v":"0942"}]
[{"$nulls":30},"A679077.123","BEAGLE - bioetičko i vrijednosno obrazovanje","A679077",{"$f":"IFERROR(VLOOKUP(AG648,AKT!$E$4:$G$351,3,FALSE),\"\")","v":"0942"}]
[{"$nulls":30},"A679077.124","Commix - jačanje pismenosti kod adolescenata kroz kreativno korištenje stripova",{"$f":"LEFT(AE649,7)","v":"A679077"},{"$f":"IFERROR(VLOOKUP(AG649,AKT!$E$4:$G$351,3,FALSE),\"\")","v":"0942"}]
[{"$nulls":30},"A679077.125","TaSDi-PBS - rješavanje pitanja vladanja u školi kroz podršku poželjnim oblicima ponašanja","A679077",{"$f":"IFERROR(VLOOKUP(AG650,AKT!$E$4:$G$351,3,FALSE),\"\")","v":"0942"}]
[{"$nulls":30},"A679077.126","MiRoR - metode istraživanja o istraživanju","A679077",{"$f":"IFERROR(VLOOKUP(AG651,AKT!$E$4:$G$351,3,FALSE),\"\")","v":"0942"}]
[{"$nulls":30},"A679077.127","INTERIV - internacionalizacija studijskih programa morskog ribarstva i vojnog pomorstva","A679077",{"$f":"IFERROR(VLOOKUP(AG652,AKT!$E$4:$G$351,3,FALSE),\"\")","v":"0942"}]
[{"$nulls":30},"A679077.128","EICP (Evidence Implemantation in Clinical Practice) - medicina temeljena na dokazima","A679077",{"$f":"IFERROR(VLOOKUP(AG653,AKT!$E$4:$G$351,3,FALSE),\"\")","v":"0942"}]
[{"$nulls":30},"A679077.129","ZCIPM - Znanstveni centar izvrsnosti za personaliziranu medicinu","A679077",{"$f":"IFERROR(VLOOKUP(AG654,AKT!$E$4:$G$351,3,FALSE),\"\")","v":"0942"}]
[{"$nulls":30},"A679077.130","CEKOM - centar kompetencija u molekularnoj dijagnostici","A679077",{"$f":"IFERROR(VLOOKUP(AG655,AKT!$E$4:$G$351,3,FALSE),\"\")","v":"0942"}]
[{"$nulls":30},"A679077.131","SI4CARE - Socijalna inovacija za sveobuhvatnu zdravstvenu zaštitu starije populacije u regiji","A679077",{"$f":"IFERROR(VLOOKUP(AG656,AKT!$E$4:$G$351,3,FALSE),\"\")","v":"0942"}]
[{"$nulls":30},"A679077.132","MADE - Mobile Access Dental Clinic","A679077",{"$f":"IFERROR(VLOOKUP(AG657,AKT!$E$4:$G$351,3,FALSE),\"\")","v":"0942"}]
[{"$nulls":30},"A679077.133","FIZIODENT","A679077",{"$f":"IFERROR(VLOOKUP(AG658,AKT!$E$4:$G$351,3,FALSE),\"\")","v":"0942"}]
[{"$nulls":30},"A679077.134","KOSIR OBO - primjenjivost novih tehnologija za oporabu biljnog otpada","A679077",{"$f":"IFERROR(VLOOKUP(AG659,AKT!$E$4:$G$351,3,FALSE),\"\")","v":"0942"}]
[{"$nulls":30},"A679077.135","Unaprjeđenje kvalitete studiranja na pravnim fakultetima u RH","A679077",{"$f":"IFERROR(VLOOKUP(AG660,AKT!$E$4:$G$351,3,FALSE),\"\")","v":"0942"}]
[{"$nulls":30},"A679077.136","BOWI - poticanje digitalnih inovacija","A679077",{"$f":"IFERROR(VLOOKUP(AG661,AKT!$E$4:$G$351,3,FALSE),\"\")","v":"0942"}]
[{"$nulls":30},"A679077.137","Forenzička identifikacija ljudskih ostataka analizom MSCT snimaka CTforID","A679077",{"$f":"IFERROR(VLOOKUP(AG662,AKT!$E$4:$G$351,3,FALSE),\"\")","v":"0942"}]
[{"$nulls":30},"A679077.138","Uncorking rural heritahege - autohtona proizvodnja fermentiranih pića radi lokalne kulturne i ekološke održivosti","A679077",{"$f":"IFERROR(VLOOKUP(AG663,AKT!$E$4:$G$351,3,FALSE),\"\")","v":"0942"}]
[{"$nulls":30},"A679077.139","MSEVP - Istraživanje i razvoj smart-grid punionice za električna vozila unutar konstrukcije rotacionog parking sustava","A679077",{"$f":"IFERROR(VLOOKUP(AG664,AKT!$E$4:$G$351,3,FALSE),\"\")","v":"0942"}]
[{"$nulls":30},"A679077.140","COST Action BM1309: European network for innovative uses of electromagnetic fields (EMFs) in biomedical applications","A679077",{"$f":"IFERROR(VLOOKUP(AG665,AKT!$E$4:$G$351,3,FALSE),\"\")","v":"0942"}]
[{"$nulls":30},"A679077.141","STIM-REI","A679077",{"$f":"IFERROR(VLOOKUP(AG666,AKT!$E$4:$G$351,3,FALSE),\"\")","v":"0942"}]
[{"$nulls":30},"A679077.142","FLUPSY - platforma za školjke","A679077",{"$f":"IFERROR(VLOOKUP(AG667,AKT!$E$4:$G$351,3,FALSE),\"\")","v":"0942"}]
[{"$nulls":30},"A679077.143","DATACROSS -Napredne metode i tehnologije u znanosti o podatcima i kooperativnim sustavima","A679077",{"$f":"IFERROR(VLOOKUP(AG668,AKT!$E$4:$G$351,3,FALSE),\"\")","v":"0942"}]
[{"$nulls":30},"A679077.144","SECURE","A679077",{"$f":"IFERROR(VLOOKUP(AG669,AKT!$E$4:$G$351,3,FALSE),\"\")","v":"0942"}]
[{"$nulls":30},"A679077.145","Network of Eurofound Correspondents","A679077",{"$f":"IFERROR(VLOOKUP(AG670,AKT!$E$4:$G$351,3,FALSE),\"\")","v":"0942"}]
[{"$nulls":30},"A679077.146","PPOI Partnership for prevention of over indebtedness","A679077",{"$f":"IFERROR(VLOOKUP(AG671,AKT!$E$4:$G$351,3,FALSE),\"\")","v":"0942"}]
[{"$nulls":30},"A679077.147","PRESILIENT","A679077",{"$f":"IFERROR(VLOOKUP(AG672,AKT!$E$4:$G$351,3,FALSE),\"\")","v":"0942"}]
[{"$nulls":30},"A679077.148","ZCIPM","A679077",{"$f":"IFERROR(VLOOKUP(AG673,AKT!$E$4:$G$351,3,FALSE),\"\")","v":"0942"}]
[{"$nulls":30},"A679077.149","FIZIODENT","A679077",{"$f":"IFERROR(VLOOKUP(AG674,AKT!$E$4:$G$351,3,FALSE),\"\")","v":"0942"}]
[{"$nulls":30},"A679077.150","SI4CARE","A679077",{"$f":"IFERROR(VLOOKUP(AG675,AKT!$E$4:$G$351,3,FALSE),\"\")","v":"0942"}]
[{"$nulls":30},"A679077.151","IRECS","A679077",{"$f":"IFERROR(VLOOKUP(AG676,AKT!$E$4:$G$351,3,FALSE),\"\")","v":"0942"}]
[{"$nulls":30},"A679077.152","YOUTH GEMS","A679077",{"$f":"IFERROR(VLOOKUP(AG677,AKT!$E$4:$G$351,3,FALSE),\"\")","v":"0942"}]
[{"$nulls":30},"A679077.153","ERASMUS+60-Razvoj aktivnosti visokog obrazovanja kod europskih građana od 60 i više godina","A679077",{"$f":"IFERROR(VLOOKUP(AG678,AKT!$E$4:$G$351,3,FALSE),\"\")","v":"0942"}]
[{"$nulls":30},"A679077.154","Blue-connect-Reconnect Science with the Blue Society","A679077",{"$f":"IFERROR(VLOOKUP(AG679,AKT!$E$4:$G$351,3,FALSE),\"\")","v":"0942"}]
[{"$nulls":30},"A679077.155","DesignCARE-Komunikacijske vještine za učenike strukovnih škola za medicinska zanimanja","A679077",{"$f":"IFERROR(VLOOKUP(AG680,AKT!$E$4:$G$351,3,FALSE),\"\")","v":"0942"}]
[{"$nulls":30},"A679077.156","Erasmus KA131 2022-Mobilnost studenata i osoblja u visokom obrazovanju","A679077",{"$f":"IFERROR(VLOOKUP(AG681,AKT!$E$4:$G$351,3,FALSE),\"\")","v":"0942"}]
[{"$nulls":30},"A679077.157","Erasmus KA171 2022-Projekt mobilnosti studenata i osoblja u visokom obrazovanju između programskih i partnerskih zemalja","A679077",{"$f":"IFERROR(VLOOKUP(AG682,AKT!$E$4:$G$351,3,FALSE),\"\")","v":"0942"}]
[{"$nulls":30},"A679077.158","Erasmus+ mobilnost KA171 2023","A679077",{"$f":"IFERROR(VLOOKUP(AG683,AKT!$E$4:$G$351,3,FALSE),\"\")","v":"0942"}]
[{"$nulls":30},"A679077.159","MiRoR","A679077",{"$f":"IFERROR(VLOOKUP(AG684,AKT!$E$4:$G$351,3,FALSE),\"\")","v":"0942"}]
[{"$nulls":30},"A679077.160","AI4HEALTH.Cro","A679077",{"$f":"IFERROR(VLOOKUP(AG685,AKT!$E$4:$G$351,3,FALSE),\"\")","v":"0942"}]
[{"$nulls":30},"A679077.161","Fact Check","A679077",{"$f":"IFERROR(VLOOKUP(AG686,AKT!$E$4:$G$351,3,FALSE),\"\")","v":"0942"}]
[{"$nulls":30},"A679077.162","CURE4Aqua","A679077",{"$f":"IFERROR(VLOOKUP(AG687,AKT!$E$4:$G$351,3,FALSE),\"\")","v":"0942"}]
[{"$nulls":30},"A679077.163","IRISE","A679077",{"$f":"IFERROR(VLOOKUP(AG688,AKT!$E$4:$G$351,3,FALSE),\"\")","v":"0942"}]
[{"$nulls":30},"A679077.164","CroRIN","A679077",{"$f":"IFERROR(VLOOKUP(AG689,AKT!$E$4:$G$351,3,FALSE),\"\")","v":"0942"}]
[{"$nulls":30},"A679077.165","RaSTEMo","A679077",{"$f":"IFERROR(VLOOKUP(AG690,AKT!$E$4:$G$351,3,FALSE),\"\")","v":"0942"}]
[{"$nulls":30},"A679077.166","Roche","A679077",{"$f":"IFERROR(VLOOKUP(AG691,AKT!$E$4:$G$351,3,FALSE),\"\")","v":"0942"}]
[{"$nulls":30},"A679077.167","SEAEU 2.0","A679077",{"$f":"IFERROR(VLOOKUP(AG692,AKT!$E$4:$G$351,3,FALSE),\"\")","v":"0942"}]
[{"$nulls":30},"A679077.168","Erasmus + KA171 2023","A679077",{"$f":"IFERROR(VLOOKUP(AG693,AKT!$E$4:$G$351,3,FALSE),\"\")","v":"0942"}]
[{"$nulls":30},"A679077.169","ERASMUS+ SURF","A679077",{"$f":"IFERROR(VLOOKUP(AG694,AKT!$E$4:$G$351,3,FALSE),\"\")","v":"0942"}]
[{"$nulls":30},"A679077.170","NAHV - Dolina vodika Sjeverni Jadran","A679077",{"$f":"IFERROR(VLOOKUP(AG695,AKT!$E$4:$G$351,3,FALSE),\"\")","v":"0942"}]
[{"$nulls":30},"A679077.171","Provedba HKO-a na razini visokog obrazovanja","A679077",{"$f":"IFERROR(VLOOKUP(AG696,AKT!$E$4:$G$351,3,FALSE),\"\")","v":"0942"}]
[{"$nulls":30},"A679077.172","Uz zdrav životni stil raSTEMo","A679077",{"$f":"IFERROR(VLOOKUP(AG697,AKT!$E$4:$G$351,3,FALSE),\"\")","v":"0942"}]
[{"$nulls":30},"A679077.173","Primjena HKO za sveučilišne studijske programe u području elektrotehnike -","A679077",{"$f":"IFERROR(VLOOKUP(AG698,AKT!$E$4:$G$351,3,FALSE),\"\")","v":"0942"}]
[{"$nulls":30},"A679077.174","National Competence Centres in the framework of EuroHPC Phase 2 – EuroCC 2","A679077",{"$f":"IFERROR(VLOOKUP(AG699,AKT!$E$4:$G$351,3,FALSE),\"\")","v":"0942"}]
[{"$nulls":30},"A679077.175","Provjera točnosti informacija u području energije i računarstva","A679077",{"$f":"IFERROR(VLOOKUP(AG700,AKT!$E$4:$G$351,3,FALSE),\"\")","v":"0942"}]
[{"$nulls":30},"A679077.176","RESCOP-Monitoring morskih ekosustava korištenjem daljinske detekcije","A679077",{"$f":"IFERROR(VLOOKUP(AG701,AKT!$E$4:$G$351,3,FALSE),\"\")","v":"0942"}]
[{"$nulls":30},"A679077.177","PMO GATE","A679077",{"$f":"IFERROR(VLOOKUP(AG702,AKT!$E$4:$G$351,3,FALSE),\"\")","v":"0942"}]
[{"$nulls":30},"A679077.178","Capacity2Transform","A679077",{"$f":"IFERROR(VLOOKUP(AG703,AKT!$E$4:$G$351,3,FALSE),\"\")","v":"0942"}]
[{"$nulls":30},"A679077.179","Obzor Europa - ERA SHUTTLE","A679077",{"$f":"IFERROR(VLOOKUP(AG704,AKT!$E$4:$G$351,3,FALSE),\"\")","v":"0942"}]
[{"$nulls":30},"A679077.180","Life - EU Sharks","A679077",{"$f":"IFERROR(VLOOKUP(AG705,AKT!$E$4:$G$351,3,FALSE),\"\")","v":"0942"}]
[{"$nulls":30},"A679077.181","Obzor Europa - ERA FABRIC","A679077",{"$f":"IFERROR(VLOOKUP(AG706,AKT!$E$4:$G$351,3,FALSE),\"\")","v":"0942"}]
[{"$nulls":30},"A679077.182","INNOSOL4MED","A679077",{"$f":"IFERROR(VLOOKUP(AG707,AKT!$E$4:$G$351,3,FALSE),\"\")","v":"0942"}]
[{"$nulls":30},"A679077.183","VALMEDALM","A679077",{"$f":"IFERROR(VLOOKUP(AG708,AKT!$E$4:$G$351,3,FALSE),\"\")","v":"0942"}]
[{"$nulls":30},"A679077.184","SEA FENNEL4MED","A679077",{"$f":"IFERROR(VLOOKUP(AG709,AKT!$E$4:$G$351,3,FALSE),\"\")","v":"0942"}]
[{"$nulls":30},"A679077.185","Innovation Norway - OTIMEDT","A679077",{"$f":"IFERROR(VLOOKUP(AG710,AKT!$E$4:$G$351,3,FALSE),\"\")","v":"0942"}]
[{"$nulls":30},"A679077.186","HRZZ - CTforID","A679077",{"$f":"IFERROR(VLOOKUP(AG711,AKT!$E$4:$G$351,3,FALSE),\"\")","v":"0942"}]
[{"$nulls":30},"A679077.187","Erasmus+KA2 2023","A679077",{"$f":"IFERROR(VLOOKUP(AG712,AKT!$E$4:$G$351,3,FALSE),\"\")","v":"0942"}]
[{"$nulls":30},"A679078.001","CoSMass Projekt proučavanja razvoja rasta zvjezdane mase središnjih supermasivnih crnih rupa kroz kozmičko vrijeme",{"$f":"LEFT(AE713,7)","v":"A679078"},{"$f":"IFERROR(VLOOKUP(AG713,AKT!$E$4:$G$351,3,FALSE),\"\")","v":"0942"}]
[{"$nulls":30},"A679078.002","AeRoTwin - Twinning koordinacijska akcija za širenje izvrsnosti i sudjelovanja u zračnoj robotici","A679078",{"$f":"IFERROR(VLOOKUP(AG714,AKT!$E$4:$G$351,3,FALSE),\"\")","v":"0942"}]
[{"$nulls":30},"A679078.003","ENDORSE Efikasno brusenje  robotskim sustavom potpomognuto HORSE okruženjem","A679078",{"$f":"IFERROR(VLOOKUP(AG715,AKT!$E$4:$G$351,3,FALSE),\"\")","v":"0942"}]
[{"$nulls":30},"A679078.004","Ostvarivanje sljedivosti za mjerenje kakvoće električne energije","A679078",{"$f":"IFERROR(VLOOKUP(AG716,AKT!$E$4:$G$351,3,FALSE),\"\")","v":"0942"}]
[{"$nulls":30},"A679078.005","ADRIATIC  Unaprjeđenje sposobnosti interakcije ronilac-robot","A679078",{"$f":"IFERROR(VLOOKUP(AG717,AKT!$E$4:$G$351,3,FALSE),\"\")","v":"0942"}]
[{"$nulls":30},"A679078.006","Napredni ručni detektori metala s mogućnošću diskriminacije oblika mete za uporabu u humanitarnom razminiranju","A679078",{"$f":"IFERROR(VLOOKUP(AG718,AKT!$E$4:$G$351,3,FALSE),\"\")","v":"0942"}]
[{"$nulls":30},"A679078.007","PRE-EST Pripremanje plana izgradnje velikog europskog solarnog teleskopa","A679078",{"$f":"IFERROR(VLOOKUP(AG719,AKT!$E$4:$G$351,3,FALSE),\"\")","v":"0942"}]
[{"$nulls":30},"A679078.008","SOLARNET","A679078",{"$f":"IFERROR(VLOOKUP(AG720,AKT!$E$4:$G$351,3,FALSE),\"\")","v":"0942"}]
[{"$nulls":30},"A679078.009","DESTination RAIL - FACT (Find, Analyse, Classify, Treat) alat za upravljanje željezničkom infrastrukturom","A679078",{"$f":"IFERROR(VLOOKUP(AG721,AKT!$E$4:$G$351,3,FALSE),\"\")","v":"0942"}]
[{"$nulls":30},"A679078.010","H2020  SAFE 10-T Razvoj sigurnosnog okvira za transportnu infrastrukturu","A679078",{"$f":"IFERROR(VLOOKUP(AG722,AKT!$E$4:$G$351,3,FALSE),\"\")","v":"0942"}]
[{"$nulls":30},"A679078.011","Regional Center Adria Umrežavanje dionika sektora mineralnih neenergetskih sirovina","A679078",{"$f":"IFERROR(VLOOKUP(AG723,AKT!$E$4:$G$351,3,FALSE),\"\")","v":"0942"}]
[{"$nulls":30},"A679078.012","HORIZON 2020 BBI - Razvijanje funkcionalnih molekula za biološke premaze","A679078",{"$f":"IFERROR(VLOOKUP(AG724,AKT!$E$4:$G$351,3,FALSE),\"\")","v":"0942"}]
[{"$nulls":30},"A679078.013","FITNESS Platforma za e-učenje svih aspekata pakiranja hrane","A679078",{"$f":"IFERROR(VLOOKUP(AG725,AKT!$E$4:$G$351,3,FALSE),\"\")","v":"0942"}]
[{"$nulls":30},"A679078.014","ASKFOOD Savez za vještine i znanje vezano za prehrambeni sektor","A679078",{"$f":"IFERROR(VLOOKUP(AG726,AKT!$E$4:$G$351,3,FALSE),\"\")","v":"0942"}]
[{"$nulls":30},"A679078.015","STRENGTH2FOOD  Istraživanje u cilju poboljšanja učinkovitosti programa EU o kvaliteti hrane","A679078",{"$f":"IFERROR(VLOOKUP(AG727,AKT!$E$4:$G$351,3,FALSE),\"\")","v":"0942"}]
[{"$nulls":30},"A679078.016","e-Škole A projekt - Uspostava sustava razvoja digitalno zrelih škola","A679078",{"$f":"IFERROR(VLOOKUP(AG728,AKT!$E$4:$G$351,3,FALSE),\"\")","v":"0942"}]
[{"$nulls":30},"A679078.017","IRI IDG - Razvoj inovativne platforme za digitalnu transformaciju poduzeća","A679078",{"$f":"IFERROR(VLOOKUP(AG729,AKT!$E$4:$G$351,3,FALSE),\"\")","v":"0942"}]
[{"$nulls":30},"A679078.018","IRI HYPER - Razvoj inovativne platforme za digitalnu transformaciju poduzeća","A679078",{"$f":"IFERROR(VLOOKUP(AG730,AKT!$E$4:$G$351,3,FALSE),\"\")","v":"0942"}]
[{"$nulls":30},"A679078.019","DIGITRANS - digitalna transformacija dunavske regije","A679078",{"$f":"IFERROR(VLOOKUP(AG731,AKT!$E$4:$G$351,3,FALSE),\"\")","v":"0942"}]
[{"$nulls":30},"A679078.020","ABCitiEs Razvoj novih vrsta poduzetničkih zajednica koje stvaraju atraktivnije lokalno poslovno okruženje","A679078",{"$f":"IFERROR(VLOOKUP(AG732,AKT!$E$4:$G$351,3,FALSE),\"\")","v":"0942"}]
[{"$nulls":30},"A679078.021","ERASMUS+ Potpora za nastavno i nenastavno osoblje","A679078",{"$f":"IFERROR(VLOOKUP(AG733,AKT!$E$4:$G$351,3,FALSE),\"\")","v":"0942"}]
[{"$nulls":30},"A679078.022","Obzor 2020  CEF - Poticanje istraživanja Connecting Europe Facilites i Norveške zaklade za znanost","A679078",{"$f":"IFERROR(VLOOKUP(AG734,AKT!$E$4:$G$351,3,FALSE),\"\")","v":"0942"}]
[{"$nulls":30},"A679078.023","Europska noć istraživača","A679078",{"$f":"IFERROR(VLOOKUP(AG735,AKT!$E$4:$G$351,3,FALSE),\"\")","v":"0942"}]
[{"$nulls":30},"A679078.024","ERASMUS+ projekt mobilnosti i aktivnosti studenata kroz istraživanja u inozemstvu","A679078",{"$f":"IFERROR(VLOOKUP(AG736,AKT!$E$4:$G$351,3,FALSE),\"\")","v":"0942"}]
[{"$nulls":30},"A679078.025","MANGO Ekstremna učinkovitost korištenih resursa u budućim računalima visokih performansi","A679078",{"$f":"IFERROR(VLOOKUP(AG737,AKT!$E$4:$G$351,3,FALSE),\"\")","v":"0942"}]
[{"$nulls":30},"A679078.026","CROSS BOrder Prekogranično upravljanje obnovljivim izvorima energije i skladišnim jedinicama","A679078",{"$f":"IFERROR(VLOOKUP(AG738,AKT!$E$4:$G$351,3,FALSE),\"\")","v":"0942"}]
[{"$nulls":30},"A679078.027","OBZOR2020 MEET Kapitaliziranje iskorištavanja naprednih geotermalnih sustava i potencijala","A679078",{"$f":"IFERROR(VLOOKUP(AG739,AKT!$E$4:$G$351,3,FALSE),\"\")","v":"0942"}]
[{"$nulls":30},"A679078.028","MicroGRId Rješenja za sudjelovanje mikromreža na tržištu električne energije","A679078",{"$f":"IFERROR(VLOOKUP(AG740,AKT!$E$4:$G$351,3,FALSE),\"\")","v":"0942"}]
[{"$nulls":30},"A679078.029","RoboCom ++ Promišljati robotiku za robota Suradnik budućnosti","A679078",{"$f":"IFERROR(VLOOKUP(AG741,AKT!$E$4:$G$351,3,FALSE),\"\")","v":"0942"}]
[{"$nulls":30},"A679078.030","TEchnology TRAnsfer putem višenacionalnih aplikacija eXperiments","A679078",{"$f":"IFERROR(VLOOKUP(AG742,AKT!$E$4:$G$351,3,FALSE),\"\")","v":"0942"}]
[{"$nulls":30},"A679078.031","Immersive Visual Technologies (IVT) Vizualne tehnologije za sigurnosne aplikacije","A679078",{"$f":"IFERROR(VLOOKUP(AG743,AKT!$E$4:$G$351,3,FALSE),\"\")","v":"0942"}]
[{"$nulls":30},"A679078.032","subCULTron Učenje, samoregulacija i samoodrživost podvodnog društva/kulture robota u okruženju s visokim učinkom","A679078",{"$f":"IFERROR(VLOOKUP(AG744,AKT!$E$4:$G$351,3,FALSE),\"\")","v":"0942"}]
[{"$nulls":30},"A679078.033","AWAKE Sušilice ultra malih napajanja za autonomne mreže robotskih senzora u moru / podmorju","A679078",{"$f":"IFERROR(VLOOKUP(AG745,AKT!$E$4:$G$351,3,FALSE),\"\")","v":"0942"}]
[{"$nulls":30},"A679078.034","OBZOR 2020 PentaHelix Inovativna metoda u provedbi održivog razvoja i klime","A679078",{"$f":"IFERROR(VLOOKUP(AG746,AKT!$E$4:$G$351,3,FALSE),\"\")","v":"0942"}]
[{"$nulls":30},"A679078.035","OBZOR 2020 PROSEU  PROSumers FOR THE Energy Union: integriranje aktivnog sudjelovanja građana u tranziciju energije","A679078",{"$f":"IFERROR(VLOOKUP(AG747,AKT!$E$4:$G$351,3,FALSE),\"\")","v":"0942"}]
[{"$nulls":30},"A679078.036","OBZOR 2020 UPGRADE DH Unaprjeđenje performansi daljinskog grijanja u Europi","A679078",{"$f":"IFERROR(VLOOKUP(AG748,AKT!$E$4:$G$351,3,FALSE),\"\")","v":"0942"}]
[{"$nulls":30},"A679078.037","GoSAFE RAIL Globalni okvir upravljanja sigurnošću za željeznice","A679078",{"$f":"IFERROR(VLOOKUP(AG749,AKT!$E$4:$G$351,3,FALSE),\"\")","v":"0942"}]
[{"$nulls":30},"A679078.038","Dubrovnik International ESEE Mining school Škola rudarstva za istočnu i jugoistočnu Europu","A679078",{"$f":"IFERROR(VLOOKUP(AG750,AKT!$E$4:$G$351,3,FALSE),\"\")","v":"0942"}]
[{"$nulls":30},"A679078.039","InvestRM Multifaktorski model za ulaganja u sektor sirovina","A679078",{"$f":"IFERROR(VLOOKUP(AG751,AKT!$E$4:$G$351,3,FALSE),\"\")","v":"0942"}]
[{"$nulls":30},"A679078.040","rESEErve Mineralni potencijal istočne i jugoistočne Europe (ESEE produčje)","A679078",{"$f":"IFERROR(VLOOKUP(AG752,AKT!$E$4:$G$351,3,FALSE),\"\")","v":"0942"}]
[{"$nulls":30},"A679078.041","REEBAUX Potencijali ležišta boksita i boksitnih ostataka u istočnoj i jugoistočnoj Europi","A679078",{"$f":"IFERROR(VLOOKUP(AG753,AKT!$E$4:$G$351,3,FALSE),\"\")","v":"0942"}]
[{"$nulls":30},"A679078.042","MINERS -  Edukacijski program za spašavanje iz rudnika","A679078",{"$f":"IFERROR(VLOOKUP(AG754,AKT!$E$4:$G$351,3,FALSE),\"\")","v":"0942"}]
[{"$nulls":30},"A679078.043","ENOS Omogućavanje dekarbonizacije energetskih djelatnosti na bazi fosilnih goriva i energetski intenzivne industrije","A679078",{"$f":"IFERROR(VLOOKUP(AG755,AKT!$E$4:$G$351,3,FALSE),\"\")","v":"0942"}]
[{"$nulls":30},"A679078.044","EXERTER Mreža pan-europskih stručnjaka za sigurnost eksploziva","A679078",{"$f":"IFERROR(VLOOKUP(AG756,AKT!$E$4:$G$351,3,FALSE),\"\")","v":"0942"}]
[{"$nulls":30},"A679078.045","CRISS Demonstracija skalabilne i ekonomične infrastrukture za digitalno učenje temeljeno na oblaku","A679078",{"$f":"IFERROR(VLOOKUP(AG757,AKT!$E$4:$G$351,3,FALSE),\"\")","v":"0942"}]
[{"$nulls":30},"A679078.046","ERASMUS+ MERIA Matematičko obrazovanje - relevantno, zanimljivo i primjenjivo","A679078",{"$f":"IFERROR(VLOOKUP(AG758,AKT!$E$4:$G$351,3,FALSE),\"\")","v":"0942"}]
[{"$nulls":30},"A679078.047","ERASMUS+ Jean Monnet Network, Navigating the storm: Izazovi malih država u Europi","A679078",{"$f":"IFERROR(VLOOKUP(AG759,AKT!$E$4:$G$351,3,FALSE),\"\")","v":"0942"}]
[{"$nulls":30},"A679078.048","ERASMUS+  Razvijanje pismenosti i usvajanje jezika obrazovanja kod djece u nepovoljnom položaju (manjine, migranti i ostale skupine)","A679078",{"$f":"IFERROR(VLOOKUP(AG760,AKT!$E$4:$G$351,3,FALSE),\"\")","v":"0942"}]
[{"$nulls":30},"A679078.049","H2020 Uspostava Living Labs (životni laboratoriji) u urbanim područjima koja se suočavaju s izazovom postindustrijske regeneracije","A679078",{"$f":"IFERROR(VLOOKUP(AG761,AKT!$E$4:$G$351,3,FALSE),\"\")","v":"0942"}]
[{"$nulls":30},"A679078.050","H2020 DOIT Poduzetničke vještine mladih socijalnih inovatora u otvorenom digitalnom svijetu","A679078",{"$f":"IFERROR(VLOOKUP(AG762,AKT!$E$4:$G$351,3,FALSE),\"\")","v":"0942"}]
[{"$nulls":30},"A679078.051","Napredne fizičko-akustičke i psihoakustične dijagnostičke metode za ocjenu buke u građevini","A679078",{"$f":"IFERROR(VLOOKUP(AG763,AKT!$E$4:$G$351,3,FALSE),\"\")","v":"0942"}]
[{"$nulls":30},"A679078.052","Digital Traceablity Chain for AC Voltage and Current omogućit će dinamičko mjerenje strujnih i naponskih valnih oblika","A679078",{"$f":"IFERROR(VLOOKUP(AG764,AKT!$E$4:$G$351,3,FALSE),\"\")","v":"0942"}]
[{"$nulls":30},"A679078.053","SafeLog Sigurna interakcija čovjeka i robota u logističkim aplikacijama za vrlo fleksibilna skladišta","A679078",{"$f":"IFERROR(VLOOKUP(AG765,AKT!$E$4:$G$351,3,FALSE),\"\")","v":"0942"}]
[{"$nulls":30},"A679078.054","Univerzalni preventivni kurikulum (UPC) u Europi za sprječavanje uporabe droga","A679078",{"$f":"IFERROR(VLOOKUP(AG766,AKT!$E$4:$G$351,3,FALSE),\"\")","v":"0942"}]
[{"$nulls":30},"A679078.055","Jačanje maloljetničkog pravosuđa u rješavanju jedinstvene situacije maloljetnika i njihovu zaštitu prema međunarodnom i europskom pravu u kontekstu protuterorizma","A679078",{"$f":"IFERROR(VLOOKUP(AG767,AKT!$E$4:$G$351,3,FALSE),\"\")","v":"0942"}]
[{"$nulls":30},"A679078.056","Building bridges: promicanje socijalne uključenosti, ravnopravnosti i dobrobiti za rizične obitelji u Europi","A679078",{"$f":"IFERROR(VLOOKUP(AG768,AKT!$E$4:$G$351,3,FALSE),\"\")","v":"0942"}]
[{"$nulls":30},"A679078.057","ABC Assisting Better Communication Potpora boljem komuniciranju","A679078",{"$f":"IFERROR(VLOOKUP(AG769,AKT!$E$4:$G$351,3,FALSE),\"\")","v":"0942"}]
[{"$nulls":30},"A679078.058","Inovativni akademski tečaj o integrativnim intervencijama za djecu s poremećajima spektra autizma IACIIC_ASD","A679078",{"$f":"IFERROR(VLOOKUP(AG770,AKT!$E$4:$G$351,3,FALSE),\"\")","v":"0942"}]
[{"$nulls":30},"A679078.059","HORIZON 2020 VetMed Jačanje kapaciteta u molekularnoj veterini","A679078",{"$f":"IFERROR(VLOOKUP(AG771,AKT!$E$4:$G$351,3,FALSE),\"\")","v":"0942"}]
[{"$nulls":30},"A679078.060","H2020 - NMBP ENCORE - BIM platforma u oblaku za energetski učinkovito i cjenovno efikasno renoviranje zgrada","A679078",{"$f":"IFERROR(VLOOKUP(AG772,AKT!$E$4:$G$351,3,FALSE),\"\")","v":"0942"}]
[{"$nulls":30},"A679078.061","H2020 - SGA EPI SGA1 - Inicijativa za Europski procesor","A679078",{"$f":"IFERROR(VLOOKUP(AG773,AKT!$E$4:$G$351,3,FALSE),\"\")","v":"0942"}]
[{"$nulls":30},"A679078.062","H2020 –WIDESPREAD –Twinning koordinacijska akcija u području otvorenih podataka","A679078",{"$f":"IFERROR(VLOOKUP(AG774,AKT!$E$4:$G$351,3,FALSE),\"\")","v":"0942"}]
[{"$nulls":30},"A679078.063","The Janus-lice lokaliziranog nosača u kupratima-generiranje","A679078",{"$f":"IFERROR(VLOOKUP(AG775,AKT!$E$4:$G$351,3,FALSE),\"\")","v":"0942"}]
[{"$nulls":30},"A679078.064","STRONG - 2020","A679078",{"$f":"IFERROR(VLOOKUP(AG776,AKT!$E$4:$G$351,3,FALSE),\"\")","v":"0942"}]
[{"$nulls":30},"A679078.065","H2020 Inovativni trening za metode u budućnosti (IMforFuture)",{"$f":"LEFT(AE777,7)","v":"A679078"},{"$f":"IFERROR(VLOOKUP(AG777,AKT!$E$4:$G$351,3,FALSE),\"\")","v":"0942"}]
[{"$nulls":30},"A679078.066","H2020 Pristup sistemske medicine za kronični infl.dis. (SYSCID)","A679078",{"$f":"IFERROR(VLOOKUP(AG778,AKT!$E$4:$G$351,3,FALSE),\"\")","v":"0942"}]
[{"$nulls":30},"A679078.067","H2020 Usporedna genomika beskralježnjaka koji nisu modelirani (IGNITE)","A679078",{"$f":"IFERROR(VLOOKUP(AG779,AKT!$E$4:$G$351,3,FALSE),\"\")","v":"0942"}]
[{"$nulls":30},"A679078.068","ERASMUS+ K2  KAAT Savez znanja u zračnom prometu","A679078",{"$f":"IFERROR(VLOOKUP(AG780,AKT!$E$4:$G$351,3,FALSE),\"\")","v":"0942"}]
[{"$nulls":30},"A679078.069","RADAR (Procjena rizika na cestama područja Dunava)","A679078",{"$f":"IFERROR(VLOOKUP(AG781,AKT!$E$4:$G$351,3,FALSE),\"\")","v":"0942"}]
[{"$nulls":30},"A679078.070","ERASMUS+  LOG-IN","A679078",{"$f":"IFERROR(VLOOKUP(AG782,AKT!$E$4:$G$351,3,FALSE),\"\")","v":"0942"}]
[{"$nulls":30},"A679078.071","ATCOSIMA","A679078",{"$f":"IFERROR(VLOOKUP(AG783,AKT!$E$4:$G$351,3,FALSE),\"\")","v":"0942"}]
[{"$nulls":30},"A679078.072","OBZOR 2020 CEN CE - Certificirani stručnjaci za CEN standard- Shema kvalifikacija i osposobljavanja za cijelu EU zasnovanu na CEN standardima s EPBD","A679078",{"$f":"IFERROR(VLOOKUP(AG784,AKT!$E$4:$G$351,3,FALSE),\"\")","v":"0942"}]
[{"$nulls":30},"A679078.073","OBZOR 2020 KeepWarm - Poboljšanje performansi sustava daljinskog grijanja u srednjoj i istočnoj Europi","A679078",{"$f":"IFERROR(VLOOKUP(AG785,AKT!$E$4:$G$351,3,FALSE),\"\")","v":"0942"}]
[{"$nulls":30},"A679078.074","OBZOR 2020 INEX ADAM - veća izvrsnost u proizvodnji naprednih aditiva","A679078",{"$f":"IFERROR(VLOOKUP(AG786,AKT!$E$4:$G$351,3,FALSE),\"\")","v":"0942"}]
[{"$nulls":30},"A679078.075","OBZOR 2020 QUIET - Kvalificiranje i primjena korisničkog dizajniranog i EfficienT električnog vozila","A679078",{"$f":"IFERROR(VLOOKUP(AG787,AKT!$E$4:$G$351,3,FALSE),\"\")","v":"0942"}]
[{"$nulls":30},"A679078.076","OBZOR 2020 INSULAE - Maksimiziranje utjecaja inovativnih energetskih pristupa na otocima EU-a","A679078",{"$f":"IFERROR(VLOOKUP(AG788,AKT!$E$4:$G$351,3,FALSE),\"\")","v":"0942"}]
[{"$nulls":30},"A679078.077","OBZOR 2020 NOWELTIES - Zajednički doktorski laboratorij za nove materijale i inovativne tehnologije pročišćavanja vode","A679078",{"$f":"IFERROR(VLOOKUP(AG789,AKT!$E$4:$G$351,3,FALSE),\"\")","v":"0942"}]
[{"$nulls":30},"A679078.078","ERASMUS+ CASPROD -Prijestolnice razvoja pametnih proizvoda","A679078",{"$f":"IFERROR(VLOOKUP(AG790,AKT!$E$4:$G$351,3,FALSE),\"\")","v":"0942"}]
[{"$nulls":30},"A679078.079","ERASMUS+ TRAILs LSP Ljetna škola za učitelje","A679078",{"$f":"IFERROR(VLOOKUP(AG791,AKT!$E$4:$G$351,3,FALSE),\"\")","v":"0942"}]
[{"$nulls":30},"A679078.080","EMPIR ADVANCT - Računalna tomografija AdvancE za dimenzionalna mjerenja površina u industriji","A679078",{"$f":"IFERROR(VLOOKUP(AG792,AKT!$E$4:$G$351,3,FALSE),\"\")","v":"0942"}]
[{"$nulls":30},"A679078.081","NET-UBIEP","A679078",{"$f":"IFERROR(VLOOKUP(AG793,AKT!$E$4:$G$351,3,FALSE),\"\")","v":"0942"}]
[{"$nulls":30},"A679078.082","BIMzeED","A679078",{"$f":"IFERROR(VLOOKUP(AG794,AKT!$E$4:$G$351,3,FALSE),\"\")","v":"0942"}]
[{"$nulls":30},"A679078.083","HORIZON 2020 SOLARNET","A679078",{"$f":"IFERROR(VLOOKUP(AG795,AKT!$E$4:$G$351,3,FALSE),\"\")","v":"0942"}]
[{"$nulls":30},"A679078.084","HORIZON 2020 PRE-EST","A679078",{"$f":"IFERROR(VLOOKUP(AG796,AKT!$E$4:$G$351,3,FALSE),\"\")","v":"0942"}]
[{"$nulls":30},"A679078.085","INTERREG CHANGE WE CARE ITALIJA-HRVATSKA","A679078",{"$f":"IFERROR(VLOOKUP(AG797,AKT!$E$4:$G$351,3,FALSE),\"\")","v":"0942"}]
[{"$nulls":30},"A679078.086","OBZOR 2020 Alliance4life, Savez za nauke o životu: Završne podjele u istraživanju i inovacijama u Europskoj uniji","A679078",{"$f":"IFERROR(VLOOKUP(AG798,AKT!$E$4:$G$351,3,FALSE),\"\")","v":"0942"}]
[{"$nulls":30},"A679078.087","OBZOR 2020-OSTEOproSPINE - Novostenski lijek za regeneraciju kostiju","A679078",{"$f":"IFERROR(VLOOKUP(AG799,AKT!$E$4:$G$351,3,FALSE),\"\")","v":"0942"}]
[{"$nulls":30},"A679078.088","Erasmus+ KA2 CBHE - ODISsEA - Inovativne strategije darivanja organa za jugoistočnu Aziju","A679078",{"$f":"IFERROR(VLOOKUP(AG800,AKT!$E$4:$G$351,3,FALSE),\"\")","v":"0942"}]
[{"$nulls":30},"A679078.089","OBZOR 2020 FAPIC - Brzi test za identifikaciju i karakterizaciju patogena","A679078",{"$f":"IFERROR(VLOOKUP(AG801,AKT!$E$4:$G$351,3,FALSE),\"\")","v":"0942"}]
[{"$nulls":30},"A679078.090","OBZOR 2020 - Biochip BIO inženjerski grafti za liječenje hrskavice u pacijenata","A679078",{"$f":"IFERROR(VLOOKUP(AG802,AKT!$E$4:$G$351,3,FALSE),\"\")","v":"0942"}]
[{"$nulls":30},"A679078.091","ERASMUS+ HEDU -LEARN-IT Harmonizirani europski dermato-venerološki dodiplomski","A679078",{"$f":"IFERROR(VLOOKUP(AG803,AKT!$E$4:$G$351,3,FALSE),\"\")","v":"0942"}]
[{"$nulls":30},"A679078.092","GLOBAL INITIATIVE","A679078",{"$f":"IFERROR(VLOOKUP(AG804,AKT!$E$4:$G$351,3,FALSE),\"\")","v":"0942"}]
[{"$nulls":30},"A679078.093","CEPIL","A679078",{"$f":"IFERROR(VLOOKUP(AG805,AKT!$E$4:$G$351,3,FALSE),\"\")","v":"0942"}]
[{"$nulls":30},"A679078.094","CROSSJUSTICE","A679078",{"$f":"IFERROR(VLOOKUP(AG806,AKT!$E$4:$G$351,3,FALSE),\"\")","v":"0942"}]
[{"$nulls":30},"A679078.095","CLEOPATRA - Otvorena jezična akademija Open Analytics orijentirana na događaj","A679078",{"$f":"IFERROR(VLOOKUP(AG807,AKT!$E$4:$G$351,3,FALSE),\"\")","v":"0942"}]
[{"$nulls":30},"A679078.096","ERASMUS + ASD-EAST","A679078",{"$f":"IFERROR(VLOOKUP(AG808,AKT!$E$4:$G$351,3,FALSE),\"\")","v":"0942"}]
[{"$nulls":30},"A679078.097","ASAP Training","A679078",{"$f":"IFERROR(VLOOKUP(AG809,AKT!$E$4:$G$351,3,FALSE),\"\")","v":"0942"}]
[{"$nulls":30},"A679078.098","IA_CHILD","A679078",{"$f":"IFERROR(VLOOKUP(AG810,AKT!$E$4:$G$351,3,FALSE),\"\")","v":"0942"}]
[{"$nulls":30},"A679078.099","OBZOR 2020-ISTRAŽIVANJE I INOVACIJE - H2020-MCCA-ITN-2017-EJD: 785423 MANNA","A679078",{"$f":"IFERROR(VLOOKUP(AG811,AKT!$E$4:$G$351,3,FALSE),\"\")","v":"0942"}]
[{"$nulls":30},"A679078.100","LIFE 16 NAT/SI/000634 PROJECT LIFE LYNX","A679078",{"$f":"IFERROR(VLOOKUP(AG812,AKT!$E$4:$G$351,3,FALSE),\"\")","v":"0942"}]
[{"$nulls":30},"A679078.101","EKHAGA","A679078",{"$f":"IFERROR(VLOOKUP(AG813,AKT!$E$4:$G$351,3,FALSE),\"\")","v":"0942"}]
[{"$nulls":30},"A679078.102","INTERREG CARNIVORA DINARICA - Prekogranična suradnja za dugoroočno očuvanje velikih zvijeri","A679078",{"$f":"IFERROR(VLOOKUP(AG814,AKT!$E$4:$G$351,3,FALSE),\"\")","v":"0942"}]
[{"$nulls":30},"A679078.103","TrainESSE v.2","A679078",{"$f":"IFERROR(VLOOKUP(AG815,AKT!$E$4:$G$351,3,FALSE),\"\")","v":"0942"}]
[{"$nulls":30},"A679078.104","MineHeritage","A679078",{"$f":"IFERROR(VLOOKUP(AG816,AKT!$E$4:$G$351,3,FALSE),\"\")","v":"0942"}]
[{"$nulls":30},"A679078.105","iTARG3T.Innovative targeting procesing of W-Sn-Ta-Li ores","A679078",{"$f":"IFERROR(VLOOKUP(AG817,AKT!$E$4:$G$351,3,FALSE),\"\")","v":"0942"}]
[{"$nulls":30},"A679078.106","ENGIE.Poticanje djevojčica da studiraju geoznanosti i inženjerstvo","A679078",{"$f":"IFERROR(VLOOKUP(AG818,AKT!$E$4:$G$351,3,FALSE),\"\")","v":"0942"}]
[{"$nulls":30},"A679078.107","STRATEGY CCUS","A679078",{"$f":"IFERROR(VLOOKUP(AG819,AKT!$E$4:$G$351,3,FALSE),\"\")","v":"0942"}]
[{"$nulls":30},"A679078.108","AMED","A679078",{"$f":"IFERROR(VLOOKUP(AG820,AKT!$E$4:$G$351,3,FALSE),\"\")","v":"0942"}]
[{"$nulls":30},"A679078.109","ERASMUS+ EDUBOTS,E-DIGILIT,KEEP IN P.","A679078",{"$f":"IFERROR(VLOOKUP(AG821,AKT!$E$4:$G$351,3,FALSE),\"\")","v":"0942"}]
[{"$nulls":30},"A679078.110","IGT TESTING SYSTEMS","A679078",{"$f":"IFERROR(VLOOKUP(AG822,AKT!$E$4:$G$351,3,FALSE),\"\")","v":"0942"}]
[{"$nulls":30},"A679078.111","EIT HEALTH - Local activities in Regional Innovation Scheme regions","A679078",{"$f":"IFERROR(VLOOKUP(AG823,AKT!$E$4:$G$351,3,FALSE),\"\")","v":"0942"}]
[{"$nulls":30},"A679078.112","EKO SANDWICH","A679078",{"$f":"IFERROR(VLOOKUP(AG824,AKT!$E$4:$G$351,3,FALSE),\"\")","v":"0942"}]
[{"$nulls":30},"A679078.113","CROSKILLS","A679078",{"$f":"IFERROR(VLOOKUP(AG825,AKT!$E$4:$G$351,3,FALSE),\"\")","v":"0942"}]
[{"$nulls":30},"A679078.114","BRIDGE SMS","A679078",{"$f":"IFERROR(VLOOKUP(AG826,AKT!$E$4:$G$351,3,FALSE),\"\")","v":"0942"}]
[{"$nulls":30},"A679078.115","ANAGENNISI","A679078",{"$f":"IFERROR(VLOOKUP(AG827,AKT!$E$4:$G$351,3,FALSE),\"\")","v":"0942"}]
[{"$nulls":30},"A679078.116","HORIZON 2020 FIT-TO-Nzeb","A679078",{"$f":"IFERROR(VLOOKUP(AG828,AKT!$E$4:$G$351,3,FALSE),\"\")","v":"0942"}]
[{"$nulls":30},"A679078.117","AMIGA","A679078",{"$f":"IFERROR(VLOOKUP(AG829,AKT!$E$4:$G$351,3,FALSE),\"\")","v":"0942"}]
[{"$nulls":30},"A679078.118","H 2020 RISE OpenInnoTrain","A679078",{"$f":"IFERROR(VLOOKUP(AG830,AKT!$E$4:$G$351,3,FALSE),\"\")","v":"0942"}]
[{"$nulls":30},"A679078.119","A Game-Changing Year:  Czechoslovakia in 1968 and Europe","A679078",{"$f":"IFERROR(VLOOKUP(AG831,AKT!$E$4:$G$351,3,FALSE),\"\")","v":"0942"}]
[{"$nulls":30},"A679078.120","FOCUS -Prisilna raseljavanja i solidarnost zajednice domaćina prema izbjeglica","A679078",{"$f":"IFERROR(VLOOKUP(AG832,AKT!$E$4:$G$351,3,FALSE),\"\")","v":"0942"}]
[{"$nulls":30},"A679078.121","MARDS","A679078",{"$f":"IFERROR(VLOOKUP(AG833,AKT!$E$4:$G$351,3,FALSE),\"\")","v":"0942"}]
[{"$nulls":30},"A679078.122","SMART","A679078",{"$f":"IFERROR(VLOOKUP(AG834,AKT!$E$4:$G$351,3,FALSE),\"\")","v":"0942"}]
[{"$nulls":30},"A679078.123","IncEdu","A679078",{"$f":"IFERROR(VLOOKUP(AG835,AKT!$E$4:$G$351,3,FALSE),\"\")","v":"0942"}]
[{"$nulls":30},"A679078.124","H2020-SC1-2016-2017-RIA PROJECT OSTEOPROSPINE","A679078",{"$f":"IFERROR(VLOOKUP(AG836,AKT!$E$4:$G$351,3,FALSE),\"\")","v":"0942"}]
[{"$nulls":30},"A679078.125","ERASMUS+ PROGRAM PROJECT SOFTVETS 2018-1-HR01-KA203-047494","A679078",{"$f":"IFERROR(VLOOKUP(AG837,AKT!$E$4:$G$351,3,FALSE),\"\")","v":"0942"}]
[{"$nulls":30},"A679078.126","e-Škole B","A679078",{"$f":"IFERROR(VLOOKUP(AG838,AKT!$E$4:$G$351,3,FALSE),\"\")","v":"0942"}]
[{"$nulls":30},"A679078.127","EDU4GAMES - HKO","A679078",{"$f":"IFERROR(VLOOKUP(AG839,AKT!$E$4:$G$351,3,FALSE),\"\")","v":"0942"}]
[{"$nulls":30},"A679078.128","ERASMUS+ISSES","A679078",{"$f":"IFERROR(VLOOKUP(AG840,AKT!$E$4:$G$351,3,FALSE),\"\")","v":"0942"}]
[{"$nulls":30},"A679078.129","OBZOR 2020 - TO DO",{"$f":"LEFT(AE841,7)","v":"A679078"},{"$f":"IFERROR(VLOOKUP(AG841,AKT!$E$4:$G$351,3,FALSE),\"\")","v":"0942"}]
[{"$nulls":30},"A679078.130","ERASMUS + 2020-HR01-KA103","A679078",{"$f":"IFERROR(VLOOKUP(AG842,AKT!$E$4:$G$351,3,FALSE),\"\")","v":"0942"}]
[{"$nulls":30},"A679078.131","EFRR - IRI Agrivi Smart - Agrivi Smart","A679078",{"$f":"IFERROR(VLOOKUP(AG843,AKT!$E$4:$G$351,3,FALSE),\"\")","v":"0942"}]
[{"$nulls":30},"A679078.132","EFRR - IRI ARIEN - Upravljanje energetskom infrastrukturom kroz kolaboraciju u proširenoj stvarnosti","A679078",{"$f":"IFERROR(VLOOKUP(AG844,AKT!$E$4:$G$351,3,FALSE),\"\")","v":"0942"}]
[{"$nulls":30},"A679078.133","EFRR - IRI bigEVdata - IT rješenje analitike velikih skupova podataka emobilnosti","A679078",{"$f":"IFERROR(VLOOKUP(AG845,AKT!$E$4:$G$351,3,FALSE),\"\")","v":"0942"}]
[{"$nulls":30},"A679078.134","EFRR - IRI CCS - Cyber Conflict Simulator","A679078",{"$f":"IFERROR(VLOOKUP(AG846,AKT!$E$4:$G$351,3,FALSE),\"\")","v":"0942"}]
[{"$nulls":30},"A679078.135","EFRR - IRI CloudSec - Sigurnost računarstva u oblaku prilikom korištenja mobilnih aplikacija","A679078",{"$f":"IFERROR(VLOOKUP(AG847,AKT!$E$4:$G$351,3,FALSE),\"\")","v":"0942"}]
[{"$nulls":30},"A679078.136","EFRR - IRI ComEnergy - Poboljšanje efikasnosti prerađivačke industrije kroz istraživanje i razvoj inovativnih ICT usluga","A679078",{"$f":"IFERROR(VLOOKUP(AG848,AKT!$E$4:$G$351,3,FALSE),\"\")","v":"0942"}]
[{"$nulls":30},"A679078.137","EFRR - IRI DFDM - Istraživanje i razvoj sustava za prepoznavanje umora i distrakcije vozača","A679078",{"$f":"IFERROR(VLOOKUP(AG849,AKT!$E$4:$G$351,3,FALSE),\"\")","v":"0942"}]
[{"$nulls":30},"A679078.138","EFRR - IRI EKORAS24 - Ekološki prihvatljiva rastavna sklopka 24 kV za napredne mreže","A679078",{"$f":"IFERROR(VLOOKUP(AG850,AKT!$E$4:$G$351,3,FALSE),\"\")","v":"0942"}]
[{"$nulls":30},"A679078.139","EFRR - IRI HSG - Helm Smart Grid","A679078",{"$f":"IFERROR(VLOOKUP(AG851,AKT!$E$4:$G$351,3,FALSE),\"\")","v":"0942"}]
[{"$nulls":30},"A679078.140","EFRR - IRI KONPRO 2 - Konpro 2 - Razvoj nove generacije uređaja numeričke zaštite","A679078",{"$f":"IFERROR(VLOOKUP(AG852,AKT!$E$4:$G$351,3,FALSE),\"\")","v":"0942"}]
[{"$nulls":30},"A679078.141","EFRR - IRI KONTRAC - KONTRAC GP170DC_SK - Razvoj pretvarača glavnog pogona tramvaja sa superkondenzatorskim modulom","A679078",{"$f":"IFERROR(VLOOKUP(AG853,AKT!$E$4:$G$351,3,FALSE),\"\")","v":"0942"}]
[{"$nulls":30},"A679078.142","EFRR - IRI Mareton - Razvoj nove generacije sustava neprekidnog napajanja","A679078",{"$f":"IFERROR(VLOOKUP(AG854,AKT!$E$4:$G$351,3,FALSE),\"\")","v":"0942"}]
[{"$nulls":30},"A679078.143","EFRR - IRI MAS - Razvoj multifunkcionalnog antiterorističkog sustava (MAS)","A679078",{"$f":"IFERROR(VLOOKUP(AG855,AKT!$E$4:$G$351,3,FALSE),\"\")","v":"0942"}]
[{"$nulls":30},"A679078.144","EFRR - IRI Omega GS - Razvoj  LED rasvjete","A679078",{"$f":"IFERROR(VLOOKUP(AG856,AKT!$E$4:$G$351,3,FALSE),\"\")","v":"0942"}]
[{"$nulls":30},"A679078.145","EFRR - IRI OperOSS - Istraživanje i razvoj naprednog sustava za upravljanje pametnim elektroenergetskim i komunikacijskim mrežama","A679078",{"$f":"IFERROR(VLOOKUP(AG857,AKT!$E$4:$G$351,3,FALSE),\"\")","v":"0942"}]
[{"$nulls":30},"A679078.146","EFRR - IRI PC-ATE-Buildings - Razvoj sustava upravljanja i trgovanja energijom u zgradi","A679078",{"$f":"IFERROR(VLOOKUP(AG858,AKT!$E$4:$G$351,3,FALSE),\"\")","v":"0942"}]
[{"$nulls":30},"A679078.147","EFRR - IRI SafeTRAM - SafeTRAM - Sustav za povećanje sigurnosti vožnje tračničkog prometa","A679078",{"$f":"IFERROR(VLOOKUP(AG859,AKT!$E$4:$G$351,3,FALSE),\"\")","v":"0942"}]
[{"$nulls":30},"A679078.148","EFRR - IRI SMART UTX - SMART UTX:  Sustav za ultrazvučnu dijagnostiku u ekstremnim uvjetima","A679078",{"$f":"IFERROR(VLOOKUP(AG860,AKT!$E$4:$G$351,3,FALSE),\"\")","v":"0942"}]
[{"$nulls":30},"A679078.149","RURASL Rural 3.0: Uslužno učenje za ruralni razvoj","A679078",{"$f":"IFERROR(VLOOKUP(AG861,AKT!$E$4:$G$351,3,FALSE),\"\")","v":"0942"}]
[{"$nulls":30},"A679078.150","IRCiS Integracija djece izbjeglica u škole: izgradnja pozitivnih odnosa između djece izbjeglica i djece lokalnog stanovništva","A679078",{"$f":"IFERROR(VLOOKUP(AG862,AKT!$E$4:$G$351,3,FALSE),\"\")","v":"0942"}]
[{"$nulls":30},"A679078.151","CEKOM Centar kompetencija u molekularnoj dijagnostici","A679078",{"$f":"IFERROR(VLOOKUP(AG863,AKT!$E$4:$G$351,3,FALSE),\"\")","v":"0942"}]
[{"$nulls":30},"A679078.152","POP-UP","A679078",{"$f":"IFERROR(VLOOKUP(AG864,AKT!$E$4:$G$351,3,FALSE),\"\")","v":"0942"}]
[{"$nulls":30},"A679078.153","EFRR - IRI RASCO-FER-SMART-EV - Kompaktna gradska vakuumska čistilica","A679078",{"$f":"IFERROR(VLOOKUP(AG865,AKT!$E$4:$G$351,3,FALSE),\"\")","v":"0942"}]
[{"$nulls":30},"A679078.154","ERASMUS + ICT TEX- 612248-EPP-1-2019-1-BG-EPPKA2-KA (ICT IN TEXTILE AND CLOTHING HIGHER EDUCATION AND BUSINESS","A679078",{"$f":"IFERROR(VLOOKUP(AG866,AKT!$E$4:$G$351,3,FALSE),\"\")","v":"0942"}]
[{"$nulls":30},"A679078.155","CEKOM-Centar kompetencija za digitalnu transformaciju prehrambene industrije na ruralnim područjima","A679078",{"$f":"IFERROR(VLOOKUP(AG867,AKT!$E$4:$G$351,3,FALSE),\"\")","v":"0942"}]
[{"$nulls":30},"A679078.156","STEM revolucija u zajednici","A679078",{"$f":"IFERROR(VLOOKUP(AG868,AKT!$E$4:$G$351,3,FALSE),\"\")","v":"0942"}]
[{"$nulls":30},"A679078.157","ORKAN-Okvir za kontrolu i nadzor bespilotnih letjelica-HRZZ","A679078",{"$f":"IFERROR(VLOOKUP(AG869,AKT!$E$4:$G$351,3,FALSE),\"\")","v":"0942"}]
[{"$nulls":30},"A679078.158","ERASMUS+Higher education-International Capacity Building","A679078",{"$f":"IFERROR(VLOOKUP(AG870,AKT!$E$4:$G$351,3,FALSE),\"\")","v":"0942"}]
[{"$nulls":30},"A679078.159","Erasmus+AAMSIAQ","A679078",{"$f":"IFERROR(VLOOKUP(AG871,AKT!$E$4:$G$351,3,FALSE),\"\")","v":"0942"}]
[{"$nulls":30},"A679078.160","OBZOR 2020 Science and tehnology in childhood obesity policy-STOP","A679078",{"$f":"IFERROR(VLOOKUP(AG872,AKT!$E$4:$G$351,3,FALSE),\"\")","v":"0942"}]
[{"$nulls":30},"A679078.161","ERASMUS+SPORT projekt SCforH","A679078",{"$f":"IFERROR(VLOOKUP(AG873,AKT!$E$4:$G$351,3,FALSE),\"\")","v":"0942"}]
[{"$nulls":30},"A679078.162","ERASMUS+SPORT projekt WE_CARE","A679078",{"$f":"IFERROR(VLOOKUP(AG874,AKT!$E$4:$G$351,3,FALSE),\"\")","v":"0942"}]
[{"$nulls":30},"A679078.163","ERASMUS+projekt FitBack","A679078",{"$f":"IFERROR(VLOOKUP(AG875,AKT!$E$4:$G$351,3,FALSE),\"\")","v":"0942"}]
[{"$nulls":30},"A679078.164","ERASMUS+projekt Sporth4HelthNet","A679078",{"$f":"IFERROR(VLOOKUP(AG876,AKT!$E$4:$G$351,3,FALSE),\"\")","v":"0942"}]
[{"$nulls":30},"A679078.165","Innovative SKILLS","A679078",{"$f":"IFERROR(VLOOKUP(AG877,AKT!$E$4:$G$351,3,FALSE),\"\")","v":"0942"}]
[{"$nulls":30},"A679078.166","Jačanje kapaciteta CerVirVac-a za istraživanja u virusnoj imunologiji i vakcinologiji","A679078",{"$f":"IFERROR(VLOOKUP(AG878,AKT!$E$4:$G$351,3,FALSE),\"\")","v":"0942"}]
[{"$nulls":30},"A679078.167","Erasmus+ Dialogue in Adult Education (DIA)","A679078",{"$f":"IFERROR(VLOOKUP(AG879,AKT!$E$4:$G$351,3,FALSE),\"\")","v":"0942"}]
[{"$nulls":30},"A679078.168","INTERREG ADRION NEORION Promotion of green maritime technologies and new materials to enhance sustainable shipbuilding in Adriatic Ionian Region","A679078",{"$f":"IFERROR(VLOOKUP(AG880,AKT!$E$4:$G$351,3,FALSE),\"\")","v":"0942"}]
[{"$nulls":30},"A679078.169","INTERREG ADRION SEADRION Fostering diffusion  of Heating  Cooling technologies using the seawater pump in the Adriatic- Ionian Region","A679078",{"$f":"IFERROR(VLOOKUP(AG881,AKT!$E$4:$G$351,3,FALSE),\"\")","v":"0942"}]
[{"$nulls":30},"A679078.170","INTERREG ADRION ECO-NAUTINET Network's support for SME sin the Nautical sector of the Adriatic-Ionian Region","A679078",{"$f":"IFERROR(VLOOKUP(AG882,AKT!$E$4:$G$351,3,FALSE),\"\")","v":"0942"}]
[{"$nulls":30},"A679078.171","INTERREG MED BLUE DEAL Blue Energy Deployment Alliance","A679078",{"$f":"IFERROR(VLOOKUP(AG883,AKT!$E$4:$G$351,3,FALSE),\"\")","v":"0942"}]
[{"$nulls":30},"A679078.172","INTERREG SOLEZ Smart Solutions supporting Low Emission Zones and other low-carbon mobility policies in EU cities","A679078",{"$f":"IFERROR(VLOOKUP(AG884,AKT!$E$4:$G$351,3,FALSE),\"\")","v":"0942"}]
[{"$nulls":30},"A679078.173","INTERREG DANUBE DHswitch Switching to district heating systems for diversification of supply, reducing gas dependency and increasing the use of locally available renewable sources","A679078",{"$f":"IFERROR(VLOOKUP(AG885,AKT!$E$4:$G$351,3,FALSE),\"\")","v":"0942"}]
[{"$nulls":30},"A679078.174","INTERREG MED PELAGOS Promoting Innovative nEtworks and cLusters for mArine renewable energy synerGies in mediterranean cOasts and iSlands","A679078",{"$f":"IFERROR(VLOOKUP(AG886,AKT!$E$4:$G$351,3,FALSE),\"\")","v":"0942"}]
[{"$nulls":30},"A679078.175","INTERREG MED PRISMI Promoting RES Integration for Smart Mediterranean Islands","A679078",{"$f":"IFERROR(VLOOKUP(AG887,AKT!$E$4:$G$351,3,FALSE),\"\")","v":"0942"}]
[{"$nulls":30},"A679078.176","H2020-FETOPEN IDEAS-Uključiv nadzor i istraživanje podatkovnih centara","A679078",{"$f":"IFERROR(VLOOKUP(AG888,AKT!$E$4:$G$351,3,FALSE),\"\")","v":"0942"}]
[{"$nulls":30},"A679078.177","H2020-FLAG-ERA RoboCom++-Ponovno promišljanje robotike za robotskog kompanjona budućnosti","A679078",{"$f":"IFERROR(VLOOKUP(AG889,AKT!$E$4:$G$351,3,FALSE),\"\")","v":"0942"}]
[{"$nulls":30},"A679078.178","H2020-LCE-SGS CROSSBOW-CROSS BOrder management of variable renewable energies and storage units enabling a transnational Wholesale market","A679078",{"$f":"IFERROR(VLOOKUP(AG890,AKT!$E$4:$G$351,3,FALSE),\"\")","v":"0942"}]
[{"$nulls":30},"A679078.179","H2020-LCE MEET-Multidisciplinarna i višekontekstna demonstracija tehnika istraživanja i iskorištavanja naprednih geotermalnih sustava i potencijala","A679078",{"$f":"IFERROR(VLOOKUP(AG891,AKT!$E$4:$G$351,3,FALSE),\"\")","v":"0942"}]
[{"$nulls":30},"A679078.180","H2020-LC-SC3 FLEXIGRID-Interoperabilna rješenja za holističku implementaciju usluga fleksibilnosti u distribucijskoj mreži","A679078",{"$f":"IFERROR(VLOOKUP(AG892,AKT!$E$4:$G$351,3,FALSE),\"\")","v":"0942"}]
[{"$nulls":30},"A679078.181","H2020-MSCA-ITN ImmerSAFE-Uronjene vizualne tehnologije za sigurnosno kritične aplikacije","A679078",{"$f":"IFERROR(VLOOKUP(AG893,AKT!$E$4:$G$351,3,FALSE),\"\")","v":"0942"}]
[{"$nulls":30},"A679078.182","EFRR-UZI-Ekosustav umreženih uređaja i usluga za Internet stvari s primjenom u poljoprivredi","A679078",{"$f":"IFERROR(VLOOKUP(AG894,AKT!$E$4:$G$351,3,FALSE),\"\")","v":"0942"}]
[{"$nulls":30},"A679078.183","EFRR-Klimatske promjene-Rješenja prilagodbe elektroenergetskog sustava klimatskim promjenama temeljena na velikim količinama podataka","A679078",{"$f":"IFERROR(VLOOKUP(AG895,AKT!$E$4:$G$351,3,FALSE),\"\")","v":"0942"}]
[{"$nulls":30},"A679078.184","ERASMUS+KA2-Udruženja znanja-Udruženje znanja iz akustike","A679078",{"$f":"IFERROR(VLOOKUP(AG896,AKT!$E$4:$G$351,3,FALSE),\"\")","v":"0942"}]
[{"$nulls":30},"A679078.185","H2020-SwafS-Projekt CALIPER:Povezivanje istraživanja i inovacija za ravnopravnost spolova","A679078",{"$f":"IFERROR(VLOOKUP(AG897,AKT!$E$4:$G$351,3,FALSE),\"\")","v":"0942"}]
[{"$nulls":30},"A679078.186","IRI CEKOM","A679078",{"$f":"IFERROR(VLOOKUP(AG898,AKT!$E$4:$G$351,3,FALSE),\"\")","v":"0942"}]
[{"$nulls":30},"A679078.187","ORKAN","A679078",{"$f":"IFERROR(VLOOKUP(AG899,AKT!$E$4:$G$351,3,FALSE),\"\")","v":"0942"}]
[{"$nulls":30},"A679078.188","ERASMUS + EDUBOTS","A679078",{"$f":"IFERROR(VLOOKUP(AG900,AKT!$E$4:$G$351,3,FALSE),\"\")","v":"0942"}]
[{"$nulls":30},"A679078.189","ERASMUS + E-DigiLit","A679078",{"$f":"IFERROR(VLOOKUP(AG901,AKT!$E$4:$G$351,3,FALSE),\"\")","v":"0942"}]
[{"$nulls":30},"A679078.190","ERASMUS +","A679078",{"$f":"IFERROR(VLOOKUP(AG902,AKT!$E$4:$G$351,3,FALSE),\"\")","v":"0942"}]
[{"$nulls":30},"A679078.191","RAST","A679078",{"$f":"IFERROR(VLOOKUP(AG903,AKT!$E$4:$G$351,3,FALSE),\"\")","v":"0942"}]
[{"$nulls":30},"A679078.192","LOMI","A679078",{"$f":"IFERROR(VLOOKUP(AG904,AKT!$E$4:$G$351,3,FALSE),\"\")","v":"0942"}]
[{"$nulls":30},"A679078.193","IC4HEDS",{"$f":"LEFT(AE905,7)","v":"A679078"},{"$f":"IFERROR(VLOOKUP(AG905,AKT!$E$4:$G$351,3,FALSE),\"\")","v":"0942"}]
[{"$nulls":30},"A679078.194","Hibridne metoda umjetne inteligencije za računalne igre","A679078",{"$f":"IFERROR(VLOOKUP(AG906,AKT!$E$4:$G$351,3,FALSE),\"\")","v":"0942"}]
[{"$nulls":30},"A679078.195","ERASMUS + TEACH4EDU4","A679078",{"$f":"IFERROR(VLOOKUP(AG907,AKT!$E$4:$G$351,3,FALSE),\"\")","v":"0942"}]
[{"$nulls":30},"A679078.196","ERASMUS + Vrijeme","A679078",{"$f":"IFERROR(VLOOKUP(AG908,AKT!$E$4:$G$351,3,FALSE),\"\")","v":"0942"}]
[{"$nulls":30},"A679078.197","ERASMUS+ WeRln - Žene poduzetetnice u regionalnim uključivim ekosustavima","A679078",{"$f":"IFERROR(VLOOKUP(AG909,AKT!$E$4:$G$351,3,FALSE),\"\")","v":"0942"}]
[{"$nulls":30},"A679078.198","LIFE 18 NAT/HR/00847- Dinara povratak životu","A679078",{"$f":"IFERROR(VLOOKUP(AG910,AKT!$E$4:$G$351,3,FALSE),\"\")","v":"0942"}]
[{"$nulls":30},"A679078.199","H2020-Swafs","A679078",{"$f":"IFERROR(VLOOKUP(AG911,AKT!$E$4:$G$351,3,FALSE),\"\")","v":"0942"}]
[{"$nulls":30},"A679078.200","H2020- upravljanje poljoprivrednom hranom","A679078",{"$f":"IFERROR(VLOOKUP(AG912,AKT!$E$4:$G$351,3,FALSE),\"\")","v":"0942"}]
[{"$nulls":30},"A679078.201","Arhitektonski zagrobni život: Višesektorski utjecaj arhitektonske kvalifikacije","A679078",{"$f":"IFERROR(VLOOKUP(AG913,AKT!$E$4:$G$351,3,FALSE),\"\")","v":"0942"}]
[{"$nulls":30},"A679078.202","Zdravo urbano okruženje: Razvoj višeg obrazovanja iz arhitekture i građevine u Bosni i Hercegovini","A679078",{"$f":"IFERROR(VLOOKUP(AG914,AKT!$E$4:$G$351,3,FALSE),\"\")","v":"0942"}]
[{"$nulls":30},"A679078.203","Centar pametnih urbanih i ruralnih prostora - Inovativna urbanistička i arhitektonska rješenja za povećanje energetske učinkovitosti u tradicijskim i zaštičenim cjelinama","A679078",{"$f":"IFERROR(VLOOKUP(AG915,AKT!$E$4:$G$351,3,FALSE),\"\")","v":"0942"}]
[{"$nulls":30},"A679078.204","Razvoj dvostruke fasade s hermetički zatvorenom šupljinom (H-CCF)","A679078",{"$f":"IFERROR(VLOOKUP(AG916,AKT!$E$4:$G$351,3,FALSE),\"\")","v":"0942"}]
[{"$nulls":30},"A679078.205","MARDS - Reforma doktorskog studija u Crnoj Gori i Albaniji","A679078",{"$f":"IFERROR(VLOOKUP(AG917,AKT!$E$4:$G$351,3,FALSE),\"\")","v":"0942"}]
[{"$nulls":30},"A679078.206","ERASMUS+KA2 Startup obrazovanje i podrška studentima doktorskih studija, istraživačima i znanstvenicima","A679078",{"$f":"IFERROR(VLOOKUP(AG918,AKT!$E$4:$G$351,3,FALSE),\"\")","v":"0942"}]
[{"$nulls":30},"A679078.207","ERASMUS+KA2 - Strateška partnerstva Geo3N","A679078",{"$f":"IFERROR(VLOOKUP(AG919,AKT!$E$4:$G$351,3,FALSE),\"\")","v":"0942"}]
[{"$nulls":30},"A679078.208","ERASMUS+KA2 - Strateška partnerstva SmartSoc","A679078",{"$f":"IFERROR(VLOOKUP(AG920,AKT!$E$4:$G$351,3,FALSE),\"\")","v":"0942"}]
[{"$nulls":30},"A679078.209","ERASMUS+KA2 - Strateška partnerstva ASKNOW","A679078",{"$f":"IFERROR(VLOOKUP(AG921,AKT!$E$4:$G$351,3,FALSE),\"\")","v":"0942"}]
[{"$nulls":30},"A679078.210","ERASMUS+KA2 - Strateška partnerstva INNOSID","A679078",{"$f":"IFERROR(VLOOKUP(AG922,AKT!$E$4:$G$351,3,FALSE),\"\")","v":"0942"}]
[{"$nulls":30},"A679078.211","ERASMUS+KA2 - Strateška partnerstva IMPACT - Inteligentni Pomorski Sustavi - put prema održivom obrazovanju, znanju i osnaživanju","A679078",{"$f":"IFERROR(VLOOKUP(AG923,AKT!$E$4:$G$351,3,FALSE),\"\")","v":"0942"}]
[{"$nulls":30},"A679078.212","ERASMUS + KA2 - Strateška partnerstva RoboGirls Osnaživanje djevojaka u STEAM-u kroz robotiku i kodiranje","A679078",{"$f":"IFERROR(VLOOKUP(AG924,AKT!$E$4:$G$351,3,FALSE),\"\")","v":"0942"}]
[{"$nulls":30},"A679078.213","H2020-WIDESPREAD-2018-2020  Katedra za umjetnu inteligenciju za robotiku","A679078",{"$f":"IFERROR(VLOOKUP(AG925,AKT!$E$4:$G$351,3,FALSE),\"\")","v":"0942"}]
[{"$nulls":30},"A679078.214","H2020 - ICT AERIAL-CORE - Kognitivni integrirani višenamjenski robotski sustav s proširenim opsegom rada i sigurnošću","A679078",{"$f":"IFERROR(VLOOKUP(AG926,AKT!$E$4:$G$351,3,FALSE),\"\")","v":"0942"}]
[{"$nulls":30},"A679078.215","H2020 - NMBP - ENCORE - BIM Cloud platforma svjesna energije, u ekonomičnom kontekstu renoviranja zgrada","A679078",{"$f":"IFERROR(VLOOKUP(AG927,AKT!$E$4:$G$351,3,FALSE),\"\")","v":"0942"}]
[{"$nulls":30},"A679078.216","H2020 - JTI-EuroHPC - MEEP - Eksperimentalna platforma","A679078",{"$f":"IFERROR(VLOOKUP(AG928,AKT!$E$4:$G$351,3,FALSE),\"\")","v":"0942"}]
[{"$nulls":30},"A679078.217","H2020 - LC-SC3 FLEXIGRID - Interoperabilna rješenja za holističku implementaciju usluga fleksibilnosti u distribucijskoj mreži","A679078",{"$f":"IFERROR(VLOOKUP(AG929,AKT!$E$4:$G$351,3,FALSE),\"\")","v":"0942"}]
[{"$nulls":30},"A679078.218","H2020 - SC5 REWAISE Elastična inovacija vode za pametnu ekonomiju","A679078",{"$f":"IFERROR(VLOOKUP(AG930,AKT!$E$4:$G$351,3,FALSE),\"\")","v":"0942"}]
[{"$nulls":30},"A679078.219","H2020 - SGA EPI SGA1 - Inicijativa za Europski procesor","A679078",{"$f":"IFERROR(VLOOKUP(AG931,AKT!$E$4:$G$351,3,FALSE),\"\")","v":"0942"}]
[{"$nulls":30},"A679078.220","H2020 – WIDESPREAD – Twinning AeRoTwin - Twinning koordinacijska akcija za širenje izvrsnosti i sudjelovanja u zračnoj robotici – AeRoTwin","A679078",{"$f":"IFERROR(VLOOKUP(AG932,AKT!$E$4:$G$351,3,FALSE),\"\")","v":"0942"}]
[{"$nulls":30},"A679078.221","H2020 - LCE - SGS CROSSBOW - CROSS BOARD Upravljanje promjenjivim obnovljivim izvorima energije i jedinicama za skladištenje omogućujući transnacionalno veletržnicu","A679078",{"$f":"IFERROR(VLOOKUP(AG933,AKT!$E$4:$G$351,3,FALSE),\"\")","v":"0942"}]
[{"$nulls":30},"A679078.222","H2020 - INFRAIA EUMarineRobots - Istraživačka infrastrukturna mreža u području pomorske robotike","A679078",{"$f":"IFERROR(VLOOKUP(AG934,AKT!$E$4:$G$351,3,FALSE),\"\")","v":"0942"}]
[{"$nulls":30},"A679078.223","H2020 - LC-SC3 FARCROSS Omogućavanje regionalne trgovine/razmjene električne energije kroz inovacije","A679078",{"$f":"IFERROR(VLOOKUP(AG935,AKT!$E$4:$G$351,3,FALSE),\"\")","v":"0942"}]
[{"$nulls":30},"A679078.224","ANETREC (611487-EPP-1-2019-1-SI-EPPJMO-NETWORK)","A679078",{"$f":"IFERROR(VLOOKUP(AG936,AKT!$E$4:$G$351,3,FALSE),\"\")","v":"0942"}]
[{"$nulls":30},"A679078.225","DEBATING EUROPE (620428-EPP-1-2020-1-DE-EPPJMO-NETWORK)","A679078",{"$f":"IFERROR(VLOOKUP(AG937,AKT!$E$4:$G$351,3,FALSE),\"\")","v":"0942"}]
[{"$nulls":30},"A679078.226","MEDIADELCOM","A679078",{"$f":"IFERROR(VLOOKUP(AG938,AKT!$E$4:$G$351,3,FALSE),\"\")","v":"0942"}]
[{"$nulls":30},"A679078.227","SESAR AISA - automatizaciju u upravljanju zračnim prometom","A679078",{"$f":"IFERROR(VLOOKUP(AG939,AKT!$E$4:$G$351,3,FALSE),\"\")","v":"0942"}]
[{"$nulls":30},"A679078.228","SESAR FMP MET - sektorska aplikacija s konvektivnim vremenskim informacijama za više izvora za položaj upravljanja protokom","A679078",{"$f":"IFERROR(VLOOKUP(AG940,AKT!$E$4:$G$351,3,FALSE),\"\")","v":"0942"}]
[{"$nulls":30},"A679078.229","SumBoost 2020 RIS Inovacija","A679078",{"$f":"IFERROR(VLOOKUP(AG941,AKT!$E$4:$G$351,3,FALSE),\"\")","v":"0942"}]
[{"$nulls":30},"A679078.230","MetForTC - Sljedive mjerne mogućnosti za praćenje rada termoparova","A679078",{"$f":"IFERROR(VLOOKUP(AG942,AKT!$E$4:$G$351,3,FALSE),\"\")","v":"0942"}]
[{"$nulls":30},"A679078.231","SEADRION - Poticanje širenja tehnologija grijanja i hlađenja pomoću pumpe morske vode u jadransko-jonskoj regiji","A679078",{"$f":"IFERROR(VLOOKUP(AG943,AKT!$E$4:$G$351,3,FALSE),\"\")","v":"0942"}]
[{"$nulls":30},"A679078.232","BLUE DEAL -  plava energija u mediteranskim obalnim područjima","A679078",{"$f":"IFERROR(VLOOKUP(AG944,AKT!$E$4:$G$351,3,FALSE),\"\")","v":"0942"}]
[{"$nulls":30},"A679078.233","REWARDHEAT- Uporaba topline iz obnovljivih izvora i otpada za konkurentne mreže daljinskog grijanja i hlađenja","A679078",{"$f":"IFERROR(VLOOKUP(AG945,AKT!$E$4:$G$351,3,FALSE),\"\")","v":"0942"}]
[{"$nulls":30},"A679078.234","SEEETD-Dijalog o tranziciji energije u jugoistočnoj Europi","A679078",{"$f":"IFERROR(VLOOKUP(AG946,AKT!$E$4:$G$351,3,FALSE),\"\")","v":"0942"}]
[{"$nulls":30},"A679078.235","SEAVIEWS- Sektorski prilagodljivi virtualni sustav ranog upozoravanja na zagađenje mora","A679078",{"$f":"IFERROR(VLOOKUP(AG947,AKT!$E$4:$G$351,3,FALSE),\"\")","v":"0942"}]
[{"$nulls":30},"A679078.236","ProbeTrace - Sljedivost za mjerenje kontaktnih sondi i olovnih instrumenata","A679078",{"$f":"IFERROR(VLOOKUP(AG948,AKT!$E$4:$G$351,3,FALSE),\"\")","v":"0942"}]
[{"$nulls":30},"A679078.237","Osiguranje električne energije u slučaju klimatskih ekstrema i prirodnih katastrofa","A679078",{"$f":"IFERROR(VLOOKUP(AG949,AKT!$E$4:$G$351,3,FALSE),\"\")","v":"0942"}]
[{"$nulls":30},"A679078.238","NRLE - Nacionalni referentni laboratorij za emisije iz motora s unutarnjim izgaranjem za necestovne pokretne strojeve","A679078",{"$f":"IFERROR(VLOOKUP(AG950,AKT!$E$4:$G$351,3,FALSE),\"\")","v":"0942"}]
[{"$nulls":30},"A679078.239","Regionalni centar kompetentnosti u strukovnom obrazovanju u strojarstvu-Industrija 4.0","A679078",{"$f":"IFERROR(VLOOKUP(AG951,AKT!$E$4:$G$351,3,FALSE),\"\")","v":"0942"}]
[{"$nulls":30},"A679078.240","ARS MECHANICA za nove kompetencije","A679078",{"$f":"IFERROR(VLOOKUP(AG952,AKT!$E$4:$G$351,3,FALSE),\"\")","v":"0942"}]
[{"$nulls":30},"A679078.241","RCK Ruđera Boškovića","A679078",{"$f":"IFERROR(VLOOKUP(AG953,AKT!$E$4:$G$351,3,FALSE),\"\")","v":"0942"}]
[{"$nulls":30},"A679078.242","ELPID - platforma za e-učenje za inovativni razvoj proizvoda","A679078",{"$f":"IFERROR(VLOOKUP(AG954,AKT!$E$4:$G$351,3,FALSE),\"\")","v":"0942"}]
[{"$nulls":30},"A679078.243","OPORTO -Optimizacija održavanja sustava antikorozivne zaštite i zaštite protiv obraštanja ribarskih brodova","A679078",{"$f":"IFERROR(VLOOKUP(AG955,AKT!$E$4:$G$351,3,FALSE),\"\")","v":"0942"}]
[{"$nulls":30},"A679078.244","MORZ - Mreža organizacija ribara i znanstvenika","A679078",{"$f":"IFERROR(VLOOKUP(AG956,AKT!$E$4:$G$351,3,FALSE),\"\")","v":"0942"}]
[{"$nulls":30},"A679078.245","IN AQUA - Integracija visokog stupnja obnovljivih izvora energije u akvakulturna uzgajališta","A679078",{"$f":"IFERROR(VLOOKUP(AG957,AKT!$E$4:$G$351,3,FALSE),\"\")","v":"0942"}]
[{"$nulls":30},"A679078.246","APROPO- Autonomno Pomoćno RibarskO PlovilO","A679078",{"$f":"IFERROR(VLOOKUP(AG958,AKT!$E$4:$G$351,3,FALSE),\"\")","v":"0942"}]
[{"$nulls":30},"A679078.247","DATACROSS -Napredne metode i tehnologije u znanosti o podatcima i kooperativnim sustavima","A679078",{"$f":"IFERROR(VLOOKUP(AG959,AKT!$E$4:$G$351,3,FALSE),\"\")","v":"0942"}]
[{"$nulls":30},"A679078.248","Edukacijom o strukturnim i investicijskim fondovima do inovacija u poduzetništvu","A679078",{"$f":"IFERROR(VLOOKUP(AG960,AKT!$E$4:$G$351,3,FALSE),\"\")","v":"0942"}]
[{"$nulls":30},"A679078.249","ASAP-Autonomni sustav za pregled i predviđanje integriteta prometne infrastrukture","A679078",{"$f":"IFERROR(VLOOKUP(AG961,AKT!$E$4:$G$351,3,FALSE),\"\")","v":"0942"}]
[{"$nulls":30},"A679078.250","LoMI- internacionalizacijom preskačemo granice","A679078",{"$f":"IFERROR(VLOOKUP(AG962,AKT!$E$4:$G$351,3,FALSE),\"\")","v":"0942"}]
[{"$nulls":30},"A679078.251","Istraživanje i razvoj specijaliziranih multirotornih bespilotnih letjelica SPECDRON","A679078",{"$f":"IFERROR(VLOOKUP(AG963,AKT!$E$4:$G$351,3,FALSE),\"\")","v":"0942"}]
[{"$nulls":30},"A679078.252","Razvoj hibridnog skidera - HISKID","A679078",{"$f":"IFERROR(VLOOKUP(AG964,AKT!$E$4:$G$351,3,FALSE),\"\")","v":"0942"}]
[{"$nulls":30},"A679078.253","Primjena Hrvatskog kvalifikacijskog okvira u području biomedicinskog inženjerstva - HKO-BI","A679078",{"$f":"IFERROR(VLOOKUP(AG965,AKT!$E$4:$G$351,3,FALSE),\"\")","v":"0942"}]
[{"$nulls":30},"A679078.254","RURASL Rural 3.0: Uslužno učenje za ruralni razvoj","A679078",{"$f":"IFERROR(VLOOKUP(AG966,AKT!$E$4:$G$351,3,FALSE),\"\")","v":"0942"}]
[{"$nulls":30},"A679078.255","Godina koja mijenja igre: Čehoslovačka 1968. i Europa","A679078",{"$f":"IFERROR(VLOOKUP(AG967,AKT!$E$4:$G$351,3,FALSE),\"\")","v":"0942"}]
[{"$nulls":30},"A679078.256","FOKUS - Prisilno raseljavanje i solidarnost zajednice domaćina izbjeglica","A679078",{"$f":"IFERROR(VLOOKUP(AG968,AKT!$E$4:$G$351,3,FALSE),\"\")","v":"0942"}]
[{"$nulls":30},"A679078.257","CLEOPATRA - Višejezična istraživačka akademija Open Analytics usmjerena na događaje",{"$f":"LEFT(AE969,7)","v":"A679078"},{"$f":"IFERROR(VLOOKUP(AG969,AKT!$E$4:$G$351,3,FALSE),\"\")","v":"0942"}]
[{"$nulls":30},"A679078.258","IRCiS Integriranje izbjegličke djece u škole: mješovita studija o učinkovitosti kontakt-u-škole za izgradnju pozitivnih međugrupnih odnosa između djece izbjeglica i domaćina","A679078",{"$f":"IFERROR(VLOOKUP(AG970,AKT!$E$4:$G$351,3,FALSE),\"\")","v":"0942"}]
[{"$nulls":30},"A679078.259","HILAR","A679078",{"$f":"IFERROR(VLOOKUP(AG971,AKT!$E$4:$G$351,3,FALSE),\"\")","v":"0942"}]
[{"$nulls":30},"A679078.260","DuRSAAM","A679078",{"$f":"IFERROR(VLOOKUP(AG972,AKT!$E$4:$G$351,3,FALSE),\"\")","v":"0942"}]
[{"$nulls":30},"A679078.261","ERASMUS PLUS CSETIR","A679078",{"$f":"IFERROR(VLOOKUP(AG973,AKT!$E$4:$G$351,3,FALSE),\"\")","v":"0942"}]
[{"$nulls":30},"A679078.262","OVERFLOW  EU mehanizmi civilne zaštite","A679078",{"$f":"IFERROR(VLOOKUP(AG974,AKT!$E$4:$G$351,3,FALSE),\"\")","v":"0942"}]
[{"$nulls":30},"A679078.263","TRANSBOT -H2020","A679078",{"$f":"IFERROR(VLOOKUP(AG975,AKT!$E$4:$G$351,3,FALSE),\"\")","v":"0942"}]
[{"$nulls":30},"A679078.264","Potrošački angažman u obnovi zgrada i obnovi za klimatske akcije na terenu","A679078",{"$f":"IFERROR(VLOOKUP(AG976,AKT!$E$4:$G$351,3,FALSE),\"\")","v":"0942"}]
[{"$nulls":30},"A679078.265","BUS - GoCircular-H2020","A679078",{"$f":"IFERROR(VLOOKUP(AG977,AKT!$E$4:$G$351,3,FALSE),\"\")","v":"0942"}]
[{"$nulls":30},"A679078.266","BUILDUP -SKILLSBANK-H2020","A679078",{"$f":"IFERROR(VLOOKUP(AG978,AKT!$E$4:$G$351,3,FALSE),\"\")","v":"0942"}]
[{"$nulls":30},"A679078.267","OBZOR 2020 Znanost i tehnologija u politici pretilosti djece- STOP","A679078",{"$f":"IFERROR(VLOOKUP(AG979,AKT!$E$4:$G$351,3,FALSE),\"\")","v":"0942"}]
[{"$nulls":30},"A679078.268","WE-CARE Projekt: Uspostavljanjem nacionalne skrbi i razvojnim centrima podržavamo elitne sportaše u uravnoteženju rezultata sporta i obrazovanja / zapošljavanja","A679078",{"$f":"IFERROR(VLOOKUP(AG980,AKT!$E$4:$G$351,3,FALSE),\"\")","v":"0942"}]
[{"$nulls":30},"A679078.269","Projekt: Stvaranje mehanizama za kontinuiranu provedba sportskog kluba za zdravlje u Europskoj uniji","A679078",{"$f":"IFERROR(VLOOKUP(AG981,AKT!$E$4:$G$351,3,FALSE),\"\")","v":"0942"}]
[{"$nulls":30},"A679078.270","Erasmus + EPL Europska licenca za propisivanje","A679078",{"$f":"IFERROR(VLOOKUP(AG982,AKT!$E$4:$G$351,3,FALSE),\"\")","v":"0942"}]
[{"$nulls":30},"A679078.271","Obzor 2020 LiverScreen - Probir na fibrozu jetre - populacijsko istraživanje u europskim zemljama","A679078",{"$f":"IFERROR(VLOOKUP(AG983,AKT!$E$4:$G$351,3,FALSE),\"\")","v":"0942"}]
[{"$nulls":30},"A679078.272","HKO projekt Unapređenje postojećeg integriranog preddiplomskog i diplomskog studijskog programa Medicina","A679078",{"$f":"IFERROR(VLOOKUP(AG984,AKT!$E$4:$G$351,3,FALSE),\"\")","v":"0942"}]
[{"$nulls":30},"A679078.273","HKO projekt Promjena hrvatskog kvalifikacijskog okvira u području biomedicinskog inženjerstva HKO-BI","A679078",{"$f":"IFERROR(VLOOKUP(AG985,AKT!$E$4:$G$351,3,FALSE),\"\")","v":"0942"}]
[{"$nulls":30},"A679078.274","ESF CasMouse - Genomsko inženjerstvo i genska regulacija u staničnim linijama i modelnim organizmima tehnologijom CRISPR/Cas9","A679078",{"$f":"IFERROR(VLOOKUP(AG986,AKT!$E$4:$G$351,3,FALSE),\"\")","v":"0942"}]
[{"$nulls":30},"A679078.275","Razvoj sustava za ispitivanje višefaznih strujanja i izgaranja s ciljem povećanja istraživačkih aktivnosti znanstvenog i poslovnog sektora","A679078",{"$f":"IFERROR(VLOOKUP(AG987,AKT!$E$4:$G$351,3,FALSE),\"\")","v":"0942"}]
[{"$nulls":30},"A679078.276","TODO-HORIZON 2020.","A679078",{"$f":"IFERROR(VLOOKUP(AG988,AKT!$E$4:$G$351,3,FALSE),\"\")","v":"0942"}]
[{"$nulls":30},"A679078.277","CEPIL- Europska komisija","A679078",{"$f":"IFERROR(VLOOKUP(AG989,AKT!$E$4:$G$351,3,FALSE),\"\")","v":"0942"}]
[{"$nulls":30},"A679078.278","CROSSJUSTICE- Europska komisja","A679078",{"$f":"IFERROR(VLOOKUP(AG990,AKT!$E$4:$G$351,3,FALSE),\"\")","v":"0942"}]
[{"$nulls":30},"A679078.279","JEAN MONNET","A679078",{"$f":"IFERROR(VLOOKUP(AG991,AKT!$E$4:$G$351,3,FALSE),\"\")","v":"0942"}]
[{"$nulls":30},"A679078.280","ANEUPLOIDIJA - Molekularno podrijetlo aneuploidija u zdravih i bolesnih ljudskih tkiva","A679078",{"$f":"IFERROR(VLOOKUP(AG992,AKT!$E$4:$G$351,3,FALSE),\"\")","v":"0942"}]
[{"$nulls":30},"A679078.281","ERASMUS+  KA2 TIME","A679078",{"$f":"IFERROR(VLOOKUP(AG993,AKT!$E$4:$G$351,3,FALSE),\"\")","v":"0942"}]
[{"$nulls":30},"A679078.282","MEMORIE Mjere prilagodbe klimatskim promjenama za održivo upravljanje prirodnim resursima","A679078",{"$f":"IFERROR(VLOOKUP(AG994,AKT!$E$4:$G$351,3,FALSE),\"\")","v":"0942"}]
[{"$nulls":30},"A679078.283","IRI- IMforFUTURE - aktivnosti istraživanja i razvoja","A679078",{"$f":"IFERROR(VLOOKUP(AG995,AKT!$E$4:$G$351,3,FALSE),\"\")","v":"0942"}]
[{"$nulls":30},"A679078.284","RESTORE - Procjena ostataka crvenog blata u regiji","A679078",{"$f":"IFERROR(VLOOKUP(AG996,AKT!$E$4:$G$351,3,FALSE),\"\")","v":"0942"}]
[{"$nulls":30},"A679078.285","MARILIA - testovi za detekciju patogena u uzorcima vode","A679078",{"$f":"IFERROR(VLOOKUP(AG997,AKT!$E$4:$G$351,3,FALSE),\"\")","v":"0942"}]
[{"$nulls":30},"A679078.286","The ONE - mehanizam sparivanja i stvaranja bozonskih kvazičestica","A679078",{"$f":"IFERROR(VLOOKUP(AG998,AKT!$E$4:$G$351,3,FALSE),\"\")","v":"0942"}]
[{"$nulls":30},"A679078.287","CroViZone - Prilagodba vinogradarskih zona RH klimatskim promjenama","A679078",{"$f":"IFERROR(VLOOKUP(AG999,AKT!$E$4:$G$351,3,FALSE),\"\")","v":"0942"}]
[{"$nulls":30},"A679078.288","ECOBIAS -  ekološko praćenje i procjenu vodenih bioloških ustanova","A679078",{"$f":"IFERROR(VLOOKUP(AG1000,AKT!$E$4:$G$351,3,FALSE),\"\")","v":"0942"}]
[{"$nulls":30},"A679078.289","IRI- REMAKE - Razvoj efikasne metodologije za analizu konstrukcije plovnih objekata metodom konačnih elemenata","A679078",{"$f":"IFERROR(VLOOKUP(AG1001,AKT!$E$4:$G$351,3,FALSE),\"\")","v":"0942"}]
[{"$nulls":30},"A679078.290","KLIMOD - Računalni model strujanja, poplavljivanja i širenja onečišćenja u rijekama i obalnim morskim područjima","A679078",{"$f":"IFERROR(VLOOKUP(AG1002,AKT!$E$4:$G$351,3,FALSE),\"\")","v":"0942"}]
[{"$nulls":30},"A679078.291","ERASMUS + KA2 PROMISE - Obrazovanje zasnovano na upitima za personaliziranu medicinu","A679078",{"$f":"IFERROR(VLOOKUP(AG1003,AKT!$E$4:$G$351,3,FALSE),\"\")","v":"0942"}]
[{"$nulls":30},"A679078.292","MOBI-US - Prijevod programa na engleski za suradnju s drugim fakultetima u Europi s istim programima","A679078",{"$f":"IFERROR(VLOOKUP(AG1004,AKT!$E$4:$G$351,3,FALSE),\"\")","v":"0942"}]
[{"$nulls":30},"A679078.293","RM@Schools-ESEE - Povezivanje obrazovnih ustanova u ESEE regiji s industrijom","A679078",{"$f":"IFERROR(VLOOKUP(AG1005,AKT!$E$4:$G$351,3,FALSE),\"\")","v":"0942"}]
[{"$nulls":30},"A679078.294","RIS obrazovanje i poduzetništvo","A679078",{"$f":"IFERROR(VLOOKUP(AG1006,AKT!$E$4:$G$351,3,FALSE),\"\")","v":"0942"}]
[{"$nulls":30},"A679078.295","PRI-MJER","A679078",{"$f":"IFERROR(VLOOKUP(AG1007,AKT!$E$4:$G$351,3,FALSE),\"\")","v":"0942"}]
[{"$nulls":30},"A679078.296","ERASMUS+ CCC4ECEC - Kompetencija za obrazovanje i njegu u ranom djetinjstvu usmjerena na dijete","A679078",{"$f":"IFERROR(VLOOKUP(AG1008,AKT!$E$4:$G$351,3,FALSE),\"\")","v":"0942"}]
[{"$nulls":30},"A679078.297","UNICEF - Poboljšanje inkluzivnosti početnog obrazovanja učitelja za obrazovanje i njegu u ranom djetinjstvu","A679078",{"$f":"IFERROR(VLOOKUP(AG1009,AKT!$E$4:$G$351,3,FALSE),\"\")","v":"0942"}]
[{"$nulls":30},"A679078.298","Dijagnostički značaj kalprotektina u ranom prepoznavanju upalnih stanja","A679078",{"$f":"IFERROR(VLOOKUP(AG1010,AKT!$E$4:$G$351,3,FALSE),\"\")","v":"0942"}]
[{"$nulls":30},"A679078.299","Potencijal mikroinkapsulacije u proizvodnji sireva","A679078",{"$f":"IFERROR(VLOOKUP(AG1011,AKT!$E$4:$G$351,3,FALSE),\"\")","v":"0942"}]
[{"$nulls":30},"A679078.300","Erasmus + dijalog u obrazovanju odraslih (DIA)","A679078",{"$f":"IFERROR(VLOOKUP(AG1012,AKT!$E$4:$G$351,3,FALSE),\"\")","v":"0942"}]
[{"$nulls":30},"A679078.301","INTERREG Central Europe Store4HUC- Integracija i napredno gospodarenje sustavima za pohranu energije na povijesnim lokalitetima u gradovima","A679078",{"$f":"IFERROR(VLOOKUP(AG1013,AKT!$E$4:$G$351,3,FALSE),\"\")","v":"0942"}]
[{"$nulls":30},"A679078.302","EERR-IRI-II RI2MOFA - Razvoj inteligentne interaktivne modularne fasade","A679078",{"$f":"IFERROR(VLOOKUP(AG1014,AKT!$E$4:$G$351,3,FALSE),\"\")","v":"0942"}]
[{"$nulls":30},"A679078.303","INTERREG-DUNAV DanuP-2-Gas-DanuP-2-Gas: Inovativni model za potporu sigurnosti i diversifikaciju u dunavskoj regiji kombiniranjem energije iz biomase s viskovima obnovljive energije","A679078",{"$f":"IFERROR(VLOOKUP(AG1015,AKT!$E$4:$G$351,3,FALSE),\"\")","v":"0942"}]
[{"$nulls":30},"A679078.304","INTERREG-IT-HR InnovaMare- Plava tehnologija - razvijanje inovativnih tehnologija za održivosti Jadranskog mora","A679078",{"$f":"IFERROR(VLOOKUP(AG1016,AKT!$E$4:$G$351,3,FALSE),\"\")","v":"0942"}]
[{"$nulls":30},"A679078.305","EFRR-IR-II AACES- Odlučivanje u upravljanju elektroenergetskim sustavom u uvjetima nesigurnosti uvjetovanih klimatskim promjenama - AACES","A679078",{"$f":"IFERROR(VLOOKUP(AG1017,AKT!$E$4:$G$351,3,FALSE),\"\")","v":"0942"}]
[{"$nulls":30},"A679078.306","EFRR - Klimatske promjene AgroSPARC- Napredna i prediktivna poljoprivreda za otpornost klimatskim promjenama","A679078",{"$f":"IFERROR(VLOOKUP(AG1018,AKT!$E$4:$G$351,3,FALSE),\"\")","v":"0942"}]
[{"$nulls":30},"A679078.307","EFRR-IR-II Al Defender- Sustav umjetne inteligencije za automatski nadzor i upravljanje sigurnosti cloud okruženja - AL DEFENDER","A679078",{"$f":"IFERROR(VLOOKUP(AG1019,AKT!$E$4:$G$351,3,FALSE),\"\")","v":"0942"}]
[{"$nulls":30},"A679078.308","EFRR-IR-II AIPD2- Digitalna platforma za zaštitu privatnosti i sprječavanje zloupotreba životnim ciklusom osobnih podataka- AIPD3","A679078",{"$f":"IFERROR(VLOOKUP(AG1020,AKT!$E$4:$G$351,3,FALSE),\"\")","v":"0942"}]
[{"$nulls":30},"A679078.309","EFRR-IR-II A-UNIT- Istraživanje i razvoj napredne jedinice za autonomno upravljanje mobilnim vozilima u logistici","A679078",{"$f":"IFERROR(VLOOKUP(AG1021,AKT!$E$4:$G$351,3,FALSE),\"\")","v":"0942"}]
[{"$nulls":30},"A679078.310","EFRR-IR-II BatEVCharg - Punionica električnih vozila s integriranim baterijskim spremnikom","A679078",{"$f":"IFERROR(VLOOKUP(AG1022,AKT!$E$4:$G$351,3,FALSE),\"\")","v":"0942"}]
[{"$nulls":30},"A679078.311","EFRR-IR-II CEGlog- Istraživanje i razvoj jedinstvenog sustava za logističku i transportnu optimizaciju","A679078",{"$f":"IFERROR(VLOOKUP(AG1023,AKT!$E$4:$G$351,3,FALSE),\"\")","v":"0942"}]
[{"$nulls":30},"A679078.312","EFFRR-CEKOM-SUS- Centar kompetencija za kibernetičku sigurnost upravljačkih sustava","A679078",{"$f":"IFERROR(VLOOKUP(AG1024,AKT!$E$4:$G$351,3,FALSE),\"\")","v":"0942"}]
[{"$nulls":30},"A679078.313","EFRR-IR-II cyberAUT- Inovativno rješenje za upravljanje kibernetickom sigurnosti industrijskih sustava automatizacije postrojenja i procesa","A679078",{"$f":"IFERROR(VLOOKUP(AG1025,AKT!$E$4:$G$351,3,FALSE),\"\")","v":"0942"}]
[{"$nulls":30},"A679078.314","EFRR-IR-II DRUNE- Razvoj uređaja za prijenos video signala ultra niske latencije","A679078",{"$f":"IFERROR(VLOOKUP(AG1026,AKT!$E$4:$G$351,3,FALSE),\"\")","v":"0942"}]
[{"$nulls":30},"A679078.315","EFRR-IR-II ENEDAT- Razvoj sustava za optimalizaciju potrošnje električne energije u podatkovnim centrima","A679078",{"$f":"IFERROR(VLOOKUP(AG1027,AKT!$E$4:$G$351,3,FALSE),\"\")","v":"0942"}]
[{"$nulls":30},"A679078.316","EFRR-IR-II ENEDAT- Razvoj pametnog modularnog sustava upravljanja pogonom dizala za povećanje energetske učinkovitosti zgrade","A679078",{"$f":"IFERROR(VLOOKUP(AG1028,AKT!$E$4:$G$351,3,FALSE),\"\")","v":"0942"}]
[{"$nulls":30},"A679078.317","EFRR-IR-II GMP- Razvoj Greyp platforme za mikromobilnost GMP","A679078",{"$f":"IFERROR(VLOOKUP(AG1029,AKT!$E$4:$G$351,3,FALSE),\"\")","v":"0942"}]
[{"$nulls":30},"A679078.318","EFRR-IR-II IRI2-OIE- Integrirano rješenje za upravljanje imovinom i podršku investicijskim procesima projektiranja, planiranja i provedbe izgradnje obnovljivih izvora energije","A679078",{"$f":"IFERROR(VLOOKUP(AG1030,AKT!$E$4:$G$351,3,FALSE),\"\")","v":"0942"}]
[{"$nulls":30},"A679078.319","EFRR-IR-II LAMCAB- Razvoj tehnologije povezivanja komponenti upravljačkih električnih ormara upotrebom laminiranih vodica","A679078",{"$f":"IFERROR(VLOOKUP(AG1031,AKT!$E$4:$G$351,3,FALSE),\"\")","v":"0942"}]
[{"$nulls":30},"A679078.320","EFRR-IR-II PCC- Sustav za nadzor i kontrolu usklađenosti distribuiranih procesa u realnom vremenu, otkrivanje anomalija, rano upozoravanje i forenzičku analizu transakcije","A679078",{"$f":"IFERROR(VLOOKUP(AG1032,AKT!$E$4:$G$351,3,FALSE),\"\")","v":"0942"}]
[{"$nulls":30},"A679078.321","EFRR-IR-II PEP- Razvoj inovativnog polifaznog elektromotornog pogona",{"$f":"LEFT(AE1033,7)","v":"A679078"},{"$f":"IFERROR(VLOOKUP(AG1033,AKT!$E$4:$G$351,3,FALSE),\"\")","v":"0942"}]
[{"$nulls":30},"A679078.322","EFRR-IR-II Pinova- Razvoj agrometeorološke platforme i mreže IoT uređaja tvrtke Pinova d.o.o.","A679078",{"$f":"IFERROR(VLOOKUP(AG1034,AKT!$E$4:$G$351,3,FALSE),\"\")","v":"0942"}]
[{"$nulls":30},"A679078.323","EFRR- UZI RESIN- Razvoj sustava za ispitivanje visefaznih strujanja i izgaranja s ciljem povećanja istraživačkih aktivnosti znanstvenog i poslovnog spektra","A679078",{"$f":"IFERROR(VLOOKUP(AG1035,AKT!$E$4:$G$351,3,FALSE),\"\")","v":"0942"}]
[{"$nulls":30},"A679078.324","EFRR-IR-II RPA-NPV- Razvoj potopljenog agregata za male hidroelektrane s niskim padom vode","A679078",{"$f":"IFERROR(VLOOKUP(AG1036,AKT!$E$4:$G$351,3,FALSE),\"\")","v":"0942"}]
[{"$nulls":30},"A679078.325","EFRR-IR-II SARI- Sustava za automatsko raspoznavanje, identifikaciju te precizno mjerenje duljine plovila","A679078",{"$f":"IFERROR(VLOOKUP(AG1037,AKT!$E$4:$G$351,3,FALSE),\"\")","v":"0942"}]
[{"$nulls":30},"A679078.326","EFRR-IR-II SMAGRILOS- Sustav za optimizaciju gubitaka u naprednim mrežama","A679078",{"$f":"IFERROR(VLOOKUP(AG1038,AKT!$E$4:$G$351,3,FALSE),\"\")","v":"0942"}]
[{"$nulls":30},"A679078.327","EFRR-IR-II SOC4- Platforma za nadzor ugroza u heterogenim mrežnim okruženjima","A679078",{"$f":"IFERROR(VLOOKUP(AG1039,AKT!$E$4:$G$351,3,FALSE),\"\")","v":"0942"}]
[{"$nulls":30},"A679078.328","EFRR-IR-II SUPELEK- Sustav za upravljanje potrošnjom električne energije u kućanstvima","A679078",{"$f":"IFERROR(VLOOKUP(AG1040,AKT!$E$4:$G$351,3,FALSE),\"\")","v":"0942"}]
[{"$nulls":30},"A679078.329","EFRR-IR-II Agrivi Smart- povećanje produktivnosti uzgoja krumpira uz pomoć algoritma strojnog učenja","A679078",{"$f":"IFERROR(VLOOKUP(AG1041,AKT!$E$4:$G$351,3,FALSE),\"\")","v":"0942"}]
[{"$nulls":30},"A679078.330","EFRR-IR-II bigEVdata- IT rješenja analitike velikih skupova podataka emobilnosti","A679078",{"$f":"IFERROR(VLOOKUP(AG1042,AKT!$E$4:$G$351,3,FALSE),\"\")","v":"0942"}]
[{"$nulls":30},"A679078.331","EFRR-IR-II CCS- Simulator sukoba","A679078",{"$f":"IFERROR(VLOOKUP(AG1043,AKT!$E$4:$G$351,3,FALSE),\"\")","v":"0942"}]
[{"$nulls":30},"A679078.332","EFRR-IR-II CloudSec- Sigurnost računarstva u oblaku prilikom korištenja mobilnih aplikacija","A679078",{"$f":"IFERROR(VLOOKUP(AG1044,AKT!$E$4:$G$351,3,FALSE),\"\")","v":"0942"}]
[{"$nulls":30},"A679078.333","EFRR-IR-II DFDM- Istraživanje i razvoj sustava za prepoznavanje umora i distrakcije vozača","A679078",{"$f":"IFERROR(VLOOKUP(AG1045,AKT!$E$4:$G$351,3,FALSE),\"\")","v":"0942"}]
[{"$nulls":30},"A679078.334","EFRR-IR EKORAS24- Ekološki prihvatljiva rastavna sklopka 24kV za napredne mreže","A679078",{"$f":"IFERROR(VLOOKUP(AG1046,AKT!$E$4:$G$351,3,FALSE),\"\")","v":"0942"}]
[{"$nulls":30},"A679078.335","EFRR-IRI Geolux- 4D akustična kamera","A679078",{"$f":"IFERROR(VLOOKUP(AG1047,AKT!$E$4:$G$351,3,FALSE),\"\")","v":"0942"}]
[{"$nulls":30},"A679078.336","EFRR-IRI HSG - Helm Smart Grid","A679078",{"$f":"IFERROR(VLOOKUP(AG1048,AKT!$E$4:$G$351,3,FALSE),\"\")","v":"0942"}]
[{"$nulls":30},"A679078.337","EFRR-IRI KONPRO 2 - Razvoj nove generacije uređaja numeričke zaštite","A679078",{"$f":"IFERROR(VLOOKUP(AG1049,AKT!$E$4:$G$351,3,FALSE),\"\")","v":"0942"}]
[{"$nulls":30},"A679078.338","EFRR- IRI KONTRAC - Razvoj pretvarača glavnog pogona tramvaja sa superkondezatorskim modulom","A679078",{"$f":"IFERROR(VLOOKUP(AG1050,AKT!$E$4:$G$351,3,FALSE),\"\")","v":"0942"}]
[{"$nulls":30},"A679078.339","EFRR- IRI Mareton - Razvoj nove generacije industrijskih modularnih, redundantnih, višeizlaznih sustava neprekidnog napajanja istosmjernim i izmjeničnim naponima","A679078",{"$f":"IFERROR(VLOOKUP(AG1051,AKT!$E$4:$G$351,3,FALSE),\"\")","v":"0942"}]
[{"$nulls":30},"A679078.340","EFRR- IRI MAS- Razvoj multifunkcionalnog antiterorističkog sustava","A679078",{"$f":"IFERROR(VLOOKUP(AG1052,AKT!$E$4:$G$351,3,FALSE),\"\")","v":"0942"}]
[{"$nulls":30},"A679078.341","EFRR- IRI Omega GS- Razvoj otvorene pametne mreže energetski učinkovite javne LED rasvjete","A679078",{"$f":"IFERROR(VLOOKUP(AG1053,AKT!$E$4:$G$351,3,FALSE),\"\")","v":"0942"}]
[{"$nulls":30},"A679078.342","EFRR- IRI OperOSS- Istraživanja i razvoj naprednog sustava za upravljanje pametnim elektroenergetskim i komunikacijskim mrežama","A679078",{"$f":"IFERROR(VLOOKUP(AG1054,AKT!$E$4:$G$351,3,FALSE),\"\")","v":"0942"}]
[{"$nulls":30},"A679078.343","EFRR- IRI PC-ATE-Buildings- Razvoj sustava prediktivnog upravljanja i automatskog trovanja energijom u zgradi","A679078",{"$f":"IFERROR(VLOOKUP(AG1055,AKT!$E$4:$G$351,3,FALSE),\"\")","v":"0942"}]
[{"$nulls":30},"A679078.344","EFRR- IRI SMART UTX: Pametni modularni sustav za ultrazvučnu dijagnostiku u ekstremnim uvjetima","A679078",{"$f":"IFERROR(VLOOKUP(AG1056,AKT!$E$4:$G$351,3,FALSE),\"\")","v":"0942"}]
[{"$nulls":30},"A679078.345","ERASMUS + Projekt: SC4H Creating mehanisam for continous implementation of  the sports club for health guidelines in EU","A679078",{"$f":"IFERROR(VLOOKUP(AG1057,AKT!$E$4:$G$351,3,FALSE),\"\")","v":"0942"}]
[{"$nulls":30},"A679078.346","ERASMUS + Projekt: SC4H Network","A679078",{"$f":"IFERROR(VLOOKUP(AG1058,AKT!$E$4:$G$351,3,FALSE),\"\")","v":"0942"}]
[{"$nulls":30},"A679078.347","ERASMUS+mobilnost osoblja zmeđu programskih i partnerskih zemalja u svrhu podučavanja KA 107","A679078",{"$f":"IFERROR(VLOOKUP(AG1059,AKT!$E$4:$G$351,3,FALSE),\"\")","v":"0942"}]
[{"$nulls":30},"A679078.348","SESAR-FPM","A679078",{"$f":"IFERROR(VLOOKUP(AG1060,AKT!$E$4:$G$351,3,FALSE),\"\")","v":"0942"}]
[{"$nulls":30},"A679078.349","SABRINA","A679078",{"$f":"IFERROR(VLOOKUP(AG1061,AKT!$E$4:$G$351,3,FALSE),\"\")","v":"0942"}]
[{"$nulls":30},"A679078.350","SLAIN","A679078",{"$f":"IFERROR(VLOOKUP(AG1062,AKT!$E$4:$G$351,3,FALSE),\"\")","v":"0942"}]
[{"$nulls":30},"A679078.351","SumBoost","A679078",{"$f":"IFERROR(VLOOKUP(AG1063,AKT!$E$4:$G$351,3,FALSE),\"\")","v":"0942"}]
[{"$nulls":30},"A679078.352","CA16227-2 INVESTIGATION AND MATEMATICAL ANALYSIS OF AVANT-GARED DISEASE CONTROL VIA MOSQUITO NANO TECH REPELLENTS","A679078",{"$f":"IFERROR(VLOOKUP(AG1064,AKT!$E$4:$G$351,3,FALSE),\"\")","v":"0942"}]
[{"$nulls":30},"A679078.353","Modernizacija infrastrukture Znanstveno-istraživačkog centra za tekstil (MI-TSRC) KK.01.1.1.02.0024","A679078",{"$f":"IFERROR(VLOOKUP(AG1065,AKT!$E$4:$G$351,3,FALSE),\"\")","v":"0942"}]
[{"$nulls":30},"A679078.354","ERASMUS + K2, 1.1.2020.-31.12.2022., 612248-EPP-1-2019-BG-EPPKA2-KA, ICT IN TEXTILE AND CLOTHING HIGHER EDUCATION I BUSINESS","A679078",{"$f":"IFERROR(VLOOKUP(AG1066,AKT!$E$4:$G$351,3,FALSE),\"\")","v":"0942"}]
[{"$nulls":30},"A679078.355","ERASMUS+ Education Curricula Development on the Collaborative Economy in Europe COLECO (2019-1-UK01-KA201-062118)","A679078",{"$f":"IFERROR(VLOOKUP(AG1067,AKT!$E$4:$G$351,3,FALSE),\"\")","v":"0942"}]
[{"$nulls":30},"A679078.356","ERASMUS+ Challenges and practices of teaching economic disciplines in era of digitalization 2020-1-HR01-KA202-0777771","A679078",{"$f":"IFERROR(VLOOKUP(AG1068,AKT!$E$4:$G$351,3,FALSE),\"\")","v":"0942"}]
[{"$nulls":30},"A679078.357","ERASMUS+ Challenges and practices of teaching economic disciplines in era of digitalization 2020-1-HR01-KA202-0777771","A679078",{"$f":"IFERROR(VLOOKUP(AG1069,AKT!$E$4:$G$351,3,FALSE),\"\")","v":"0942"}]
[{"$nulls":30},"A679078.358","Umreženi stacionarni baterijski spremnici energije KK.01.1.1.04.0034","A679078",{"$f":"IFERROR(VLOOKUP(AG1070,AKT!$E$4:$G$351,3,FALSE),\"\")","v":"0942"}]
[{"$nulls":30},"A679078.359","KALPROTEKTIN (SVETI DUH)","A679078",{"$f":"IFERROR(VLOOKUP(AG1071,AKT!$E$4:$G$351,3,FALSE),\"\")","v":"0942"}]
[{"$nulls":30},"A679078.360","SIR JE IN (AGRONOMSKI FAKULTET)","A679078",{"$f":"IFERROR(VLOOKUP(AG1072,AKT!$E$4:$G$351,3,FALSE),\"\")","v":"0942"}]
[{"$nulls":30},"A679078.361","HKO akademija u hodu","A679078",{"$f":"IFERROR(VLOOKUP(AG1073,AKT!$E$4:$G$351,3,FALSE),\"\")","v":"0942"}]
[{"$nulls":30},"A679078.362","HKO FIZKO- Sveučilište u Rijeci","A679078",{"$f":"IFERROR(VLOOKUP(AG1074,AKT!$E$4:$G$351,3,FALSE),\"\")","v":"0942"}]
[{"$nulls":30},"A679078.363","HORIZON 2020- DRYVER","A679078",{"$f":"IFERROR(VLOOKUP(AG1075,AKT!$E$4:$G$351,3,FALSE),\"\")","v":"0942"}]
[{"$nulls":30},"A679078.364","IBD-BIOM - Diagnostic and prognostic biomarkers for inflammatory bowel disease - orig br ug: GA-305479","A679078",{"$f":"IFERROR(VLOOKUP(AG1076,AKT!$E$4:$G$351,3,FALSE),\"\")","v":"0942"}]
[{"$nulls":30},"A679078.365","Tenure Track Pilot Programe - Exotic Nuclear Structure and Dynamics","A679078",{"$f":"IFERROR(VLOOKUP(AG1077,AKT!$E$4:$G$351,3,FALSE),\"\")","v":"0942"}]
[{"$nulls":30},"A679078.366","KLIMA-4HR","A679078",{"$f":"IFERROR(VLOOKUP(AG1078,AKT!$E$4:$G$351,3,FALSE),\"\")","v":"0942"}]
[{"$nulls":30},"A679078.367","COST CA 18232- potpora","A679078",{"$f":"IFERROR(VLOOKUP(AG1079,AKT!$E$4:$G$351,3,FALSE),\"\")","v":"0942"}]
[{"$nulls":30},"A679078.368","Flora Croatica","A679078",{"$f":"IFERROR(VLOOKUP(AG1080,AKT!$E$4:$G$351,3,FALSE),\"\")","v":"0942"}]
[{"$nulls":30},"A679078.369","Obzor 2020. ERASE_GBV Education and Raising Awareness in Schools to Prevent and Encounter Gender-Based Violence: Developing and implementing a training programme for teachers and other professionals at school","A679078",{"$f":"IFERROR(VLOOKUP(AG1081,AKT!$E$4:$G$351,3,FALSE),\"\")","v":"0942"}]
[{"$nulls":30},"A679078.370","CEF MARCELL Multilingual Resources for CEF.AT in the legal domain","A679078",{"$f":"IFERROR(VLOOKUP(AG1082,AKT!$E$4:$G$351,3,FALSE),\"\")","v":"0942"}]
[{"$nulls":30},"A679078.371","CEF PRINCIPLE Providing Resources in Irish, Norwegian, Croatian and Icelandic for Purposes of Language Engineering","A679078",{"$f":"IFERROR(VLOOKUP(AG1083,AKT!$E$4:$G$351,3,FALSE),\"\")","v":"0942"}]
[{"$nulls":30},"A679078.372","CEF Translation Automation Services for EU ouncil Presidency","A679078",{"$f":"IFERROR(VLOOKUP(AG1084,AKT!$E$4:$G$351,3,FALSE),\"\")","v":"0942"}]
[{"$nulls":30},"A679078.373","Erasmus+ Development of innovative approach for training for university professors to work in the modern diverse and intercultural environment, UniCulture","A679078",{"$f":"IFERROR(VLOOKUP(AG1085,AKT!$E$4:$G$351,3,FALSE),\"\")","v":"0942"}]
[{"$nulls":30},"A679078.374","Erasmus+, aktivnost Strateško partnerstvo HERISTEM - STEM in Heritage Sciences","A679078",{"$f":"IFERROR(VLOOKUP(AG1086,AKT!$E$4:$G$351,3,FALSE),\"\")","v":"0942"}]
[{"$nulls":30},"A679078.375","Erasmus + Reforming Foreigne Languages in Academia in Montenegro - ReFALME","A679078",{"$f":"IFERROR(VLOOKUP(AG1087,AKT!$E$4:$G$351,3,FALSE),\"\")","v":"0942"}]
[{"$nulls":30},"A679078.376","12-HERA-JRP-CE-FP-091 projekt ENTRAS Encounters and Transformationa in Iron Age Europe","A679078",{"$f":"IFERROR(VLOOKUP(AG1088,AKT!$E$4:$G$351,3,FALSE),\"\")","v":"0942"}]
[{"$nulls":30},"A679078.377","Obzor 2020 Accelerate co-creation by setting up a multi -actor platform for impact from Social Sciences and Humanities ACCOMPLISSH","A679078",{"$f":"IFERROR(VLOOKUP(AG1089,AKT!$E$4:$G$351,3,FALSE),\"\")","v":"0942"}]
[{"$nulls":30},"A679078.378","HRZZ Golobalni humanizmi:Novi pogledi na Srednji Vijek","A679078",{"$f":"IFERROR(VLOOKUP(AG1090,AKT!$E$4:$G$351,3,FALSE),\"\")","v":"0942"}]
[{"$nulls":30},"A679078.379","E-rudito: Napredni online obrazovni sustav za pametnu specijalizaciju i poslove budućnosti","A679078",{"$f":"IFERROR(VLOOKUP(AG1091,AKT!$E$4:$G$351,3,FALSE),\"\")","v":"0942"}]
[{"$nulls":30},"A679078.380","Cost 2020 Kišiček","A679078",{"$f":"IFERROR(VLOOKUP(AG1092,AKT!$E$4:$G$351,3,FALSE),\"\")","v":"0942"}]
[{"$nulls":30},"A679078.381","SHARED Čorkalo Biruški Dinka","A679078",{"$f":"IFERROR(VLOOKUP(AG1093,AKT!$E$4:$G$351,3,FALSE),\"\")","v":"0942"}]
[{"$nulls":30},"A679078.382","HKO Zadar","A679078",{"$f":"IFERROR(VLOOKUP(AG1094,AKT!$E$4:$G$351,3,FALSE),\"\")","v":"0942"}]
[{"$nulls":30},"A679078.383","TODO-TWINING OPEN DANA","A679078",{"$f":"IFERROR(VLOOKUP(AG1095,AKT!$E$4:$G$351,3,FALSE),\"\")","v":"0942"}]
[{"$nulls":30},"A679078.384","SPIDER ERASMUS+STRATEGIC PARTNERSHIP","A679078",{"$f":"IFERROR(VLOOKUP(AG1096,AKT!$E$4:$G$351,3,FALSE),\"\")","v":"0942"}]
[{"$nulls":30},"A679078.385","ERASMUS+SDI AND EO EDUCATION AND TRAINING FOR NORTH AFRICA(SEED4NA)",{"$f":"LEFT(AE1097,7)","v":"A679078"},{"$f":"IFERROR(VLOOKUP(AG1097,AKT!$E$4:$G$351,3,FALSE),\"\")","v":"0942"}]
[{"$nulls":30},"A679078.386","GEOBIZ-ERASMUS+Ka2 IZGRADNJA KAPACITETA U PODRUČJU VISOKOG OBRAZOVANJA","A679078",{"$f":"IFERROR(VLOOKUP(AG1098,AKT!$E$4:$G$351,3,FALSE),\"\")","v":"0942"}]
[{"$nulls":30},"A679078.387","LIDAR","A679078",{"$f":"IFERROR(VLOOKUP(AG1099,AKT!$E$4:$G$351,3,FALSE),\"\")","v":"0942"}]
[{"$nulls":30},"A679078.388","LIDAR","A679078",{"$f":"IFERROR(VLOOKUP(AG1100,AKT!$E$4:$G$351,3,FALSE),\"\")","v":"0942"}]
[{"$nulls":30},"A679078.389","HIDROLAB","A679078",{"$f":"IFERROR(VLOOKUP(AG1101,AKT!$E$4:$G$351,3,FALSE),\"\")","v":"0942"}]
[{"$nulls":30},"A679078.390","3SMART-\tPametna zgrada -- pametna mreža -- pametni grad\"","A679078",{"$f":"IFERROR(VLOOKUP(AG1102,AKT!$E$4:$G$351,3,FALSE),\"\")","v":"0942"}]
[{"$nulls":30},"A679078.391","ADRIATIC - Unaprjeđenje sposobnosti interakcije ronilac-robot","A679078",{"$f":"IFERROR(VLOOKUP(AG1103,AKT!$E$4:$G$351,3,FALSE),\"\")","v":"0942"}]
[{"$nulls":30},"A679078.392","AEROWIND-Autonomna inspekcija vjetroelektrana primjenom bespilotnih letjelica","A679078",{"$f":"IFERROR(VLOOKUP(AG1104,AKT!$E$4:$G$351,3,FALSE),\"\")","v":"0942"}]
[{"$nulls":30},"A679078.393","AIDEFEND-Sustav umjetne inteligencije za autonomni nadzor i upravljanje sigurnosti cloud okruženja - AI DFENDER","A679078",{"$f":"IFERROR(VLOOKUP(AG1105,AKT!$E$4:$G$351,3,FALSE),\"\")","v":"0942"}]
[{"$nulls":30},"A679078.394","AIPD2 - Digitalna platforma za zaštitu privatnosti i sprječavanje zlouporaba upravljanjem životnim ciklusom osobnih podataka","A679078",{"$f":"IFERROR(VLOOKUP(AG1106,AKT!$E$4:$G$351,3,FALSE),\"\")","v":"0942"}]
[{"$nulls":30},"A679078.395","ASAP - Autonomni sustav za pregled i predviđanje integriteta prometne infrastrukture\"","A679078",{"$f":"IFERROR(VLOOKUP(AG1107,AKT!$E$4:$G$351,3,FALSE),\"\")","v":"0942"}]
[{"$nulls":30},"A679078.396","A-UNIT - Istraživanje i razvoj napredne jedinice za autonomno upravljanje mobilnim vozilima u logistici","A679078",{"$f":"IFERROR(VLOOKUP(AG1108,AKT!$E$4:$G$351,3,FALSE),\"\")","v":"0942"}]
[{"$nulls":30},"A679078.397","AWAKE - Ultra low power wake-up interfaces for autonomous robotic sensor networks in sea/subsea environments","A679078",{"$f":"IFERROR(VLOOKUP(AG1109,AKT!$E$4:$G$351,3,FALSE),\"\")","v":"0942"}]
[{"$nulls":30},"A679078.398","CADDY-Cognitive autonomous diving buddy","A679078",{"$f":"IFERROR(VLOOKUP(AG1110,AKT!$E$4:$G$351,3,FALSE),\"\")","v":"0942"}]
[{"$nulls":30},"A679078.399","CALIPER-\tProjekt CALIPER: Povezivanje istraživanja i inovacija za ravnopravnost spolova\"","A679078",{"$f":"IFERROR(VLOOKUP(AG1111,AKT!$E$4:$G$351,3,FALSE),\"\")","v":"0942"}]
[{"$nulls":30},"A679078.400","CASHPRED-Predviđanje vremena i obrazaca ponašanja novčanih tokova u međunarodnim bankovnim računima","A679078",{"$f":"IFERROR(VLOOKUP(AG1112,AKT!$E$4:$G$351,3,FALSE),\"\")","v":"0942"}]
[{"$nulls":30},"A679078.401","CEGLOG - Istraživanje i razvoj jedinstvenog sustava za logističku i transportnu optimizaciju - Collaborative Elastic and Green Logistics - CEGLog","A679078",{"$f":"IFERROR(VLOOKUP(AG1113,AKT!$E$4:$G$351,3,FALSE),\"\")","v":"0942"}]
[{"$nulls":30},"A679078.402","CEKOMSUS -Centar kompetencija za kibernetičku sigurnost upravljačkih sustava","A679078",{"$f":"IFERROR(VLOOKUP(AG1114,AKT!$E$4:$G$351,3,FALSE),\"\")","v":"0942"}]
[{"$nulls":30},"A679078.403","CE-PEP-Razvoj inovativnog polifaznog elektromotornog pogona - PEP","A679078",{"$f":"IFERROR(VLOOKUP(AG1115,AKT!$E$4:$G$351,3,FALSE),\"\")","v":"0942"}]
[{"$nulls":30},"A679078.404","CMETA-Analysis and design of curved metamaterial structures\"","A679078",{"$f":"IFERROR(VLOOKUP(AG1116,AKT!$E$4:$G$351,3,FALSE),\"\")","v":"0942"}]
[{"$nulls":30},"A679078.405","COGSTEPS - Crossing the Gap: Startup edukacija i potpora doktorandima, istraživačima i znanstvenicima","A679078",{"$f":"IFERROR(VLOOKUP(AG1117,AKT!$E$4:$G$351,3,FALSE),\"\")","v":"0942"}]
[{"$nulls":30},"A679078.406","COST11-04-Slučajno mrežno kodiranje i dizajni nad GF(q)\"","A679078",{"$f":"IFERROR(VLOOKUP(AG1118,AKT!$E$4:$G$351,3,FALSE),\"\")","v":"0942"}]
[{"$nulls":30},"A679078.407","CUVME2 - Kooperativna bespilotna vozila u pomorskom okruženju: Eksperimenti na moru 2","A679078",{"$f":"IFERROR(VLOOKUP(AG1119,AKT!$E$4:$G$351,3,FALSE),\"\")","v":"0942"}]
[{"$nulls":30},"A679078.408","CYBERAUT - Inovativno rješenje za upravljanje kibernetičkom sigurnosti industrijskih sustava automatizacije postrojenja i procesa","A679078",{"$f":"IFERROR(VLOOKUP(AG1120,AKT!$E$4:$G$351,3,FALSE),\"\")","v":"0942"}]
[{"$nulls":30},"A679078.409","DIG-Digitalni mjeriteljski lanac sljedivosti za izmjenični napon i struju","A679078",{"$f":"IFERROR(VLOOKUP(AG1121,AKT!$E$4:$G$351,3,FALSE),\"\")","v":"0942"}]
[{"$nulls":30},"A679078.410","DIGIT- Dig IT - Izrada standarda zanimanja i standarda kvalifikacija u djelatnostima računarstva","A679078",{"$f":"IFERROR(VLOOKUP(AG1122,AKT!$E$4:$G$351,3,FALSE),\"\")","v":"0942"}]
[{"$nulls":30},"A679078.411","DJUREK-IRI2018-Povećanje razvoja novih proizvoda i usluga koji proizilaze iz aktivnosti istraživanja i razvoja","A679078",{"$f":"IFERROR(VLOOKUP(AG1123,AKT!$E$4:$G$351,3,FALSE),\"\")","v":"0942"}]
[{"$nulls":30},"A679078.412","DRUNE - Razvoj uređaja za prijenos video signala ultra niske latencije","A679078",{"$f":"IFERROR(VLOOKUP(AG1124,AKT!$E$4:$G$351,3,FALSE),\"\")","v":"0942"}]
[{"$nulls":30},"A679078.413","DUV-NRKBE - Razvoj daljinski upravljanog vozila za djelovanje u ekstremnim NRKBE uvjetima","A679078",{"$f":"IFERROR(VLOOKUP(AG1125,AKT!$E$4:$G$351,3,FALSE),\"\")","v":"0942"}]
[{"$nulls":30},"A679078.414","EKO-KOMVOZ - Ekološki prihvatljivo vozilo za čišćenje javnih površina sa sustavima autonomnog upravljanja zasnovanim na umjetnoj inteligenciji","A679078",{"$f":"IFERROR(VLOOKUP(AG1126,AKT!$E$4:$G$351,3,FALSE),\"\")","v":"0942"}]
[{"$nulls":30},"A679078.415","ENDORSE-Efikasno brusenje robotskim sustavom potpomognuto HORSE okruženjem","A679078",{"$f":"IFERROR(VLOOKUP(AG1127,AKT!$E$4:$G$351,3,FALSE),\"\")","v":"0942"}]
[{"$nulls":30},"A679078.416","ENEDAT - Razvoj sustava za optimizaciju potrošnje električne energije u podatkovnim centrima","A679078",{"$f":"IFERROR(VLOOKUP(AG1128,AKT!$E$4:$G$351,3,FALSE),\"\")","v":"0942"}]
[{"$nulls":30},"A679078.417","EULIFT - Razvoj pametnog modularnog sustava upravljanja pogonom dizala za povećanje energetske učinkovitosti zgrade","A679078",{"$f":"IFERROR(VLOOKUP(AG1129,AKT!$E$4:$G$351,3,FALSE),\"\")","v":"0942"}]
[{"$nulls":30},"A679078.418","EUMR-Istraživačka infrastrukturna mreža u području pomorske robotike","A679078",{"$f":"IFERROR(VLOOKUP(AG1130,AKT!$E$4:$G$351,3,FALSE),\"\")","v":"0942"}]
[{"$nulls":30},"A679078.419","FARCROSS-Omogućavanje regionalne trgovine/razmjene električne energije kroz inovacije","A679078",{"$f":"IFERROR(VLOOKUP(AG1131,AKT!$E$4:$G$351,3,FALSE),\"\")","v":"0942"}]
[{"$nulls":30},"A679078.420","FERRZBZ - FER rješenja za bolju zajednicu","A679078",{"$f":"IFERROR(VLOOKUP(AG1132,AKT!$E$4:$G$351,3,FALSE),\"\")","v":"0942"}]
[{"$nulls":30},"A679078.421","FERRZBZ - FER rješenja za bolju zajednicu","A679078",{"$f":"IFERROR(VLOOKUP(AG1133,AKT!$E$4:$G$351,3,FALSE),\"\")","v":"0942"}]
[{"$nulls":30},"A679078.422","FLEXIGRID-Interoperabilna rješenja za holističku implementaciju usluga fleksibilnosti u distribucijskoj mreži","A679078",{"$f":"IFERROR(VLOOKUP(AG1134,AKT!$E$4:$G$351,3,FALSE),\"\")","v":"0942"}]
[{"$nulls":30},"A679078.423","GEO3EN-\tEuropska obrazovna mreža za geotermalnu energiju","A679078",{"$f":"IFERROR(VLOOKUP(AG1135,AKT!$E$4:$G$351,3,FALSE),\"\")","v":"0942"}]
[{"$nulls":30},"A679078.424","GRCI-H2020 - ICCS Grčka","A679078",{"$f":"IFERROR(VLOOKUP(AG1136,AKT!$E$4:$G$351,3,FALSE),\"\")","v":"0942"}]
[{"$nulls":30},"A679078.425","GREYP-IRI-Rzvoj Greyp platforme za mikromobilnost - GMP","A679078",{"$f":"IFERROR(VLOOKUP(AG1137,AKT!$E$4:$G$351,3,FALSE),\"\")","v":"0942"}]
[{"$nulls":30},"A679078.426","GY30-OH - Pretkomercijalni razvoj inovativnog nagibno-sklopivog vozila na električni pogon","A679078",{"$f":"IFERROR(VLOOKUP(AG1138,AKT!$E$4:$G$351,3,FALSE),\"\")","v":"0942"}]
[{"$nulls":30},"A679078.427","H2020-MZO-Poticanje prijava na EU projekte za znanstvenika čije su prijave EU projekata prošle prag, ali nisu financirane","A679078",{"$f":"IFERROR(VLOOKUP(AG1139,AKT!$E$4:$G$351,3,FALSE),\"\")","v":"0942"}]
[{"$nulls":30},"A679078.428","HELB-Sustav za optimizaciju gubitaka u naprednim mrežama","A679078",{"$f":"IFERROR(VLOOKUP(AG1140,AKT!$E$4:$G$351,3,FALSE),\"\")","v":"0942"}]
[{"$nulls":30},"A679078.429","HKO-ELE - Primjena Hrvatskog kvalifikacijskog okvira za sveučilišne studijske programe u području elektrotehnike","A679078",{"$f":"IFERROR(VLOOKUP(AG1141,AKT!$E$4:$G$351,3,FALSE),\"\")","v":"0942"}]
[{"$nulls":30},"A679078.430","IAC-Tečaj industrijske akustike o buci, utjecaju buke na ljude i buci okoliša","A679078",{"$f":"IFERROR(VLOOKUP(AG1142,AKT!$E$4:$G$351,3,FALSE),\"\")","v":"0942"}]
[{"$nulls":30},"A679078.431","IAFS - Razvoj integriranog sustava za zaštitu od kibernetičkih prijevara","A679078",{"$f":"IFERROR(VLOOKUP(AG1143,AKT!$E$4:$G$351,3,FALSE),\"\")","v":"0942"}]
[{"$nulls":30},"A679078.432","IDEAS-Uključiv nadzor i istraživanje podatkovnih centara","A679078",{"$f":"IFERROR(VLOOKUP(AG1144,AKT!$E$4:$G$351,3,FALSE),\"\")","v":"0942"}]
[{"$nulls":30},"A679078.433","IMMERSAFE-Uronjene vizualne tehnologije za sigurnosno kritične aplikacije","A679078",{"$f":"IFERROR(VLOOKUP(AG1145,AKT!$E$4:$G$351,3,FALSE),\"\")","v":"0942"}]
[{"$nulls":30},"A679078.434","INNOSOC-Innovative ICT Solutions for the Societal Challenges","A679078",{"$f":"IFERROR(VLOOKUP(AG1146,AKT!$E$4:$G$351,3,FALSE),\"\")","v":"0942"}]
[{"$nulls":30},"A679078.435","INTIS-Punionica električnih vozila s integriranim baterijskim spremnikom","A679078",{"$f":"IFERROR(VLOOKUP(AG1147,AKT!$E$4:$G$351,3,FALSE),\"\")","v":"0942"}]
[{"$nulls":30},"A679078.436","IRES-8-Omogućavanje znanstvenih i inovacijskih partnerstava u području obnovljivih izvora energije, energetske učinkovitosti i održivih energetskih rješenja za gradove","A679078",{"$f":"IFERROR(VLOOKUP(AG1148,AKT!$E$4:$G$351,3,FALSE),\"\")","v":"0942"}]
[{"$nulls":30},"A679078.437","IRI2-OIE - Integrirano rješenje za upravljanje imovinom i podršku investicijskim procesima projektiranja, planiranja i provedbe izgradnje obnovljivih izvora energije","A679078",{"$f":"IFERROR(VLOOKUP(AG1149,AKT!$E$4:$G$351,3,FALSE),\"\")","v":"0942"}]
[{"$nulls":30},"A679078.438","IRI-RPA-Razvoj potopljenog agregata za male hidroelektrane s niskim padom vode","A679078",{"$f":"IFERROR(VLOOKUP(AG1150,AKT!$E$4:$G$351,3,FALSE),\"\")","v":"0942"}]
[{"$nulls":30},"A679078.439","JUMPER-Bio-inspired Synchronous Jumping Marine Sensor Networks","A679078",{"$f":"IFERROR(VLOOKUP(AG1151,AKT!$E$4:$G$351,3,FALSE),\"\")","v":"0942"}]
[{"$nulls":30},"A679078.440","KINACIF13-Prijenos signala ljudskim tijelom kao ključna tehnologija za internet stvari u zdravstvenim aplikacijama","A679078",{"$f":"IFERROR(VLOOKUP(AG1152,AKT!$E$4:$G$351,3,FALSE),\"\")","v":"0942"}]
[{"$nulls":30},"A679078.441","LAMCAB - Razvoj tehnologije povezivanja komponenti upravljačkih električnih ormara upotrebom laminiranih vodiča","A679078",{"$f":"IFERROR(VLOOKUP(AG1153,AKT!$E$4:$G$351,3,FALSE),\"\")","v":"0942"}]
[{"$nulls":30},"A679078.442","MAGEF-Tehnologija električnih strojeva s trajnim magnetima za povećanje energetske učinkovitosti u električnoj vuči i brodskoj propulziji","A679078",{"$f":"IFERROR(VLOOKUP(AG1154,AKT!$E$4:$G$351,3,FALSE),\"\")","v":"0942"}]
[{"$nulls":30},"A679078.443","MARI-SENSE-Pomorski kognitivni sustav za potporu odlučivanju","A679078",{"$f":"IFERROR(VLOOKUP(AG1155,AKT!$E$4:$G$351,3,FALSE),\"\")","v":"0942"}]
[{"$nulls":30},"A679078.444","MBZIRC - The Mohamed Bin Zayed medjunarodno natjecanje iz robotike","A679078",{"$f":"IFERROR(VLOOKUP(AG1156,AKT!$E$4:$G$351,3,FALSE),\"\")","v":"0942"}]
[{"$nulls":30},"A679078.445","MERIA - Matematičko obrazovanje - značajno, zanimljivo i primjenjivo","A679078",{"$f":"IFERROR(VLOOKUP(AG1157,AKT!$E$4:$G$351,3,FALSE),\"\")","v":"0942"}]
[{"$nulls":30},"A679078.446","METASHAPE-Napredni ručni detektori metala s mogućnošću diskriminacije oblika mete za uporabu u humanitarnom razminiranju","A679078",{"$f":"IFERROR(VLOOKUP(AG1158,AKT!$E$4:$G$351,3,FALSE),\"\")","v":"0942"}]
[{"$nulls":30},"A679078.447","MHMP - Višenamjenske platforme za praćenje zdravlja","A679078",{"$f":"IFERROR(VLOOKUP(AG1159,AKT!$E$4:$G$351,3,FALSE),\"\")","v":"0942"}]
[{"$nulls":30},"A679078.448","MISW-Mitigation of space weather threats to GNSS services","A679078",{"$f":"IFERROR(VLOOKUP(AG1160,AKT!$E$4:$G$351,3,FALSE),\"\")","v":"0942"}]
[{"$nulls":30},"A679078.449","MORUS-Unmanned system for maritime security and environmental monitoring",{"$f":"LEFT(AE1161,7)","v":"A679078"},{"$f":"IFERROR(VLOOKUP(AG1161,AKT!$E$4:$G$351,3,FALSE),\"\")","v":"0942"}]
[{"$nulls":30},"A679078.450","MUNIVO - Razvoj MUltifunkcionalnog NIskopodnog VOzila","A679078",{"$f":"IFERROR(VLOOKUP(AG1162,AKT!$E$4:$G$351,3,FALSE),\"\")","v":"0942"}]
[{"$nulls":30},"A679078.451","NOFSLON-\tNon-Foster Source-load Networks and Metasurfaces","A679078",{"$f":"IFERROR(VLOOKUP(AG1163,AKT!$E$4:$G$351,3,FALSE),\"\")","v":"0942"}]
[{"$nulls":30},"A679078.452","NOFTUNE - Nefosterovske mreže za podesive i šrokopojasne radiofrekvencjske uređaje","A679078",{"$f":"IFERROR(VLOOKUP(AG1164,AKT!$E$4:$G$351,3,FALSE),\"\")","v":"0942"}]
[{"$nulls":30},"A679078.453","OKTUKOM-Osiguravanje kvalitete telekomunikacijskih usluga korištenjem mehanizma kibernetičke sigurnosti","A679078",{"$f":"IFERROR(VLOOKUP(AG1165,AKT!$E$4:$G$351,3,FALSE),\"\")","v":"0942"}]
[{"$nulls":30},"A679078.454","OPENLOT-Open Source blueprint for large scale self-organizing cloud environments for IoT applications","A679078",{"$f":"IFERROR(VLOOKUP(AG1166,AKT!$E$4:$G$351,3,FALSE),\"\")","v":"0942"}]
[{"$nulls":30},"A679078.455","PAPABUILD-Napredne akustičke i psihoakustičke dijagnostičke metode kao temelj inovativnog dizajna u građevinskoj akustici","A679078",{"$f":"IFERROR(VLOOKUP(AG1167,AKT!$E$4:$G$351,3,FALSE),\"\")","v":"0942"}]
[{"$nulls":30},"A679078.456","PCC - Sustav za nadzor i kontrolu usklađenosti distribuiranih procesa u realnom vremenu, otkrivanje anomalija, rano upozoravanje i forenzičku analizu transakcija","A679078",{"$f":"IFERROR(VLOOKUP(AG1168,AKT!$E$4:$G$351,3,FALSE),\"\")","v":"0942"}]
[{"$nulls":30},"A679078.457","PINOVA - Razvoj agrometeorološke platforme i mreže IoT uređaja tvrtke Pinova d.o.o.","A679078",{"$f":"IFERROR(VLOOKUP(AG1169,AKT!$E$4:$G$351,3,FALSE),\"\")","v":"0942"}]
[{"$nulls":30},"A679078.458","RESDATA - Rješenja prilagodbe elektroenergetskog sustava klimatskim promjenama temeljena na velikim količinama podataka","A679078",{"$f":"IFERROR(VLOOKUP(AG1170,AKT!$E$4:$G$351,3,FALSE),\"\")","v":"0942"}]
[{"$nulls":30},"A679078.459","REWAISE-Prilagodljive inovacije u ciklusu kruženja vode za pametnu ekonomiju","A679078",{"$f":"IFERROR(VLOOKUP(AG1171,AKT!$E$4:$G$351,3,FALSE),\"\")","v":"0942"}]
[{"$nulls":30},"A679078.460","ROBOCOM-Ponovno promišljanje robotike za robotskog kompanjona budućnosti","A679078",{"$f":"IFERROR(VLOOKUP(AG1172,AKT!$E$4:$G$351,3,FALSE),\"\")","v":"0942"}]
[{"$nulls":30},"A679078.461","ROBOGIRLS - Osnaživanje djevojaka u STEAM-u kroz robotiku i kodiranje","A679078",{"$f":"IFERROR(VLOOKUP(AG1173,AKT!$E$4:$G$351,3,FALSE),\"\")","v":"0942"}]
[{"$nulls":30},"A679078.462","ROB-ROBUst mixed signal design methodologies for Smart Power ICs - ROBUSPIC","A679078",{"$f":"IFERROR(VLOOKUP(AG1174,AKT!$E$4:$G$351,3,FALSE),\"\")","v":"0942"}]
[{"$nulls":30},"A679078.463","ROTOTEMP - Nova generacija telemetrijske tehnologije za mjerenje na rotacijskim komponentama spojke","A679078",{"$f":"IFERROR(VLOOKUP(AG1175,AKT!$E$4:$G$351,3,FALSE),\"\")","v":"0942"}]
[{"$nulls":30},"A679078.464","SAFELOG-Sigurna interakcija ljudi i robota u logističkim primjenama za visoko fleksibilna skladišta","A679078",{"$f":"IFERROR(VLOOKUP(AG1176,AKT!$E$4:$G$351,3,FALSE),\"\")","v":"0942"}]
[{"$nulls":30},"A679078.465","SARI - Sustav za automatsko raspoznavanje, identifikaciju te precizno mjerenje duljine plovila","A679078",{"$f":"IFERROR(VLOOKUP(AG1177,AKT!$E$4:$G$351,3,FALSE),\"\")","v":"0942"}]
[{"$nulls":30},"A679078.466","SENFUS-Fuzija senzora","A679078",{"$f":"IFERROR(VLOOKUP(AG1178,AKT!$E$4:$G$351,3,FALSE),\"\")","v":"0942"}]
[{"$nulls":30},"A679078.467","SHVET-Pametni pristup razvoju strukovnih vještina za visokoobrazovanu i mobilnu radnu snagu","A679078",{"$f":"IFERROR(VLOOKUP(AG1179,AKT!$E$4:$G$351,3,FALSE),\"\")","v":"0942"}]
[{"$nulls":30},"A679078.468","SMARTSOC-Edukacija budućih IKT stručnjaka na temelju potreba pametnog društva (SmartSoc)","A679078",{"$f":"IFERROR(VLOOKUP(AG1180,AKT!$E$4:$G$351,3,FALSE),\"\")","v":"0942"}]
[{"$nulls":30},"A679078.469","SPRAY-Razvoj sustava za ispitivanje višefaznih strujanja i izgaranja s ciljem povećanja istraživačkih aktivnosti znanstvenog i poslovnog sektora","A679078",{"$f":"IFERROR(VLOOKUP(AG1181,AKT!$E$4:$G$351,3,FALSE),\"\")","v":"0942"}]
[{"$nulls":30},"A679078.470","STRIDE-Energetsko planiranje integracijom koncepata pametne mreže u Dunavskoj regiji","A679078",{"$f":"IFERROR(VLOOKUP(AG1182,AKT!$E$4:$G$351,3,FALSE),\"\")","v":"0942"}]
[{"$nulls":30},"A679078.471","TEAMSOC21 - The ICT Engineer of the 21st Century: Mastering Technical Competencies, Management Skills, and Societal Responsibilities","A679078",{"$f":"IFERROR(VLOOKUP(AG1183,AKT!$E$4:$G$351,3,FALSE),\"\")","v":"0942"}]
[{"$nulls":30},"A679078.472","TETRAMAX-TEchnology TRAnsfer via Multinational Application eXperiments","A679078",{"$f":"IFERROR(VLOOKUP(AG1184,AKT!$E$4:$G$351,3,FALSE),\"\")","v":"0942"}]
[{"$nulls":30},"A679078.473","UGRIP - microGRId Positioning","A679078",{"$f":"IFERROR(VLOOKUP(AG1185,AKT!$E$4:$G$351,3,FALSE),\"\")","v":"0942"}]
[{"$nulls":30},"A679078.474","V3M - Varijacijske metode u modeliranju materijala","A679078",{"$f":"IFERROR(VLOOKUP(AG1186,AKT!$E$4:$G$351,3,FALSE),\"\")","v":"0942"}]
[{"$nulls":30},"A679078.475","VERIFY-New methods for verification of security and privacy mechanisms in e-commerce and e-government systems","A679078",{"$f":"IFERROR(VLOOKUP(AG1187,AKT!$E$4:$G$351,3,FALSE),\"\")","v":"0942"}]
[{"$nulls":30},"A679078.476","VERIFY-New methods for verification of security and privacy mechanisms in e-commerce and e-government systems","A679078",{"$f":"IFERROR(VLOOKUP(AG1188,AKT!$E$4:$G$351,3,FALSE),\"\")","v":"0942"}]
[{"$nulls":30},"A679078.477","VHEASTR-Znanstvenoistraživačka aktivnost hrvatske grupe u kolaboracijama MAGIC I CTA","A679078",{"$f":"IFERROR(VLOOKUP(AG1189,AKT!$E$4:$G$351,3,FALSE),\"\")","v":"0942"}]
[{"$nulls":30},"A679078.478","VODIME - Vode Imotske krajine","A679078",{"$f":"IFERROR(VLOOKUP(AG1190,AKT!$E$4:$G$351,3,FALSE),\"\")","v":"0942"}]
[{"$nulls":30},"A679078.479","WALL-eWall for Active Long Living","A679078",{"$f":"IFERROR(VLOOKUP(AG1191,AKT!$E$4:$G$351,3,FALSE),\"\")","v":"0942"}]
[{"$nulls":30},"A679078.480","PHOENIX People for tHe eurOpean bioENergy Mix","A679078",{"$f":"IFERROR(VLOOKUP(AG1192,AKT!$E$4:$G$351,3,FALSE),\"\")","v":"0942"}]
[{"$nulls":30},"A679078.481","ERASMUS+ HEDU -LEARN-IT Harmonizirani europski dermato-venerološki dodiplomski","A679078",{"$f":"IFERROR(VLOOKUP(AG1193,AKT!$E$4:$G$351,3,FALSE),\"\")","v":"0942"}]
[{"$nulls":30},"A679078.482","Better future of healthy ageing 2020.","A679078",{"$f":"IFERROR(VLOOKUP(AG1194,AKT!$E$4:$G$351,3,FALSE),\"\")","v":"0942"}]
[{"$nulls":30},"A679078.483","Nova generacija Eurocod 5","A679078",{"$f":"IFERROR(VLOOKUP(AG1195,AKT!$E$4:$G$351,3,FALSE),\"\")","v":"0942"}]
[{"$nulls":30},"A679078.484","SBRIPLUS","A679078",{"$f":"IFERROR(VLOOKUP(AG1196,AKT!$E$4:$G$351,3,FALSE),\"\")","v":"0942"}]
[{"$nulls":30},"A679078.485","NZEB ROADSHOW-H2020","A679078",{"$f":"IFERROR(VLOOKUP(AG1197,AKT!$E$4:$G$351,3,FALSE),\"\")","v":"0942"}]
[{"$nulls":30},"A679078.486","H2020 INCEPTION","A679078",{"$f":"IFERROR(VLOOKUP(AG1198,AKT!$E$4:$G$351,3,FALSE),\"\")","v":"0942"}]
[{"$nulls":30},"A679078.487","Erasmus+ Programme 2014-2020, Agreement no.2016-1-TR01-KA203-034710","A679078",{"$f":"IFERROR(VLOOKUP(AG1199,AKT!$E$4:$G$351,3,FALSE),\"\")","v":"0942"}]
[{"$nulls":30},"A679078.488","H2020 Productive Green Infrastructure for post-industrial urban regeneration","A679078",{"$f":"IFERROR(VLOOKUP(AG1200,AKT!$E$4:$G$351,3,FALSE),\"\")","v":"0942"}]
[{"$nulls":30},"A679078.489","Erasmus+: Healthy Urban Environment: Developing higer education in Architecture and Construction in Bosnia and Herzegovina (2018-2480/001-001)","A679078",{"$f":"IFERROR(VLOOKUP(AG1201,AKT!$E$4:$G$351,3,FALSE),\"\")","v":"0942"}]
[{"$nulls":30},"A679078.490","Erasmus+: Architecture's afterlife: The multi-sector impact of an architectural qualification 2019-1-UK01-KA203-062062","A679078",{"$f":"IFERROR(VLOOKUP(AG1202,AKT!$E$4:$G$351,3,FALSE),\"\")","v":"0942"}]
[{"$nulls":30},"A679078.491","Znanost spaja ljude (SCOPE - Science Connecting people)","A679078",{"$f":"IFERROR(VLOOKUP(AG1203,AKT!$E$4:$G$351,3,FALSE),\"\")","v":"0942"}]
[{"$nulls":30},"A679078.492","ERASMUS+ KA2 Strateška partnerstva -projekt: CURTING IN CONTEKST  (2019-1-SE01-KA203-060500)","A679078",{"$f":"IFERROR(VLOOKUP(AG1204,AKT!$E$4:$G$351,3,FALSE),\"\")","v":"0942"}]
[{"$nulls":30},"A679078.493","FIGHTER","A679078",{"$f":"IFERROR(VLOOKUP(AG1205,AKT!$E$4:$G$351,3,FALSE),\"\")","v":"0942"}]
[{"$nulls":30},"A679078.494","TODO","A679078",{"$f":"IFERROR(VLOOKUP(AG1206,AKT!$E$4:$G$351,3,FALSE),\"\")","v":"0942"}]
[{"$nulls":30},"A679078.495","EIO-LAPD","A679078",{"$f":"IFERROR(VLOOKUP(AG1207,AKT!$E$4:$G$351,3,FALSE),\"\")","v":"0942"}]
[{"$nulls":30},"A679078.496","JEAN MONNET ACTIVITIES","A679078",{"$f":"IFERROR(VLOOKUP(AG1208,AKT!$E$4:$G$351,3,FALSE),\"\")","v":"0942"}]
[{"$nulls":30},"A679078.497","EFFORTS","A679078",{"$f":"IFERROR(VLOOKUP(AG1209,AKT!$E$4:$G$351,3,FALSE),\"\")","v":"0942"}]
[{"$nulls":30},"A679078.498","EUROGRADUATE","A679078",{"$f":"IFERROR(VLOOKUP(AG1210,AKT!$E$4:$G$351,3,FALSE),\"\")","v":"0942"}]
[{"$nulls":30},"A679078.499","ENEMLOS","A679078",{"$f":"IFERROR(VLOOKUP(AG1211,AKT!$E$4:$G$351,3,FALSE),\"\")","v":"0942"}]
[{"$nulls":30},"A679078.500","JEAN MONNET MODULE","A679078",{"$f":"IFERROR(VLOOKUP(AG1212,AKT!$E$4:$G$351,3,FALSE),\"\")","v":"0942"}]
[{"$nulls":30},"A679078.501","THIRD SEKTOR IMPACT","A679078",{"$f":"IFERROR(VLOOKUP(AG1213,AKT!$E$4:$G$351,3,FALSE),\"\")","v":"0942"}]
[{"$nulls":30},"A679078.502","BALKAN HOMICIDE STUDY","A679078",{"$f":"IFERROR(VLOOKUP(AG1214,AKT!$E$4:$G$351,3,FALSE),\"\")","v":"0942"}]
[{"$nulls":30},"A679078.503","RCT-ESF","A679078",{"$f":"IFERROR(VLOOKUP(AG1215,AKT!$E$4:$G$351,3,FALSE),\"\")","v":"0942"}]
[{"$nulls":30},"A679078.504","Jačanje znanstveno-istraživačkih I inovacijskih kapaciteta Farmaceutsko-biokemijskog fakulteta Sveučilišta u Zagrebu (FarmInova)","A679078",{"$f":"IFERROR(VLOOKUP(AG1216,AKT!$E$4:$G$351,3,FALSE),\"\")","v":"0942"}]
[{"$nulls":30},"A679078.505","Primjena HKO-a u unaprjeđenju studijskih programa u području farmacije i medicinske biokemije (PharmaMedQ)","A679078",{"$f":"IFERROR(VLOOKUP(AG1217,AKT!$E$4:$G$351,3,FALSE),\"\")","v":"0942"}]
[{"$nulls":30},"A679078.506","Razvoj integriranog preddiplomskog i diplomskog studija Farmacije na engleskom jeziku (Pharma5.0)","A679078",{"$f":"IFERROR(VLOOKUP(AG1218,AKT!$E$4:$G$351,3,FALSE),\"\")","v":"0942"}]
[{"$nulls":30},"A679078.507","Personalized Medicine Inquiry-Based Education (PROMISE) Grant agreement: br. 2019-1-HR01-KA203-061010- ","A679078",{"$f":"IFERROR(VLOOKUP(AG1219,AKT!$E$4:$G$351,3,FALSE),\"\")","v":"0942"}]
[{"$nulls":30},"A679078.508","IRI projekt Povećanje razvoja novih proizvoda i usluga koji proizlaze iz aktivnosti istraživanja i razvoja","A679078",{"$f":"IFERROR(VLOOKUP(AG1220,AKT!$E$4:$G$351,3,FALSE),\"\")","v":"0942"}]
[{"$nulls":30},"A679078.509","Utjecaj glikozilacije transferina na vezivanje željeza - GlyTransFer","A679078",{"$f":"IFERROR(VLOOKUP(AG1221,AKT!$E$4:$G$351,3,FALSE),\"\")","v":"0942"}]
[{"$nulls":30},"A679078.510","EIT MANUFACTURING RIS HUB","A679078",{"$f":"IFERROR(VLOOKUP(AG1222,AKT!$E$4:$G$351,3,FALSE),\"\")","v":"0942"}]
[{"$nulls":30},"A679078.511","RAPTOVAX - Robusne i adaptabilne biološke platforme za nova cjepiva","A679078",{"$f":"IFERROR(VLOOKUP(AG1223,AKT!$E$4:$G$351,3,FALSE),\"\")","v":"0942"}]
[{"$nulls":30},"A679078.512","Jačanje kapaciteta CerVirVac-a za istraživanja u virusnoj imunologiji i vakcinologiji","A679078",{"$f":"IFERROR(VLOOKUP(AG1224,AKT!$E$4:$G$351,3,FALSE),\"\")","v":"0942"}]
[{"$nulls":30},"A679078.513","OBZOR2020- Legumes in biodiversity based farming systems in Mediterranean basin",{"$f":"LEFT(AE1225,7)","v":"A679078"},{"$f":"IFERROR(VLOOKUP(AG1225,AKT!$E$4:$G$351,3,FALSE),\"\")","v":"0942"}]
[{"$nulls":30},"A679078.514","ERASMUS Transnational Quality Education for Organic Food Saftey- SAFE Orgfood","A679078",{"$f":"IFERROR(VLOOKUP(AG1226,AKT!$E$4:$G$351,3,FALSE),\"\")","v":"0942"}]
[{"$nulls":30},"A679078.515","Napredni sustav motrenja agroekosustava u riziku od zaslanjivanja i onečišćenja","A679078",{"$f":"IFERROR(VLOOKUP(AG1227,AKT!$E$4:$G$351,3,FALSE),\"\")","v":"0942"}]
[{"$nulls":30},"A679078.516","Agrobioraznolikost- osnova za prilagodbu i ublažavanje promjena klimatskih promjena u poljoprivredi","A679078",{"$f":"IFERROR(VLOOKUP(AG1228,AKT!$E$4:$G$351,3,FALSE),\"\")","v":"0942"}]
[{"$nulls":30},"A679078.517","Dizajn naprednih biokompozita iz energetski održivih izvora- BIOKOMPOZITI","A679078",{"$f":"IFERROR(VLOOKUP(AG1229,AKT!$E$4:$G$351,3,FALSE),\"\")","v":"0942"}]
[{"$nulls":30},"A679078.518","Proizvodnja, hrane, biokompozita i biogoriva iz žitarica u kružnom biogospodarstvu","A679078",{"$f":"IFERROR(VLOOKUP(AG1230,AKT!$E$4:$G$351,3,FALSE),\"\")","v":"0942"}]
[{"$nulls":30},"A679078.519","ERASMUS Trainers for plant protection in organic farming- TOPPlant","A679078",{"$f":"IFERROR(VLOOKUP(AG1231,AKT!$E$4:$G$351,3,FALSE),\"\")","v":"0942"}]
[{"$nulls":30},"A679078.520","Potencijal rizosfernog mikrobioma u prilagodbi poljoprivrede klimatskim promjenama - PERSPIRE","A679078",{"$f":"IFERROR(VLOOKUP(AG1232,AKT!$E$4:$G$351,3,FALSE),\"\")","v":"0942"}]
[{"$nulls":30},"A679078.521","ERASMUS Learning Landscapes- LELA","A679078",{"$f":"IFERROR(VLOOKUP(AG1233,AKT!$E$4:$G$351,3,FALSE),\"\")","v":"0942"}]
[{"$nulls":30},"A679078.522","ERASMUS Capacity building in higher education","A679078",{"$f":"IFERROR(VLOOKUP(AG1234,AKT!$E$4:$G$351,3,FALSE),\"\")","v":"0942"}]
[{"$nulls":30},"A679078.523","Erasmus+ Programme 2014-2020, Agreement no.2016-1-TR01-KA203-034710","A679078",{"$f":"IFERROR(VLOOKUP(AG1235,AKT!$E$4:$G$351,3,FALSE),\"\")","v":"0942"}]
[{"$nulls":30},"A679078.524","H2020 Productive Green Infrastructure for post-industrial urban regeneration","A679078",{"$f":"IFERROR(VLOOKUP(AG1236,AKT!$E$4:$G$351,3,FALSE),\"\")","v":"0942"}]
[{"$nulls":30},"A679078.525","Znanost spaja ljude (SCOPE - Science Connecting people)","A679078",{"$f":"IFERROR(VLOOKUP(AG1237,AKT!$E$4:$G$351,3,FALSE),\"\")","v":"0942"}]
[{"$nulls":30},"A679078.526","Unaprjeđenje oporavlišta za divlje životinje na Veterinarskom fakultetu - WildRescouVEF, KK.06.5.2.04.0007.","A679078",{"$f":"IFERROR(VLOOKUP(AG1238,AKT!$E$4:$G$351,3,FALSE),\"\")","v":"0942"}]
[{"$nulls":30},"A679078.527","Upravljanje krškim priobalnim vodonosnicima (UKV)","A679078",{"$f":"IFERROR(VLOOKUP(AG1239,AKT!$E$4:$G$351,3,FALSE),\"\")","v":"0942"}]
[{"$nulls":30},"A679078.528","ICSI Interreg","A679078",{"$f":"IFERROR(VLOOKUP(AG1240,AKT!$E$4:$G$351,3,FALSE),\"\")","v":"0942"}]
[{"$nulls":30},"A679078.529","SABRINA","A679078",{"$f":"IFERROR(VLOOKUP(AG1241,AKT!$E$4:$G$351,3,FALSE),\"\")","v":"0942"}]
[{"$nulls":30},"A679078.530","SLAIN","A679078",{"$f":"IFERROR(VLOOKUP(AG1242,AKT!$E$4:$G$351,3,FALSE),\"\")","v":"0942"}]
[{"$nulls":30},"A679078.531","DRYvER- Securing biodiversity- HORIZON 2020","A679078",{"$f":"IFERROR(VLOOKUP(AG1243,AKT!$E$4:$G$351,3,FALSE),\"\")","v":"0942"}]
[{"$nulls":30},"A679078.532","\"OPSVIO- Ortho-positronium decay and the search for CP and CPT violation in leptonic secto\"","A679078",{"$f":"IFERROR(VLOOKUP(AG1244,AKT!$E$4:$G$351,3,FALSE),\"\")","v":"0942"}]
[{"$nulls":30},"A679078.533","Klima- 4HR- Klimatska ranjivost Hrvatske i mogućnosti prilagodbe urbanih i prirodnih okoliša","A679078",{"$f":"IFERROR(VLOOKUP(AG1245,AKT!$E$4:$G$351,3,FALSE),\"\")","v":"0942"}]
[{"$nulls":30},"A679078.534","CSRP- Hrvatsko-švicarski program- Probabilistic and analytical aspects of generalised regular variation","A679078",{"$f":"IFERROR(VLOOKUP(AG1246,AKT!$E$4:$G$351,3,FALSE),\"\")","v":"0942"}]
[{"$nulls":30},"A679078.535","CSRP- Hrvatsko-Švicarski program- Dynamics of virus infection in mycovirus-mediated biological control of fungal pathogen","A679078",{"$f":"IFERROR(VLOOKUP(AG1247,AKT!$E$4:$G$351,3,FALSE),\"\")","v":"0942"}]
[{"$nulls":30},"A679078.536","CSRP- Hrvatsko-Švicarski program- Investigation of substrate and editing specificity in tRNA synthetases and the mechanism of antibiotic action","A679078",{"$f":"IFERROR(VLOOKUP(AG1248,AKT!$E$4:$G$351,3,FALSE),\"\")","v":"0942"}]
[{"$nulls":30},"A679078.537","Klimatske promjene  - Agrobioraznolikost","A679078",{"$f":"IFERROR(VLOOKUP(AG1249,AKT!$E$4:$G$351,3,FALSE),\"\")","v":"0942"}]
[{"$nulls":30},"A679078.538","Jednoslojni polarimetar gama zračenja za primjene u medicinskom oslikavanju i za temeljna istraživanja u fizici","A679078",{"$f":"IFERROR(VLOOKUP(AG1250,AKT!$E$4:$G$351,3,FALSE),\"\")","v":"0942"}]
[{"$nulls":30},"A679078.539","HKO: Inoviranje programa učiteljskih i odgojiteljskih studija primjenom HKO-a","A679078",{"$f":"IFERROR(VLOOKUP(AG1251,AKT!$E$4:$G$351,3,FALSE),\"\")","v":"0942"}]
[{"$nulls":30},"A679078.540","ERASMUS Coherence in European Teacher Education: Creating transnational communities of practice through virtual scenarios","A679078",{"$f":"IFERROR(VLOOKUP(AG1252,AKT!$E$4:$G$351,3,FALSE),\"\")","v":"0942"}]
[{"$nulls":30},"A679078.541","HRZZ IP-2019-04 MORENEC","A679078",{"$f":"IFERROR(VLOOKUP(AG1253,AKT!$E$4:$G$351,3,FALSE),\"\")","v":"0942"}]
[{"$nulls":30},"A679078.542","Erasmus+ Projekt:SKY EASY","A679078",{"$f":"IFERROR(VLOOKUP(AG1254,AKT!$E$4:$G$351,3,FALSE),\"\")","v":"0942"}]
[{"$nulls":30},"A679078.543","Erasmus FIT BACK","A679078",{"$f":"IFERROR(VLOOKUP(AG1255,AKT!$E$4:$G$351,3,FALSE),\"\")","v":"0942"}]
[{"$nulls":30},"A679078.544","ZACJEL - Zaštita cjelovitosti konstrukcija u energetici i transportu","A679078",{"$f":"IFERROR(VLOOKUP(AG1256,AKT!$E$4:$G$351,3,FALSE),\"\")","v":"0942"}]
[{"$nulls":30},"A679078.545","PERUN - Enabling Inductive Metal Characterisation in Non Cooperative Soils","A679078",{"$f":"IFERROR(VLOOKUP(AG1257,AKT!$E$4:$G$351,3,FALSE),\"\")","v":"0942"}]
[{"$nulls":30},"A679078.546","AGROEKO - Napredni sustav motrenja agroekosustava u riziku od zaslanjivanja i onečišćenja","A679078",{"$f":"IFERROR(VLOOKUP(AG1258,AKT!$E$4:$G$351,3,FALSE),\"\")","v":"0942"}]
[{"$nulls":30},"A679078.547","AIFORS - ERA istraživačka grupa za umjetnu inteligenciju za robotiku","A679078",{"$f":"IFERROR(VLOOKUP(AG1259,AKT!$E$4:$G$351,3,FALSE),\"\")","v":"0942"}]
[{"$nulls":30},"A679078.548","ALTII - Aktivno učenje kroz poboljšanu interaktivnost","A679078",{"$f":"IFERROR(VLOOKUP(AG1260,AKT!$E$4:$G$351,3,FALSE),\"\")","v":"0942"}]
[{"$nulls":30},"A679078.549","ASSISI - Zajednice životinja i robota koje se samo-organiziraju i integriraju putem socijalne interakcije","A679078",{"$f":"IFERROR(VLOOKUP(AG1261,AKT!$E$4:$G$351,3,FALSE),\"\")","v":"0942"}]
[{"$nulls":30},"A679078.550","DIGIPHY - Razvoj digitalnih laboratorijskih vježbi iz fizike za učenje na daljinu","A679078",{"$f":"IFERROR(VLOOKUP(AG1262,AKT!$E$4:$G$351,3,FALSE),\"\")","v":"0942"}]
[{"$nulls":30},"A679078.551","DIGIPHY - Razvoj digitalnih laboratorijskih vježbi iz fizike za učenje na daljinu","A679078",{"$f":"IFERROR(VLOOKUP(AG1263,AKT!$E$4:$G$351,3,FALSE),\"\")","v":"0942"}]
[{"$nulls":30},"A679078.552","DINARO - Diver navigation using range-only measurements from an autonomous surface vehicle","A679078",{"$f":"IFERROR(VLOOKUP(AG1264,AKT!$E$4:$G$351,3,FALSE),\"\")","v":"0942"}]
[{"$nulls":30},"A679078.553","E2LP- Embedded Computer Engineering Learning Platform","A679078",{"$f":"IFERROR(VLOOKUP(AG1265,AKT!$E$4:$G$351,3,FALSE),\"\")","v":"0942"}]
[{"$nulls":30},"A679078.554","ESOAFER - Evropska škola iz antena","A679078",{"$f":"IFERROR(VLOOKUP(AG1266,AKT!$E$4:$G$351,3,FALSE),\"\")","v":"0942"}]
[{"$nulls":30},"A679078.555","EUMarineRobots - Istraživačka infrastrukturna mreža u području pomorske robotike","A679078",{"$f":"IFERROR(VLOOKUP(AG1267,AKT!$E$4:$G$351,3,FALSE),\"\")","v":"0942"}]
[{"$nulls":30},"A679078.556","EVERBEST - Pretraživanje događaja na temelju semantički obogaćenih struktura za interaktivne korisničke zadatke","A679078",{"$f":"IFERROR(VLOOKUP(AG1268,AKT!$E$4:$G$351,3,FALSE),\"\")","v":"0942"}]
[{"$nulls":30},"A679078.557","GRCI - Nova arhitektura naprednih energetskih mreža koja omogućuje visoki udio obnovljivih izvora energije kroz inovativna tržišta i interakciju","A679078",{"$f":"IFERROR(VLOOKUP(AG1269,AKT!$E$4:$G$351,3,FALSE),\"\")","v":"0942"}]
[{"$nulls":30},"A679078.558","IRMEET - Multidisciplinary and multi-context demonstaration of EGS exploration and Exploration Techniques and potentials","A679078",{"$f":"IFERROR(VLOOKUP(AG1270,AKT!$E$4:$G$351,3,FALSE),\"\")","v":"0942"}]
[{"$nulls":30},"A679078.559","LAPOST - Laboratorij za podvodne sustave","A679078",{"$f":"IFERROR(VLOOKUP(AG1271,AKT!$E$4:$G$351,3,FALSE),\"\")","v":"0942"}]
[{"$nulls":30},"A679078.560","PAPABUILD - Napredne akustičke i psihoakustičke dijagnostičke metode kao temelj inovativnog dizajna u građevinskoj akustici","A679078",{"$f":"IFERROR(VLOOKUP(AG1272,AKT!$E$4:$G$351,3,FALSE),\"\")","v":"0942"}]
[{"$nulls":30},"A679078.561","SIMBLOLTE - Simbioza pametnih objekata u okruženjima Interneta stvari","A679078",{"$f":"IFERROR(VLOOKUP(AG1273,AKT!$E$4:$G$351,3,FALSE),\"\")","v":"0942"}]
[{"$nulls":30},"A679078.562","STEM u akciji : Otvoreni obrazovni resursi za nastavnike","A679078",{"$f":"IFERROR(VLOOKUP(AG1274,AKT!$E$4:$G$351,3,FALSE),\"\")","v":"0942"}]
[{"$nulls":30},"A679078.563","WATCHPLANT - Pametan bio-hibridni sustav za nadzor okoliša","A679078",{"$f":"IFERROR(VLOOKUP(AG1275,AKT!$E$4:$G$351,3,FALSE),\"\")","v":"0942"}]
[{"$nulls":30},"A679078.564","WATER - Intelligent Urban Water Management System","A679078",{"$f":"IFERROR(VLOOKUP(AG1276,AKT!$E$4:$G$351,3,FALSE),\"\")","v":"0942"}]
[{"$nulls":30},"A679078.565","4VENT - Razvoj niza četverousisnih ventilatora za industrijska postrojenja","A679078",{"$f":"IFERROR(VLOOKUP(AG1277,AKT!$E$4:$G$351,3,FALSE),\"\")","v":"0942"}]
[{"$nulls":30},"A679078.566","INUKING - Razvoj inovativnog programskog rješenja za centralizirani nadzor i upravljanje kritičnom infrastukturom","A679078",{"$f":"IFERROR(VLOOKUP(AG1278,AKT!$E$4:$G$351,3,FALSE),\"\")","v":"0942"}]
[{"$nulls":30},"A679078.567","NGLI - povećanje razvoja novih proizvoda i usluga koji proizilaze iz aktivnosti istraživanja i razvoja","A679078",{"$f":"IFERROR(VLOOKUP(AG1279,AKT!$E$4:$G$351,3,FALSE),\"\")","v":"0942"}]
[{"$nulls":30},"A679078.568","PBM-PLIN - Iskorištenje manje kvalitetnih i nestalnih plinova za proizvodnju električne energije, uporabom Umjetne Inteligencije za miješanje plinova","A679078",{"$f":"IFERROR(VLOOKUP(AG1280,AKT!$E$4:$G$351,3,FALSE),\"\")","v":"0942"}]
[{"$nulls":30},"A679078.569","PBM-PLIN - Iskorištenje manje kvalitetnih i nestalnih plinova za proizvodnju električne energije, uporabom Umjetne Inteligencije za miješanje plinova","A679078",{"$f":"IFERROR(VLOOKUP(AG1281,AKT!$E$4:$G$351,3,FALSE),\"\")","v":"0942"}]
[{"$nulls":30},"A679078.570","PINIOT - Platforma za inteligentno i energetski efikasno upravljanje industrijskim Iot uređajima","A679078",{"$f":"IFERROR(VLOOKUP(AG1282,AKT!$E$4:$G$351,3,FALSE),\"\")","v":"0942"}]
[{"$nulls":30},"A679078.571","SUZE - Sustav za otkrivanje zlonamjernih elektroničkih transakcija zasnovan na strojnom učenju","A679078",{"$f":"IFERROR(VLOOKUP(AG1283,AKT!$E$4:$G$351,3,FALSE),\"\")","v":"0942"}]
[{"$nulls":30},"A679078.572","T-LOGIC - Uspostava sustava za automatizaciju rada i autonomno odlučivanje u logistici samoposlužnih aparata","A679078",{"$f":"IFERROR(VLOOKUP(AG1284,AKT!$E$4:$G$351,3,FALSE),\"\")","v":"0942"}]
[{"$nulls":30},"A679078.573","HRZZ projekti","A679078",{"$f":"IFERROR(VLOOKUP(AG1285,AKT!$E$4:$G$351,3,FALSE),\"\")","v":"0942"}]
[{"$nulls":30},"A679078.574","Modeliranje procesa farmaceutskog sušenja raspršivanjem emulzije u laboratorijskom I pilotnom mjerilu","A679078",{"$f":"IFERROR(VLOOKUP(AG1286,AKT!$E$4:$G$351,3,FALSE),\"\")","v":"0942"}]
[{"$nulls":30},"A679078.575","COLECO- ERASMUS + 2019-1-UK01-KA201-062118","A679078",{"$f":"IFERROR(VLOOKUP(AG1287,AKT!$E$4:$G$351,3,FALSE),\"\")","v":"0942"}]
[{"$nulls":30},"A679078.576","FOReSiGHT","A679078",{"$f":"IFERROR(VLOOKUP(AG1288,AKT!$E$4:$G$351,3,FALSE),\"\")","v":"0942"}]
[{"$nulls":30},"A679078.577","ERASMUS + 2020-1-PL01-KA203-081980 - SUSTA",{"$f":"LEFT(AE1289,7)","v":"A679078"},{"$f":"IFERROR(VLOOKUP(AG1289,AKT!$E$4:$G$351,3,FALSE),\"\")","v":"0942"}]
[{"$nulls":30},"A679078.578","ERASMUS + 2020-1-PL01-KA203-081980 - SUSTA","A679078",{"$f":"IFERROR(VLOOKUP(AG1290,AKT!$E$4:$G$351,3,FALSE),\"\")","v":"0942"}]
[{"$nulls":30},"A679078.579","PROSPER","A679078",{"$f":"IFERROR(VLOOKUP(AG1291,AKT!$E$4:$G$351,3,FALSE),\"\")","v":"0942"}]
[{"$nulls":30},"A679078.580","BUFSIE","A679078",{"$f":"IFERROR(VLOOKUP(AG1292,AKT!$E$4:$G$351,3,FALSE),\"\")","v":"0942"}]
[{"$nulls":30},"A679078.581","DIGI4TEACH","A679078",{"$f":"IFERROR(VLOOKUP(AG1293,AKT!$E$4:$G$351,3,FALSE),\"\")","v":"0942"}]
[{"$nulls":30},"A679078.582","TERRAGOV","A679078",{"$f":"IFERROR(VLOOKUP(AG1294,AKT!$E$4:$G$351,3,FALSE),\"\")","v":"0942"}]
[{"$nulls":30},"A679078.583","HORIZON 2020 - SHARE-COVID 19","A679078",{"$f":"IFERROR(VLOOKUP(AG1295,AKT!$E$4:$G$351,3,FALSE),\"\")","v":"0942"}]
[{"$nulls":30},"A679078.584","Learning how to Teach, Teaching how to Learn. Facing Challenges of Global Change in Higher Education Using Digital Tools for Reflective, Critical and Inclusive Learning on European Historical Landscapes – EDiToR","A679078",{"$f":"IFERROR(VLOOKUP(AG1296,AKT!$E$4:$G$351,3,FALSE),\"\")","v":"0942"}]
[{"$nulls":30},"A679078.585","HKO Zadar Kompetecijski standardi nastavnika, pedagoga i mentora","A679078",{"$f":"IFERROR(VLOOKUP(AG1297,AKT!$E$4:$G$351,3,FALSE),\"\")","v":"0942"}]
[{"$nulls":30},"A679078.586","P-S-I Podrška Studenata u Integraciji marginaliziranih skupina na tržište rada","A679078",{"$f":"IFERROR(VLOOKUP(AG1298,AKT!$E$4:$G$351,3,FALSE),\"\")","v":"0942"}]
[{"$nulls":30},"A679078.587","COORDINATE„COhort cOmmunity Research and Development Infrastructure Network for Access Throughout","A679078",{"$f":"IFERROR(VLOOKUP(AG1299,AKT!$E$4:$G$351,3,FALSE),\"\")","v":"0942"}]
[{"$nulls":30},"A679078.588","RURASL Rural 3.0: Service Learning for the Rural Development","A679078",{"$f":"IFERROR(VLOOKUP(AG1300,AKT!$E$4:$G$351,3,FALSE),\"\")","v":"0942"}]
[{"$nulls":30},"A679078.589","Erasmus + Reforming Foreigne Languages in Academia in Montenegro - ReFALME","A679078",{"$f":"IFERROR(VLOOKUP(AG1301,AKT!$E$4:$G$351,3,FALSE),\"\")","v":"0942"}]
[{"$nulls":30},"A679078.590","Erasmus + Developing a new curriculum in Global Migration, Diaspora and Border Studies in East-Central Europe (GLocalEAst)”","A679078",{"$f":"IFERROR(VLOOKUP(AG1302,AKT!$E$4:$G$351,3,FALSE),\"\")","v":"0942"}]
[{"$nulls":30},"A679078.591","Erasmus + „Introducing Intellectual Property Education for Lifelong Learning and the Knowledge Economy-IPEDU”","A679078",{"$f":"IFERROR(VLOOKUP(AG1303,AKT!$E$4:$G$351,3,FALSE),\"\")","v":"0942"}]
[{"$nulls":30},"A679078.592","Encounters and Transformations in Iron Age Europe (ENTRANS","A679078",{"$f":"IFERROR(VLOOKUP(AG1304,AKT!$E$4:$G$351,3,FALSE),\"\")","v":"0942"}]
[{"$nulls":30},"A679078.593","Rhetoric for Innovative Education  RHEFINE","A679078",{"$f":"IFERROR(VLOOKUP(AG1305,AKT!$E$4:$G$351,3,FALSE),\"\")","v":"0942"}]
[{"$nulls":30},"A679078.594","DigiLING: Trans-European e-Learning Hub for Digital Linguistics","A679078",{"$f":"IFERROR(VLOOKUP(AG1306,AKT!$E$4:$G$351,3,FALSE),\"\")","v":"0942"}]
[{"$nulls":30},"A679078.595","Curated Multilingual Language Resources for CEF AT (CURLICAT)","A679078",{"$f":"IFERROR(VLOOKUP(AG1307,AKT!$E$4:$G$351,3,FALSE),\"\")","v":"0942"}]
[{"$nulls":30},"A679078.596","HORIZON 2020: Children Online: Research and Evidence (CO:RE)","A679078",{"$f":"IFERROR(VLOOKUP(AG1308,AKT!$E$4:$G$351,3,FALSE),\"\")","v":"0942"}]
[{"$nulls":30},"A679078.597","Third sector impact","A679078",{"$f":"IFERROR(VLOOKUP(AG1309,AKT!$E$4:$G$351,3,FALSE),\"\")","v":"0942"}]
[{"$nulls":30},"A679078.598","Jean Monnet 57510-EPP-1-2016-1-HR-EPPJMO-PROJECT","A679078",{"$f":"IFERROR(VLOOKUP(AG1310,AKT!$E$4:$G$351,3,FALSE),\"\")","v":"0942"}]
[{"$nulls":30},"A679078.599","SUSTINEO ESF","A679078",{"$f":"IFERROR(VLOOKUP(AG1311,AKT!$E$4:$G$351,3,FALSE),\"\")","v":"0942"}]
[{"$nulls":30},"A679078.600","RE-DWELL","A679078",{"$f":"IFERROR(VLOOKUP(AG1312,AKT!$E$4:$G$351,3,FALSE),\"\")","v":"0942"}]
[{"$nulls":30},"A679078.601","Erasmus + ENEMLOS","A679078",{"$f":"IFERROR(VLOOKUP(AG1313,AKT!$E$4:$G$351,3,FALSE),\"\")","v":"0942"}]
[{"$nulls":30},"A679078.602","Fighter","A679078",{"$f":"IFERROR(VLOOKUP(AG1314,AKT!$E$4:$G$351,3,FALSE),\"\")","v":"0942"}]
[{"$nulls":30},"A679078.603","UNIC","A679078",{"$f":"IFERROR(VLOOKUP(AG1315,AKT!$E$4:$G$351,3,FALSE),\"\")","v":"0942"}]
[{"$nulls":30},"A679078.604","Novel Bone Morphogenetic Protein-6 Biocompatible Carrier Device for Bone Regeneration - OSTEOGROW","A679078",{"$f":"IFERROR(VLOOKUP(AG1316,AKT!$E$4:$G$351,3,FALSE),\"\")","v":"0942"}]
[{"$nulls":30},"A679078.605","Selection modulation of hepcidin for treating iron associated diseases - SEMOHEPI","A679078",{"$f":"IFERROR(VLOOKUP(AG1317,AKT!$E$4:$G$351,3,FALSE),\"\")","v":"0942"}]
[{"$nulls":30},"A679078.606","Laboratorij za regenerativnu neuroznanost - GLOWBRAIN","A679078",{"$f":"IFERROR(VLOOKUP(AG1318,AKT!$E$4:$G$351,3,FALSE),\"\")","v":"0942"}]
[{"$nulls":30},"A679078.607","FP7 - MAGISTER","A679078",{"$f":"IFERROR(VLOOKUP(AG1319,AKT!$E$4:$G$351,3,FALSE),\"\")","v":"0942"}]
[{"$nulls":30},"A679078.608","Istraživanje neuropatologije poremećaja iz spektra autizma i shizofrenije","A679078",{"$f":"IFERROR(VLOOKUP(AG1320,AKT!$E$4:$G$351,3,FALSE),\"\")","v":"0942"}]
[{"$nulls":30},"A679078.609","EUROPEAN INFRASTRUCTURE FOR TRANSLATIONAL MEDICINE (EATRIS PLUS) - H2020","A679078",{"$f":"IFERROR(VLOOKUP(AG1321,AKT!$E$4:$G$351,3,FALSE),\"\")","v":"0942"}]
[{"$nulls":30},"A679078.610","ERASMUS + MEĐUNARODNA SURADNJA","A679078",{"$f":"IFERROR(VLOOKUP(AG1322,AKT!$E$4:$G$351,3,FALSE),\"\")","v":"0942"}]
[{"$nulls":30},"A679078.611","A ROADMAP OUT OF MEDICAL DESERTS INTO SUPPORTIVE HEALTH WORK FORCE INITIATIVES AND POLICIES - ROUTE-HWF","A679078",{"$f":"IFERROR(VLOOKUP(AG1323,AKT!$E$4:$G$351,3,FALSE),\"\")","v":"0942"}]
[{"$nulls":30},"A679078.612","IRI CSTI - platforma za dohvat i analizu strukturiranih i nestrukturiranih podataka","A679078",{"$f":"IFERROR(VLOOKUP(AG1324,AKT!$E$4:$G$351,3,FALSE),\"\")","v":"0942"}]
[{"$nulls":30},"A679078.613","UNIC4ER - Europsko sveučilište postindustrijskih gradova Ka suradničkom pristupu i strukturi prema angažiranom istraživanju","A679078",{"$f":"IFERROR(VLOOKUP(AG1325,AKT!$E$4:$G$351,3,FALSE),\"\")","v":"0942"}]
[{"$nulls":30},"A679078.614","UNIC -Europsko sveučilište za postindustrijske gradove","A679078",{"$f":"IFERROR(VLOOKUP(AG1326,AKT!$E$4:$G$351,3,FALSE),\"\")","v":"0942"}]
[{"$nulls":30},"A679078.615","ERASMUS+  DE01-KA203-005728 CONNECTED","A679078",{"$f":"IFERROR(VLOOKUP(AG1327,AKT!$E$4:$G$351,3,FALSE),\"\")","v":"0942"}]
[{"$nulls":30},"A679078.616","SIMON - inteligentni sustav za automatski odabir algoritma strojnog učenja","A679078",{"$f":"IFERROR(VLOOKUP(AG1328,AKT!$E$4:$G$351,3,FALSE),\"\")","v":"0942"}]
[{"$nulls":30},"A679078.617","MODERNE MISLEĆE ŽENE-HRZZ IP-01-2018","A679078",{"$f":"IFERROR(VLOOKUP(AG1329,AKT!$E$4:$G$351,3,FALSE),\"\")","v":"0942"}]
[{"$nulls":30},"A679078.618","HELA","A679078",{"$f":"IFERROR(VLOOKUP(AG1330,AKT!$E$4:$G$351,3,FALSE),\"\")","v":"0942"}]
[{"$nulls":30},"A679078.619","FORMALS-HRZZ UIP-2017-05-2019","A679078",{"$f":"IFERROR(VLOOKUP(AG1331,AKT!$E$4:$G$351,3,FALSE),\"\")","v":"0942"}]
[{"$nulls":30},"A679078.620","Digitalna.hr","A679078",{"$f":"IFERROR(VLOOKUP(AG1332,AKT!$E$4:$G$351,3,FALSE),\"\")","v":"0942"}]
[{"$nulls":30},"A679078.621","e-DESK - Digitalne i poduzetničke vještine europskih učitelja u svijetu COVID-19","A679078",{"$f":"IFERROR(VLOOKUP(AG1333,AKT!$E$4:$G$351,3,FALSE),\"\")","v":"0942"}]
[{"$nulls":30},"A679078.622","Erasmus+ Oralno potencijalno maligni poremećaji: izobrazba zdravstvenih djelatnika","A679078",{"$f":"IFERROR(VLOOKUP(AG1334,AKT!$E$4:$G$351,3,FALSE),\"\")","v":"0942"}]
[{"$nulls":30},"A679078.623","WAI4PwD - Web pristupačnost i ostale inicijative za osobe s invaliditetom u EU tijekom pandemije","A679078",{"$f":"IFERROR(VLOOKUP(AG1335,AKT!$E$4:$G$351,3,FALSE),\"\")","v":"0942"}]
[{"$nulls":30},"A679078.624","ERASMUS+RAPIDE - inovativna pedagogija","A679078",{"$f":"IFERROR(VLOOKUP(AG1336,AKT!$E$4:$G$351,3,FALSE),\"\")","v":"0942"}]
[{"$nulls":30},"A679078.625","HYSTORIES- podzemno skladištenja vodika u Europi","A679078",{"$f":"IFERROR(VLOOKUP(AG1337,AKT!$E$4:$G$351,3,FALSE),\"\")","v":"0942"}]
[{"$nulls":30},"A679078.626","RiskMan - Jačanje obrazovnih kapaciteta za upravljanje rizicima","A679078",{"$f":"IFERROR(VLOOKUP(AG1338,AKT!$E$4:$G$351,3,FALSE),\"\")","v":"0942"}]
[{"$nulls":30},"A679078.627","Obrazovana potraga za visokotemperaturnom supravodljivošću u novim elektroničkim materijalima","A679078",{"$f":"IFERROR(VLOOKUP(AG1339,AKT!$E$4:$G$351,3,FALSE),\"\")","v":"0942"}]
[{"$nulls":30},"A679078.628","Razvoj naprednog IT sustava za precizno određivanje broja ljudi u otvorenim i zatvorenim prostorima (IRI)","A679078",{"$f":"IFERROR(VLOOKUP(AG1340,AKT!$E$4:$G$351,3,FALSE),\"\")","v":"0942"}]
[{"$nulls":30},"A679078.629","Napredni sustav motrenja agroekosustava u riziku od zaslanjivanja i onečišćenja","A679078",{"$f":"IFERROR(VLOOKUP(AG1341,AKT!$E$4:$G$351,3,FALSE),\"\")","v":"0942"}]
[{"$nulls":30},"A679078.630","Integrirani sustav uzgoja alternativnih vrsta školjkaša u uvjetima klimatskih promjena","A679078",{"$f":"IFERROR(VLOOKUP(AG1342,AKT!$E$4:$G$351,3,FALSE),\"\")","v":"0942"}]
[{"$nulls":30},"A679078.631","Interreg D-Care Labs","A679078",{"$f":"IFERROR(VLOOKUP(AG1343,AKT!$E$4:$G$351,3,FALSE),\"\")","v":"0942"}]
[{"$nulls":30},"A679078.632","ERASMUS+ KA2 Krajolici za učenje","A679078",{"$f":"IFERROR(VLOOKUP(AG1344,AKT!$E$4:$G$351,3,FALSE),\"\")","v":"0942"}]
[{"$nulls":30},"A679078.633","EULAW - projekti obuke pravosudnih stručnjaka","A679078",{"$f":"IFERROR(VLOOKUP(AG1345,AKT!$E$4:$G$351,3,FALSE),\"\")","v":"0942"}]
[{"$nulls":30},"A679078.634","Erasmus+ MELLE - Modernizacija pravnog obrazovanja u europskom pravu","A679078",{"$f":"IFERROR(VLOOKUP(AG1346,AKT!$E$4:$G$351,3,FALSE),\"\")","v":"0942"}]
[{"$nulls":30},"A679078.635","ERASMUS Jačanje kapaciteta u visokom obrazovanju","A679078",{"$f":"IFERROR(VLOOKUP(AG1347,AKT!$E$4:$G$351,3,FALSE),\"\")","v":"0942"}]
[{"$nulls":30},"A679078.636","CENTRINNO - rješenja za regeneraciju industrijskih povijesnih mjesta","A679078",{"$f":"IFERROR(VLOOKUP(AG1348,AKT!$E$4:$G$351,3,FALSE),\"\")","v":"0942"}]
[{"$nulls":30},"A679078.637","ESF CasMouse - Genomsko inženjerstvo i genska regulacija u staničnim linijama i modelnim organizmima tehnologijom CRISPR/Cas9","A679078",{"$f":"IFERROR(VLOOKUP(AG1349,AKT!$E$4:$G$351,3,FALSE),\"\")","v":"0942"}]
[{"$nulls":30},"A679078.638","Platforma 50+ za unaprjeđivanje uvjeta rada","A679078",{"$f":"IFERROR(VLOOKUP(AG1350,AKT!$E$4:$G$351,3,FALSE),\"\")","v":"0942"}]
[{"$nulls":30},"A679078.639","Obzor 2020 MEDICTA - Razvoj sustava za diktiranje medicinskih nalaza na bosanskom / hrvatskom / srpskom jeziku uključujući latinske izraze","A679078",{"$f":"IFERROR(VLOOKUP(AG1351,AKT!$E$4:$G$351,3,FALSE),\"\")","v":"0942"}]
[{"$nulls":30},"A679078.640","FENIQS-EU - jačanje provedbe standarda kvalitete u smanjenju potražnje za drogama u cijeloj Europi","A679078",{"$f":"IFERROR(VLOOKUP(AG1352,AKT!$E$4:$G$351,3,FALSE),\"\")","v":"0942"}]
[{"$nulls":30},"A679078.641","PROBITECT - Sinergijska inovativna kombinacija sastavnica mikrobiote kao osnova za razvoj inovativnih topikalnih proizvoda za tretiranje i prevenciju upalnih stanja humane kože",{"$f":"LEFT(AE1353,7)","v":"A679078"},{"$f":"IFERROR(VLOOKUP(AG1353,AKT!$E$4:$G$351,3,FALSE),\"\")","v":"0942"}]
[{"$nulls":30},"A679078.642","Interreg Adrion: Vuna kao izvanredna prilika za polugu - VUNA","A679078",{"$f":"IFERROR(VLOOKUP(AG1354,AKT!$E$4:$G$351,3,FALSE),\"\")","v":"0942"}]
[{"$nulls":30},"A679078.643","ERASMUS + KA2 - Strateško partnerstvo COGSTEPS Startup obrazovanje i podrška studentima doktorskih studija, istraživačima i znanstvenicima","A679078",{"$f":"IFERROR(VLOOKUP(AG1355,AKT!$E$4:$G$351,3,FALSE),\"\")","v":"0942"}]
[{"$nulls":30},"A679078.644","Zaštita cjelovitosti konstrukcija u energetici i transportu","A679078",{"$f":"IFERROR(VLOOKUP(AG1356,AKT!$E$4:$G$351,3,FALSE),\"\")","v":"0942"}]
[{"$nulls":30},"A679078.645","AgroEko - Napredna i prediktivna poljoprivreda za otpornost klimatskim promjenama","A679078",{"$f":"IFERROR(VLOOKUP(AG1357,AKT!$E$4:$G$351,3,FALSE),\"\")","v":"0942"}]
[{"$nulls":30},"A679078.646","Izazovi za društvene i humanističke znanosti: novi studiji i sustav kvalitete Filozofskog fakulteta u Zagrebu","A679078",{"$f":"IFERROR(VLOOKUP(AG1358,AKT!$E$4:$G$351,3,FALSE),\"\")","v":"0942"}]
[{"$nulls":30},"A679078.647","RISE DORNA - Razvoj motornih pogona visoke pouzdanosti za pogonske aplikacije sljedeće generacije","A679078",{"$f":"IFERROR(VLOOKUP(AG1359,AKT!$E$4:$G$351,3,FALSE),\"\")","v":"0942"}]
[{"$nulls":30},"A679078.648","FunTomP - Funkcionalizirani proizvodi od rajčice","A679078",{"$f":"IFERROR(VLOOKUP(AG1360,AKT!$E$4:$G$351,3,FALSE),\"\")","v":"0942"}]
[{"$nulls":30},"A679078.649","ROUTE ( HORIZON )- Putokaz iz medicinskih pustinja u inicijative i politike zdravstvene radne snage koje podržavaju","A679078",{"$f":"IFERROR(VLOOKUP(AG1361,AKT!$E$4:$G$351,3,FALSE),\"\")","v":"0942"}]
[{"$nulls":30},"A679078.650","EUROP2E (Erasmus+) - Europska otvorena platforma za propisivanje obrazovanja","A679078",{"$f":"IFERROR(VLOOKUP(AG1362,AKT!$E$4:$G$351,3,FALSE),\"\")","v":"0942"}]
[{"$nulls":30},"A679078.651","WATCHPLANT - Pametni biohibridni fito-organizmi za okoliš","A679078",{"$f":"IFERROR(VLOOKUP(AG1363,AKT!$E$4:$G$351,3,FALSE),\"\")","v":"0942"}]
[{"$nulls":30},"A679078.652","Eatris Plus - H2020 Konsolidacija kapaciteta EATRIS -ERIC -a za personaliziranu medicinu","A679078",{"$f":"IFERROR(VLOOKUP(AG1364,AKT!$E$4:$G$351,3,FALSE),\"\")","v":"0942"}]
[{"$nulls":30},"A679078.653","ERASMUS+projekt Sky Easy","A679078",{"$f":"IFERROR(VLOOKUP(AG1365,AKT!$E$4:$G$351,3,FALSE),\"\")","v":"0942"}]
[{"$nulls":30},"A679078.654","ERASMUS+projekt Fit Old","A679078",{"$f":"IFERROR(VLOOKUP(AG1366,AKT!$E$4:$G$351,3,FALSE),\"\")","v":"0942"}]
[{"$nulls":30},"A679078.655","CARNET21 -Ostali -EEA and Norw. Gran.Fund Reg.","A679078",{"$f":"IFERROR(VLOOKUP(AG1367,AKT!$E$4:$G$351,3,FALSE),\"\")","v":"0942"}]
[{"$nulls":30},"A679078.656","IGT","A679078",{"$f":"IFERROR(VLOOKUP(AG1368,AKT!$E$4:$G$351,3,FALSE),\"\")","v":"0942"}]
[{"$nulls":30},"A679078.657","ERASMUS + KA2 - Aktivno učenje kroz poboljšanu interaktivnost","A679078",{"$f":"IFERROR(VLOOKUP(AG1369,AKT!$E$4:$G$351,3,FALSE),\"\")","v":"0942"}]
[{"$nulls":30},"A679078.658","IRI-II SOVA - Sustav za vizualno prepoznavanje proizvoda na policama","A679078",{"$f":"IFERROR(VLOOKUP(AG1370,AKT!$E$4:$G$351,3,FALSE),\"\")","v":"0942"}]
[{"$nulls":30},"A679078.659","IRI-II Besposadni brod - Razvoj autonomnog besposadnog višenamjenskog broda","A679078",{"$f":"IFERROR(VLOOKUP(AG1371,AKT!$E$4:$G$351,3,FALSE),\"\")","v":"0942"}]
[{"$nulls":30},"A679078.660","IRI-II Mareton-2 -Robusni sustav neprekinutog napajanja za uređaje željezničke i industrijske infrastrukture","A679078",{"$f":"IFERROR(VLOOKUP(AG1372,AKT!$E$4:$G$351,3,FALSE),\"\")","v":"0942"}]
[{"$nulls":30},"A679078.661","IRI-II CYBERBUS-INREBUS -Model za analizu podataka iz nestrukturiranih izvora informacija s ciljem povećanja kibernetičke sigurnosti u složenim poslovnim sustavima","A679078",{"$f":"IFERROR(VLOOKUP(AG1373,AKT!$E$4:$G$351,3,FALSE),\"\")","v":"0942"}]
[{"$nulls":30},"A679078.662","UN4DRR","A679078",{"$f":"IFERROR(VLOOKUP(AG1374,AKT!$E$4:$G$351,3,FALSE),\"\")","v":"0942"}]
[{"$nulls":30},"A679078.663","ESA","A679078",{"$f":"IFERROR(VLOOKUP(AG1375,AKT!$E$4:$G$351,3,FALSE),\"\")","v":"0942"}]
[{"$nulls":30},"A679078.664","IRI-II VIRT-UAV - Sustav autonomnih bespilotnih letjelica treniranih u virtualnim okruženjima","A679078",{"$f":"IFERROR(VLOOKUP(AG1376,AKT!$E$4:$G$351,3,FALSE),\"\")","v":"0942"}]
[{"$nulls":30},"A679078.665","NLTP - Platforma nacionalnih jezičnih tehnologija","A679078",{"$f":"IFERROR(VLOOKUP(AG1377,AKT!$E$4:$G$351,3,FALSE),\"\")","v":"0942"}]
[{"$nulls":30},"A679078.666","IRI-II AIDWAS  - Sustav za nadzor kibernetičkog prostora i informiranje o katastrofama i prijetnjama u stvarnom vremenu na bazi umjetne inteligencije","A679078",{"$f":"IFERROR(VLOOKUP(AG1378,AKT!$E$4:$G$351,3,FALSE),\"\")","v":"0942"}]
[{"$nulls":30},"A679078.667","IRI-II PBM-PLIN - Iskorištenje manje kvalitetnih i nestalnih plinova za proizvodnju električne energije","A679078",{"$f":"IFERROR(VLOOKUP(AG1379,AKT!$E$4:$G$351,3,FALSE),\"\")","v":"0942"}]
[{"$nulls":30},"A679078.668","IRI-II SmartEC - Smart EC - dijagnostički sustav za ispitivanje metodom vrtložnih struja","A679078",{"$f":"IFERROR(VLOOKUP(AG1380,AKT!$E$4:$G$351,3,FALSE),\"\")","v":"0942"}]
[{"$nulls":30},"A679078.669","DIGITOOLS - Inovativni alati za poboljšanje rješenja e-učenja na sveučilištima","A679078",{"$f":"IFERROR(VLOOKUP(AG1381,AKT!$E$4:$G$351,3,FALSE),\"\")","v":"0942"}]
[{"$nulls":30},"A679078.670","IRI-II 4VENT - Razvoj niza četverousisnih ventilatora za industrijska postrojenja","A679078",{"$f":"IFERROR(VLOOKUP(AG1382,AKT!$E$4:$G$351,3,FALSE),\"\")","v":"0942"}]
[{"$nulls":30},"A679078.671","IRI-II CIP4SI - Razvoj digitalne platforme za izgradnju sustava zaštite kritičnih infrastruktura u pametnim industrijama","A679078",{"$f":"IFERROR(VLOOKUP(AG1383,AKT!$E$4:$G$351,3,FALSE),\"\")","v":"0942"}]
[{"$nulls":30},"A679078.672","DERIN ERASMUS + Razvoj digitalne platforme za izgradnju sustava zaštite kritičnih infrastruktura u pametnim industrijama","A679078",{"$f":"IFERROR(VLOOKUP(AG1384,AKT!$E$4:$G$351,3,FALSE),\"\")","v":"0942"}]
[{"$nulls":30},"A679078.673","NAUTICA CBC prekogranična nautička turistička ponuda","A679078",{"$f":"IFERROR(VLOOKUP(AG1385,AKT!$E$4:$G$351,3,FALSE),\"\")","v":"0942"}]
[{"$nulls":30},"A679078.674","ELP Transport stručnjak za lokalni transport","A679078",{"$f":"IFERROR(VLOOKUP(AG1386,AKT!$E$4:$G$351,3,FALSE),\"\")","v":"0942"}]
[{"$nulls":30},"A679078.675","INTERREG OJP4DANUBE","A679078",{"$f":"IFERROR(VLOOKUP(AG1387,AKT!$E$4:$G$351,3,FALSE),\"\")","v":"0942"}]
[{"$nulls":30},"A679078.676","ReNewEurope - Ponovno otkrivanje „Nove Europe“ - Ljetna škola na kotačima za prekograničnu povijest i politiku Balkana / Srednje i Istočne Europe","A679078",{"$f":"IFERROR(VLOOKUP(AG1388,AKT!$E$4:$G$351,3,FALSE),\"\")","v":"0942"}]
[{"$nulls":30},"A679078.677","PRISMI PLUS - Prijenos alata za integraciju OIE na pametnim mediteranskim otocima i ruralnim područjima","A679078",{"$f":"IFERROR(VLOOKUP(AG1389,AKT!$E$4:$G$351,3,FALSE),\"\")","v":"0942"}]
[{"$nulls":30},"A679078.678","LSP Internetski tečaj za stručno usavršavanje nastavnika","A679078",{"$f":"IFERROR(VLOOKUP(AG1390,AKT!$E$4:$G$351,3,FALSE),\"\")","v":"0942"}]
[{"$nulls":30},"A679078.679","RHEFINE - Retorika za inovativno obrazovanje","A679078",{"$f":"IFERROR(VLOOKUP(AG1391,AKT!$E$4:$G$351,3,FALSE),\"\")","v":"0942"}]
[{"$nulls":30},"A679078.680","EXAFOAM - Iskorištavanje sustava Exascale","A679078",{"$f":"IFERROR(VLOOKUP(AG1392,AKT!$E$4:$G$351,3,FALSE),\"\")","v":"0942"}]
[{"$nulls":30},"A679078.681","GLocalEAst - Razvoj novog kurikuluma o studijama globalne migracije, dijaspore i granica u istočnoj i središnjoj Europi","A679078",{"$f":"IFERROR(VLOOKUP(AG1393,AKT!$E$4:$G$351,3,FALSE),\"\")","v":"0942"}]
[{"$nulls":30},"A679078.682","SEAS 4.0 ODRŽIVI BROD I DOSTAVA 4.0","A679078",{"$f":"IFERROR(VLOOKUP(AG1394,AKT!$E$4:$G$351,3,FALSE),\"\")","v":"0942"}]
[{"$nulls":30},"A679078.683","CResDET - Digitalno obrazovanje i osposobljavanje otporno na krize","A679078",{"$f":"IFERROR(VLOOKUP(AG1395,AKT!$E$4:$G$351,3,FALSE),\"\")","v":"0942"}]
[{"$nulls":30},"A679078.684","EDiToR - Učiti kako poučavati, poučavati kako učiti. Suočavanje s izazovima globalnih promjena u visokom obrazovanju pomoću digitalnih alata za reflektirajuće, kritičko i inkluzivno učenje o europskim povijesnim krajolicima","A679078",{"$f":"IFERROR(VLOOKUP(AG1396,AKT!$E$4:$G$351,3,FALSE),\"\")","v":"0942"}]
[{"$nulls":30},"A679078.685","CESSDA ERIC Agenda 21-22","A679078",{"$f":"IFERROR(VLOOKUP(AG1397,AKT!$E$4:$G$351,3,FALSE),\"\")","v":"0942"}]
[{"$nulls":30},"A679078.686","SHIPMARTECH - Nadogradnja i usklađivanje magistarskih tečajeva pomorskog inženjerstva","A679078",{"$f":"IFERROR(VLOOKUP(AG1398,AKT!$E$4:$G$351,3,FALSE),\"\")","v":"0942"}]
[{"$nulls":30},"A679078.687","STAND - Jačanje autonomije sveučilišta i povećanje odgovornosti i transparentnosti sveučilišta Zapadnog Balkana","A679078",{"$f":"IFERROR(VLOOKUP(AG1399,AKT!$E$4:$G$351,3,FALSE),\"\")","v":"0942"}]
[{"$nulls":30},"A679078.688","Mreža infrastrukture za istraživanje i razvoj kohortne zajednice za pristup diljem Europe","A679078",{"$f":"IFERROR(VLOOKUP(AG1400,AKT!$E$4:$G$351,3,FALSE),\"\")","v":"0942"}]
[{"$nulls":30},"A679078.689","OLGA - OLympics  Green Airport","A679078",{"$f":"IFERROR(VLOOKUP(AG1401,AKT!$E$4:$G$351,3,FALSE),\"\")","v":"0942"}]
[{"$nulls":30},"A679078.690","Uvođenje obrazovanja o intelektualnom vlasništvu za cjeloživotno učenje i ekonomiju znanja","A679078",{"$f":"IFERROR(VLOOKUP(AG1402,AKT!$E$4:$G$351,3,FALSE),\"\")","v":"0942"}]
[{"$nulls":30},"A679078.691","Kako obični ljudi shvaćaju anti-gender poruke","A679078",{"$f":"IFERROR(VLOOKUP(AG1403,AKT!$E$4:$G$351,3,FALSE),\"\")","v":"0942"}]
[{"$nulls":30},"A679078.692","Reforma stranih jezika u akademskim krugovima u Crnoj Gori","A679078",{"$f":"IFERROR(VLOOKUP(AG1404,AKT!$E$4:$G$351,3,FALSE),\"\")","v":"0942"}]
[{"$nulls":30},"A679078.693","HRZZ Program suradnje s hrvatskim znanstvenicima u dijaspori ''ZNANSTVENA SURADNJA''","A679078",{"$f":"IFERROR(VLOOKUP(AG1405,AKT!$E$4:$G$351,3,FALSE),\"\")","v":"0942"}]
[{"$nulls":30},"A679078.694","HORIZON 2020-MSCA-ITN-2019 - THREAD","A679078",{"$f":"IFERROR(VLOOKUP(AG1406,AKT!$E$4:$G$351,3,FALSE),\"\")","v":"0942"}]
[{"$nulls":30},"A679078.695","Bioproscpecting Jadranskog mora","A679078",{"$f":"IFERROR(VLOOKUP(AG1407,AKT!$E$4:$G$351,3,FALSE),\"\")","v":"0942"}]
[{"$nulls":30},"A679078.696","IRI Comparative genomics of non-model invertebrates (IGNITE)","A679078",{"$f":"IFERROR(VLOOKUP(AG1408,AKT!$E$4:$G$351,3,FALSE),\"\")","v":"0942"}]
[{"$nulls":30},"A679078.697","STRIP Jačanje kapaciteta za istraživanje, razvoj i inovacije","A679078",{"$f":"IFERROR(VLOOKUP(AG1409,AKT!$E$4:$G$351,3,FALSE),\"\")","v":"0942"}]
[{"$nulls":30},"A679078.698","Znanstveno i tehnologijsko predviđanje","A679078",{"$f":"IFERROR(VLOOKUP(AG1410,AKT!$E$4:$G$351,3,FALSE),\"\")","v":"0942"}]
[{"$nulls":30},"A679078.699","Znanstveni centar izvrsnosti personalizirana briga o zdravlju","A679078",{"$f":"IFERROR(VLOOKUP(AG1411,AKT!$E$4:$G$351,3,FALSE),\"\")","v":"0942"}]
[{"$nulls":30},"A679078.700","Formiranje C-C veze pomoću vrhunskih enzima","A679078",{"$f":"IFERROR(VLOOKUP(AG1412,AKT!$E$4:$G$351,3,FALSE),\"\")","v":"0942"}]
[{"$nulls":30},"A679078.701","RADICALZ — H2020-FNR-2020","A679078",{"$f":"IFERROR(VLOOKUP(AG1413,AKT!$E$4:$G$351,3,FALSE),\"\")","v":"0942"}]
[{"$nulls":30},"A679078.702","Geofizičko-seizmološka istraživanja potresom ugroženih područja u RH i razvoj atenuacijskih relacija predviđanja seizmičkog gibanja tla","A679078",{"$f":"IFERROR(VLOOKUP(AG1414,AKT!$E$4:$G$351,3,FALSE),\"\")","v":"0942"}]
[{"$nulls":30},"A679078.703","Sinekološka STEM EDUKAcija u Klinči","A679078",{"$f":"IFERROR(VLOOKUP(AG1415,AKT!$E$4:$G$351,3,FALSE),\"\")","v":"0942"}]
[{"$nulls":30},"A679078.704","Adaptation-oriented Seamless Predictions of European ClimaTe ASPECT","A679078",{"$f":"IFERROR(VLOOKUP(AG1416,AKT!$E$4:$G$351,3,FALSE),\"\")","v":"0942"}]
[{"$nulls":30},"A679078.705","PROJECT 101073065 - BiodeCCodiNNg - HORIZON-MSCA-2021-DN-01",{"$f":"LEFT(AE1417,7)","v":"A679078"},{"$f":"IFERROR(VLOOKUP(AG1417,AKT!$E$4:$G$351,3,FALSE),\"\")","v":"0942"}]
[{"$nulls":30},"A679078.706","NAUTICA CBC","A679078",{"$f":"IFERROR(VLOOKUP(AG1418,AKT!$E$4:$G$351,3,FALSE),\"\")","v":"0942"}]
[{"$nulls":30},"A679078.707","ELP Transport EXPERT ON LOCAL PUBLIC TRANSPORT","A679078",{"$f":"IFERROR(VLOOKUP(AG1419,AKT!$E$4:$G$351,3,FALSE),\"\")","v":"0942"}]
[{"$nulls":30},"A679078.708","INTERREG OJP4DANUBE","A679078",{"$f":"IFERROR(VLOOKUP(AG1420,AKT!$E$4:$G$351,3,FALSE),\"\")","v":"0942"}]
[{"$nulls":30},"A679078.709","Industrial Mobile Manipulator Challenge IMMC","A679078",{"$f":"IFERROR(VLOOKUP(AG1421,AKT!$E$4:$G$351,3,FALSE),\"\")","v":"0942"}]
[{"$nulls":30},"A679078.710","Zaštita cjelovitosti konstrukcija u energetici i  transportu - ZaCjel","A679078",{"$f":"IFERROR(VLOOKUP(AG1422,AKT!$E$4:$G$351,3,FALSE),\"\")","v":"0942"}]
[{"$nulls":30},"A679078.711","Autonomni robotski sustav za brušenje i karakterizaciju površina tankostijenih kompozitnih proizvoda - ARCOPS","A679078",{"$f":"IFERROR(VLOOKUP(AG1423,AKT!$E$4:$G$351,3,FALSE),\"\")","v":"0942"}]
[{"$nulls":30},"A679078.712","Inovativni Ti-Mg dentalni implantati za svjetsko tržište - IDENTIST","A679078",{"$f":"IFERROR(VLOOKUP(AG1424,AKT!$E$4:$G$351,3,FALSE),\"\")","v":"0942"}]
[{"$nulls":30},"A679078.713","Unaprjeđenje tehnologije visokoučinskog zavarivanja - ImproWE","A679078",{"$f":"IFERROR(VLOOKUP(AG1425,AKT!$E$4:$G$351,3,FALSE),\"\")","v":"0942"}]
[{"$nulls":30},"A679078.714","Prognozirano održavanje industrijske rotacijske opreme temeljno na strojnom učenju i IoT tehnologiji u interakciji s informacijskim sustavima - POIROT-IoT","A679078",{"$f":"IFERROR(VLOOKUP(AG1426,AKT!$E$4:$G$351,3,FALSE),\"\")","v":"0942"}]
[{"$nulls":30},"A679078.715","Razvoj sustava antikorozivne zaštite za višenamjensku uporabu cijevi - RSAZ","A679078",{"$f":"IFERROR(VLOOKUP(AG1427,AKT!$E$4:$G$351,3,FALSE),\"\")","v":"0942"}]
[{"$nulls":30},"A679078.716","ECOsystem-based governance with DAnube lighthouse Living Lab for sustainable Innovation processes - EcoDaLLi","A679078",{"$f":"IFERROR(VLOOKUP(AG1428,AKT!$E$4:$G$351,3,FALSE),\"\")","v":"0942"}]
[{"$nulls":30},"A679078.717","EYES HEARTS HANDS Urban Revolution - EHHUR","A679078",{"$f":"IFERROR(VLOOKUP(AG1429,AKT!$E$4:$G$351,3,FALSE),\"\")","v":"0942"}]
[{"$nulls":30},"A679078.718","Razvoj modularnog ekspertnog sustava za upravljanje diskretnim proizvodnim procesima temeljenog na primjeni SMART FACTORY načela – SMART FACTORY","A679078",{"$f":"IFERROR(VLOOKUP(AG1430,AKT!$E$4:$G$351,3,FALSE),\"\")","v":"0942"}]
[{"$nulls":30},"A679078.719","HYBRID TANDEM CATALYTIC PRODUCTION OF HIGHER-OXYGENATE E-FUELS - E-TANDEM","A679078",{"$f":"IFERROR(VLOOKUP(AG1431,AKT!$E$4:$G$351,3,FALSE),\"\")","v":"0942"}]
[{"$nulls":30},"A679078.720","Connect SEE","A679078",{"$f":"IFERROR(VLOOKUP(AG1432,AKT!$E$4:$G$351,3,FALSE),\"\")","v":"0942"}]
[{"$nulls":30},"A679078.721","Strengthening Research and Innovation Excellence in Autonomous Aerial Systems - AeroSTREAM","A679078",{"$f":"IFERROR(VLOOKUP(AG1433,AKT!$E$4:$G$351,3,FALSE),\"\")","v":"0942"}]
[{"$nulls":30},"A679078.722","Zaštita cjelovitosti konstrukcija u energetici i  transportu - ZaCjel","A679078",{"$f":"IFERROR(VLOOKUP(AG1434,AKT!$E$4:$G$351,3,FALSE),\"\")","v":"0942"}]
[{"$nulls":30},"A679078.723","Mehanizam civilne zaštite Europske Unije (EU UCPM)","A679078",{"$f":"IFERROR(VLOOKUP(AG1435,AKT!$E$4:$G$351,3,FALSE),\"\")","v":"0942"}]
[{"$nulls":30},"A679078.724","HORIZON 2020 - European Health and Digital Executive Agency (HADEA)","A679078",{"$f":"IFERROR(VLOOKUP(AG1436,AKT!$E$4:$G$351,3,FALSE),\"\")","v":"0942"}]
[{"$nulls":30},"A679078.725","CONGREGATE","A679078",{"$f":"IFERROR(VLOOKUP(AG1437,AKT!$E$4:$G$351,3,FALSE),\"\")","v":"0942"}]
[{"$nulls":30},"A679078.726","Flat Bread of Mediterranean area INnovation  Emerging process  technology (FLAT BREAD MINE)","A679078",{"$f":"IFERROR(VLOOKUP(AG1438,AKT!$E$4:$G$351,3,FALSE),\"\")","v":"0942"}]
[{"$nulls":30},"A679078.727","European Qualifications  Competences for the Vegan Food Industry","A679078",{"$f":"IFERROR(VLOOKUP(AG1439,AKT!$E$4:$G$351,3,FALSE),\"\")","v":"0942"}]
[{"$nulls":30},"A679078.728","Food PackagIng open courseware for higher Education and Staff of companie","A679078",{"$f":"IFERROR(VLOOKUP(AG1440,AKT!$E$4:$G$351,3,FALSE),\"\")","v":"0942"}]
[{"$nulls":30},"A679078.729","Girls go STEM","A679078",{"$f":"IFERROR(VLOOKUP(AG1441,AKT!$E$4:$G$351,3,FALSE),\"\")","v":"0942"}]
[{"$nulls":30},"A679078.730","Teaching mathematics in STEM context for STEM students","A679078",{"$f":"IFERROR(VLOOKUP(AG1442,AKT!$E$4:$G$351,3,FALSE),\"\")","v":"0942"}]
[{"$nulls":30},"A679078.731","Ublažavanje negativnih utjecaja klimatskih promjena na obradu voda površinskih akumulacija pri dobivanju vode na ljudsku potrošnju flokulacijom i ozoniranjem","A679078",{"$f":"IFERROR(VLOOKUP(AG1443,AKT!$E$4:$G$351,3,FALSE),\"\")","v":"0942"}]
[{"$nulls":30},"A679078.732","ESA RS4EST","A679078",{"$f":"IFERROR(VLOOKUP(AG1444,AKT!$E$4:$G$351,3,FALSE),\"\")","v":"0942"}]
[{"$nulls":30},"A679078.733","ESA-Eonatura","A679078",{"$f":"IFERROR(VLOOKUP(AG1445,AKT!$E$4:$G$351,3,FALSE),\"\")","v":"0942"}]
[{"$nulls":30},"A679078.734","ESA-CARBON","A679078",{"$f":"IFERROR(VLOOKUP(AG1446,AKT!$E$4:$G$351,3,FALSE),\"\")","v":"0942"}]
[{"$nulls":30},"A679078.735","ESA-URBAN","A679078",{"$f":"IFERROR(VLOOKUP(AG1447,AKT!$E$4:$G$351,3,FALSE),\"\")","v":"0942"}]
[{"$nulls":30},"A679078.736","ESA-AGRI","A679078",{"$f":"IFERROR(VLOOKUP(AG1448,AKT!$E$4:$G$351,3,FALSE),\"\")","v":"0942"}]
[{"$nulls":30},"A679078.737","LIDAR","A679078",{"$f":"IFERROR(VLOOKUP(AG1449,AKT!$E$4:$G$351,3,FALSE),\"\")","v":"0942"}]
[{"$nulls":30},"A679078.738","incept","A679078",{"$f":"IFERROR(VLOOKUP(AG1450,AKT!$E$4:$G$351,3,FALSE),\"\")","v":"0942"}]
[{"$nulls":30},"A679078.739","ESF BIMIS - Biomedicinsko istraživačko središte Šalata","A679078",{"$f":"IFERROR(VLOOKUP(AG1451,AKT!$E$4:$G$351,3,FALSE),\"\")","v":"0942"}]
[{"$nulls":30},"A679078.740","COST Harmonisation - Usklađivanje kliničke skrbi i istraživanja tumora nadbubrežne žlijezde u europskim zemljama","A679078",{"$f":"IFERROR(VLOOKUP(AG1452,AKT!$E$4:$G$351,3,FALSE),\"\")","v":"0942"}]
[{"$nulls":30},"A679078.741","Obzor Europe RadioVal - International Clinical Validation of Radiomics Artificial Intelligence for Breast Cancer Treatment Planning -","A679078",{"$f":"IFERROR(VLOOKUP(AG1453,AKT!$E$4:$G$351,3,FALSE),\"\")","v":"0942"}]
[{"$nulls":30},"A679078.742","ERA PerMed ArtiPro Artificial intelligence for personalised medicine in depression","A679078",{"$f":"IFERROR(VLOOKUP(AG1454,AKT!$E$4:$G$351,3,FALSE),\"\")","v":"0942"}]
[{"$nulls":30},"A679078.743","(Erasmus +) SCALPEL","A679078",{"$f":"IFERROR(VLOOKUP(AG1455,AKT!$E$4:$G$351,3,FALSE),\"\")","v":"0942"}]
[{"$nulls":30},"A679078.744","(Erasmus+) LEANBODY","A679078",{"$f":"IFERROR(VLOOKUP(AG1456,AKT!$E$4:$G$351,3,FALSE),\"\")","v":"0942"}]
[{"$nulls":30},"A679078.745","(Erasmus +) CP4T","A679078",{"$f":"IFERROR(VLOOKUP(AG1457,AKT!$E$4:$G$351,3,FALSE),\"\")","v":"0942"}]
[{"$nulls":30},"A679078.746","(Erasmus ) NEURODATA","A679078",{"$f":"IFERROR(VLOOKUP(AG1458,AKT!$E$4:$G$351,3,FALSE),\"\")","v":"0942"}]
[{"$nulls":30},"A679078.747","(Erasmus +) TranssMed","A679078",{"$f":"IFERROR(VLOOKUP(AG1459,AKT!$E$4:$G$351,3,FALSE),\"\")","v":"0942"}]
[{"$nulls":30},"A679078.748","(Erasmus+) RAPIDE - Relevant Assesment and Pedagogies for Inclusive Digital Education","A679078",{"$f":"IFERROR(VLOOKUP(AG1460,AKT!$E$4:$G$351,3,FALSE),\"\")","v":"0942"}]
[{"$nulls":30},"A679078.749","EDUMAKE, CREATIVE EUROPE INNOVATIVE LAB (EU)","A679078",{"$f":"IFERROR(VLOOKUP(AG1461,AKT!$E$4:$G$351,3,FALSE),\"\")","v":"0942"}]
[{"$nulls":30},"A679078.750","LEGITIMULT, HORIZON-CL2-2021-DEMOCRACY-01 (EU)","A679078",{"$f":"IFERROR(VLOOKUP(AG1462,AKT!$E$4:$G$351,3,FALSE),\"\")","v":"0942"}]
[{"$nulls":30},"A679078.751","EurOMo12, DG CONNECT (EU)","A679078",{"$f":"IFERROR(VLOOKUP(AG1463,AKT!$E$4:$G$351,3,FALSE),\"\")","v":"0942"}]
[{"$nulls":30},"A679078.752","PATRAPO, Jean Monnet, Erasmus+ (EU)","A679078",{"$f":"IFERROR(VLOOKUP(AG1464,AKT!$E$4:$G$351,3,FALSE),\"\")","v":"0942"}]
[{"$nulls":30},"A679078.753","Algorithmic Fairness for Asylum-Seekers and Refugees (AFAR)","A679078",{"$f":"IFERROR(VLOOKUP(AG1465,AKT!$E$4:$G$351,3,FALSE),\"\")","v":"0942"}]
[{"$nulls":30},"A679078.754","Protecting Irregular Migrants in Europe: Institutions, Interests and Policies (PRIME)","A679078",{"$f":"IFERROR(VLOOKUP(AG1466,AKT!$E$4:$G$351,3,FALSE),\"\")","v":"0942"}]
[{"$nulls":30},"A679078.755","EFFORTS","A679078",{"$f":"IFERROR(VLOOKUP(AG1467,AKT!$E$4:$G$351,3,FALSE),\"\")","v":"0942"}]
[{"$nulls":30},"A679078.756","Outreach: Inclusive and transformative Frameworks for All (Youthreach) ","A679078",{"$f":"IFERROR(VLOOKUP(AG1468,AKT!$E$4:$G$351,3,FALSE),\"\")","v":"0942"}]
[{"$nulls":30},"A679078.757","DG Just \"DigiRights\"","A679078",{"$f":"IFERROR(VLOOKUP(AG1469,AKT!$E$4:$G$351,3,FALSE),\"\")","v":"0942"}]
[{"$nulls":30},"A679078.758","rEUsilience - Risks, Resources and Inequalities: Increasing Resilience in European Families","A679078",{"$f":"IFERROR(VLOOKUP(AG1470,AKT!$E$4:$G$351,3,FALSE),\"\")","v":"0942"}]
[{"$nulls":30},"A679078.759","SCAN II","A679078",{"$f":"IFERROR(VLOOKUP(AG1471,AKT!$E$4:$G$351,3,FALSE),\"\")","v":"0942"}]
[{"$nulls":30},"A679078.760","CREA2","A679078",{"$f":"IFERROR(VLOOKUP(AG1472,AKT!$E$4:$G$351,3,FALSE),\"\")","v":"0942"}]
[{"$nulls":30},"A679078.761","Educational Capacity Strengthening for Risk Managment-RiskMan","A679078",{"$f":"IFERROR(VLOOKUP(AG1473,AKT!$E$4:$G$351,3,FALSE),\"\")","v":"0942"}]
[{"$nulls":30},"A679078.762","Napredni sustav motrenja agroekosustava i riziku od zasplanjivanja i onečišćenja","A679078",{"$f":"IFERROR(VLOOKUP(AG1474,AKT!$E$4:$G$351,3,FALSE),\"\")","v":"0942"}]
[{"$nulls":30},"A679078.763","ERASMUM Capacity buliding in higer education","A679078",{"$f":"IFERROR(VLOOKUP(AG1475,AKT!$E$4:$G$351,3,FALSE),\"\")","v":"0942"}]
[{"$nulls":30},"A679078.764","Erasmus+ \"BOOMER\"","A679078",{"$f":"IFERROR(VLOOKUP(AG1476,AKT!$E$4:$G$351,3,FALSE),\"\")","v":"0942"}]
[{"$nulls":30},"A679078.765","Erasmus+ \"LIGHT CODE\"","A679078",{"$f":"IFERROR(VLOOKUP(AG1477,AKT!$E$4:$G$351,3,FALSE),\"\")","v":"0942"}]
[{"$nulls":30},"A679078.766","Erasmus+ SEgoesGREEN","A679078",{"$f":"IFERROR(VLOOKUP(AG1478,AKT!$E$4:$G$351,3,FALSE),\"\")","v":"0942"}]
[{"$nulls":30},"A679078.767","Erasmus+ \"VOIS - Virtual Open  Innnovation Environment for SMEs\"","A679078",{"$f":"IFERROR(VLOOKUP(AG1479,AKT!$E$4:$G$351,3,FALSE),\"\")","v":"0942"}]
[{"$nulls":30},"A679078.768","Erasmus+ \"Building the Universities of the Future through Social Innovation Education - BUFSIE\"","A679078",{"$f":"IFERROR(VLOOKUP(AG1480,AKT!$E$4:$G$351,3,FALSE),\"\")","v":"0942"}]
[{"$nulls":30},"A679078.769","Erasmus+ \"Promoting social entrepreneurship in higher education for a prosperous society - PROSPER\"",{"$f":"LEFT(AE1481,7)","v":"A679078"},{"$f":"IFERROR(VLOOKUP(AG1481,AKT!$E$4:$G$351,3,FALSE),\"\")","v":"0942"}]
[{"$nulls":30},"A679078.770","Erasmus+ \"Sustainble Development Goals in education and in action! (ESDGs!)","A679078",{"$f":"IFERROR(VLOOKUP(AG1482,AKT!$E$4:$G$351,3,FALSE),\"\")","v":"0942"}]
[{"$nulls":30},"A679078.771","ERASMUS+ KA220-HED-902E85CF-EDUCATORE","A679078",{"$f":"IFERROR(VLOOKUP(AG1483,AKT!$E$4:$G$351,3,FALSE),\"\")","v":"0942"}]
[{"$nulls":30},"A679078.772","ERASMUS+ KA220-SCH-000024606-TAT","A679078",{"$f":"IFERROR(VLOOKUP(AG1484,AKT!$E$4:$G$351,3,FALSE),\"\")","v":"0942"}]
[{"$nulls":30},"A679078.773","ERASMUS+ KA220-SCH-000034443–CARE2LEARN","A679078",{"$f":"IFERROR(VLOOKUP(AG1485,AKT!$E$4:$G$351,3,FALSE),\"\")","v":"0942"}]
[{"$nulls":30},"A679078.774","ERASMUS+ KA220-SCH-000024512-GIFTED","A679078",{"$f":"IFERROR(VLOOKUP(AG1486,AKT!$E$4:$G$351,3,FALSE),\"\")","v":"0942"}]
[{"$nulls":30},"A679078.775","DIAMAS-Developing Institutional open Acess oublishing Modeels to Advance Scholary communication","A679078",{"$f":"IFERROR(VLOOKUP(AG1487,AKT!$E$4:$G$351,3,FALSE),\"\")","v":"0942"}]
[{"$nulls":30},"A679078.776","SLIDE- service-Learning as a pedagogyy to promote Inciusion","A679078",{"$f":"IFERROR(VLOOKUP(AG1488,AKT!$E$4:$G$351,3,FALSE),\"\")","v":"0942"}]
[{"$nulls":30},"A679078.777","e-SL4EU-e-Service Learning for more digital and inclusive EU Higher Eduucation system","A679078",{"$f":"IFERROR(VLOOKUP(AG1489,AKT!$E$4:$G$351,3,FALSE),\"\")","v":"0942"}]
[{"$nulls":30},"A679078.778","Research into representations of intercultural contacts in Czech travelogue texts from the Mediterranean up to 1918, using digital humanities","A679078",{"$f":"IFERROR(VLOOKUP(AG1490,AKT!$E$4:$G$351,3,FALSE),\"\")","v":"0942"}]
[{"$nulls":30},"A679078.779","CultHera","A679078",{"$f":"IFERROR(VLOOKUP(AG1491,AKT!$E$4:$G$351,3,FALSE),\"\")","v":"0942"}]
[{"$nulls":30},"A679078.780","CRODO-EDMO (Croatian Digital Observatory","A679078",{"$f":"IFERROR(VLOOKUP(AG1492,AKT!$E$4:$G$351,3,FALSE),\"\")","v":"0942"}]
[{"$nulls":30},"A679078.781","CAPONEU - The Cartography of Political Novel in Europe","A679078",{"$f":"IFERROR(VLOOKUP(AG1493,AKT!$E$4:$G$351,3,FALSE),\"\")","v":"0942"}]
[{"$nulls":30},"A679078.782","FRONTLINE POLITEA","A679078",{"$f":"IFERROR(VLOOKUP(AG1494,AKT!$E$4:$G$351,3,FALSE),\"\")","v":"0942"}]
[{"$nulls":30},"A679078.783","FRONTLINE POLITEA","A679078",{"$f":"IFERROR(VLOOKUP(AG1495,AKT!$E$4:$G$351,3,FALSE),\"\")","v":"0942"}]
[{"$nulls":30},"A679078.784","Erasmus+ INTERDISCIPLINARY DIALOGUE","A679078",{"$f":"IFERROR(VLOOKUP(AG1496,AKT!$E$4:$G$351,3,FALSE),\"\")","v":"0942"}]
[{"$nulls":30},"A679078.785","Centar za međumolekularne interakcije u farmaciji","A679078",{"$f":"IFERROR(VLOOKUP(AG1497,AKT!$E$4:$G$351,3,FALSE),\"\")","v":"0942"}]
[{"$nulls":30},"A679078.786","Bikrobiocentar","A679078",{"$f":"IFERROR(VLOOKUP(AG1498,AKT!$E$4:$G$351,3,FALSE),\"\")","v":"0942"}]
[{"$nulls":30},"A679078.787","Actions for appropriate management of wolves in human dominated landscapes of Europe-LIFE BOLD WOLF","A679078",{"$f":"IFERROR(VLOOKUP(AG1499,AKT!$E$4:$G$351,3,FALSE),\"\")","v":"0942"}]
[{"$nulls":30},"A679078.788","Best practices and inovations for a sustainable beekeeping in Europe B-THENET Thematic networ","A679078",{"$f":"IFERROR(VLOOKUP(AG1500,AKT!$E$4:$G$351,3,FALSE),\"\")","v":"0942"}]
[{"$nulls":30},"A679078.789","RIS Internship","A679078",{"$f":"IFERROR(VLOOKUP(AG1501,AKT!$E$4:$G$351,3,FALSE),\"\")","v":"0942"}]
[{"$nulls":30},"A679078.790","RECO2MAG - Grain boundaries engineered Nd-Fe-B permanent magnets","A679078",{"$f":"IFERROR(VLOOKUP(AG1502,AKT!$E$4:$G$351,3,FALSE),\"\")","v":"0942"}]
[{"$nulls":30},"A679078.791","EMERALDINHO - Stimulating Innovation and Entrepreneurship in Resources Engineering","A679078",{"$f":"IFERROR(VLOOKUP(AG1503,AKT!$E$4:$G$351,3,FALSE),\"\")","v":"0942"}]
[{"$nulls":30},"A679078.792","TIMREX T-Shaped Master Programme for Innovative Mineral Resource Exploration","A679078",{"$f":"IFERROR(VLOOKUP(AG1504,AKT!$E$4:$G$351,3,FALSE),\"\")","v":"0942"}]
[{"$nulls":30},"A679078.793","Agile Exploration and Geo-modelling for European Critical Raw materials (AGEMERA)","A679078",{"$f":"IFERROR(VLOOKUP(AG1505,AKT!$E$4:$G$351,3,FALSE),\"\")","v":"0942"}]
[{"$nulls":30},"A679078.794","Circular Economy Lab  Observatory (CiELO)","A679078",{"$f":"IFERROR(VLOOKUP(AG1506,AKT!$E$4:$G$351,3,FALSE),\"\")","v":"0942"}]
[{"$nulls":30},"A679078.795","Geothermal Energy Capacity Building in Egypt (GEB)","A679078",{"$f":"IFERROR(VLOOKUP(AG1507,AKT!$E$4:$G$351,3,FALSE),\"\")","v":"0942"}]
[{"$nulls":30},"A679078.796","Erasmus Mundus Joint Master in Sustainable Mineral and Metal Processing Engineering (EMJM PROMISE)","A679078",{"$f":"IFERROR(VLOOKUP(AG1508,AKT!$E$4:$G$351,3,FALSE),\"\")","v":"0942"}]
[{"$nulls":30},"A679078.797","Partnership for european research in radiation protection and detection of ionising radiation : towards a safer use and improved protection of the environment and human health (PIANOFORTE)","A679078",{"$f":"IFERROR(VLOOKUP(AG1509,AKT!$E$4:$G$351,3,FALSE),\"\")","v":"0942"}]
[{"$nulls":30},"A679078.798","ERASMUS+ RAPIDE","A679078",{"$f":"IFERROR(VLOOKUP(AG1510,AKT!$E$4:$G$351,3,FALSE),\"\")","v":"0942"}]
[{"$nulls":30},"A679078.799","ERASMUS+ BEE WITH APEX","A679078",{"$f":"IFERROR(VLOOKUP(AG1511,AKT!$E$4:$G$351,3,FALSE),\"\")","v":"0942"}]
[{"$nulls":30},"A679078.800","ERASMUS+ DEMO DIGITAL PLATFORM ENTERPRISE","A679078",{"$f":"IFERROR(VLOOKUP(AG1512,AKT!$E$4:$G$351,3,FALSE),\"\")","v":"0942"}]
[{"$nulls":30},"A679078.801","Digital Missions for Care Social Economy's Resilience - DIMCARE","A679078",{"$f":"IFERROR(VLOOKUP(AG1513,AKT!$E$4:$G$351,3,FALSE),\"\")","v":"0942"}]
[{"$nulls":30},"A679078.802","OOP4FUN Erasmus","A679078",{"$f":"IFERROR(VLOOKUP(AG1514,AKT!$E$4:$G$351,3,FALSE),\"\")","v":"0942"}]
[{"$nulls":30},"A679078.803","RAISING AWARENESS CAMPAIGN FOR SMES II - ARC II","A679078",{"$f":"IFERROR(VLOOKUP(AG1515,AKT!$E$4:$G$351,3,FALSE),\"\")","v":"0942"}]
[{"$nulls":30},"A679078.804","FULL STEAM AHEAD","A679078",{"$f":"IFERROR(VLOOKUP(AG1516,AKT!$E$4:$G$351,3,FALSE),\"\")","v":"0942"}]
[{"$nulls":30},"A679078.805","ERASMUS+ iLed","A679078",{"$f":"IFERROR(VLOOKUP(AG1517,AKT!$E$4:$G$351,3,FALSE),\"\")","v":"0942"}]
[{"$nulls":30},"A679078.806","Systems","A679078",{"$f":"IFERROR(VLOOKUP(AG1518,AKT!$E$4:$G$351,3,FALSE),\"\")","v":"0942"}]
[{"$nulls":30},"A679078.807","ERASMUS+ RAPIDE 2020-1-HR01-KA226-HE-094677","A679078",{"$f":"IFERROR(VLOOKUP(AG1519,AKT!$E$4:$G$351,3,FALSE),\"\")","v":"0942"}]
[{"$nulls":30},"A679078.808","ERASMUS+ ZEEWASTE4EU 2021-1-HR01-KA220-HED-000023012","A679078",{"$f":"IFERROR(VLOOKUP(AG1520,AKT!$E$4:$G$351,3,FALSE),\"\")","v":"0942"}]
[{"$nulls":30},"A679078.809","ERAMUS+ DG FARMER 2021-1-HR01-KA220-VET-000033253","A679078",{"$f":"IFERROR(VLOOKUP(AG1521,AKT!$E$4:$G$351,3,FALSE),\"\")","v":"0942"}]
[{"$nulls":30},"A679078.810","ERASMUS+2022-1-HR01-KA171-HED-000075002","A679078",{"$f":"IFERROR(VLOOKUP(AG1522,AKT!$E$4:$G$351,3,FALSE),\"\")","v":"0942"}]
[{"$nulls":30},"A679078.811","H2020-The European PILOT-Pilot koji koristi neovisne lokalne i otvorene tehnologije","A679078",{"$f":"IFERROR(VLOOKUP(AG1523,AKT!$E$4:$G$351,3,FALSE),\"\")","v":"0942"}]
[{"$nulls":30},"A679078.812","H2020-EUPEX-Europski pilot za egzaskalarno doba","A679078",{"$f":"IFERROR(VLOOKUP(AG1524,AKT!$E$4:$G$351,3,FALSE),\"\")","v":"0942"}]
[{"$nulls":30},"A679078.813","Ostali-RailTwin-Pametni dizajn i proizvodnja u željezničkoj industriji zasnovana na konceptu digitalnog blizanca","A679078",{"$f":"IFERROR(VLOOKUP(AG1525,AKT!$E$4:$G$351,3,FALSE),\"\")","v":"0942"}]
[{"$nulls":30},"A679078.814","Ostali-LowBackPain-Impedancijska spektroskopija lumbalnih mišića temeljena na višefrekvencijskoj pobudi","A679078",{"$f":"IFERROR(VLOOKUP(AG1526,AKT!$E$4:$G$351,3,FALSE),\"\")","v":"0942"}]
[{"$nulls":30},"A679078.815","Ostali-METEOR-Brza dijagnostika pomoću mikrovalnog grijanja epruveta","A679078",{"$f":"IFERROR(VLOOKUP(AG1527,AKT!$E$4:$G$351,3,FALSE),\"\")","v":"0942"}]
[{"$nulls":30},"A679078.816","Ostali-MARI-Sense-Pomorski kognitivni sustav za potporu odlučivanju","A679078",{"$f":"IFERROR(VLOOKUP(AG1528,AKT!$E$4:$G$351,3,FALSE),\"\")","v":"0942"}]
[{"$nulls":30},"A679078.817","Ostali-SOLAR FER-Fotonaponski sustav za proizvodnju električne energije za vlastite potrebe u mrežnom radu SE-FER-005 – Faza 1","A679078",{"$f":"IFERROR(VLOOKUP(AG1529,AKT!$E$4:$G$351,3,FALSE),\"\")","v":"0942"}]
[{"$nulls":30},"A679078.818","Erasmus+ IFRoS-Inteligentni terenski robotski sustavi","A679078",{"$f":"IFERROR(VLOOKUP(AG1530,AKT!$E$4:$G$351,3,FALSE),\"\")","v":"0942"}]
[{"$nulls":30},"A679078.819","H2020-EPI SGA2-Inicijativa za europski procesor (faza 2)","A679078",{"$f":"IFERROR(VLOOKUP(AG1531,AKT!$E$4:$G$351,3,FALSE),\"\")","v":"0942"}]
[{"$nulls":30},"A679078.820","HORIZON-MONUSEN-Crnogorski centar za podvodne senzorske mreže","A679078",{"$f":"IFERROR(VLOOKUP(AG1532,AKT!$E$4:$G$351,3,FALSE),\"\")","v":"0942"}]
[{"$nulls":30},"A679078.821","ESF - ARS-MECH - ARS MECHANICA za nove kompetencije","A679078",{"$f":"IFERROR(VLOOKUP(AG1533,AKT!$E$4:$G$351,3,FALSE),\"\")","v":"0942"}]
[{"$nulls":30},"A679078.822","ESF - MOV - Medijsko obrazovanje je važno","A679078",{"$f":"IFERROR(VLOOKUP(AG1534,AKT!$E$4:$G$351,3,FALSE),\"\")","v":"0942"}]
[{"$nulls":30},"A679078.823","ESF - METAR - METAR do bolje klime (Mreža za edukaciju, tranziciju, adaptaciju i razvoj)","A679078",{"$f":"IFERROR(VLOOKUP(AG1535,AKT!$E$4:$G$351,3,FALSE),\"\")","v":"0942"}]
[{"$nulls":30},"A679078.824","ESF - DodTeh - Dodir tehnologije","A679078",{"$f":"IFERROR(VLOOKUP(AG1536,AKT!$E$4:$G$351,3,FALSE),\"\")","v":"0942"}]
[{"$nulls":30},"A679078.825","ESF - RuZ - Rasti uz znanost","A679078",{"$f":"IFERROR(VLOOKUP(AG1537,AKT!$E$4:$G$351,3,FALSE),\"\")","v":"0942"}]
[{"$nulls":30},"A679078.826","ESF - IDZ -Istraživanjem do znanja","A679078",{"$f":"IFERROR(VLOOKUP(AG1538,AKT!$E$4:$G$351,3,FALSE),\"\")","v":"0942"}]
[{"$nulls":30},"A679078.827","ESF - STEM_COMM - STEM u zajednici","A679078",{"$f":"IFERROR(VLOOKUP(AG1539,AKT!$E$4:$G$351,3,FALSE),\"\")","v":"0942"}]
[{"$nulls":30},"A679078.828","ESF - SPARK - Sinergija prirodoslovaca, astronoma, računaraca Križevaca","A679078",{"$f":"IFERROR(VLOOKUP(AG1540,AKT!$E$4:$G$351,3,FALSE),\"\")","v":"0942"}]
[{"$nulls":30},"A679078.829","EFRR - HEKTOR-Heterogeni autonomni robotski sustav u vinogradarstvu i marikulturi","A679078",{"$f":"IFERROR(VLOOKUP(AG1541,AKT!$E$4:$G$351,3,FALSE),\"\")","v":"0942"}]
[{"$nulls":30},"A679078.830","EFRR - IoT-polje-Ekosustav umreženih uređaja i usluga za Internet stvari s primjenom u poljoprivredi","A679078",{"$f":"IFERROR(VLOOKUP(AG1542,AKT!$E$4:$G$351,3,FALSE),\"\")","v":"0942"}]
[{"$nulls":30},"A679078.831","EFRR-USBSE-Umreženi stacionarni baterijski spremnici energije","A679078",{"$f":"IFERROR(VLOOKUP(AG1543,AKT!$E$4:$G$351,3,FALSE),\"\")","v":"0942"}]
[{"$nulls":30},"A679078.832","EFRR - ZaCjel-Zaštita cjelovitosti konstrukcija u energetici i transportu","A679078",{"$f":"IFERROR(VLOOKUP(AG1544,AKT!$E$4:$G$351,3,FALSE),\"\")","v":"0942"}]
[{"$nulls":30},"A679078.833","EFRR - MUNIVO  - Razvoj MUltifunkcionalnog NIskopodnog Vozila",{"$f":"LEFT(AE1545,7)","v":"A679078"},{"$f":"IFERROR(VLOOKUP(AG1545,AKT!$E$4:$G$351,3,FALSE),\"\")","v":"0942"}]
[{"$nulls":30},"A679078.834","EFRR - IOTSIEMENS-Primjena umjetne inteligencije u naprednim prediktivnim tehnologijama on-line nadzora kvalitete vode","A679078",{"$f":"IFERROR(VLOOKUP(AG1546,AKT!$E$4:$G$351,3,FALSE),\"\")","v":"0942"}]
[{"$nulls":30},"A679078.835","KARTIRANJE PRIOBALNOG POJASA RH","A679078",{"$f":"IFERROR(VLOOKUP(AG1547,AKT!$E$4:$G$351,3,FALSE),\"\")","v":"0942"}]
[{"$nulls":30},"A679078.836","IGT","A679078",{"$f":"IFERROR(VLOOKUP(AG1548,AKT!$E$4:$G$351,3,FALSE),\"\")","v":"0942"}]
[{"$nulls":30},"A679078.837","ERASMUS+ SUSTAIN4VET 2021-1-HR01-KA220-VET-000025498","A679078",{"$f":"IFERROR(VLOOKUP(AG1549,AKT!$E$4:$G$351,3,FALSE),\"\")","v":"0942"}]
[{"$nulls":30},"A679078.838","ERASMUS+ INNOVATING LEARNING DESIGN 2022-1-HR01-KA220-HED-000085818","A679078",{"$f":"IFERROR(VLOOKUP(AG1550,AKT!$E$4:$G$351,3,FALSE),\"\")","v":"0942"}]
[{"$nulls":30},"A679078.839","H2020-AIFORS-ERA istraživačka grupa za umjetnu inteligenciju za robotiku","A679078",{"$f":"IFERROR(VLOOKUP(AG1551,AKT!$E$4:$G$351,3,FALSE),\"\")","v":"0942"}]
[{"$nulls":30},"A679078.840","H2020-AIFORS-ERA istraživačka grupa za umjetnu inteligenciju za robotiku","A679078",{"$f":"IFERROR(VLOOKUP(AG1552,AKT!$E$4:$G$351,3,FALSE),\"\")","v":"0942"}]
[{"$nulls":30},"A679078.841","H2020 AIFORS ERA istraživačka grupa za umjetnu inteligenciju za robotiku","A679078",{"$f":"IFERROR(VLOOKUP(AG1553,AKT!$E$4:$G$351,3,FALSE),\"\")","v":"0942"}]
[{"$nulls":30},"A679078.842","H2020-FunTomp-Funcionalni proizvodi od rajčice","A679078",{"$f":"IFERROR(VLOOKUP(AG1554,AKT!$E$4:$G$351,3,FALSE),\"\")","v":"0942"}]
[{"$nulls":30},"A679078.843","H2020 The European PILOT Pilot koji koristi neovisne lokalne i otvorene tehnologije","A679078",{"$f":"IFERROR(VLOOKUP(AG1555,AKT!$E$4:$G$351,3,FALSE),\"\")","v":"0942"}]
[{"$nulls":30},"A679078.844","H2020 EUPEX Europski pilot za egzaskalarno doba","A679078",{"$f":"IFERROR(VLOOKUP(AG1556,AKT!$E$4:$G$351,3,FALSE),\"\")","v":"0942"}]
[{"$nulls":30},"A679078.845","RailTwin Pametni dizajn i proizvodnja u željezničkoj industriji zasnovana na konceptu digitalnog blizanca","A679078",{"$f":"IFERROR(VLOOKUP(AG1557,AKT!$E$4:$G$351,3,FALSE),\"\")","v":"0942"}]
[{"$nulls":30},"A679078.846","LowBackPain Impedancijska spektroskopija lumbalnih mišića temeljena na višefrekvencijskoj pobudi","A679078",{"$f":"IFERROR(VLOOKUP(AG1558,AKT!$E$4:$G$351,3,FALSE),\"\")","v":"0942"}]
[{"$nulls":30},"A679078.847","METEOR Brza dijagnostika pomoću mikrovalnog grijanja epruveta","A679078",{"$f":"IFERROR(VLOOKUP(AG1559,AKT!$E$4:$G$351,3,FALSE),\"\")","v":"0942"}]
[{"$nulls":30},"A679078.848","SOLAR FER Fotonaponski sustav za proizvodnju električne energije za vlastite potrebe u mrežnom radu SE FER 005 Faza 1","A679078",{"$f":"IFERROR(VLOOKUP(AG1560,AKT!$E$4:$G$351,3,FALSE),\"\")","v":"0942"}]
[{"$nulls":30},"A679078.849","H2020 EPI SGA2 Inicijativa za europski procesor (faza 2)","A679078",{"$f":"IFERROR(VLOOKUP(AG1561,AKT!$E$4:$G$351,3,FALSE),\"\")","v":"0942"}]
[{"$nulls":30},"A679078.850","HORIZON MONUSEN Crnogorski centar za podvodne senzorske mreže","A679078",{"$f":"IFERROR(VLOOKUP(AG1562,AKT!$E$4:$G$351,3,FALSE),\"\")","v":"0942"}]
[{"$nulls":30},"A679078.851","ERASMUS+ - INA-CODE - Inovativni pristup kodiranju u digitalnoj eri","A679078",{"$f":"IFERROR(VLOOKUP(AG1563,AKT!$E$4:$G$351,3,FALSE),\"\")","v":"0942"}]
[{"$nulls":30},"A679078.852","RaSTEM - Regionalni znanstveni centar - RaSTEM","A679078",{"$f":"IFERROR(VLOOKUP(AG1564,AKT!$E$4:$G$351,3,FALSE),\"\")","v":"0942"}]
[{"$nulls":30},"A679078.853","ESF - STEM - STEM za bolji svijet","A679078",{"$f":"IFERROR(VLOOKUP(AG1565,AKT!$E$4:$G$351,3,FALSE),\"\")","v":"0942"}]
[{"$nulls":30},"A679078.854","ERASMUS+ - MASK - Pomorski roboti za bolju svijest o poznavanju mora","A679078",{"$f":"IFERROR(VLOOKUP(AG1566,AKT!$E$4:$G$351,3,FALSE),\"\")","v":"0942"}]
[{"$nulls":30},"A679078.855","HORIZON - AeroSTREAM - Ojačavanje istraživačkih i inovativnih kapaciteta u području autonomnih bespilotnih letjelica","A679078",{"$f":"IFERROR(VLOOKUP(AG1567,AKT!$E$4:$G$351,3,FALSE),\"\")","v":"0942"}]
[{"$nulls":30},"A679078.856","ERASMUS+ - Play2Green - Ozbiljno igranje za univerzalni pristup zelenom obrazovanju","A679078",{"$f":"IFERROR(VLOOKUP(AG1568,AKT!$E$4:$G$351,3,FALSE),\"\")","v":"0942"}]
[{"$nulls":30},"A679078.857","HORIZON - TRANSIT - Prijelaz u održivu budućnost kroz osposobljavanje i obrazovanje","A679078",{"$f":"IFERROR(VLOOKUP(AG1569,AKT!$E$4:$G$351,3,FALSE),\"\")","v":"0942"}]
[{"$nulls":30},"A679078.858","ERASMUS+ - edulDT - Primjena uključivog dizajnerskog razmišljanja u predmetima tehničkog usmjerenja na visokom učilištu","A679078",{"$f":"IFERROR(VLOOKUP(AG1570,AKT!$E$4:$G$351,3,FALSE),\"\")","v":"0942"}]
[{"$nulls":30},"A679078.859","EMISArray - Napredni nizovi elektromagnetskih induktivnih senzora za brzu detekciju ukopanih eksplozivnih objekata sa sigurne udaljenosti","A679078",{"$f":"IFERROR(VLOOKUP(AG1571,AKT!$E$4:$G$351,3,FALSE),\"\")","v":"0942"}]
[{"$nulls":30},"A679078.860","NOFSTAB - Univerzalna teorija stabilnosti nefosterovskih i vremenski promjenjivih elemenata","A679078",{"$f":"IFERROR(VLOOKUP(AG1572,AKT!$E$4:$G$351,3,FALSE),\"\")","v":"0942"}]
[{"$nulls":30},"A679078.861","EDF - EPIIC - Napredna pilotska sučelja i interakcije za kabinu borbenog zrakoplova","A679078",{"$f":"IFERROR(VLOOKUP(AG1573,AKT!$E$4:$G$351,3,FALSE),\"\")","v":"0942"}]
[{"$nulls":30},"A679078.862","ERASMUS+ - RoboAquaria - Roboti u vodenom okolišu za promicanje STEM-a i ekološke svijesti","A679078",{"$f":"IFERROR(VLOOKUP(AG1574,AKT!$E$4:$G$351,3,FALSE),\"\")","v":"0942"}]
[{"$nulls":30},"A679078.863","HORIZON - AIoTwin - Twinning-akcija za širenje izvrsnosti u primjeni umjetne inteligencije za Internet stvari","A679078",{"$f":"IFERROR(VLOOKUP(AG1575,AKT!$E$4:$G$351,3,FALSE),\"\")","v":"0942"}]
[{"$nulls":30},"A679078.864","DIGITAL - CROBOHUBplusplus - Podrška hrvatskoj industriji i društvu – Europsko inovacijsko središte (EDIH)","A679078",{"$f":"IFERROR(VLOOKUP(AG1576,AKT!$E$4:$G$351,3,FALSE),\"\")","v":"0942"}]
[{"$nulls":30},"A679078.865","DIGITAL - ADMO -  EDMO Jadranski opservatorij digitalnih medija","A679078",{"$f":"IFERROR(VLOOKUP(AG1577,AKT!$E$4:$G$351,3,FALSE),\"\")","v":"0942"}]
[{"$nulls":30},"A679078.866","HORIZON - AI4SoilHealth - Ubrzavanje prikupljanja i upotrebe informacija o zdravlju tla korištenjem AI tehnologije za podršku Soil Deal for Europe i EU Soil Observatory","A679078",{"$f":"IFERROR(VLOOKUP(AG1578,AKT!$E$4:$G$351,3,FALSE),\"\")","v":"0942"}]
[{"$nulls":30},"A679078.867","HORIZON - ICSEfactory - ICSE Znanstvena tvornica","A679078",{"$f":"IFERROR(VLOOKUP(AG1579,AKT!$E$4:$G$351,3,FALSE),\"\")","v":"0942"}]
[{"$nulls":30},"A679078.868","H2020 - True8DIGIT - Prema pravom digitalizatoru s 8 znamenki","A679078",{"$f":"IFERROR(VLOOKUP(AG1580,AKT!$E$4:$G$351,3,FALSE),\"\")","v":"0942"}]
[{"$nulls":30},"A679078.869","EDF - EICACS - Europska inicijativa za standardizaciju kolaborativne zračne borbe","A679078",{"$f":"IFERROR(VLOOKUP(AG1581,AKT!$E$4:$G$351,3,FALSE),\"\")","v":"0942"}]
[{"$nulls":30},"A679078.870","EDF - AGAMI_EURIGAMI - Europska inovativna integracija naprednih GaN mikrovanih komponenti","A679078",{"$f":"IFERROR(VLOOKUP(AG1582,AKT!$E$4:$G$351,3,FALSE),\"\")","v":"0942"}]
[{"$nulls":30},"A679078.871","HORIZON - SeaTecHub - Hrvatsko-ciparsko središte izvrsnosti o eko-inovativnim tehnologijama za zdrava i produktivna mora","A679078",{"$f":"IFERROR(VLOOKUP(AG1583,AKT!$E$4:$G$351,3,FALSE),\"\")","v":"0942"}]
[{"$nulls":30},"A679078.872","HORIZON - FoodMAPP - Lokalna opskrba hranom komunicirana putem aplikacije temeljene na karti (FoodMAPP) za promicanje kratkih lanaca opskrbe hranom sigurnost hrane razvoj poslovanja i smanjenje bacanja hrane","A679078",{"$f":"IFERROR(VLOOKUP(AG1584,AKT!$E$4:$G$351,3,FALSE),\"\")","v":"0942"}]
[{"$nulls":30},"A679078.873","HORIZON - FITNESS - Fleksibilna inteligentna koža za mjerenje bliskog polja","A679078",{"$f":"IFERROR(VLOOKUP(AG1585,AKT!$E$4:$G$351,3,FALSE),\"\")","v":"0942"}]
[{"$nulls":30},"A679078.874","HORIZON - UWIN-LABUST - ERA katedra za Internet podvodnih stvari u LABUST-u","A679078",{"$f":"IFERROR(VLOOKUP(AG1586,AKT!$E$4:$G$351,3,FALSE),\"\")","v":"0942"}]
[{"$nulls":30},"A679078.875","DIGITAL - CroQCI - Hrvatska Infrastruktura za Kvantne Komunikacije","A679078",{"$f":"IFERROR(VLOOKUP(AG1587,AKT!$E$4:$G$351,3,FALSE),\"\")","v":"0942"}]
[{"$nulls":30},"A679078.876","DATACROSS -Napredne metode tehnologije u znanosti o podacima I kooperativnim sustavima","A679078",{"$f":"IFERROR(VLOOKUP(AG1588,AKT!$E$4:$G$351,3,FALSE),\"\")","v":"0942"}]
[{"$nulls":30},"A679078.877","Pomorski roboti za bolju svijest o poznavanju mora","A679078",{"$f":"IFERROR(VLOOKUP(AG1589,AKT!$E$4:$G$351,3,FALSE),\"\")","v":"0942"}]
[{"$nulls":30},"A679078.878","Play2Green - Ozbiljno igranje za univerzalni pristup zelenom obrazovanju","A679078",{"$f":"IFERROR(VLOOKUP(AG1590,AKT!$E$4:$G$351,3,FALSE),\"\")","v":"0942"}]
[{"$nulls":30},"A679078.879","Podrška hrvatskoj industriji i društvu - Europsko inovacijsko središte (EDIH)","A679078",{"$f":"IFERROR(VLOOKUP(AG1591,AKT!$E$4:$G$351,3,FALSE),\"\")","v":"0942"}]
[{"$nulls":30},"A679078.880","DIGITAL - CroQCI - Hrvatska Infrastruktura za Kvantne Komunikacije","A679078",{"$f":"IFERROR(VLOOKUP(AG1592,AKT!$E$4:$G$351,3,FALSE),\"\")","v":"0942"}]
[{"$nulls":30},"A679078.881","Empowering the Water-Energy-Food Nexus by incorporating biodiversity and climate awareness (WatNex)","A679078",{"$f":"IFERROR(VLOOKUP(AG1593,AKT!$E$4:$G$351,3,FALSE),\"\")","v":"0942"}]
[{"$nulls":30},"A679078.882","2D-MBL- QPsyst","A679078",{"$f":"IFERROR(VLOOKUP(AG1594,AKT!$E$4:$G$351,3,FALSE),\"\")","v":"0942"}]
[{"$nulls":30},"A679078.883","Improve River LIFE","A679078",{"$f":"IFERROR(VLOOKUP(AG1595,AKT!$E$4:$G$351,3,FALSE),\"\")","v":"0942"}]
[{"$nulls":30},"A679078.884","ICSE Science Factory","A679078",{"$f":"IFERROR(VLOOKUP(AG1596,AKT!$E$4:$G$351,3,FALSE),\"\")","v":"0942"}]
[{"$nulls":30},"A679078.885","Biodiversity Genomics Europe (BGE)","A679078",{"$f":"IFERROR(VLOOKUP(AG1597,AKT!$E$4:$G$351,3,FALSE),\"\")","v":"0942"}]
[{"$nulls":30},"A679078.886","MIcrobe-synthesised DNA NAnostructures for DIsplay-controlled Storage Cartridges (MI-DNA DISC)","A679078",{"$f":"IFERROR(VLOOKUP(AG1598,AKT!$E$4:$G$351,3,FALSE),\"\")","v":"0942"}]
[{"$nulls":30},"A679078.887","Academics4Rail","A679078",{"$f":"IFERROR(VLOOKUP(AG1599,AKT!$E$4:$G$351,3,FALSE),\"\")","v":"0942"}]
[{"$nulls":30},"A679078.888","Rail Interlocking System Simulation (RISS)","A679078",{"$f":"IFERROR(VLOOKUP(AG1600,AKT!$E$4:$G$351,3,FALSE),\"\")","v":"0942"}]
[{"$nulls":30},"A679078.889","Development of Vocational Training of High-Speed Train Maintenance (HST)","A679078",{"$f":"IFERROR(VLOOKUP(AG1601,AKT!$E$4:$G$351,3,FALSE),\"\")","v":"0942"}]
[{"$nulls":30},"A679078.890","REALLOCATE - Rethinking the dEsign of streets And pubLic spaces to Leverage the mOdal shift to Climate-friendly Active Transport Everywhere","A679078",{"$f":"IFERROR(VLOOKUP(AG1602,AKT!$E$4:$G$351,3,FALSE),\"\")","v":"0942"}]
[{"$nulls":30},"A679078.891","Last-Mile Green and Safety Skills in Urban Logistics","A679078",{"$f":"IFERROR(VLOOKUP(AG1603,AKT!$E$4:$G$351,3,FALSE),\"\")","v":"0942"}]
[{"$nulls":30},"A679078.892","TRENDLINE","A679078",{"$f":"IFERROR(VLOOKUP(AG1604,AKT!$E$4:$G$351,3,FALSE),\"\")","v":"0942"}]
[{"$nulls":30},"A679078.893","EurosaP II - European Road Safety Partnership - Network Wide Road Assessment","A679078",{"$f":"IFERROR(VLOOKUP(AG1605,AKT!$E$4:$G$351,3,FALSE),\"\")","v":"0942"}]
[{"$nulls":30},"A679078.894","ELABORATOR: The European Living Lab on designing sustainable urban mobility towards climate neutral cities","A679078",{"$f":"IFERROR(VLOOKUP(AG1606,AKT!$E$4:$G$351,3,FALSE),\"\")","v":"0942"}]
[{"$nulls":30},"A679078.895","IVORY - Ai for Vision Zero in Road Safety","A679078",{"$f":"IFERROR(VLOOKUP(AG1607,AKT!$E$4:$G$351,3,FALSE),\"\")","v":"0942"}]
[{"$nulls":30},"A679078.896","Hrvatska kvantna komunikacijska infrastruktura - CROQCI","A679078",{"$f":"IFERROR(VLOOKUP(AG1608,AKT!$E$4:$G$351,3,FALSE),\"\")","v":"0942"}]
[{"$nulls":30},"A679078.897","EIT Manufacturing HUB Hrvatska 2023",{"$f":"LEFT(AE1609,7)","v":"A679078"},{"$f":"IFERROR(VLOOKUP(AG1609,AKT!$E$4:$G$351,3,FALSE),\"\")","v":"0942"}]
[{"$nulls":30},"A679078.898","Infrastrukturno jačanje IRI kapaciteta u području energetike i transporta","A679078",{"$f":"IFERROR(VLOOKUP(AG1610,AKT!$E$4:$G$351,3,FALSE),\"\")","v":"0942"}]
[{"$nulls":30},"A679078.899","Advanced Composites under HIgh STRAin raTEs loading: a route to certification-by-analysis (HISTRATE)","A679078",{"$f":"IFERROR(VLOOKUP(AG1611,AKT!$E$4:$G$351,3,FALSE),\"\")","v":"0942"}]
[{"$nulls":30},"A679078.900","SunSharing - supporting solar energy community and crowdfunding initiatives in SEE","A679078",{"$f":"IFERROR(VLOOKUP(AG1612,AKT!$E$4:$G$351,3,FALSE),\"\")","v":"0942"}]
[{"$nulls":30},"A679078.901","NORTH ADRIATIC HYDROGEN VALLEY","A679078",{"$f":"IFERROR(VLOOKUP(AG1613,AKT!$E$4:$G$351,3,FALSE),\"\")","v":"0942"}]
[{"$nulls":30},"A679078.902","Danube Wetlands and flood plains Restoration through systemic, community engaged and sustainable innovative actions","A679078",{"$f":"IFERROR(VLOOKUP(AG1614,AKT!$E$4:$G$351,3,FALSE),\"\")","v":"0942"}]
[{"$nulls":30},"A679078.903","Strengthening Policy and Governance Capacity for Blue Energy in Central and Eastern Europe","A679078",{"$f":"IFERROR(VLOOKUP(AG1615,AKT!$E$4:$G$351,3,FALSE),\"\")","v":"0942"}]
[{"$nulls":30},"A679078.904","Bound to accelerate the roll-out and expansion of Energy Communities and empower consumers as fully-fledged energy market players","A679078",{"$f":"IFERROR(VLOOKUP(AG1616,AKT!$E$4:$G$351,3,FALSE),\"\")","v":"0942"}]
[{"$nulls":30},"A679078.905","Supporting Energy Transition and Decarbonisation in District Heating Sector","A679078",{"$f":"IFERROR(VLOOKUP(AG1617,AKT!$E$4:$G$351,3,FALSE),\"\")","v":"0942"}]
[{"$nulls":30},"A679078.906","Low-grade Heat Mapping and Investment Planning for Efficient DH","A679078",{"$f":"IFERROR(VLOOKUP(AG1618,AKT!$E$4:$G$351,3,FALSE),\"\")","v":"0942"}]
[{"$nulls":30},"A679078.907","Croatian One Stop Shop","A679078",{"$f":"IFERROR(VLOOKUP(AG1619,AKT!$E$4:$G$351,3,FALSE),\"\")","v":"0942"}]
[{"$nulls":30},"A679078.908","H2020 ASHCYCLE","A679078",{"$f":"IFERROR(VLOOKUP(AG1620,AKT!$E$4:$G$351,3,FALSE),\"\")","v":"0942"}]
[{"$nulls":30},"A679078.909","CROSSCADE","A679078",{"$f":"IFERROR(VLOOKUP(AG1621,AKT!$E$4:$G$351,3,FALSE),\"\")","v":"0942"}]
[{"$nulls":30},"A679078.910","CROSKILLS RELOAD","A679078",{"$f":"IFERROR(VLOOKUP(AG1622,AKT!$E$4:$G$351,3,FALSE),\"\")","v":"0942"}]
[{"$nulls":30},"A679078.911","CIRCUIT HORIZON EUROPE","A679078",{"$f":"IFERROR(VLOOKUP(AG1623,AKT!$E$4:$G$351,3,FALSE),\"\")","v":"0942"}]
[{"$nulls":30},"A679078.912","GREENCO ERASMUS+ 2021.-2027.","A679078",{"$f":"IFERROR(VLOOKUP(AG1624,AKT!$E$4:$G$351,3,FALSE),\"\")","v":"0942"}]
[{"$nulls":30},"A679078.913","CRISAFE UNION CIVIL PROTECTION MECHANISM 2021.-2027.","A679078",{"$f":"IFERROR(VLOOKUP(AG1625,AKT!$E$4:$G$351,3,FALSE),\"\")","v":"0942"}]
[{"$nulls":30},"A679078.914","BLOOM INNOVATION NORWAY","A679078",{"$f":"IFERROR(VLOOKUP(AG1626,AKT!$E$4:$G$351,3,FALSE),\"\")","v":"0942"}]
[{"$nulls":30},"A679078.915","BIMZEED","A679078",{"$f":"IFERROR(VLOOKUP(AG1627,AKT!$E$4:$G$351,3,FALSE),\"\")","v":"0942"}]
[{"$nulls":30},"A679078.916","CONGREGATE","A679078",{"$f":"IFERROR(VLOOKUP(AG1628,AKT!$E$4:$G$351,3,FALSE),\"\")","v":"0942"}]
[{"$nulls":30},"A679078.917","Razvoj inovativnih građevnih kompozita primjenom biopepela","A679078",{"$f":"IFERROR(VLOOKUP(AG1629,AKT!$E$4:$G$351,3,FALSE),\"\")","v":"0942"}]
[{"$nulls":30},"A679078.918","Razvoj novih tehnologija i usluga u izvođenju spec.građ radova","A679078",{"$f":"IFERROR(VLOOKUP(AG1630,AKT!$E$4:$G$351,3,FALSE),\"\")","v":"0942"}]
[{"$nulls":30},"A679078.919","KLIK PANEL kompozitni lagani panel s integrir.nosivom konst.","A679078",{"$f":"IFERROR(VLOOKUP(AG1631,AKT!$E$4:$G$351,3,FALSE),\"\")","v":"0942"}]
[{"$nulls":30},"A679078.920","Food PackagIng open courseware for higher Education and Staff of companieS 2.0","A679078",{"$f":"IFERROR(VLOOKUP(AG1632,AKT!$E$4:$G$351,3,FALSE),\"\")","v":"0942"}]
[{"$nulls":30},"A679078.921","MedDietMenus4Campus - Promoting stakeholder adherence to Mediterranean Diet on Campus through menu interventions and social marketing strategies","A679078",{"$f":"IFERROR(VLOOKUP(AG1633,AKT!$E$4:$G$351,3,FALSE),\"\")","v":"0942"}]
[{"$nulls":30},"A679078.922","From Edible sprouts to hEalthy fooD (FEED)","A679078",{"$f":"IFERROR(VLOOKUP(AG1634,AKT!$E$4:$G$351,3,FALSE),\"\")","v":"0942"}]
[{"$nulls":30},"A679078.923","Obzor Europe RadioVal - International Clinical Validation of Radiomics Artificial Intelligence for Breast Cancer Treatment Planning -","A679078",{"$f":"IFERROR(VLOOKUP(AG1635,AKT!$E$4:$G$351,3,FALSE),\"\")","v":"0942"}]
[{"$nulls":30},"A679078.924","THE ROLE OF TRANSTHYRETIN IN SPORADIC ALZHEIMER'S DISEASE - ASSOCIATED LEPTOMEN INGEAL AND CEREBROVASCULAR AMYLOIDOSIS AND NEUROPROTECTIVE POTENTIAL OF A BRAIN DIRECTED TAFAMIDID PRODRUG - TRANSADAMIS","A679078",{"$f":"IFERROR(VLOOKUP(AG1636,AKT!$E$4:$G$351,3,FALSE),\"\")","v":"0942"}]
[{"$nulls":30},"A679078.925","B WISE","A679078",{"$f":"IFERROR(VLOOKUP(AG1637,AKT!$E$4:$G$351,3,FALSE),\"\")","v":"0942"}]
[{"$nulls":30},"A679078.926","FACILEX","A679078",{"$f":"IFERROR(VLOOKUP(AG1638,AKT!$E$4:$G$351,3,FALSE),\"\")","v":"0942"}]
[{"$nulls":30},"A679078.927","JM Module Climate Change Law","A679078",{"$f":"IFERROR(VLOOKUP(AG1639,AKT!$E$4:$G$351,3,FALSE),\"\")","v":"0942"}]
[{"$nulls":30},"A679078.928","EUROSTUDENT VIII","A679078",{"$f":"IFERROR(VLOOKUP(AG1640,AKT!$E$4:$G$351,3,FALSE),\"\")","v":"0942"}]
[{"$nulls":30},"A679078.929","MedDietMenus4Campus","A679078",{"$f":"IFERROR(VLOOKUP(AG1641,AKT!$E$4:$G$351,3,FALSE),\"\")","v":"0942"}]
[{"$nulls":30},"A679078.930","Horizo-PRIMA","A679078",{"$f":"IFERROR(VLOOKUP(AG1642,AKT!$E$4:$G$351,3,FALSE),\"\")","v":"0942"}]
[{"$nulls":30},"A679078.931","Electronic Pan-European Learniing System for Sustainable Agribusiness MBA Education (e-AGRIMBA)","A679078",{"$f":"IFERROR(VLOOKUP(AG1643,AKT!$E$4:$G$351,3,FALSE),\"\")","v":"0942"}]
[{"$nulls":30},"A679078.932","ERASMUS+ Danube AgriFood Master","A679078",{"$f":"IFERROR(VLOOKUP(AG1644,AKT!$E$4:$G$351,3,FALSE),\"\")","v":"0942"}]
[{"$nulls":30},"A679078.933","GRASS Celing","A679078",{"$f":"IFERROR(VLOOKUP(AG1645,AKT!$E$4:$G$351,3,FALSE),\"\")","v":"0942"}]
[{"$nulls":30},"A679078.934","SHARIng-meD","A679078",{"$f":"IFERROR(VLOOKUP(AG1646,AKT!$E$4:$G$351,3,FALSE),\"\")","v":"0942"}]
[{"$nulls":30},"A679078.935","Al4SoilHealth","A679078",{"$f":"IFERROR(VLOOKUP(AG1647,AKT!$E$4:$G$351,3,FALSE),\"\")","v":"0942"}]
[{"$nulls":30},"A679078.936","ERASMUS+ \"The development of the innovative educational method of ACCESSIBLE tourism in Central Europe\"","A679078",{"$f":"IFERROR(VLOOKUP(AG1648,AKT!$E$4:$G$351,3,FALSE),\"\")","v":"0942"}]
[{"$nulls":30},"A679078.937","ERASMUS+ \"Blended Learning and Evaluation Practices for Inclusive Digital Higher Education\"","A679078",{"$f":"IFERROR(VLOOKUP(AG1649,AKT!$E$4:$G$351,3,FALSE),\"\")","v":"0942"}]
[{"$nulls":30},"A679078.938","The generations and gender programme preparatory phase project (GGP-5D)","A679078",{"$f":"IFERROR(VLOOKUP(AG1650,AKT!$E$4:$G$351,3,FALSE),\"\")","v":"0942"}]
[{"$nulls":30},"A679078.939","ERASMUS-EDU-2022-101104564-ACIIS","A679078",{"$f":"IFERROR(VLOOKUP(AG1651,AKT!$E$4:$G$351,3,FALSE),\"\")","v":"0942"}]
[{"$nulls":30},"A679078.940","HORIZON-CL2-2022-101094052-AECED","A679078",{"$f":"IFERROR(VLOOKUP(AG1652,AKT!$E$4:$G$351,3,FALSE),\"\")","v":"0942"}]
[{"$nulls":30},"A679078.941","EUROPIA - On-Wheels summer school for the socio-cultural","A679078",{"$f":"IFERROR(VLOOKUP(AG1653,AKT!$E$4:$G$351,3,FALSE),\"\")","v":"0942"}]
[{"$nulls":30},"A679078.942","INRS - Developing Information and Research Skills for Business, Innovation, and Entrepreneurship","A679078",{"$f":"IFERROR(VLOOKUP(AG1654,AKT!$E$4:$G$351,3,FALSE),\"\")","v":"0942"}]
[{"$nulls":30},"A679078.943","Unapređivanje norveških studija na Sveučilištu u Zagrebu","A679078",{"$f":"IFERROR(VLOOKUP(AG1655,AKT!$E$4:$G$351,3,FALSE),\"\")","v":"0942"}]
[{"$nulls":30},"A679078.944","Unapređivanje norveških studija na Sveučilištu u Zagrebu","A679078",{"$f":"IFERROR(VLOOKUP(AG1656,AKT!$E$4:$G$351,3,FALSE),\"\")","v":"0942"}]
[{"$nulls":30},"A679078.945","IntegratEU","A679078",{"$f":"IFERROR(VLOOKUP(AG1657,AKT!$E$4:$G$351,3,FALSE),\"\")","v":"0942"}]
[{"$nulls":30},"A679078.946","TEHIC","A679078",{"$f":"IFERROR(VLOOKUP(AG1658,AKT!$E$4:$G$351,3,FALSE),\"\")","v":"0942"}]
[{"$nulls":30},"A679078.947","ERASMUS+ GREEN EDUCATION IN MEDIA","A679078",{"$f":"IFERROR(VLOOKUP(AG1659,AKT!$E$4:$G$351,3,FALSE),\"\")","v":"0942"}]
[{"$nulls":30},"A679078.948","ERASMUS+ VIPROS","A679078",{"$f":"IFERROR(VLOOKUP(AG1660,AKT!$E$4:$G$351,3,FALSE),\"\")","v":"0942"}]
[{"$nulls":30},"A679078.949","NRE ElectRA","A679078",{"$f":"IFERROR(VLOOKUP(AG1661,AKT!$E$4:$G$351,3,FALSE),\"\")","v":"0942"}]
[{"$nulls":30},"A679078.950","RIS Hub Adria","A679078",{"$f":"IFERROR(VLOOKUP(AG1662,AKT!$E$4:$G$351,3,FALSE),\"\")","v":"0942"}]
[{"$nulls":30},"A679078.951","SEAHEAT-Sea for Heritage Energy Transition","A679078",{"$f":"IFERROR(VLOOKUP(AG1663,AKT!$E$4:$G$351,3,FALSE),\"\")","v":"0942"}]
[{"$nulls":30},"A679078.952","PLIGES","A679078",{"$f":"IFERROR(VLOOKUP(AG1664,AKT!$E$4:$G$351,3,FALSE),\"\")","v":"0942"}]
[{"$nulls":30},"A679078.953","TRANSGEO","A679078",{"$f":"IFERROR(VLOOKUP(AG1665,AKT!$E$4:$G$351,3,FALSE),\"\")","v":"0942"}]
[{"$nulls":30},"A679078.954","AI2SEP - Developing Talents in Artificial Intelligence to Solve Disruptive Environmental Problems","A679078",{"$f":"IFERROR(VLOOKUP(AG1666,AKT!$E$4:$G$351,3,FALSE),\"\")","v":"0942"}]
[{"$nulls":30},"A679078.955","Erasmus+ CUTIE  Competencies for University Teaching  Institutional Empowerment","A679078",{"$f":"IFERROR(VLOOKUP(AG1667,AKT!$E$4:$G$351,3,FALSE),\"\")","v":"0942"}]
[{"$nulls":30},"A679078.956","Awareness Raising Campaing for SMEs- ARC II","A679078",{"$f":"IFERROR(VLOOKUP(AG1668,AKT!$E$4:$G$351,3,FALSE),\"\")","v":"0942"}]
[{"$nulls":30},"A679078.957","Digital transformation of Central Croatia and Northern Adriatic  through JURK EDIH","A679078",{"$f":"IFERROR(VLOOKUP(AG1669,AKT!$E$4:$G$351,3,FALSE),\"\")","v":"0942"}]
[{"$nulls":30},"A679078.958","Jačanje bilateralne suradnje s Norveškom u području zelene tranzicije","A679078",{"$f":"IFERROR(VLOOKUP(AG1670,AKT!$E$4:$G$351,3,FALSE),\"\")","v":"0942"}]
[{"$nulls":30},"A679078.959","Interreg CE projekt","A679078",{"$f":"IFERROR(VLOOKUP(AG1671,AKT!$E$4:$G$351,3,FALSE),\"\")","v":"0942"}]
[{"$nulls":30},"A679078.960","ERAMUS+ DG FARMER 2021-1-HR01-KA220-VET-000033253","A679078",{"$f":"IFERROR(VLOOKUP(AG1672,AKT!$E$4:$G$351,3,FALSE),\"\")","v":"0942"}]
[{"$nulls":30},"A679078.961","ERASMUS+ PLAY TO GREEN 2022-1-HR01-KA220-HED-000088675",{"$f":"LEFT(AE1673,7)","v":"A679078"},{"$f":"IFERROR(VLOOKUP(AG1673,AKT!$E$4:$G$351,3,FALSE),\"\")","v":"0942"}]
[{"$nulls":30},"A679078.962","ERASMUS + 2022-1-HR01-KA210-SCH-000082831","A679078",{"$f":"IFERROR(VLOOKUP(AG1674,AKT!$E$4:$G$351,3,FALSE),\"\")","v":"0942"}]
[{"$nulls":30},"A679078.963","ERASMUS + 2023-1-HR01-KA220-HED-000158143","A679078",{"$f":"IFERROR(VLOOKUP(AG1675,AKT!$E$4:$G$351,3,FALSE),\"\")","v":"0942"}]
[{"$nulls":30},"A679078.964","ERASMUS+ 2023-1-HR01-KA131-HED-000129986","A679078",{"$f":"IFERROR(VLOOKUP(AG1676,AKT!$E$4:$G$351,3,FALSE),\"\")","v":"0942"}]
[{"$nulls":30},"A679078.965","BiodeCCodiNNg - HORIZON-MSCA-2021-DN-01","A679078",{"$f":"IFERROR(VLOOKUP(AG1677,AKT!$E$4:$G$351,3,FALSE),\"\")","v":"0942"}]
[{"$nulls":30},"A679078.966","ADMO, DG CONNECT (EU)","A679078",{"$f":"IFERROR(VLOOKUP(AG1678,AKT!$E$4:$G$351,3,FALSE),\"\")","v":"0942"}]
[{"$nulls":30},"A679078.967","ACTIVECITIZENS4EU, EACEA (EU)","A679078",{"$f":"IFERROR(VLOOKUP(AG1679,AKT!$E$4:$G$351,3,FALSE),\"\")","v":"0942"}]
[{"$nulls":30},"A679078.968","ValEUs, EACEA (EU)","A679078",{"$f":"IFERROR(VLOOKUP(AG1680,AKT!$E$4:$G$351,3,FALSE),\"\")","v":"0942"}]
[{"$nulls":30},"A679078.969","CO3, HORIZON","A679078",{"$f":"IFERROR(VLOOKUP(AG1681,AKT!$E$4:$G$351,3,FALSE),\"\")","v":"0942"}]
[{"$nulls":30},"A679078.970","PROJECT 101073065 - BiodeCCodiNNg - HORIZON-MSCA-2021-DN-01","A679078",{"$f":"IFERROR(VLOOKUP(AG1682,AKT!$E$4:$G$351,3,FALSE),\"\")","v":"0942"}]
[{"$nulls":30},"A679078.971","ADMO, DG CONNECT (EU)","A679078",{"$f":"IFERROR(VLOOKUP(AG1683,AKT!$E$4:$G$351,3,FALSE),\"\")","v":"0942"}]
[{"$nulls":30},"A679078.972","ACTIVECITIZENS4EU, EACEA (EU)","A679078",{"$f":"IFERROR(VLOOKUP(AG1684,AKT!$E$4:$G$351,3,FALSE),\"\")","v":"0942"}]
[{"$nulls":30},"A679078.973","ValEUs, EACEA (EU)","A679078",{"$f":"IFERROR(VLOOKUP(AG1685,AKT!$E$4:$G$351,3,FALSE),\"\")","v":"0942"}]
[{"$nulls":30},"A679078.974","CO3, HORIZON","A679078",{"$f":"IFERROR(VLOOKUP(AG1686,AKT!$E$4:$G$351,3,FALSE),\"\")","v":"0942"}]
[{"$nulls":30},"A679081.001","INTERREG Projekt LOW-CARB Integrirano planiranje pokretljivosti s niskom razinom ugljika za urbana područja","A679081",{"$f":"IFERROR(VLOOKUP(AG1687,AKT!$E$4:$G$351,3,FALSE),\"\")","v":"0942"}]
[{"$nulls":30},"A679081.002","ERASMUS+ JEAN MONNET Razvoj i implementacija CQAF modela osiguranja kvalitete na visokoškolskim ustanovama","A679081",{"$f":"IFERROR(VLOOKUP(AG1688,AKT!$E$4:$G$351,3,FALSE),\"\")","v":"0942"}]
[{"$nulls":30},"A679081.003","ERASMUS+ JEAN MONNET MODULES - Interdisciplinarni pristup političkim i pravnim dimenzijama regionalnih integracija","A679081",{"$f":"IFERROR(VLOOKUP(AG1689,AKT!$E$4:$G$351,3,FALSE),\"\")","v":"0942"}]
[{"$nulls":30},"A679081.004","ERASMUS+  Poticanje mobilnosti studenata i znanstveno-nastavnog osoblja","A679081",{"$f":"IFERROR(VLOOKUP(AG1690,AKT!$E$4:$G$351,3,FALSE),\"\")","v":"0942"}]
[{"$nulls":30},"A679081.005","INTERREG e-MOB","A679081",{"$f":"IFERROR(VLOOKUP(AG1691,AKT!$E$4:$G$351,3,FALSE),\"\")","v":"0942"}]
[{"$nulls":30},"A679081.006","zakOČI","A679081",{"$f":"IFERROR(VLOOKUP(AG1692,AKT!$E$4:$G$351,3,FALSE),\"\")","v":"0942"}]
[{"$nulls":30},"A679081.007","Povećanje razvoja novih proizvoda i usluga koji proizlaze iz aktivnosti istraživanja i razvoj","A679081",{"$f":"IFERROR(VLOOKUP(AG1693,AKT!$E$4:$G$351,3,FALSE),\"\")","v":"0942"}]
[{"$nulls":30},"A679081.008","Uspostava RCK u strojarstvu SJEVER -TŠČ","A679081",{"$f":"IFERROR(VLOOKUP(AG1694,AKT!$E$4:$G$351,3,FALSE),\"\")","v":"0942"}]
[{"$nulls":30},"A679081.009","Digitalna.hr","A679081",{"$f":"IFERROR(VLOOKUP(AG1695,AKT!$E$4:$G$351,3,FALSE),\"\")","v":"0942"}]
[{"$nulls":30},"A679081.010","Ulaganje u istraživanje i razvoj BBR Adria d.o.o.","A679081",{"$f":"IFERROR(VLOOKUP(AG1696,AKT!$E$4:$G$351,3,FALSE),\"\")","v":"0942"}]
[{"$nulls":30},"A679081.011","Istraživanje i razvoj inovativnih i pametnih tehnologija za gospodarenje otpadom, prijevoz i logistiku","A679081",{"$f":"IFERROR(VLOOKUP(AG1697,AKT!$E$4:$G$351,3,FALSE),\"\")","v":"0942"}]
[{"$nulls":30},"A679081.012","Integracija (bivših) Jugoslavena u Švicarskoj","A679081",{"$f":"IFERROR(VLOOKUP(AG1698,AKT!$E$4:$G$351,3,FALSE),\"\")","v":"0942"}]
[{"$nulls":30},"A679081.013","Unapređenje rada Medicinske škole AK Zadar- regionalnog centra kompetentnosti u sektoru zdravstva","A679081",{"$f":"IFERROR(VLOOKUP(AG1699,AKT!$E$4:$G$351,3,FALSE),\"\")","v":"0942"}]
[{"$nulls":30},"A679081.014","Obuka o izgradnji informacijskih modela integriranih s geografskim informacijama","A679081",{"$f":"IFERROR(VLOOKUP(AG1700,AKT!$E$4:$G$351,3,FALSE),\"\")","v":"0942"}]
[{"$nulls":30},"A679081.015","Ocellus Information Systems AB","A679081",{"$f":"IFERROR(VLOOKUP(AG1701,AKT!$E$4:$G$351,3,FALSE),\"\")","v":"0942"}]
[{"$nulls":30},"A679081.016","Interreg CE0100127 Rail4Regions","A679081",{"$f":"IFERROR(VLOOKUP(AG1702,AKT!$E$4:$G$351,3,FALSE),\"\")","v":"0942"}]
[{"$nulls":30},"A679081.017","Interreg CE0100127 Rail4Regions","A679081",{"$f":"IFERROR(VLOOKUP(AG1703,AKT!$E$4:$G$351,3,FALSE),\"\")","v":"0942"}]
[{"$nulls":30},"A679115.001","INTERREG IPA CBC Hrvatska - Srbija, Obnovljivi izvori energije za pametne, održive, zdravstvene centre, visokoobrazovne ustanove i druge javne zgrade","A679115",{"$f":"IFERROR(VLOOKUP(AG1704,AKT!$E$4:$G$351,3,FALSE),\"\")","v":"0942"}]
[{"$nulls":30},"A679115.002","Centar za istraživanje, razvoj i inovacije - CIRI","A679115",{"$f":"IFERROR(VLOOKUP(AG1705,AKT!$E$4:$G$351,3,FALSE),\"\")","v":"0942"}]
[{"$nulls":30},"A679115.003","Pametna naljepnica za mjerenje i praćenje uvjeta skladištenja i transporta proizvoda","A679115",{"$f":"IFERROR(VLOOKUP(AG1706,AKT!$E$4:$G$351,3,FALSE),\"\")","v":"0942"}]
[{"$nulls":30},"A679115.004","Pametna naljepnica za mjerenje i praćenje uvjeta skladištenja i transporta proizvoda","A679115",{"$f":"IFERROR(VLOOKUP(AG1707,AKT!$E$4:$G$351,3,FALSE),\"\")","v":"0942"}]
[{"$nulls":30},"A679115.005","AVACS, Prilagodba povrtnih kultura novim agrometeorološkim uvjetima u Slavoniji","A679115",{"$f":"IFERROR(VLOOKUP(AG1708,AKT!$E$4:$G$351,3,FALSE),\"\")","v":"0942"}]
[{"$nulls":30},"A679115.006","Dobra klima za turizam","A679115",{"$f":"IFERROR(VLOOKUP(AG1709,AKT!$E$4:$G$351,3,FALSE),\"\")","v":"0942"}]
[{"$nulls":30},"A679115.007","Pametna naljepnica za mjerenje i praćenje uvjeta skladištenja i transporta proizvoda","A679115",{"$f":"IFERROR(VLOOKUP(AG1710,AKT!$E$4:$G$351,3,FALSE),\"\")","v":"0942"}]
[{"$nulls":30},"A679115.008","EXPERIO-razvoj strojeva za kvalitetu i paletizaciju u automobilskoj industriji","A679115",{"$f":"IFERROR(VLOOKUP(AG1711,AKT!$E$4:$G$351,3,FALSE),\"\")","v":"0942"}]
[{"$nulls":30},"A679115.009","ERASMUS","A679115",{"$f":"IFERROR(VLOOKUP(AG1712,AKT!$E$4:$G$351,3,FALSE),\"\")","v":"0942"}]
[{"$nulls":30},"A679115.010","RESIN-razvoj sustava za ispitivanje višefaznih strujanja i izgaranja","A679115",{"$f":"IFERROR(VLOOKUP(AG1713,AKT!$E$4:$G$351,3,FALSE),\"\")","v":"0942"}]
[{"$nulls":30},"A679115.011","Projektiranje i proizvodnja linije za  proizvodnju izolacijskih mata za toplovodne cijevi međugradskog grijanja","A679115",{"$f":"IFERROR(VLOOKUP(AG1714,AKT!$E$4:$G$351,3,FALSE),\"\")","v":"0942"}]
[{"$nulls":30},"A679115.012","Centar kompetencija za napredno inženjerstvo Nova Gradiška","A679115",{"$f":"IFERROR(VLOOKUP(AG1715,AKT!$E$4:$G$351,3,FALSE),\"\")","v":"0942"}]
[{"$nulls":30},"A679115.013","Poljoprivredno-poduzetnički inkubator Brodski Stupnik","A679115",{"$f":"IFERROR(VLOOKUP(AG1716,AKT!$E$4:$G$351,3,FALSE),\"\")","v":"0942"}]
[{"$nulls":30},"A679115.014","Regionalni centar kompetentnosti Slavonika 5.1.","A679115",{"$f":"IFERROR(VLOOKUP(AG1717,AKT!$E$4:$G$351,3,FALSE),\"\")","v":"0942"}]
[{"$nulls":30},"A679115.015","ZELENO POVRĆE ZA ZELENI PLAN","A679115",{"$f":"IFERROR(VLOOKUP(AG1718,AKT!$E$4:$G$351,3,FALSE),\"\")","v":"0942"}]
[{"$nulls":30},"K679126.001","Vrhunska istraživanja Znanstvenih centara izvrsnosti","K679126",{"$f":"IFERROR(VLOOKUP(AG1719,AKT!$E$4:$G$351,3,FALSE),\"\")","v":"0942"}]
[{"$nulls":30},"K679126.002","'Modernizacija, unaprjeđenje i proširenje infrastrukture studentskog smještaja","K679126",{"$f":"IFERROR(VLOOKUP(AG1720,AKT!$E$4:$G$351,3,FALSE),\"\")","v":"0942"}]
[{"$nulls":30},"K679128.001","Dokazivanje koncepta","K679128",{"$f":"IFERROR(VLOOKUP(AG1721,AKT!$E$4:$G$351,3,FALSE),\"\")","v":"0942"}]
[{"$nulls":30},"K679128.002","Ciljana znanstvena istraživanja","K679128",{"$f":"IFERROR(VLOOKUP(AG1722,AKT!$E$4:$G$351,3,FALSE),\"\")","v":"0942"}]
[{"$nulls":30},"K679128.001","Program transfera tehnologije","K679128",{"$f":"IFERROR(VLOOKUP(AG1723,AKT!$E$4:$G$351,3,FALSE),\"\")","v":"0942"}]
[{"$nulls":30},"K679129.001","Razvojne istraživačke potpore","K679129",{"$f":"IFERROR(VLOOKUP(AG1724,AKT!$E$4:$G$351,3,FALSE),\"\")","v":"0942"}]
[{"$nulls":30},"K679129.002","Znanstveno-istraživački centar elektrotehnike i računarstva","K679129",{"$f":"IFERROR(VLOOKUP(AG1725,AKT!$E$4:$G$351,3,FALSE),\"\")","v":"0942"}]
[{"$nulls":30},"K679129.003","Infrastruktura","K679129",{"$f":"IFERROR(VLOOKUP(AG1726,AKT!$E$4:$G$351,3,FALSE),\"\")","v":"0942"}]
[{"$nulls":30},"A622152.001","Vrhunska istraživanja Znanstvenih centara izvrsnosti","A622152",{"$f":"IFERROR(VLOOKUP(AG1727,AKT!$E$4:$G$351,3,FALSE),\"\")","v":"0150"}]
[{"$nulls":30},"A622152.002","Otvorene znanstvene infrastrukturne platforme za inovativne primjene u gospodarstvu i društvu O-ZIP FAZA II","A622152",{"$f":"IFERROR(VLOOKUP(AG1728,AKT!$E$4:$G$351,3,FALSE),\"\")","v":"0150"}]
[{"$nulls":30},"A622152.003","'Razvojne istraživačke potpore","A622152",{"$f":"IFERROR(VLOOKUP(AG1729,AKT!$E$4:$G$351,3,FALSE),\"\")","v":"0150"}]
[{"$nulls":30},"A622152.004","Dokazivanje koncepta ","A622152",{"$f":"IFERROR(VLOOKUP(AG1730,AKT!$E$4:$G$351,3,FALSE),\"\")","v":"0150"}]
[{"$nulls":30},"A622152.005","Ciljana znanstvena istraživanja","A622152",{"$f":"IFERROR(VLOOKUP(AG1731,AKT!$E$4:$G$351,3,FALSE),\"\")","v":"0150"}]
[{"$nulls":30},"A622152.006","Program transfera tehnologije","A622152",{"$f":"IFERROR(VLOOKUP(AG1732,AKT!$E$4:$G$351,3,FALSE),\"\")","v":"0150"}]
[{"$nulls":30},"A622152.007","Programski ugovori instituti","A622152",{"$f":"IFERROR(VLOOKUP(AG1733,AKT!$E$4:$G$351,3,FALSE),\"\")","v":"0150"}]
[{"$nulls":30},"A622152.008","Osuvremenjivanje infrastrukture Instituta za jadranske kulture i melioraciju krša kao preduvjet izvrsnosti u istraživanjima mediteranske poljoprivrede","A622152",{"$f":"IFERROR(VLOOKUP(AG1734,AKT!$E$4:$G$351,3,FALSE),\"\")","v":"0150"}]
[{"$nulls":30},"K628080.003","Program unaprjeđenja primjene digitalne tehnologije u obrazovnom sustavu","K628080",{"$f":"IFERROR(VLOOKUP(AG1735,AKT!$E$4:$G$351,3,FALSE),\"\")","v":"0970"}]
[{"$nulls":30},"K628081.001","II. faza programa \"e-Škole: Cjelovita informatizacija procesa poslovanja škola i nastavnih procesa u svrhu stvaranja digitalno zrelih škola za 21. stoljeće\"","K628081",{"$f":"IFERROR(VLOOKUP(AG1736,AKT!$E$4:$G$351,3,FALSE),\"\")","v":"0970"}]
[{"$nulls":30},"K628081.002","Informatizacija procesa i uspostava cjelovite elektroničke usluge upisa u odgojne i obrazovne ustanove",{"$f":"LEFT(AE1737,7)","v":"K628081"},{"$f":"IFERROR(VLOOKUP(AG1737,AKT!$E$4:$G$351,3,FALSE),\"\")","v":"0970"}]
[{"$nulls":30},"K628081.003","Program unaprjeđenja primjene digitalne tehnologije u obrazovnom sustavu","K628081",{"$f":"IFERROR(VLOOKUP(AG1738,AKT!$E$4:$G$351,3,FALSE),\"\")","v":"0970"}]
[{"$nulls":30},"K628081.004","Unaprjeđenje sustava praćenja funkcioniranja odgojno-obrazovnog sustava i korištenja dostupnih podataka u oblikovanju odgojno-obrazovnih politika","K628081",{"$f":"IFERROR(VLOOKUP(AG1739,AKT!$E$4:$G$351,3,FALSE),\"\")","v":"0970"}]
[{"$nulls":30},"K628081.005","Cjelovita informatizacija sustava visokog obrazovanja","K628081",{"$f":"IFERROR(VLOOKUP(AG1740,AKT!$E$4:$G$351,3,FALSE),\"\")","v":"0970"}]
[{"$nulls":30},"K628087.001","Znanstveno i tehnologijsko predviđanje - sustav CroRIS","K628087",{"$f":"IFERROR(VLOOKUP(AG1741,AKT!$E$4:$G$351,3,FALSE),\"\")","v":"0133"}]
[{"$nulls":30},"K628087.002","Hrvatski znanstveni i obrazovni oblak (HR ZOO)","K628087",{"$f":"IFERROR(VLOOKUP(AG1742,AKT!$E$4:$G$351,3,FALSE),\"\")","v":"0133"}]
[{"$nulls":30},"A579073.001","UČIMO PODUZETNIŠTVO 5.0","A579073",{"$f":"IFERROR(VLOOKUP(AG1743,AKT!$E$4:$G$351,3,FALSE),\"\")","v":"0970"}]
[{"$nulls":30},"A580072.001","Erasmus+ KA121","A580072",{"$f":"IFERROR(VLOOKUP(AG1744,AKT!$E$4:$G$351,3,FALSE),\"\")","v":"0970"}]
[{"$nulls":30},"K767054.001","AZOO-E-ŠKOLE-RAZVOJ SUSTAVA DIGITALNO ZRELIH ŠKOLA","K767054",{"$f":"IFERROR(VLOOKUP(AG1745,AKT!$E$4:$G$351,3,FALSE),\"\")","v":"0970"}]
[{"$nulls":30},"A867021.001","ERASMUS PLUS-KEEP IN PACT-JAČANJE MULTIPARTNERSKE SURADNJE U PRUŽANJU USLUGA CJELOŽIVOTNOG PROFESIONALNOG USMJERAVANJA","A867021",{"$f":"IFERROR(VLOOKUP(AG1746,AKT!$E$4:$G$351,3,FALSE),\"\")","v":"0942"}]
[{"$nulls":30},"A867021.002","ERASMUS PLUS-OCTRA-KATALOG ONLINE PROGRAMA I BAZA PODATAKA ZA VIDLJIVOST I PRIZNAVANJE KVALIFIKACIJA","A867021",{"$f":"IFERROR(VLOOKUP(AG1747,AKT!$E$4:$G$351,3,FALSE),\"\")","v":"0942"}]
[{"$nulls":30},"A867021.003","ERASMUS PLUS-ADREN MREŽA-SURADNJA DIONIKA (JADRANSKO PODRUČJE, ZAPADNI BALKAN I EU) U OBVEZAMA IZ PODRUČJA VISOKOG OBRAZOVANJA","A867021",{"$f":"IFERROR(VLOOKUP(AG1748,AKT!$E$4:$G$351,3,FALSE),\"\")","v":"0942"}]
[{"$nulls":30},"K867020.001","AZVO-OSIGURAVANJE KVALITETE U VISOKOM OBRAZOVANJU","K867020",{"$f":"IFERROR(VLOOKUP(AG1749,AKT!$E$4:$G$351,3,FALSE),\"\")","v":"0942"}]
[{"$nulls":30},"K814011.001","E-ŠKOLE-Istraživanje učinka primjene digitalnih tehnologija u nastavi","K814011",{"$f":"IFERROR(VLOOKUP(AG1750,AKT!$E$4:$G$351,3,FALSE),\"\")","v":"0970"}]
[{"$nulls":30},"K814013.001","NCVVO-Vanjsko vrednovanje učeničkih postignuća u osnovnoj školi-nacionalni ispiti","K814013",{"$f":"IFERROR(VLOOKUP(AG1751,AKT!$E$4:$G$351,3,FALSE),\"\")","v":"0970"}]
[{"$nulls":30},"A848051.001","ERASMUS PLUS-PIAAC HRVATSKA-PROVEDBA ISTRAŽIVANJA KOMPETENCIJA ODRASLIH OSOBA U RH","A848051",{"$f":"IFERROR(VLOOKUP(AG1752,AKT!$E$4:$G$351,3,FALSE),\"\")","v":"0970"}]
[{"$nulls":30},"A848051.002","ERASMUS PLUS-EQAVET NRP RH-NACIONALNA REFERENTNA TOČKA ZA EUROPSKI SUSTAV OSIGURANJA KVALITETE U STRUKOVNOM OBRAZOVANJU I OSPOSOBLJAVANJU","A848051",{"$f":"IFERROR(VLOOKUP(AG1753,AKT!$E$4:$G$351,3,FALSE),\"\")","v":"0970"}]
[{"$nulls":30},"A848051.003","ERASMUS PLUS-VET AT HOME-PILOTIRANJE VIRTUALNOG PRAKTIČNOG TEČAJA ZA KUHARSTVO U STRUKOVNOM OBRAZOVANJU","A848051",{"$f":"IFERROR(VLOOKUP(AG1754,AKT!$E$4:$G$351,3,FALSE),\"\")","v":"0970"}]
[{"$nulls":30},"A848051.004","ERASMUS PLUS-2BDIGITAL-INKLUZIVNO DIGITALNO UČENJE U SVRHU SPREČAVANJA NAPUŠTANJA ŠKOLOVANJA U STRUKOVNOM OBRAZOVANJU I OSPOSOBLJAVANJU","A848051",{"$f":"IFERROR(VLOOKUP(AG1755,AKT!$E$4:$G$351,3,FALSE),\"\")","v":"0970"}]
[{"$nulls":30},"A848051.005","ERASMUS PLUS-EPALE V-NACIONALNA SLUŽBA ZA PODRŠKU ZA RH 2022.-2024.","A848051",{"$f":"IFERROR(VLOOKUP(AG1756,AKT!$E$4:$G$351,3,FALSE),\"\")","v":"0970"}]
[{"$nulls":30},"A848051.006","ERASMUS PLUS-EPALE IV-NACIONALNA SLUŽBA ZA PODRŠKU ZA RH 2019.-2020.","A848051",{"$f":"IFERROR(VLOOKUP(AG1757,AKT!$E$4:$G$351,3,FALSE),\"\")","v":"0970"}]
[{"$nulls":30},"A848051.007","ERASMUS PLUS-KA2-TRENING ZA VJEŠTINE U VIRTUALNOM OKRUŽENJU","A848051",{"$f":"IFERROR(VLOOKUP(AG1758,AKT!$E$4:$G$351,3,FALSE),\"\")","v":"0970"}]
[{"$nulls":30},"K848038.002","Modernizacija sustava strukovnog obrazovanja i osposobljavanja","K848038",{"$f":"IFERROR(VLOOKUP(AG1759,AKT!$E$4:$G$351,3,FALSE),\"\")","v":"0950"}]
[{"$nulls":30},"K848038.003","Osiguravanje kvalitete u sustavu obrazovanja odraslih","K848038",{"$f":"IFERROR(VLOOKUP(AG1760,AKT!$E$4:$G$351,3,FALSE),\"\")","v":"0950"}]
[{"$nulls":30},"K848038.004","Promocija učeničkih kompetencija i strukovnog obrazovanja kroz strukovna natjecanja i smotre","K848038",{"$f":"IFERROR(VLOOKUP(AG1761,AKT!$E$4:$G$351,3,FALSE),\"\")","v":"0950"}]
[{"$nulls":30},"K848038.005","Promocija cjeloživotnog učenja – faza II","K848038",{"$f":"IFERROR(VLOOKUP(AG1762,AKT!$E$4:$G$351,3,FALSE),\"\")","v":"0950"}]
[{"$nulls":30},"K848038.006","E škole","K848038",{"$f":"IFERROR(VLOOKUP(AG1763,AKT!$E$4:$G$351,3,FALSE),\"\")","v":"0950"}]
[{"$nulls":30},"K848050.001","ASOO-Daljnja provedba kurikularne reforme u strukovnome obrazovanju i jačanje kapaciteta nastavnika strukovnih predmeta i mentora kod poslodavaca","K848050",{"$f":"IFERROR(VLOOKUP(AG1764,AKT!$E$4:$G$351,3,FALSE),\"\")","v":"0950"}]
[{"$nulls":30},"T848027.001","ASOO-Tehnička pomoć OP ULJP","T848027",{"$f":"IFERROR(VLOOKUP(AG1765,AKT!$E$4:$G$351,3,FALSE),\"\")","v":"0950"}]
[{"$nulls":30},"K733069.001","Projekt razvoja karijera mladih istraživača - izobrazba novih doktora znanosti","K733069",{"$f":"IFERROR(VLOOKUP(AG1766,AKT!$E$4:$G$351,3,FALSE),\"\")","v":"0150"}]
[{"$nulls":30},"K733069.002","Program suradnje s hrvatskim znanstvenicima u dijaspori ''ZNANSTVENA SURADNJA''","K733069",{"$f":"IFERROR(VLOOKUP(AG1767,AKT!$E$4:$G$351,3,FALSE),\"\")","v":"0150"}]
[{"$nulls":32},"",{"$f":"IFERROR(VLOOKUP(AG1768,AKT!$E$4:$G$351,3,FALSE),\"\")","v":""}]
[{"$nulls":32},"",{"$f":"IFERROR(VLOOKUP(AG1769,AKT!$E$4:$G$351,3,FALSE),\"\")","v":""}]
[{"$nulls":32},"",{"$f":"IFERROR(VLOOKUP(AG1770,AKT!$E$4:$G$351,3,FALSE),\"\")","v":""}]
[{"$nulls":32},"",{"$f":"IFERROR(VLOOKUP(AG1771,AKT!$E$4:$G$351,3,FALSE),\"\")","v":""}]
[{"$nulls":32},"",{"$f":"IFERROR(VLOOKUP(AG1772,AKT!$E$4:$G$351,3,FALSE),\"\")","v":""}]
[{"$nulls":32},"",{"$f":"IFERROR(VLOOKUP(AG1773,AKT!$E$4:$G$351,3,FALSE),\"\")","v":""}]
[{"$nulls":32},"",{"$f":"IFERROR(VLOOKUP(AG1774,AKT!$E$4:$G$351,3,FALSE),\"\")","v":""}]
[{"$nulls":32},"",{"$f":"IFERROR(VLOOKUP(AG1775,AKT!$E$4:$G$351,3,FALSE),\"\")","v":""}]
[{"$nulls":32},"",{"$f":"IFERROR(VLOOKUP(AG1776,AKT!$E$4:$G$351,3,FALSE),\"\")","v":""}]
[{"$nulls":32},"",{"$f":"IFERROR(VLOOKUP(AG1777,AKT!$E$4:$G$351,3,FALSE),\"\")","v":""}]
[{"$nulls":32},"",{"$f":"IFERROR(VLOOKUP(AG1778,AKT!$E$4:$G$351,3,FALSE),\"\")","v":""}]

{"sheet":"Unos prijenosa","index":4,"n_rows":19,"n_cols":16384,"rows_kept":19,"merged":[[0,1,0,19],[1,1,1,19]]}
[]
[null,"UNOS PRIJENOSA SREDSTAVA (DONOSA I ODNOSA)"]
[{"$nulls":21},"u EUR"]
["Godina","Stavka","PLAN 2025","Ukupno ","IZVOR 11             Opći prihodi i primici ","IZVOR 12             Sredstva učešća za pomoći","IZVOR 31                  Vlastiti prihodi ","IZVOR 41                  Vlastiti prihodi ","IZVOR 43                   Prihodi za posebne namjene ","IZVOR 51                              Pomoći EU","IZVOR 52                              Ostale pomoći ","IZVOR 552                             Ostale pomoći ","IZVOR 559                          Ostale refundacije iz sredstava EU","IZVOR 561                         Europski socijalni fond (ESF)","IZVOR 563                         Europski fond za regionalni razvoj (EFRR)","573 Instrumenti Europskog gospodarskog prostora i ostali instrumenti","IZVOR 581                Mehanizam za oporavak i otpornost (NPOO)","IZVOR 61                         Donacije ","IZVOR 63                         Inozemne donacije ","IZVOR 71                          Prihodi od nefinancijske imovine i nadoknade šteta s osnova osiguranja","IZVOR 810 Namjenski primici -ostali","IZVOR 815 Namjenski primitak - NPOO"]
[2025,null,"DONOS",{"$f":"SUM(E5:V5)","v":{"v":22078,"d":"22,078"}},{"$nulls":5},{"v":2280,"d":"2,280"},{"v":19798,"d":"19,798"},{"$nulls":5},0,null,null,0]
[2025,null,"PRIHODI I PRIMICI (6+7+8)",{"$f":"SUM(E6:V6)","v":{"v":3376426,"d":"3,376,426"}},{"$f":"'A.2 PRIHODI I RASHODI IF'!C7","v":{"v":3266326,"d":"3,266,326"}},{"$f":"'A.2 PRIHODI I RASHODI IF'!C8","v":0},{"$f":"'A.2 PRIHODI I RASHODI IF'!C10","v":{"v":23000,"d":"23,000"}},{"$f":"'A.2 PRIHODI I RASHODI IF'!C12","v":0},{"$f":"'A.2 PRIHODI I RASHODI IF'!C13+'B.2 RAČUN FINANC IF'!C7","v":{"v":80000,"d":"80,000"}},{"$f":"'A.2 PRIHODI I RASHODI IF'!C15","v":{"v":6720,"d":"6,720"}},{"$f":"'A.2 PRIHODI I RASHODI IF'!C16","v":380},{"$f":"'A.2 PRIHODI I RASHODI IF'!C17","v":0},{"$f":"'A.2 PRIHODI I RASHODI IF'!C18","v":0},{"$f":"'A.2 PRIHODI I RASHODI IF'!C19","v":0},{"$f":"'A.2 PRIHODI I RASHODI IF'!C20","v":0},{"$f":"'A.2 PRIHODI I RASHODI IF'!C21","v":0},{"$f":"'A.2 PRIHODI I RASHODI IF'!C22","v":0},{"$f":"'A.2 PRIHODI I RASHODI IF'!C24","v":0},{"$f":"'A.2 PRIHODI I RASHODI IF'!C25","v":0},{"$f":"'A.2 PRIHODI I RASHODI IF'!C27","v":0},{"$f":"'B.2 RAČUN FINANC IF'!C11","v":0},{"$f":"'A.2 PRIHODI I RASHODI IF'!C29","v":0},{"$f":"'OPĆI DIO'!#REF!","v":{"$error":"#REF!"}}]
[2025,null,"ODNOS (unosi se s negativnim predznakom)",{"v":-7495,"d":"-7,495"},null,null,{"v":-990,"d":"-990 "},null,{"v":-6505,"d":"-6,505 "},{"$nulls":7},0]
[2025,null,"LIMIT ZA RASHODE I IZDATKE",{"v":3391009,"d":"3,391,009"},{"$f":"+E5+E6+E7","v":{"v":3266326,"d":"3,266,326"}},{"$f":"+F5+F6+F7","v":0},{"v":22010,"d":"22,010"},0,{"v":73495,"d":"73,495"},{"v":9000,"d":"9,000"},{"v":20178,"d":"20,178"},0,0,0,0,0,0,0,0,{"$f":"+T5+T6+T7","v":0},{"$f":"+U5+U6+U7","v":0},{"$f":"+V5+V6+V7","v":0},{"$error":"#REF!"},0,0,0,0,0,0,0,0,0,0,0,0,0,0,0,0,0,0,0,0,0,0,0,0,0,0,0,0,0,0,0,0,0,0,0,0,0,0,0,0,0,0,0,0,0,0,0,0,0,0,0,0,0,0,0,0,0,0,0,0,0,0,{"$f":"+CH5+CH6+CH7","v":0},0,0,0,0,0,0,0,0,0,0,0,0,0,0,0,0,0,0,0,0,0,0,0,0,0,0,0,0,0,0,0,0,0,0,0,0,0,0,0,0,0,0,0,0,0,0,0,0,0,0,0,0,0,0,0,0,0,0,0,0,0,0,0,{"$f":"+ET5+ET6+ET7","v":0},0,0,0,0,0,0,0,0,0,0,0,0,0,0,0,0,0,0,0,0,0,0,0,0,0,0,0,0,0,0,0,0,0,0,0,0,0,0,0,0,0,0,0,0,0,0,0,0,0,0,0,0,0,0,0,0,0,0,0,0,0,0,0,{"$f":"+HF5+HF6+HF7","v":0},0,0,0,0,0,0,0,0,0,0,0,0,0,0,0,0,0,0,0,0,0,0,0,0,0,0,0,0,0,0,0,0,0,0,0,0,0,0,0,0,0,0,0,0,0,0,0,0,0,0,0,0,0,0,0,0,0,0,0,0,0,0,0,{"$f":"+JR5+JR6+JR7","v":0},0,0,0,0,0,0,0,0,0,0,0,0,0,0,0,0,0,0,0,0,0,0,0,0,0,0,0,0,0,0,0,0,0,0,0,0,0,0,0,0,0,0,0,0,0,0,0,0,0,0,0,0,0,0,0,0,0,0,0,0,0,0,0,{"$f":"+MD5+MD6+MD7","v":0},0,0,0,0,0,0,0,0,0,0,0,0,0,0,0,0,0,0,0,0,0,0,0,0,0,0,0,0,0,0,0,0,0,0,0,0,0,0,0,0,0,0,0,0,0,0,0,0,0,0,0,0,0,0,0,0,0,0,0,0,0,0,0,{"$f":"+OP5+OP6+OP7","v":0},0,0,0,0,0,0,0,0,0,0,0,0,0,0,0,0,0,0,0,0,0,0,0,0,0,0,0,0,0,0,0,0,0,0,0,0,0,0,0,0,0,0,0,0,0,0,0,0,0,0,0,0,0,0,0,0,0,0,0,0,0,0,0,{"$f":"+RB5+RB6+RB7","v":0},0,0,0,0,0,0,0,0,0,0,0,0,0,0,0,0,0,0,0,0,0,0,0,0,0,0,0,0,0,0,0,0,0,0,0,0,0,0,0,0,0,0,0,0,0,0,0,0,0,0,0,0,0,0,0,0,0,0,0,0,0,0,0,{"$f":"+TN5+TN6+TN7","v":0},0,0,0,0,0,0,0,0,0,0,0,0,0,0,0,0,0,0,0,0,0,0,0,0,0,0,0,0,0,0,0,0,0,0,0,0,0,0,0,0,0,0,0,0,0,0,0,0,0,0,0,0,0,0,0,0,0,0,0,0,0,0,0,{"$f":"+VZ5+VZ6+VZ7","v":0},0,0,0,0,0,0,0,0,0,0,0,0,0,0,0,0,0,0,0,0,0,0,0,0,0,0,0,0,0,0,0,0,0,0,0,0,0,0,0,0,0,0,0,0,0,0,0,0,0,0,0,0,0,0,0,0,0,0,0,0,0,0,0,{"$f":"+YL5+YL6+YL7","v":0},0,0,0,0,0,0,0,0,0,0,0,0,0,0,0,0,0,0,0,0,0,0,0,0,0,0,0,0,0,0,0,0,0,0,0,0,0,0,0,0,0,0,0,0,0,0,0,0,0,0,0,0,0,0,0,0,0,0,0,0,0,0,0,{"$f":"+AAX5+AAX6+AAX7","v":0},0,0,0,0,0,0,0,0,0,0,0,0,0,0,0,0,0,0,0,0,0,0,0,0,0,0,0,0,0,0,0,0,0,0,0,0,0,0,0,0,0,0,0,0,0,0,0,0,0,0,0,0,0,0,0,0,0,0,0,0,0,0,0,{"$f":"+ADJ5+ADJ6+ADJ7","v":0},0,0,0,0,0,0,0,0,0,0,0,0,0,0,0,0,0,0,0,0,0,0,0,0,0,0,0,0,0,0,0,0,0,0,0,0,0,0,0,0,0,0,0,0,0,0,0,0,0,0,0,0,0,0,0,0,0,0,0,0,0,0,0,{"$f":"+AFV5+AFV6+AFV7","v":0},0,0,0,0,0,0,0,0,0,0,0,0,0,0,0,0,0,0,0,0,0,0,0,0,0,0,0,0,0,0,0,0,0,0,0,0,0,0,0,0,0,0,0,0,0,0,0,0,0,0,0,0,0,0,0,0,0,0,0,0,0,0,0,{"$f":"+AIH5+AIH6+AIH7","v":0},0,0,0,0,0,0,0,0,0,0,0,0,0,0,0,0,0,0,0,0,0,0,0,0,0,0,0,0,0,0,0,0,0,0,0,0,0,0,0,0,0,0,0,0,0,0,0,0,0,0,0,0,0,0,0,0,0,0,0,0,0,0,0,{"$f":"+AKT5+AKT6+AKT7","v":0},0,0,0,0,0,0,0,0,0,0,0,0,0,0,0,0,0,0,0,0,0,0,0,0,0,0,0,0,0,0,0,0,0,0,0,0,0,0,0,0,0,0,0,0,0,0,0,0,0,0,0,0,0,0,0,0,0,0,0,0,0,0,0,{"$f":"+ANF5+ANF6+ANF7","v":0},0,0,0,0,0,0,0,0,0,0,0,0,0,0,0,0,0,0,0,0,0,0,0,0,0,0,0,0,0,0,0,0,0,0,0,0,0,0,0,0,0,0,0,0,0,0,0,0,0,0,0,0,0,0,0,0,0,0,0,0,0,0,0,{"$f":"+APR5+APR6+APR7","v":0},0,0,0,0,0,0,0,0,0,0,0,0,0,0,0,0,0,0,0,0,0,0,0,0,0,0,0,0,0,0,0,0,0,0,0,0,0,0,0,0,0,0,0,0,0,0,0,0,0,0,0,0,0,0,0,0,0,0,0,0,0,0,0,{"$f":"+ASD5+ASD6+ASD7","v":0},0,0,0,0,0,0,0,0,0,0,0,0,0,0,0,0,0,0,0,0,0,0,0,0,0,0,0,0,0,0,0,0,0,0,0,0,0,0,0,0,0,0,0,0,0,0,0,0,0,0,0,0,0,0,0,0,0,0,0,0,0,0,0,{"$f":"+AUP5+AUP6+AUP7","v":0},0,0,0,0,0,0,0,0,0,0,0,0,0,0,0,0,0,0,0,0,0,0,0,0,0,0,0,0,0,0,0,0,0,0,0,0,0,0,0,0,0,0,0,0,0,0,0,0,0,0,0,0,0,0,0,0,0,0,0,0,0,0,0,{"$f":"+AXB5+AXB6+AXB7","v":0},0,0,0,0,0,0,0,0,0,0,0,0,0,0,0,0,0,0,0,0,0,0,0,0,0,0,0,0,0,0,0,0,0,0,0,0,0,0,0,0,0,0,0,0,0,0,0,0,0,0,0,0,0,0,0,0,0,0,0,0,0,0,0,{"$f":"+AZN5+AZN6+AZN7","v":0},0,0,0,0,0,0,0,0,0,0,0,0,0,0,0,0,0,0,0,0,0,0,0,0,0,0,0,0,0,0,0,0,0,0,0,0,0,0,0,0,0,0,0,0,0,0,0,0,0,0,0,0,0,0,0,0,0,0,0,0,0,0,0,{"$f":"+BBZ5+BBZ6+BBZ7","v":0},0,0,0,0,0,0,0,0,0,0,0,0,0,0,0,0,0,0,0,0,0,0,0,0,0,0,0,0,0,0,0,0,0,0,0,0,0,0,0,0,0,0,0,0,0,0,0,0,0,0,0,0,0,0,0,0,0,0,0,0,0,0,0,{"$f":"+BEL5+BEL6+BEL7","v":0},0,0,0,0,0,0,0,0,0,0,0,0,0,0,0,0,0,0,0,0,0,0,0,0,0,0,0,0,0,0,0,0,0,0,0,0,0,0,0,0,0,0,0,0,0,0,0,0,0,0,0,0,0,0,0,0,0,0,0,0,0,0,0,{"$f":"+BGX5+BGX6+BGX7","v":0},0,0,0,0,0,0,0,0,0,0,0,0,0,0,0,0,0,0,0,0,0,0,0,0,0,0,0,0,0,0,0,0,0,0,0,0,0,0,0,0,0,0,0,0,0,0,0,0,0,0,0,0,0,0,0,0,0,0,0,0,0,0,0,{"$f":"+BJJ5+BJJ6+BJJ7","v":0},0,0,0,0,0,0,0,0,0,0,0,0,0,0,0,0,0,0,0,0,0,0,0,0,0,0,0,0,0,0,0,0,0,0,0,0,0,0,0,0,0,0,0,0,0,0,0,0,0,0,0,0,0,0,0,0,0,0,0,0,0,0,0,{"$f":"+BLV5+BLV6+BLV7","v":0},0,0,0,0,0,0,0,0,0,0,0,0,0,0,0,0,0,0,0,0,0,0,0,0,0,0,0,0,0,0,0,0,0,0,0,0,0,0,0,0,0,0,0,0,0,0,0,0,0,0,0,0,0,0,0,0,0,0,0,0,0,0,0,{"$f":"+BOH5+BOH6+BOH7","v":0},0,0,0,0,0,0,0,0,0,0,0,0,0,0,0,0,0,0,0,0,0,0,0,0,0,0,0,0,0,0,0,0,0,0,0,0,0,0,0,0,0,0,0,0,0,0,0,0,0,0,0,0,0,0,0,0,0,0,0,0,0,0,0,{"$f":"+BQT5+BQT6+BQT7","v":0},0,0,0,0,0,0,0,0,0,0,0,0,0,0,0,0,0,0,0,0,0,0,0,0,0,0,0,0,0,0,0,0,0,0,0,0,0,0,0,0,0,0,0,0,0,0,0,0,0,0,0,0,0,0,0,0,0,0,0,0,0,0,0,{"$f":"+BTF5+BTF6+BTF7","v":0},0,0,0,0,0,0,0,0,0,0,0,0,0,0,0,0,0,0,0,0,0,0,0,0,0,0,0,0,0,0,0,0,0,0,0,0,0,0,0,0,0,0,0,0,0,0,0,0,0,0,0,0,0,0,0,0,0,0,0,0,0,0,0,{"$f":"+BVR5+BVR6+BVR7","v":0},0,0,0,0,0,0,0,0,0,0,0,0,0,0,0,0,0,0,0,0,0,0,0,0,0,0,0,0,0,0,0,0,0,0,0,0,0,0,0,0,0,0,0,0,0,0,0,0,0,0,0,0,0,0,0,0,0,0,0,0,0,0,0,{"$f":"+BYD5+BYD6+BYD7","v":0},0,0,0,0,0,0,0,0,0,0,0,0,0,0,0,0,0,0,0,0,0,0,0,0,0,0,0,0,0,0,0,0,0,0,0,0,0,0,0,0,0,0,0,0,0,0,0,0,0,0,0,0,0,0,0,0,0,0,0,0,0,0,0,{"$f":"+CAP5+CAP6+CAP7","v":0},0,0,0,0,0,0,0,0,0,0,0,0,0,0,0,0,0,0,0,0,0,0,0,0,0,0,0,0,0,0,0,0,0,0,0,0,0,0,0,0,0,0,0,0,0,0,0,0,0,0,0,0,0,0,0,0,0,0,0,0,0,0,0,{"$f":"+CDB5+CDB6+CDB7","v":0},0,0,0,0,0,0,0,0,0,0,0,0,0,0,0,0,0,0,0,0,0,0,0,0,0,0,0,0,0,0,0,0,0,0,0,0,0,0,0,0,0,0,0,0,0,0,0,0,0,0,0,0,0,0,0,0,0,0,0,0,0,0,0,{"$f":"+CFN5+CFN6+CFN7","v":0},0,0,0,0,0,0,0,0,0,0,0,0,0,0,0,0,0,0,0,0,0,0,0,0,0,0,0,0,0,0,0,0,0,0,0,0,0,0,0,0,0,0,0,0,0,0,0,0,0,0,0,0,0,0,0,0,0,0,0,0,0,0,0,{"$f":"+CHZ5+CHZ6+CHZ7","v":0},0,0,0,0,0,0,0,0,0,0,0,0,0,0,0,0,0,0,0,0,0,0,0,0,0,0,0,0,0,0,0,0,0,0,0,0,0,0,0,0,0,0,0,0,0,0,0,0,0,0,0,0,0,0,0,0,0,0,0,0,0,0,0,{"$f":"+CKL5+CKL6+CKL7","v":0},0,0,0,0,0,0,0,0,0,0,0,0,0,0,0,0,0,0,0,0,0,0,0,0,0,0,0,0,0,0,0,0,0,0,0,0,0,0,0,0,0,0,0,0,0,0,0,0,0,0,0,0,0,0,0,0,0,0,0,0,0,0,0,{"$f":"+CMX5+CMX6+CMX7","v":0},0,0,0,0,0,0,0,0,0,0,0,0,0,0,0,0,0,0,0,0,0,0,0,0,0,0,0,0,0,0,0,0,0,0,0,0,0,0,0,0,0,0,0,0,0,0,0,0,0,0,0,0,0,0,0,0,0,0,0,0,0,0,0,{"$f":"+CPJ5+CPJ6+CPJ7","v":0},0,0,0,0,0,0,0,0,0,0,0,0,0,0,0,0,0,0,0,0,0,0,0,0,0,0,0,0,0,0,0,0,0,0,0,0,0,0,0,0,0,0,0,0,0,0,0,0,0,0,0,0,0,0,0,0,0,0,0,0,0,0,0,{"$f":"+CRV5+CRV6+CRV7","v":0},0,0,0,0,0,0,0,0,0,0,0,0,0,0,0,0,0,0,0,0,0,0,0,0,0,0,0,0,0,0,0,0,0,0,0,0,0,0,0,0,0,0,0,0,0,0,0,0,0,0,0,0,0,0,0,0,0,0,0,0,0,0,0,{"$f":"+CUH5+CUH6+CUH7","v":0},0,0,0,0,0,0,0,0,0,0,0,0,0,0,0,0,0,0,0,0,0,0,0,0,0,0,0,0,0,0,0,0,0,0,0,0,0,0,0,0,0,0,0,0,0,0,0,0,0,0,0,0,0,0,0,0,0,0,0,0,0,0,0,{"$f":"+CWT5+CWT6+CWT7","v":0},0,0,0,0,0,0,0,0,0,0,0,0,0,0,0,0,0,0,0,0,0,0,0,0,0,0,0,0,0,0,0,0,0,0,0,0,0,0,0,0,0,0,0,0,0,0,0,0,0,0,0,0,0,0,0,0,0,0,0,0,0,0,0,{"$f":"+CZF5+CZF6+CZF7","v":0},0,0,0,0,0,0,0,0,0,0,0,0,0,0,0,0,0,0,0,0,0,0,0,0,0,0,0,0,0,0,0,0,0,0,0,0,0,0,0,0,0,0,0,0,0,0,0,0,0,0,0,0,0,0,0,0,0,0,0,0,0,0,0,{"$f":"+DBR5+DBR6+DBR7","v":0},0,0,0,0,0,0,0,0,0,0,0,0,0,0,0,0,0,0,0,0,0,0,0,0,0,0,0,0,0,0,0,0,0,0,0,0,0,0,0,0,0,0,0,0,0,0,0,0,0,0,0,0,0,0,0,0,0,0,0,0,0,0,0,{"$f":"+DED5+DED6+DED7","v":0},0,0,0,0,0,0,0,0,0,0,0,0,0,0,0,0,0,0,0,0,0,0,0,0,0,0,0,0,0,0,0,0,0,0,0,0,0,0,0,0,0,0,0,0,0,0,0,0,0,0,0,0,0,0,0,0,0,0,0,0,0,0,0,{"$f":"+DGP5+DGP6+DGP7","v":0},0,0,0,0,0,0,0,0,0,0,0,0,0,0,0,0,0,0,0,0,0,0,0,0,0,0,0,0,0,0,0,0,0,0,0,0,0,0,0,0,0,0,0,0,0,0,0,0,0,0,0,0,0,0,0,0,0,0,0,0,0,0,0,{"$f":"+DJB5+DJB6+DJB7","v":0},0,0,0,0,0,0,0,0,0,0,0,0,0,0,0,0,0,0,0,0,0,0,0,0,0,0,0,0,0,0,0,0,0,0,0,0,0,0,0,0,0,0,0,0,0,0,0,0,0,0,0,0,0,0,0,0,0,0,0,0,0,0,0,{"$f":"+DLN5+DLN6+DLN7","v":0},0,0,0,0,0,0,0,0,0,0,0,0,0,0,0,0,0,0,0,0,0,0,0,0,0,0,0,0,0,0,0,0,0,0,0,0,0,0,0,0,0,0,0,0,0,0,0,0,0,0,0,0,0,0,0,0,0,0,0,0,0,0,0,{"$f":"+DNZ5+DNZ6+DNZ7","v":0},0,0,0,0,0,0,0,0,0,0,0,0,0,0,0,0,0,0,0,0,0,0,0,0,0,0,0,0,0,0,0,0,0,0,0,0,0,0,0,0,0,0,0,0,0,0,0,0,0,0,0,0,0,0,0,0,0,0,0,0,0,0,0,{"$f":"+DQL5+DQL6+DQL7","v":0},0,0,0,0,0,0,0,0,0,0,0,0,0,0,0,0,0,0,0,0,0,0,0,0,0,0,0,0,0,0,0,0,0,0,0,0,0,0,0,0,0,0,0,0,0,0,0,0,0,0,0,0,0,0,0,0,0,0,0,0,0,0,0,{"$f":"+DSX5+DSX6+DSX7","v":0},0,0,0,0,0,0,0,0,0,0,0,0,0,0,0,0,0,0,0,0,0,0,0,0,0,0,0,0,0,0,0,0,0,0,0,0,0,0,0,0,0,0,0,0,0,0,0,0,0,0,0,0,0,0,0,0,0,0,0,0,0,0,0,{"$f":"+DVJ5+DVJ6+DVJ7","v":0},0,0,0,0,0,0,0,0,0,0,0,0,0,0,0,0,0,0,0,0,0,0,0,0,0,0,0,0,0,0,0,0,0,0,0,0,0,0,0,0,0,0,0,0,0,0,0,0,0,0,0,0,0,0,0,0,0,0,0,0,0,0,0,{"$f":"+DXV5+DXV6+DXV7","v":0},0,0,0,0,0,0,0,0,0,0,0,0,0,0,0,0,0,0,0,0,0,0,0,0,0,0,0,0,0,0,0,0,0,0,0,0,0,0,0,0,0,0,0,0,0,0,0,0,0,0,0,0,0,0,0,0,0,0,0,0,0,0,0,{"$f":"+EAH5+EAH6+EAH7","v":0},0,0,0,0,0,0,0,0,0,0,0,0,0,0,0,0,0,0,0,0,0,0,0,0,0,0,0,0,0,0,0,0,0,0,0,0,0,0,0,0,0,0,0,0,0,0,0,0,0,0,0,0,0,0,0,0,0,0,0,0,0,0,0,{"$f":"+ECT5+ECT6+ECT7","v":0},0,0,0,0,0,0,0,0,0,0,0,0,0,0,0,0,0,0,0,0,0,0,0,0,0,0,0,0,0,0,0,0,0,0,0,0,0,0,0,0,0,0,0,0,0,0,0,0,0,0,0,0,0,0,0,0,0,0,0,0,0,0,0,{"$f":"+EFF5+EFF6+EFF7","v":0},0,0,0,0,0,0,0,0,0,0,0,0,0,0,0,0,0,0,0,0,0,0,0,0,0,0,0,0,0,0,0,0,0,0,0,0,0,0,0,0,0,0,0,0,0,0,0,0,0,0,0,0,0,0,0,0,0,0,0,0,0,0,0,{"$f":"+EHR5+EHR6+EHR7","v":0},0,0,0,0,0,0,0,0,0,0,0,0,0,0,0,0,0,0,0,0,0,0,0,0,0,0,0,0,0,0,0,0,0,0,0,0,0,0,0,0,0,0,0,0,0,0,0,0,0,0,0,0,0,0,0,0,0,0,0,0,0,0,0,{"$f":"+EKD5+EKD6+EKD7","v":0},0,0,0,0,0,0,0,0,0,0,0,0,0,0,0,0,0,0,0,0,0,0,0,0,0,0,0,0,0,0,0,0,0,0,0,0,0,0,0,0,0,0,0,0,0,0,0,0,0,0,0,0,0,0,0,0,0,0,0,0,0,0,0,{"$f":"+EMP5+EMP6+EMP7","v":0},0,0,0,0,0,0,0,0,0,0,0,0,0,0,0,0,0,0,0,0,0,0,0,0,0,0,0,0,0,0,0,0,0,0,0,0,0,0,0,0,0,0,0,0,0,0,0,0,0,0,0,0,0,0,0,0,0,0,0,0,0,0,0,{"$f":"+EPB5+EPB6+EPB7","v":0},0,0,0,0,0,0,0,0,0,0,0,0,0,0,0,0,0,0,0,0,0,0,0,0,0,0,0,0,0,0,0,0,0,0,0,0,0,0,0,0,0,0,0,0,0,0,0,0,0,0,0,0,0,0,0,0,0,0,0,0,0,0,0,{"$f":"+ERN5+ERN6+ERN7","v":0},0,0,0,0,0,0,0,0,0,0,0,0,0,0,0,0,0,0,0,0,0,0,0,0,0,0,0,0,0,0,0,0,0,0,0,0,0,0,0,0,0,0,0,0,0,0,0,0,0,0,0,0,0,0,0,0,0,0,0,0,0,0,0,{"$f":"+ETZ5+ETZ6+ETZ7","v":0},0,0,0,0,0,0,0,0,0,0,0,0,0,0,0,0,0,0,0,0,0,0,0,0,0,0,0,0,0,0,0,0,0,0,0,0,0,0,0,0,0,0,0,0,0,0,0,0,0,0,0,0,0,0,0,0,0,0,0,0,0,0,0,{"$f":"+EWL5+EWL6+EWL7","v":0},0,0,0,0,0,0,0,0,0,0,0,0,0,0,0,0,0,0,0,0,0,0,0,0,0,0,0,0,0,0,0,0,0,0,0,0,0,0,0,0,0,0,0,0,0,0,0,0,0,0,0,0,0,0,0,0,0,0,0,0,0,0,0,{"$f":"+EYX5+EYX6+EYX7","v":0},0,0,0,0,0,0,0,0,0,0,0,0,0,0,0,0,0,0,0,0,0,0,0,0,0,0,0,0,0,0,0,0,0,0,0,0,0,0,0,0,0,0,0,0,0,0,0,0,0,0,0,0,0,0,0,0,0,0,0,0,0,0,0,{"$f":"+FBJ5+FBJ6+FBJ7","v":0},0,0,0,0,0,0,0,0,0,0,0,0,0,0,0,0,0,0,0,0,0,0,0,0,0,0,0,0,0,0,0,0,0,0,0,0,0,0,0,0,0,0,0,0,0,0,0,0,0,0,0,0,0,0,0,0,0,0,0,0,0,0,0,{"$f":"+FDV5+FDV6+FDV7","v":0},0,0,0,0,0,0,0,0,0,0,0,0,0,0,0,0,0,0,0,0,0,0,0,0,0,0,0,0,0,0,0,0,0,0,0,0,0,0,0,0,0,0,0,0,0,0,0,0,0,0,0,0,0,0,0,0,0,0,0,0,0,0,0,{"$f":"+FGH5+FGH6+FGH7","v":0},0,0,0,0,0,0,0,0,0,0,0,0,0,0,0,0,0,0,0,0,0,0,0,0,0,0,0,0,0,0,0,0,0,0,0,0,0,0,0,0,0,0,0,0,0,0,0,0,0,0,0,0,0,0,0,0,0,0,0,0,0,0,0,{"$f":"+FIT5+FIT6+FIT7","v":0},0,0,0,0,0,0,0,0,0,0,0,0,0,0,0,0,0,0,0,0,0,0,0,0,0,0,0,0,0,0,0,0,0,0,0,0,0,0,0,0,0,0,0,0,0,0,0,0,0,0,0,0,0,0,0,0,0,0,0,0,0,0,0,{"$f":"+FLF5+FLF6+FLF7","v":0},0,0,0,0,0,0,0,0,0,0,0,0,0,0,0,0,0,0,0,0,0,0,0,0,0,0,0,0,0,0,0,0,0,0,0,0,0,0,0,0,0,0,0,0,0,0,0,0,0,0,0,0,0,0,0,0,0,0,0,0,0,0,0,{"$f":"+FNR5+FNR6+FNR7","v":0},0,0,0,0,0,0,0,0,0,0,0,0,0,0,0,0,0,0,0,0,0,0,0,0,0,0,0,0,0,0,0,0,0,0,0,0,0,0,0,0,0,0,0,0,0,0,0,0,0,0,0,0,0,0,0,0,0,0,0,0,0,0,0,{"$f":"+FQD5+FQD6+FQD7","v":0},0,0,0,0,0,0,0,0,0,0,0,0,0,0,0,0,0,0,0,0,0,0,0,0,0,0,0,0,0,0,0,0,0,0,0,0,0,0,0,0,0,0,0,0,0,0,0,0,0,0,0,0,0,0,0,0,0,0,0,0,0,0,0,{"$f":"+FSP5+FSP6+FSP7","v":0},0,0,0,0,0,0,0,0,0,0,0,0,0,0,0,0,0,0,0,0,0,0,0,0,0,0,0,0,0,0,0,0,0,0,0,0,0,0,0,0,0,0,0,0,0,0,0,0,0,0,0,0,0,0,0,0,0,0,0,0,0,0,0,{"$f":"+FVB5+FVB6+FVB7","v":0},0,0,0,0,0,0,0,0,0,0,0,0,0,0,0,0,0,0,0,0,0,0,0,0,0,0,0,0,0,0,0,0,0,0,0,0,0,0,0,0,0,0,0,0,0,0,0,0,0,0,0,0,0,0,0,0,0,0,0,0,0,0,0,{"$f":"+FXN5+FXN6+FXN7","v":0},0,0,0,0,0,0,0,0,0,0,0,0,0,0,0,0,0,0,0,0,0,0,0,0,0,0,0,0,0,0,0,0,0,0,0,0,0,0,0,0,0,0,0,0,0,0,0,0,0,0,0,0,0,0,0,0,0,0,0,0,0,0,0,{"$f":"+FZZ5+FZZ6+FZZ7","v":0},0,0,0,0,0,0,0,0,0,0,0,0,0,0,0,0,0,0,0,0,0,0,0,0,0,0,0,0,0,0,0,0,0,0,0,0,0,0,0,0,0,0,0,0,0,0,0,0,0,0,0,0,0,0,0,0,0,0,0,0,0,0,0,{"$f":"+GCL5+GCL6+GCL7","v":0},0,0,0,0,0,0,0,0,0,0,0,0,0,0,0,0,0,0,0,0,0,0,0,0,0,0,0,0,0,0,0,0,0,0,0,0,0,0,0,0,0,0,0,0,0,0,0,0,0,0,0,0,0,0,0,0,0,0,0,0,0,0,0,{"$f":"+GEX5+GEX6+GEX7","v":0},0,0,0,0,0,0,0,0,0,0,0,0,0,0,0,0,0,0,0,0,0,0,0,0,0,0,0,0,0,0,0,0,0,0,0,0,0,0,0,0,0,0,0,0,0,0,0,0,0,0,0,0,0,0,0,0,0,0,0,0,0,0,0,{"$f":"+GHJ5+GHJ6+GHJ7","v":0},0,0,0,0,0,0,0,0,0,0,0,0,0,0,0,0,0,0,0,0,0,0,0,0,0,0,0,0,0,0,0,0,0,0,0,0,0,0,0,0,0,0,0,0,0,0,0,0,0,0,0,0,0,0,0,0,0,0,0,0,0,0,0,{"$f":"+GJV5+GJV6+GJV7","v":0},0,0,0,0,0,0,0,0,0,0,0,0,0,0,0,0,0,0,0,0,0,0,0,0,0,0,0,0,0,0,0,0,0,0,0,0,0,0,0,0,0,0,0,0,0,0,0,0,0,0,0,0,0,0,0,0,0,0,0,0,0,0,0,{"$f":"+GMH5+GMH6+GMH7","v":0},0,0,0,0,0,0,0,0,0,0,0,0,0,0,0,0,0,0,0,0,0,0,0,0,0,0,0,0,0,0,0,0,0,0,0,0,0,0,0,0,0,0,0,0,0,0,0,0,0,0,0,0,0,0,0,0,0,0,0,0,0,0,0,{"$f":"+GOT5+GOT6+GOT7","v":0},0,0,0,0,0,0,0,0,0,0,0,0,0,0,0,0,0,0,0,0,0,0,0,0,0,0,0,0,0,0,0,0,0,0,0,0,0,0,0,0,0,0,0,0,0,0,0,0,0,0,0,0,0,0,0,0,0,0,0,0,0,0,0,{"$f":"+GRF5+GRF6+GRF7","v":0},0,0,0,0,0,0,0,0,0,0,0,0,0,0,0,0,0,0,0,0,0,0,0,0,0,0,0,0,0,0,0,0,0,0,0,0,0,0,0,0,0,0,0,0,0,0,0,0,0,0,0,0,0,0,0,0,0,0,0,0,0,0,0,{"$f":"+GTR5+GTR6+GTR7","v":0},0,0,0,0,0,0,0,0,0,0,0,0,0,0,0,0,0,0,0,0,0,0,0,0,0,0,0,0,0,0,0,0,0,0,0,0,0,0,0,0,0,0,0,0,0,0,0,0,0,0,0,0,0,0,0,0,0,0,0,0,0,0,0,{"$f":"+GWD5+GWD6+GWD7","v":0},0,0,0,0,0,0,0,0,0,0,0,0,0,0,0,0,0,0,0,0,0,0,0,0,0,0,0,0,0,0,0,0,0,0,0,0,0,0,0,0,0,0,0,0,0,0,0,0,0,0,0,0,0,0,0,0,0,0,0,0,0,0,0,{"$f":"+GYP5+GYP6+GYP7","v":0},0,0,0,0,0,0,0,0,0,0,0,0,0,0,0,0,0,0,0,0,0,0,0,0,0,0,0,0,0,0,0,0,0,0,0,0,0,0,0,0,0,0,0,0,0,0,0,0,0,0,0,0,0,0,0,0,0,0,0,0,0,0,0,{"$f":"+HBB5+HBB6+HBB7","v":0},0,0,0,0,0,0,0,0,0,0,0,0,0,0,0,0,0,0,0,0,0,0,0,0,0,0,0,0,0,0,0,0,0,0,0,0,0,0,0,0,0,0,0,0,0,0,0,0,0,0,0,0,0,0,0,0,0,0,0,0,0,0,0,{"$f":"+HDN5+HDN6+HDN7","v":0},0,0,0,0,0,0,0,0,0,0,0,0,0,0,0,0,0,0,0,0,0,0,0,0,0,0,0,0,0,0,0,0,0,0,0,0,0,0,0,0,0,0,0,0,0,0,0,0,0,0,0,0,0,0,0,0,0,0,0,0,0,0,0,{"$f":"+HFZ5+HFZ6+HFZ7","v":0},0,0,0,0,0,0,0,0,0,0,0,0,0,0,0,0,0,0,0,0,0,0,0,0,0,0,0,0,0,0,0,0,0,0,0,0,0,0,0,0,0,0,0,0,0,0,0,0,0,0,0,0,0,0,0,0,0,0,0,0,0,0,0,{"$f":"+HIL5+HIL6+HIL7","v":0},0,0,0,0,0,0,0,0,0,0,0,0,0,0,0,0,0,0,0,0,0,0,0,0,0,0,0,0,0,0,0,0,0,0,0,0,0,0,0,0,0,0,0,0,0,0,0,0,0,0,0,0,0,0,0,0,0,0,0,0,0,0,0,{"$f":"+HKX5+HKX6+HKX7","v":0},0,0,0,0,0,0,0,0,0,0,0,0,0,0,0,0,0,0,0,0,0,0,0,0,0,0,0,0,0,0,0,0,0,0,0,0,0,0,0,0,0,0,0,0,0,0,0,0,0,0,0,0,0,0,0,0,0,0,0,0,0,0,0,{"$f":"+HNJ5+HNJ6+HNJ7","v":0},0,0,0,0,0,0,0,0,0,0,0,0,0,0,0,0,0,0,0,0,0,0,0,0,0,0,0,0,0,0,0,0,0,0,0,0,0,0,0,0,0,0,0,0,0,0,0,0,0,0,0,0,0,0,0,0,0,0,0,0,0,0,0,{"$f":"+HPV5+HPV6+HPV7","v":0},0,0,0,0,0,0,0,0,0,0,0,0,0,0,0,0,0,0,0,0,0,0,0,0,0,0,0,0,0,0,0,0,0,0,0,0,0,0,0,0,0,0,0,0,0,0,0,0,0,0,0,0,0,0,0,0,0,0,0,0,0,0,0,{"$f":"+HSH5+HSH6+HSH7","v":0},0,0,0,0,0,0,0,0,0,0,0,0,0,0,0,0,0,0,0,0,0,0,0,0,0,0,0,0,0,0,0,0,0,0,0,0,0,0,0,0,0,0,0,0,0,0,0,0,0,0,0,0,0,0,0,0,0,0,0,0,0,0,0,{"$f":"+HUT5+HUT6+HUT7","v":0},0,0,0,0,0,0,0,0,0,0,0,0,0,0,0,0,0,0,0,0,0,0,0,0,0,0,0,0,0,0,0,0,0,0,0,0,0,0,0,0,0,0,0,0,0,0,0,0,0,0,0,0,0,0,0,0,0,0,0,0,0,0,0,{"$f":"+HXF5+HXF6+HXF7","v":0},0,0,0,0,0,0,0,0,0,0,0,0,0,0,0,0,0,0,0,0,0,0,0,0,0,0,0,0,0,0,0,0,0,0,0,0,0,0,0,0,0,0,0,0,0,0,0,0,0,0,0,0,0,0,0,0,0,0,0,0,0,0,0,{"$f":"+HZR5+HZR6+HZR7","v":0},0,0,0,0,0,0,0,0,0,0,0,0,0,0,0,0,0,0,0,0,0,0,0,0,0,0,0,0,0,0,0,0,0,0,0,0,0,0,0,0,0,0,0,0,0,0,0,0,0,0,0,0,0,0,0,0,0,0,0,0,0,0,0,{"$f":"+ICD5+ICD6+ICD7","v":0},0,0,0,0,0,0,0,0,0,0,0,0,0,0,0,0,0,0,0,0,0,0,0,0,0,0,0,0,0,0,0,0,0,0,0,0,0,0,0,0,0,0,0,0,0,0,0,0,0,0,0,0,0,0,0,0,0,0,0,0,0,0,0,{"$f":"+IEP5+IEP6+IEP7","v":0},0,0,0,0,0,0,0,0,0,0,0,0,0,0,0,0,0,0,0,0,0,0,0,0,0,0,0,0,0,0,0,0,0,0,0,0,0,0,0,0,0,0,0,0,0,0,0,0,0,0,0,0,0,0,0,0,0,0,0,0,0,0,0,{"$f":"+IHB5+IHB6+IHB7","v":0},0,0,0,0,0,0,0,0,0,0,0,0,0,0,0,0,0,0,0,0,0,0,0,0,0,0,0,0,0,0,0,0,0,0,0,0,0,0,0,0,0,0,0,0,0,0,0,0,0,0,0,0,0,0,0,0,0,0,0,0,0,0,0,{"$f":"+IJN5+IJN6+IJN7","v":0},0,0,0,0,0,0,0,0,0,0,0,0,0,0,0,0,0,0,0,0,0,0,0,0,0,0,0,0,0,0,0,0,0,0,0,0,0,0,0,0,0,0,0,0,0,0,0,0,0,0,0,0,0,0,0,0,0,0,0,0,0,0,0,{"$f":"+ILZ5+ILZ6+ILZ7","v":0},0,0,0,0,0,0,0,0,0,0,0,0,0,0,0,0,0,0,0,0,0,0,0,0,0,0,0,0,0,0,0,0,0,0,0,0,0,0,0,0,0,0,0,0,0,0,0,0,0,0,0,0,0,0,0,0,0,0,0,0,0,0,0,{"$f":"+IOL5+IOL6+IOL7","v":0},0,0,0,0,0,0,0,0,0,0,0,0,0,0,0,0,0,0,0,0,0,0,0,0,0,0,0,0,0,0,0,0,0,0,0,0,0,0,0,0,0,0,0,0,0,0,0,0,0,0,0,0,0,0,0,0,0,0,0,0,0,0,0,{"$f":"+IQX5+IQX6+IQX7","v":0},0,0,0,0,0,0,0,0,0,0,0,0,0,0,0,0,0,0,0,0,0,0,0,0,0,0,0,0,0,0,0,0,0,0,0,0,0,0,0,0,0,0,0,0,0,0,0,0,0,0,0,0,0,0,0,0,0,0,0,0,0,0,0,{"$f":"+ITJ5+ITJ6+ITJ7","v":0},0,0,0,0,0,0,0,0,0,0,0,0,0,0,0,0,0,0,0,0,0,0,0,0,0,0,0,0,0,0,0,0,0,0,0,0,0,0,0,0,0,0,0,0,0,0,0,0,0,0,0,0,0,0,0,0,0,0,0,0,0,0,0,{"$f":"+IVV5+IVV6+IVV7","v":0},0,0,0,0,0,0,0,0,0,0,0,0,0,0,0,0,0,0,0,0,0,0,0,0,0,0,0,0,0,0,0,0,0,0,0,0,0,0,0,0,0,0,0,0,0,0,0,0,0,0,0,0,0,0,0,0,0,0,0,0,0,0,0,{"$f":"+IYH5+IYH6+IYH7","v":0},0,0,0,0,0,0,0,0,0,0,0,0,0,0,0,0,0,0,0,0,0,0,0,0,0,0,0,0,0,0,0,0,0,0,0,0,0,0,0,0,0,0,0,0,0,0,0,0,0,0,0,0,0,0,0,0,0,0,0,0,0,0,0,{"$f":"+JAT5+JAT6+JAT7","v":0},0,0,0,0,0,0,0,0,0,0,0,0,0,0,0,0,0,0,0,0,0,0,0,0,0,0,0,0,0,0,0,0,0,0,0,0,0,0,0,0,0,0,0,0,0,0,0,0,0,0,0,0,0,0,0,0,0,0,0,0,0,0,0,{"$f":"+JDF5+JDF6+JDF7","v":0},0,0,0,0,0,0,0,0,0,0,0,0,0,0,0,0,0,0,0,0,0,0,0,0,0,0,0,0,0,0,0,0,0,0,0,0,0,0,0,0,0,0,0,0,0,0,0,0,0,0,0,0,0,0,0,0,0,0,0,0,0,0,0,{"$f":"+JFR5+JFR6+JFR7","v":0},0,0,0,0,0,0,0,0,0,0,0,0,0,0,0,0,0,0,0,0,0,0,0,0,0,0,0,0,0,0,0,0,0,0,0,0,0,0,0,0,0,0,0,0,0,0,0,0,0,0,0,0,0,0,0,0,0,0,0,0,0,0,0,{"$f":"+JID5+JID6+JID7","v":0},0,0,0,0,0,0,0,0,0,0,0,0,0,0,0,0,0,0,0,0,0,0,0,0,0,0,0,0,0,0,0,0,0,0,0,0,0,0,0,0,0,0,0,0,0,0,0,0,0,0,0,0,0,0,0,0,0,0,0,0,0,0,0,{"$f":"+JKP5+JKP6+JKP7","v":0},0,0,0,0,0,0,0,0,0,0,0,0,0,0,0,0,0,0,0,0,0,0,0,0,0,0,0,0,0,0,0,0,0,0,0,0,0,0,0,0,0,0,0,0,0,0,0,0,0,0,0,0,0,0,0,0,0,0,0,0,0,0,0,{"$f":"+JNB5+JNB6+JNB7","v":0},0,0,0,0,0,0,0,0,0,0,0,0,0,0,0,0,0,0,0,0,0,0,0,0,0,0,0,0,0,0,0,0,0,0,0,0,0,0,0,0,0,0,0,0,0,0,0,0,0,0,0,0,0,0,0,0,0,0,0,0,0,0,0,{"$f":"+JPN5+JPN6+JPN7","v":0},0,0,0,0,0,0,0,0,0,0,0,0,0,0,0,0,0,0,0,0,0,0,0,0,0,0,0,0,0,0,0,0,0,0,0,0,0,0,0,0,0,0,0,0,0,0,0,0,0,0,0,0,0,0,0,0,0,0,0,0,0,0,0,{"$f":"+JRZ5+JRZ6+JRZ7","v":0},0,0,0,0,0,0,0,0,0,0,0,0,0,0,0,0,0,0,0,0,0,0,0,0,0,0,0,0,0,0,0,0,0,0,0,0,0,0,0,0,0,0,0,0,0,0,0,0,0,0,0,0,0,0,0,0,0,0,0,0,0,0,0,{"$f":"+JUL5+JUL6+JUL7","v":0},0,0,0,0,0,0,0,0,0,0,0,0,0,0,0,0,0,0,0,0,0,0,0,0,0,0,0,0,0,0,0,0,0,0,0,0,0,0,0,0,0,0,0,0,0,0,0,0,0,0,0,0,0,0,0,0,0,0,0,0,0,0,0,{"$f":"+JWX5+JWX6+JWX7","v":0},0,0,0,0,0,0,0,0,0,0,0,0,0,0,0,0,0,0,0,0,0,0,0,0,0,0,0,0,0,0,0,0,0,0,0,0,0,0,0,0,0,0,0,0,0,0,0,0,0,0,0,0,0,0,0,0,0,0,0,0,0,0,0,{"$f":"+JZJ5+JZJ6+JZJ7","v":0},0,0,0,0,0,0,0,0,0,0,0,0,0,0,0,0,0,0,0,0,0,0,0,0,0,0,0,0,0,0,0,0,0,0,0,0,0,0,0,0,0,0,0,0,0,0,0,0,0,0,0,0,0,0,0,0,0,0,0,0,0,0,0,{"$f":"+KBV5+KBV6+KBV7","v":0},0,0,0,0,0,0,0,0,0,0,0,0,0,0,0,0,0,0,0,0,0,0,0,0,0,0,0,0,0,0,0,0,0,0,0,0,0,0,0,0,0,0,0,0,0,0,0,0,0,0,0,0,0,0,0,0,0,0,0,0,0,0,0,{"$f":"+KEH5+KEH6+KEH7","v":0},0,0,0,0,0,0,0,0,0,0,0,0,0,0,0,0,0,0,0,0,0,0,0,0,0,0,0,0,0,0,0,0,0,0,0,0,0,0,0,0,0,0,0,0,0,0,0,0,0,0,0,0,0,0,0,0,0,0,0,0,0,0,0,{"$f":"+KGT5+KGT6+KGT7","v":0},0,0,0,0,0,0,0,0,0,0,0,0,0,0,0,0,0,0,0,0,0,0,0,0,0,0,0,0,0,0,0,0,0,0,0,0,0,0,0,0,0,0,0,0,0,0,0,0,0,0,0,0,0,0,0,0,0,0,0,0,0,0,0,{"$f":"+KJF5+KJF6+KJF7","v":0},0,0,0,0,0,0,0,0,0,0,0,0,0,0,0,0,0,0,0,0,0,0,0,0,0,0,0,0,0,0,0,0,0,0,0,0,0,0,0,0,0,0,0,0,0,0,0,0,0,0,0,0,0,0,0,0,0,0,0,0,0,0,0,{"$f":"+KLR5+KLR6+KLR7","v":0},0,0,0,0,0,0,0,0,0,0,0,0,0,0,0,0,0,0,0,0,0,0,0,0,0,0,0,0,0,0,0,0,0,0,0,0,0,0,0,0,0,0,0,0,0,0,0,0,0,0,0,0,0,0,0,0,0,0,0,0,0,0,0,{"$f":"+KOD5+KOD6+KOD7","v":0},0,0,0,0,0,0,0,0,0,0,0,0,0,0,0,0,0,0,0,0,0,0,0,0,0,0,0,0,0,0,0,0,0,0,0,0,0,0,0,0,0,0,0,0,0,0,0,0,0,0,0,0,0,0,0,0,0,0,0,0,0,0,0,{"$f":"+KQP5+KQP6+KQP7","v":0},0,0,0,0,0,0,0,0,0,0,0,0,0,0,0,0,0,0,0,0,0,0,0,0,0,0,0,0,0,0,0,0,0,0,0,0,0,0,0,0,0,0,0,0,0,0,0,0,0,0,0,0,0,0,0,0,0,0,0,0,0,0,0,{"$f":"+KTB5+KTB6+KTB7","v":0},0,0,0,0,0,0,0,0,0,0,0,0,0,0,0,0,0,0,0,0,0,0,0,0,0,0,0,0,0,0,0,0,0,0,0,0,0,0,0,0,0,0,0,0,0,0,0,0,0,0,0,0,0,0,0,0,0,0,0,0,0,0,0,{"$f":"+KVN5+KVN6+KVN7","v":0},0,0,0,0,0,0,0,0,0,0,0,0,0,0,0,0,0,0,0,0,0,0,0,0,0,0,0,0,0,0,0,0,0,0,0,0,0,0,0,0,0,0,0,0,0,0,0,0,0,0,0,0,0,0,0,0,0,0,0,0,0,0,0,{"$f":"+KXZ5+KXZ6+KXZ7","v":0},0,0,0,0,0,0,0,0,0,0,0,0,0,0,0,0,0,0,0,0,0,0,0,0,0,0,0,0,0,0,0,0,0,0,0,0,0,0,0,0,0,0,0,0,0,0,0,0,0,0,0,0,0,0,0,0,0,0,0,0,0,0,0,{"$f":"+LAL5+LAL6+LAL7","v":0},0,0,0,0,0,0,0,0,0,0,0,0,0,0,0,0,0,0,0,0,0,0,0,0,0,0,0,0,0,0,0,0,0,0,0,0,0,0,0,0,0,0,0,0,0,0,0,0,0,0,0,0,0,0,0,0,0,0,0,0,0,0,0,{"$f":"+LCX5+LCX6+LCX7","v":0},0,0,0,0,0,0,0,0,0,0,0,0,0,0,0,0,0,0,0,0,0,0,0,0,0,0,0,0,0,0,0,0,0,0,0,0,0,0,0,0,0,0,0,0,0,0,0,0,0,0,0,0,0,0,0,0,0,0,0,0,0,0,0,{"$f":"+LFJ5+LFJ6+LFJ7","v":0},0,0,0,0,0,0,0,0,0,0,0,0,0,0,0,0,0,0,0,0,0,0,0,0,0,0,0,0,0,0,0,0,0,0,0,0,0,0,0,0,0,0,0,0,0,0,0,0,0,0,0,0,0,0,0,0,0,0,0,0,0,0,0,{"$f":"+LHV5+LHV6+LHV7","v":0},0,0,0,0,0,0,0,0,0,0,0,0,0,0,0,0,0,0,0,0,0,0,0,0,0,0,0,0,0,0,0,0,0,0,0,0,0,0,0,0,0,0,0,0,0,0,0,0,0,0,0,0,0,0,0,0,0,0,0,0,0,0,0,{"$f":"+LKH5+LKH6+LKH7","v":0},0,0,0,0,0,0,0,0,0,0,0,0,0,0,0,0,0,0,0,0,0,0,0,0,0,0,0,0,0,0,0,0,0,0,0,0,0,0,0,0,0,0,0,0,0,0,0,0,0,0,0,0,0,0,0,0,0,0,0,0,0,0,0,{"$f":"+LMT5+LMT6+LMT7","v":0},0,0,0,0,0,0,0,0,0,0,0,0,0,0,0,0,0,0,0,0,0,0,0,0,0,0,0,0,0,0,0,0,0,0,0,0,0,0,0,0,0,0,0,0,0,0,0,0,0,0,0,0,0,0,0,0,0,0,0,0,0,0,0,{"$f":"+LPF5+LPF6+LPF7","v":0},0,0,0,0,0,0,0,0,0,0,0,0,0,0,0,0,0,0,0,0,0,0,0,0,0,0,0,0,0,0,0,0,0,0,0,0,0,0,0,0,0,0,0,0,0,0,0,0,0,0,0,0,0,0,0,0,0,0,0,0,0,0,0,{"$f":"+LRR5+LRR6+LRR7","v":0},0,0,0,0,0,0,0,0,0,0,0,0,0,0,0,0,0,0,0,0,0,0,0,0,0,0,0,0,0,0,0,0,0,0,0,0,0,0,0,0,0,0,0,0,0,0,0,0,0,0,0,0,0,0,0,0,0,0,0,0,0,0,0,{"$f":"+LUD5+LUD6+LUD7","v":0},0,0,0,0,0,0,0,0,0,0,0,0,0,0,0,0,0,0,0,0,0,0,0,0,0,0,0,0,0,0,0,0,0,0,0,0,0,0,0,0,0,0,0,0,0,0,0,0,0,0,0,0,0,0,0,0,0,0,0,0,0,0,0,{"$f":"+LWP5+LWP6+LWP7","v":0},0,0,0,0,0,0,0,0,0,0,0,0,0,0,0,0,0,0,0,0,0,0,0,0,0,0,0,0,0,0,0,0,0,0,0,0,0,0,0,0,0,0,0,0,0,0,0,0,0,0,0,0,0,0,0,0,0,0,0,0,0,0,0,{"$f":"+LZB5+LZB6+LZB7","v":0},0,0,0,0,0,0,0,0,0,0,0,0,0,0,0,0,0,0,0,0,0,0,0,0,0,0,0,0,0,0,0,0,0,0,0,0,0,0,0,0,0,0,0,0,0,0,0,0,0,0,0,0,0,0,0,0,0,0,0,0,0,0,0,{"$f":"+MBN5+MBN6+MBN7","v":0},0,0,0,0,0,0,0,0,0,0,0,0,0,0,0,0,0,0,0,0,0,0,0,0,0,0,0,0,0,0,0,0,0,0,0,0,0,0,0,0,0,0,0,0,0,0,0,0,0,0,0,0,0,0,0,0,0,0,0,0,0,0,0,{"$f":"+MDZ5+MDZ6+MDZ7","v":0},0,0,0,0,0,0,0,0,0,0,0,0,0,0,0,0,0,0,0,0,0,0,0,0,0,0,0,0,0,0,0,0,0,0,0,0,0,0,0,0,0,0,0,0,0,0,0,0,0,0,0,0,0,0,0,0,0,0,0,0,0,0,0,{"$f":"+MGL5+MGL6+MGL7","v":0},0,0,0,0,0,0,0,0,0,0,0,0,0,0,0,0,0,0,0,0,0,0,0,0,0,0,0,0,0,0,0,0,0,0,0,0,0,0,0,0,0,0,0,0,0,0,0,0,0,0,0,0,0,0,0,0,0,0,0,0,0,0,0,{"$f":"+MIX5+MIX6+MIX7","v":0},0,0,0,0,0,0,0,0,0,0,0,0,0,0,0,0,0,0,0,0,0,0,0,0,0,0,0,0,0,0,0,0,0,0,0,0,0,0,0,0,0,0,0,0,0,0,0,0,0,0,0,0,0,0,0,0,0,0,0,0,0,0,0,{"$f":"+MLJ5+MLJ6+MLJ7","v":0},0,0,0,0,0,0,0,0,0,0,0,0,0,0,0,0,0,0,0,0,0,0,0,0,0,0,0,0,0,0,0,0,0,0,0,0,0,0,0,0,0,0,0,0,0,0,0,0,0,0,0,0,0,0,0,0,0,0,0,0,0,0,0,{"$f":"+MNV5+MNV6+MNV7","v":0},0,0,0,0,0,0,0,0,0,0,0,0,0,0,0,0,0,0,0,0,0,0,0,0,0,0,0,0,0,0,0,0,0,0,0,0,0,0,0,0,0,0,0,0,0,0,0,0,0,0,0,0,0,0,0,0,0,0,0,0,0,0,0,{"$f":"+MQH5+MQH6+MQH7","v":0},0,0,0,0,0,0,0,0,0,0,0,0,0,0,0,0,0,0,0,0,0,0,0,0,0,0,0,0,0,0,0,0,0,0,0,0,0,0,0,0,0,0,0,0,0,0,0,0,0,0,0,0,0,0,0,0,0,0,0,0,0,0,0,{"$f":"+MST5+MST6+MST7","v":0},0,0,0,0,0,0,0,0,0,0,0,0,0,0,0,0,0,0,0,0,0,0,0,0,0,0,0,0,0,0,0,0,0,0,0,0,0,0,0,0,0,0,0,0,0,0,0,0,0,0,0,0,0,0,0,0,0,0,0,0,0,0,0,{"$f":"+MVF5+MVF6+MVF7","v":0},0,0,0,0,0,0,0,0,0,0,0,0,0,0,0,0,0,0,0,0,0,0,0,0,0,0,0,0,0,0,0,0,0,0,0,0,0,0,0,0,0,0,0,0,0,0,0,0,0,0,0,0,0,0,0,0,0,0,0,0,0,0,0,{"$f":"+MXR5+MXR6+MXR7","v":0},0,0,0,0,0,0,0,0,0,0,0,0,0,0,0,0,0,0,0,0,0,0,0,0,0,0,0,0,0,0,0,0,0,0,0,0,0,0,0,0,0,0,0,0,0,0,0,0,0,0,0,0,0,0,0,0,0,0,0,0,0,0,0,{"$f":"+NAD5+NAD6+NAD7","v":0},0,0,0,0,0,0,0,0,0,0,0,0,0,0,0,0,0,0,0,0,0,0,0,0,0,0,0,0,0,0,0,0,0,0,0,0,0,0,0,0,0,0,0,0,0,0,0,0,0,0,0,0,0,0,0,0,0,0,0,0,0,0,0,{"$f":"+NCP5+NCP6+NCP7","v":0},0,0,0,0,0,0,0,0,0,0,0,0,0,0,0,0,0,0,0,0,0,0,0,0,0,0,0,0,0,0,0,0,0,0,0,0,0,0,0,0,0,0,0,0,0,0,0,0,0,0,0,0,0,0,0,0,0,0,0,0,0,0,0,{"$f":"+NFB5+NFB6+NFB7","v":0},0,0,0,0,0,0,0,0,0,0,0,0,0,0,0,0,0,0,0,0,0,0,0,0,0,0,0,0,0,0,0,0,0,0,0,0,0,0,0,0,0,0,0,0,0,0,0,0,0,0,0,0,0,0,0,0,0,0,0,0,0,0,0,{"$f":"+NHN5+NHN6+NHN7","v":0},0,0,0,0,0,0,0,0,0,0,0,0,0,0,0,0,0,0,0,0,0,0,0,0,0,0,0,0,0,0,0,0,0,0,0,0,0,0,0,0,0,0,0,0,0,0,0,0,0,0,0,0,0,0,0,0,0,0,0,0,0,0,0,{"$f":"+NJZ5+NJZ6+NJZ7","v":0},0,0,0,0,0,0,0,0,0,0,0,0,0,0,0,0,0,0,0,0,0,0,0,0,0,0,0,0,0,0,0,0,0,0,0,0,0,0,0,0,0,0,0,0,0,0,0,0,0,0,0,0,0,0,0,0,0,0,0,0,0,0,0,{"$f":"+NML5+NML6+NML7","v":0},0,0,0,0,0,0,0,0,0,0,0,0,0,0,0,0,0,0,0,0,0,0,0,0,0,0,0,0,0,0,0,0,0,0,0,0,0,0,0,0,0,0,0,0,0,0,0,0,0,0,0,0,0,0,0,0,0,0,0,0,0,0,0,{"$f":"+NOX5+NOX6+NOX7","v":0},0,0,0,0,0,0,0,0,0,0,0,0,0,0,0,0,0,0,0,0,0,0,0,0,0,0,0,0,0,0,0,0,0,0,0,0,0,0,0,0,0,0,0,0,0,0,0,0,0,0,0,0,0,0,0,0,0,0,0,0,0,0,0,{"$f":"+NRJ5+NRJ6+NRJ7","v":0},0,0,0,0,0,0,0,0,0,0,0,0,0,0,0,0,0,0,0,0,0,0,0,0,0,0,0,0,0,0,0,0,0,0,0,0,0,0,0,0,0,0,0,0,0,0,0,0,0,0,0,0,0,0,0,0,0,0,0,0,0,0,0,{"$f":"+NTV5+NTV6+NTV7","v":0},0,0,0,0,0,0,0,0,0,0,0,0,0,0,0,0,0,0,0,0,0,0,0,0,0,0,0,0,0,0,0,0,0,0,0,0,0,0,0,0,0,0,0,0,0,0,0,0,0,0,0,0,0,0,0,0,0,0,0,0,0,0,0,{"$f":"+NWH5+NWH6+NWH7","v":0},0,0,0,0,0,0,0,0,0,0,0,0,0,0,0,0,0,0,0,0,0,0,0,0,0,0,0,0,0,0,0,0,0,0,0,0,0,0,0,0,0,0,0,0,0,0,0,0,0,0,0,0,0,0,0,0,0,0,0,0,0,0,0,{"$f":"+NYT5+NYT6+NYT7","v":0},0,0,0,0,0,0,0,0,0,0,0,0,0,0,0,0,0,0,0,0,0,0,0,0,0,0,0,0,0,0,0,0,0,0,0,0,0,0,0,0,0,0,0,0,0,0,0,0,0,0,0,0,0,0,0,0,0,0,0,0,0,0,0,{"$f":"+OBF5+OBF6+OBF7","v":0},0,0,0,0,0,0,0,0,0,0,0,0,0,0,0,0,0,0,0,0,0,0,0,0,0,0,0,0,0,0,0,0,0,0,0,0,0,0,0,0,0,0,0,0,0,0,0,0,0,0,0,0,0,0,0,0,0,0,0,0,0,0,0,{"$f":"+ODR5+ODR6+ODR7","v":0},0,0,0,0,0,0,0,0,0,0,0,0,0,0,0,0,0,0,0,0,0,0,0,0,0,0,0,0,0,0,0,0,0,0,0,0,0,0,0,0,0,0,0,0,0,0,0,0,0,0,0,0,0,0,0,0,0,0,0,0,0,0,0,{"$f":"+OGD5+OGD6+OGD7","v":0},0,0,0,0,0,0,0,0,0,0,0,0,0,0,0,0,0,0,0,0,0,0,0,0,0,0,0,0,0,0,0,0,0,0,0,0,0,0,0,0,0,0,0,0,0,0,0,0,0,0,0,0,0,0,0,0,0,0,0,0,0,0,0,{"$f":"+OIP5+OIP6+OIP7","v":0},0,0,0,0,0,0,0,0,0,0,0,0,0,0,0,0,0,0,0,0,0,0,0,0,0,0,0,0,0,0,0,0,0,0,0,0,0,0,0,0,0,0,0,0,0,0,0,0,0,0,0,0,0,0,0,0,0,0,0,0,0,0,0,{"$f":"+OLB5+OLB6+OLB7","v":0},0,0,0,0,0,0,0,0,0,0,0,0,0,0,0,0,0,0,0,0,0,0,0,0,0,0,0,0,0,0,0,0,0,0,0,0,0,0,0,0,0,0,0,0,0,0,0,0,0,0,0,0,0,0,0,0,0,0,0,0,0,0,0,{"$f":"+ONN5+ONN6+ONN7","v":0},0,0,0,0,0,0,0,0,0,0,0,0,0,0,0,0,0,0,0,0,0,0,0,0,0,0,0,0,0,0,0,0,0,0,0,0,0,0,0,0,0,0,0,0,0,0,0,0,0,0,0,0,0,0,0,0,0,0,0,0,0,0,0,{"$f":"+OPZ5+OPZ6+OPZ7","v":0},0,0,0,0,0,0,0,0,0,0,0,0,0,0,0,0,0,0,0,0,0,0,0,0,0,0,0,0,0,0,0,0,0,0,0,0,0,0,0,0,0,0,0,0,0,0,0,0,0,0,0,0,0,0,0,0,0,0,0,0,0,0,0,{"$f":"+OSL5+OSL6+OSL7","v":0},0,0,0,0,0,0,0,0,0,0,0,0,0,0,0,0,0,0,0,0,0,0,0,0,0,0,0,0,0,0,0,0,0,0,0,0,0,0,0,0,0,0,0,0,0,0,0,0,0,0,0,0,0,0,0,0,0,0,0,0,0,0,0,{"$f":"+OUX5+OUX6+OUX7","v":0},0,0,0,0,0,0,0,0,0,0,0,0,0,0,0,0,0,0,0,0,0,0,0,0,0,0,0,0,0,0,0,0,0,0,0,0,0,0,0,0,0,0,0,0,0,0,0,0,0,0,0,0,0,0,0,0,0,0,0,0,0,0,0,{"$f":"+OXJ5+OXJ6+OXJ7","v":0},0,0,0,0,0,0,0,0,0,0,0,0,0,0,0,0,0,0,0,0,0,0,0,0,0,0,0,0,0,0,0,0,0,0,0,0,0,0,0,0,0,0,0,0,0,0,0,0,0,0,0,0,0,0,0,0,0,0,0,0,0,0,0,{"$f":"+OZV5+OZV6+OZV7","v":0},0,0,0,0,0,0,0,0,0,0,0,0,0,0,0,0,0,0,0,0,0,0,0,0,0,0,0,0,0,0,0,0,0,0,0,0,0,0,0,0,0,0,0,0,0,0,0,0,0,0,0,0,0,0,0,0,0,0,0,0,0,0,0,{"$f":"+PCH5+PCH6+PCH7","v":0},0,0,0,0,0,0,0,0,0,0,0,0,0,0,0,0,0,0,0,0,0,0,0,0,0,0,0,0,0,0,0,0,0,0,0,0,0,0,0,0,0,0,0,0,0,0,0,0,0,0,0,0,0,0,0,0,0,0,0,0,0,0,0,{"$f":"+PET5+PET6+PET7","v":0},0,0,0,0,0,0,0,0,0,0,0,0,0,0,0,0,0,0,0,0,0,0,0,0,0,0,0,0,0,0,0,0,0,0,0,0,0,0,0,0,0,0,0,0,0,0,0,0,0,0,0,0,0,0,0,0,0,0,0,0,0,0,0,{"$f":"+PHF5+PHF6+PHF7","v":0},0,0,0,0,0,0,0,0,0,0,0,0,0,0,0,0,0,0,0,0,0,0,0,0,0,0,0,0,0,0,0,0,0,0,0,0,0,0,0,0,0,0,0,0,0,0,0,0,0,0,0,0,0,0,0,0,0,0,0,0,0,0,0,{"$f":"+PJR5+PJR6+PJR7","v":0},0,0,0,0,0,0,0,0,0,0,0,0,0,0,0,0,0,0,0,0,0,0,0,0,0,0,0,0,0,0,0,0,0,0,0,0,0,0,0,0,0,0,0,0,0,0,0,0,0,0,0,0,0,0,0,0,0,0,0,0,0,0,0,{"$f":"+PMD5+PMD6+PMD7","v":0},0,0,0,0,0,0,0,0,0,0,0,0,0,0,0,0,0,0,0,0,0,0,0,0,0,0,0,0,0,0,0,0,0,0,0,0,0,0,0,0,0,0,0,0,0,0,0,0,0,0,0,0,0,0,0,0,0,0,0,0,0,0,0,{"$f":"+POP5+POP6+POP7","v":0},0,0,0,0,0,0,0,0,0,0,0,0,0,0,0,0,0,0,0,0,0,0,0,0,0,0,0,0,0,0,0,0,0,0,0,0,0,0,0,0,0,0,0,0,0,0,0,0,0,0,0,0,0,0,0,0,0,0,0,0,0,0,0,{"$f":"+PRB5+PRB6+PRB7","v":0},0,0,0,0,0,0,0,0,0,0,0,0,0,0,0,0,0,0,0,0,0,0,0,0,0,0,0,0,0,0,0,0,0,0,0,0,0,0,0,0,0,0,0,0,0,0,0,0,0,0,0,0,0,0,0,0,0,0,0,0,0,0,0,{"$f":"+PTN5+PTN6+PTN7","v":0},0,0,0,0,0,0,0,0,0,0,0,0,0,0,0,0,0,0,0,0,0,0,0,0,0,0,0,0,0,0,0,0,0,0,0,0,0,0,0,0,0,0,0,0,0,0,0,0,0,0,0,0,0,0,0,0,0,0,0,0,0,0,0,{"$f":"+PVZ5+PVZ6+PVZ7","v":0},0,0,0,0,0,0,0,0,0,0,0,0,0,0,0,0,0,0,0,0,0,0,0,0,0,0,0,0,0,0,0,0,0,0,0,0,0,0,0,0,0,0,0,0,0,0,0,0,0,0,0,0,0,0,0,0,0,0,0,0,0,0,0,{"$f":"+PYL5+PYL6+PYL7","v":0},0,0,0,0,0,0,0,0,0,0,0,0,0,0,0,0,0,0,0,0,0,0,0,0,0,0,0,0,0,0,0,0,0,0,0,0,0,0,0,0,0,0,0,0,0,0,0,0,0,0,0,0,0,0,0,0,0,0,0,0,0,0,0,{"$f":"+QAX5+QAX6+QAX7","v":0},0,0,0,0,0,0,0,0,0,0,0,0,0,0,0,0,0,0,0,0,0,0,0,0,0,0,0,0,0,0,0,0,0,0,0,0,0,0,0,0,0,0,0,0,0,0,0,0,0,0,0,0,0,0,0,0,0,0,0,0,0,0,0,{"$f":"+QDJ5+QDJ6+QDJ7","v":0},0,0,0,0,0,0,0,0,0,0,0,0,0,0,0,0,0,0,0,0,0,0,0,0,0,0,0,0,0,0,0,0,0,0,0,0,0,0,0,0,0,0,0,0,0,0,0,0,0,0,0,0,0,0,0,0,0,0,0,0,0,0,0,{"$f":"+QFV5+QFV6+QFV7","v":0},0,0,0,0,0,0,0,0,0,0,0,0,0,0,0,0,0,0,0,0,0,0,0,0,0,0,0,0,0,0,0,0,0,0,0,0,0,0,0,0,0,0,0,0,0,0,0,0,0,0,0,0,0,0,0,0,0,0,0,0,0,0,0,{"$f":"+QIH5+QIH6+QIH7","v":0},0,0,0,0,0,0,0,0,0,0,0,0,0,0,0,0,0,0,0,0,0,0,0,0,0,0,0,0,0,0,0,0,0,0,0,0,0,0,0,0,0,0,0,0,0,0,0,0,0,0,0,0,0,0,0,0,0,0,0,0,0,0,0,{"$f":"+QKT5+QKT6+QKT7","v":0},0,0,0,0,0,0,0,0,0,0,0,0,0,0,0,0,0,0,0,0,0,0,0,0,0,0,0,0,0,0,0,0,0,0,0,0,0,0,0,0,0,0,0,0,0,0,0,0,0,0,0,0,0,0,0,0,0,0,0,0,0,0,0,{"$f":"+QNF5+QNF6+QNF7","v":0},0,0,0,0,0,0,0,0,0,0,0,0,0,0,0,0,0,0,0,0,0,0,0,0,0,0,0,0,0,0,0,0,0,0,0,0,0,0,0,0,0,0,0,0,0,0,0,0,0,0,0,0,0,0,0,0,0,0,0,0,0,0,0,{"$f":"+QPR5+QPR6+QPR7","v":0},0,0,0,0,0,0,0,0,0,0,0,0,0,0,0,0,0,0,0,0,0,0,0,0,0,0,0,0,0,0,0,0,0,0,0,0,0,0,0,0,0,0,0,0,0,0,0,0,0,0,0,0,0,0,0,0,0,0,0,0,0,0,0,{"$f":"+QSD5+QSD6+QSD7","v":0},0,0,0,0,0,0,0,0,0,0,0,0,0,0,0,0,0,0,0,0,0,0,0,0,0,0,0,0,0,0,0,0,0,0,0,0,0,0,0,0,0,0,0,0,0,0,0,0,0,0,0,0,0,0,0,0,0,0,0,0,0,0,0,{"$f":"+QUP5+QUP6+QUP7","v":0},0,0,0,0,0,0,0,0,0,0,0,0,0,0,0,0,0,0,0,0,0,0,0,0,0,0,0,0,0,0,0,0,0,0,0,0,0,0,0,0,0,0,0,0,0,0,0,0,0,0,0,0,0,0,0,0,0,0,0,0,0,0,0,{"$f":"+QXB5+QXB6+QXB7","v":0},0,0,0,0,0,0,0,0,0,0,0,0,0,0,0,0,0,0,0,0,0,0,0,0,0,0,0,0,0,0,0,0,0,0,0,0,0,0,0,0,0,0,0,0,0,0,0,0,0,0,0,0,0,0,0,0,0,0,0,0,0,0,0,{"$f":"+QZN5+QZN6+QZN7","v":0},0,0,0,0,0,0,0,0,0,0,0,0,0,0,0,0,0,0,0,0,0,0,0,0,0,0,0,0,0,0,0,0,0,0,0,0,0,0,0,0,0,0,0,0,0,0,0,0,0,0,0,0,0,0,0,0,0,0,0,0,0,0,0,{"$f":"+RBZ5+RBZ6+RBZ7","v":0},0,0,0,0,0,0,0,0,0,0,0,0,0,0,0,0,0,0,0,0,0,0,0,0,0,0,0,0,0,0,0,0,0,0,0,0,0,0,0,0,0,0,0,0,0,0,0,0,0,0,0,0,0,0,0,0,0,0,0,0,0,0,0,{"$f":"+REL5+REL6+REL7","v":0},0,0,0,0,0,0,0,0,0,0,0,0,0,0,0,0,0,0,0,0,0,0,0,0,0,0,0,0,0,0,0,0,0,0,0,0,0,0,0,0,0,0,0,0,0,0,0,0,0,0,0,0,0,0,0,0,0,0,0,0,0,0,0,{"$f":"+RGX5+RGX6+RGX7","v":0},0,0,0,0,0,0,0,0,0,0,0,0,0,0,0,0,0,0,0,0,0,0,0,0,0,0,0,0,0,0,0,0,0,0,0,0,0,0,0,0,0,0,0,0,0,0,0,0,0,0,0,0,0,0,0,0,0,0,0,0,0,0,0,{"$f":"+RJJ5+RJJ6+RJJ7","v":0},0,0,0,0,0,0,0,0,0,0,0,0,0,0,0,0,0,0,0,0,0,0,0,0,0,0,0,0,0,0,0,0,0,0,0,0,0,0,0,0,0,0,0,0,0,0,0,0,0,0,0,0,0,0,0,0,0,0,0,0,0,0,0,{"$f":"+RLV5+RLV6+RLV7","v":0},0,0,0,0,0,0,0,0,0,0,0,0,0,0,0,0,0,0,0,0,0,0,0,0,0,0,0,0,0,0,0,0,0,0,0,0,0,0,0,0,0,0,0,0,0,0,0,0,0,0,0,0,0,0,0,0,0,0,0,0,0,0,0,{"$f":"+ROH5+ROH6+ROH7","v":0},0,0,0,0,0,0,0,0,0,0,0,0,0,0,0,0,0,0,0,0,0,0,0,0,0,0,0,0,0,0,0,0,0,0,0,0,0,0,0,0,0,0,0,0,0,0,0,0,0,0,0,0,0,0,0,0,0,0,0,0,0,0,0,{"$f":"+RQT5+RQT6+RQT7","v":0},0,0,0,0,0,0,0,0,0,0,0,0,0,0,0,0,0,0,0,0,0,0,0,0,0,0,0,0,0,0,0,0,0,0,0,0,0,0,0,0,0,0,0,0,0,0,0,0,0,0,0,0,0,0,0,0,0,0,0,0,0,0,0,{"$f":"+RTF5+RTF6+RTF7","v":0},0,0,0,0,0,0,0,0,0,0,0,0,0,0,0,0,0,0,0,0,0,0,0,0,0,0,0,0,0,0,0,0,0,0,0,0,0,0,0,0,0,0,0,0,0,0,0,0,0,0,0,0,0,0,0,0,0,0,0,0,0,0,0,{"$f":"+RVR5+RVR6+RVR7","v":0},0,0,0,0,0,0,0,0,0,0,0,0,0,0,0,0,0,0,0,0,0,0,0,0,0,0,0,0,0,0,0,0,0,0,0,0,0,0,0,0,0,0,0,0,0,0,0,0,0,0,0,0,0,0,0,0,0,0,0,0,0,0,0,{"$f":"+RYD5+RYD6+RYD7","v":0},0,0,0,0,0,0,0,0,0,0,0,0,0,0,0,0,0,0,0,0,0,0,0,0,0,0,0,0,0,0,0,0,0,0,0,0,0,0,0,0,0,0,0,0,0,0,0,0,0,0,0,0,0,0,0,0,0,0,0,0,0,0,0,{"$f":"+SAP5+SAP6+SAP7","v":0},0,0,0,0,0,0,0,0,0,0,0,0,0,0,0,0,0,0,0,0,0,0,0,0,0,0,0,0,0,0,0,0,0,0,0,0,0,0,0,0,0,0,0,0,0,0,0,0,0,0,0,0,0,0,0,0,0,0,0,0,0,0,0,{"$f":"+SDB5+SDB6+SDB7","v":0},0,0,0,0,0,0,0,0,0,0,0,0,0,0,0,0,0,0,0,0,0,0,0,0,0,0,0,0,0,0,0,0,0,0,0,0,0,0,0,0,0,0,0,0,0,0,0,0,0,0,0,0,0,0,0,0,0,0,0,0,0,0,0,{"$f":"+SFN5+SFN6+SFN7","v":0},0,0,0,0,0,0,0,0,0,0,0,0,0,0,0,0,0,0,0,0,0,0,0,0,0,0,0,0,0,0,0,0,0,0,0,0,0,0,0,0,0,0,0,0,0,0,0,0,0,0,0,0,0,0,0,0,0,0,0,0,0,0,0,{"$f":"+SHZ5+SHZ6+SHZ7","v":0},0,0,0,0,0,0,0,0,0,0,0,0,0,0,0,0,0,0,0,0,0,0,0,0,0,0,0,0,0,0,0,0,0,0,0,0,0,0,0,0,0,0,0,0,0,0,0,0,0,0,0,0,0,0,0,0,0,0,0,0,0,0,0,{"$f":"+SKL5+SKL6+SKL7","v":0},0,0,0,0,0,0,0,0,0,0,0,0,0,0,0,0,0,0,0,0,0,0,0,0,0,0,0,0,0,0,0,0,0,0,0,0,0,0,0,0,0,0,0,0,0,0,0,0,0,0,0,0,0,0,0,0,0,0,0,0,0,0,0,{"$f":"+SMX5+SMX6+SMX7","v":0},0,0,0,0,0,0,0,0,0,0,0,0,0,0,0,0,0,0,0,0,0,0,0,0,0,0,0,0,0,0,0,0,0,0,0,0,0,0,0,0,0,0,0,0,0,0,0,0,0,0,0,0,0,0,0,0,0,0,0,0,0,0,0,{"$f":"+SPJ5+SPJ6+SPJ7","v":0},0,0,0,0,0,0,0,0,0,0,0,0,0,0,0,0,0,0,0,0,0,0,0,0,0,0,0,0,0,0,0,0,0,0,0,0,0,0,0,0,0,0,0,0,0,0,0,0,0,0,0,0,0,0,0,0,0,0,0,0,0,0,0,{"$f":"+SRV5+SRV6+SRV7","v":0},0,0,0,0,0,0,0,0,0,0,0,0,0,0,0,0,0,0,0,0,0,0,0,0,0,0,0,0,0,0,0,0,0,0,0,0,0,0,0,0,0,0,0,0,0,0,0,0,0,0,0,0,0,0,0,0,0,0,0,0,0,0,0,{"$f":"+SUH5+SUH6+SUH7","v":0},0,0,0,0,0,0,0,0,0,0,0,0,0,0,0,0,0,0,0,0,0,0,0,0,0,0,0,0,0,0,0,0,0,0,0,0,0,0,0,0,0,0,0,0,0,0,0,0,0,0,0,0,0,0,0,0,0,0,0,0,0,0,0,{"$f":"+SWT5+SWT6+SWT7","v":0},0,0,0,0,0,0,0,0,0,0,0,0,0,0,0,0,0,0,0,0,0,0,0,0,0,0,0,0,0,0,0,0,0,0,0,0,0,0,0,0,0,0,0,0,0,0,0,0,0,0,0,0,0,0,0,0,0,0,0,0,0,0,0,{"$f":"+SZF5+SZF6+SZF7","v":0},0,0,0,0,0,0,0,0,0,0,0,0,0,0,0,0,0,0,0,0,0,0,0,0,0,0,0,0,0,0,0,0,0,0,0,0,0,0,0,0,0,0,0,0,0,0,0,0,0,0,0,0,0,0,0,0,0,0,0,0,0,0,0,{"$f":"+TBR5+TBR6+TBR7","v":0},0,0,0,0,0,0,0,0,0,0,0,0,0,0,0,0,0,0,0,0,0,0,0,0,0,0,0,0,0,0,0,0,0,0,0,0,0,0,0,0,0,0,0,0,0,0,0,0,0,0,0,0,0,0,0,0,0,0,0,0,0,0,0,{"$f":"+TED5+TED6+TED7","v":0},0,0,0,0,0,0,0,0,0,0,0,0,0,0,0,0,0,0,0,0,0,0,0,0,0,0,0,0,0,0,0,0,0,0,0,0,0,0,0,0,0,0,0,0,0,0,0,0,0,0,0,0,0,0,0,0,0,0,0,0,0,0,0,{"$f":"+TGP5+TGP6+TGP7","v":0},0,0,0,0,0,0,0,0,0,0,0,0,0,0,0,0,0,0,0,0,0,0,0,0,0,0,0,0,0,0,0,0,0,0,0,0,0,0,0,0,0,0,0,0,0,0,0,0,0,0,0,0,0,0,0,0,0,0,0,0,0,0,0,{"$f":"+TJB5+TJB6+TJB7","v":0},0,0,0,0,0,0,0,0,0,0,0,0,0,0,0,0,0,0,0,0,0,0,0,0,0,0,0,0,0,0,0,0,0,0,0,0,0,0,0,0,0,0,0,0,0,0,0,0,0,0,0,0,0,0,0,0,0,0,0,0,0,0,0,{"$f":"+TLN5+TLN6+TLN7","v":0},0,0,0,0,0,0,0,0,0,0,0,0,0,0,0,0,0,0,0,0,0,0,0,0,0,0,0,0,0,0,0,0,0,0,0,0,0,0,0,0,0,0,0,0,0,0,0,0,0,0,0,0,0,0,0,0,0,0,0,0,0,0,0,{"$f":"+TNZ5+TNZ6+TNZ7","v":0},0,0,0,0,0,0,0,0,0,0,0,0,0,0,0,0,0,0,0,0,0,0,0,0,0,0,0,0,0,0,0,0,0,0,0,0,0,0,0,0,0,0,0,0,0,0,0,0,0,0,0,0,0,0,0,0,0,0,0,0,0,0,0,{"$f":"+TQL5+TQL6+TQL7","v":0},0,0,0,0,0,0,0,0,0,0,0,0,0,0,0,0,0,0,0,0,0,0,0,0,0,0,0,0,0,0,0,0,0,0,0,0,0,0,0,0,0,0,0,0,0,0,0,0,0,0,0,0,0,0,0,0,0,0,0,0,0,0,0,{"$f":"+TSX5+TSX6+TSX7","v":0},0,0,0,0,0,0,0,0,0,0,0,0,0,0,0,0,0,0,0,0,0,0,0,0,0,0,0,0,0,0,0,0,0,0,0,0,0,0,0,0,0,0,0,0,0,0,0,0,0,0,0,0,0,0,0,0,0,0,0,0,0,0,0,{"$f":"+TVJ5+TVJ6+TVJ7","v":0},0,0,0,0,0,0,0,0,0,0,0,0,0,0,0,0,0,0,0,0,0,0,0,0,0,0,0,0,0,0,0,0,0,0,0,0,0,0,0,0,0,0,0,0,0,0,0,0,0,0,0,0,0,0,0,0,0,0,0,0,0,0,0,{"$f":"+TXV5+TXV6+TXV7","v":0},0,0,0,0,0,0,0,0,0,0,0,0,0,0,0,0,0,0,0,0,0,0,0,0,0,0,0,0,0,0,0,0,0,0,0,0,0,0,0,0,0,0,0,0,0,0,0,0,0,0,0,0,0,0,0,0,0,0,0,0,0,0,0,{"$f":"+UAH5+UAH6+UAH7","v":0},0,0,0,0,0,0,0,0,0,0,0,0,0,0,0,0,0,0,0,0,0,0,0,0,0,0,0,0,0,0,0,0,0,0,0,0,0,0,0,0,0,0,0,0,0,0,0,0,0,0,0,0,0,0,0,0,0,0,0,0,0,0,0,{"$f":"+UCT5+UCT6+UCT7","v":0},0,0,0,0,0,0,0,0,0,0,0,0,0,0,0,0,0,0,0,0,0,0,0,0,0,0,0,0,0,0,0,0,0,0,0,0,0,0,0,0,0,0,0,0,0,0,0,0,0,0,0,0,0,0,0,0,0,0,0,0,0,0,0,{"$f":"+UFF5+UFF6+UFF7","v":0},0,0,0,0,0,0,0,0,0,0,0,0,0,0,0,0,0,0,0,0,0,0,0,0,0,0,0,0,0,0,0,0,0,0,0,0,0,0,0,0,0,0,0,0,0,0,0,0,0,0,0,0,0,0,0,0,0,0,0,0,0,0,0,{"$f":"+UHR5+UHR6+UHR7","v":0},0,0,0,0,0,0,0,0,0,0,0,0,0,0,0,0,0,0,0,0,0,0,0,0,0,0,0,0,0,0,0,0,0,0,0,0,0,0,0,0,0,0,0,0,0,0,0,0,0,0,0,0,0,0,0,0,0,0,0,0,0,0,0,{"$f":"+UKD5+UKD6+UKD7","v":0},0,0,0,0,0,0,0,0,0,0,0,0,0,0,0,0,0,0,0,0,0,0,0,0,0,0,0,0,0,0,0,0,0,0,0,0,0,0,0,0,0,0,0,0,0,0,0,0,0,0,0,0,0,0,0,0,0,0,0,0,0,0,0,{"$f":"+UMP5+UMP6+UMP7","v":0},0,0,0,0,0,0,0,0,0,0,0,0,0,0,0,0,0,0,0,0,0,0,0,0,0,0,0,0,0,0,0,0,0,0,0,0,0,0,0,0,0,0,0,0,0,0,0,0,0,0,0,0,0,0,0,0,0,0,0,0,0,0,0,{"$f":"+UPB5+UPB6+UPB7","v":0},0,0,0,0,0,0,0,0,0,0,0,0,0,0,0,0,0,0,0,0,0,0,0,0,0,0,0,0,0,0,0,0,0,0,0,0,0,0,0,0,0,0,0,0,0,0,0,0,0,0,0,0,0,0,0,0,0,0,0,0,0,0,0,{"$f":"+URN5+URN6+URN7","v":0},0,0,0,0,0,0,0,0,0,0,0,0,0,0,0,0,0,0,0,0,0,0,0,0,0,0,0,0,0,0,0,0,0,0,0,0,0,0,0,0,0,0,0,0,0,0,0,0,0,0,0,0,0,0,0,0,0,0,0,0,0,0,0,{"$f":"+UTZ5+UTZ6+UTZ7","v":0},0,0,0,0,0,0,0,0,0,0,0,0,0,0,0,0,0,0,0,0,0,0,0,0,0,0,0,0,0,0,0,0,0,0,0,0,0,0,0,0,0,0,0,0,0,0,0,0,0,0,0,0,0,0,0,0,0,0,0,0,0,0,0,{"$f":"+UWL5+UWL6+UWL7","v":0},0,0,0,0,0,0,0,0,0,0,0,0,0,0,0,0,0,0,0,0,0,0,0,0,0,0,0,0,0,0,0,0,0,0,0,0,0,0,0,0,0,0,0,0,0,0,0,0,0,0,0,0,0,0,0,0,0,0,0,0,0,0,0,{"$f":"+UYX5+UYX6+UYX7","v":0},0,0,0,0,0,0,0,0,0,0,0,0,0,0,0,0,0,0,0,0,0,0,0,0,0,0,0,0,0,0,0,0,0,0,0,0,0,0,0,0,0,0,0,0,0,0,0,0,0,0,0,0,0,0,0,0,0,0,0,0,0,0,0,{"$f":"+VBJ5+VBJ6+VBJ7","v":0},0,0,0,0,0,0,0,0,0,0,0,0,0,0,0,0,0,0,0,0,0,0,0,0,0,0,0,0,0,0,0,0,0,0,0,0,0,0,0,0,0,0,0,0,0,0,0,0,0,0,0,0,0,0,0,0,0,0,0,0,0,0,0,{"$f":"+VDV5+VDV6+VDV7","v":0},0,0,0,0,0,0,0,0,0,0,0,0,0,0,0,0,0,0,0,0,0,0,0,0,0,0,0,0,0,0,0,0,0,0,0,0,0,0,0,0,0,0,0,0,0,0,0,0,0,0,0,0,0,0,0,0,0,0,0,0,0,0,0,{"$f":"+VGH5+VGH6+VGH7","v":0},0,0,0,0,0,0,0,0,0,0,0,0,0,0,0,0,0,0,0,0,0,0,0,0,0,0,0,0,0,0,0,0,0,0,0,0,0,0,0,0,0,0,0,0,0,0,0,0,0,0,0,0,0,0,0,0,0,0,0,0,0,0,0,{"$f":"+VIT5+VIT6+VIT7","v":0},0,0,0,0,0,0,0,0,0,0,0,0,0,0,0,0,0,0,0,0,0,0,0,0,0,0,0,0,0,0,0,0,0,0,0,0,0,0,0,0,0,0,0,0,0,0,0,0,0,0,0,0,0,0,0,0,0,0,0,0,0,0,0,{"$f":"+VLF5+VLF6+VLF7","v":0},0,0,0,0,0,0,0,0,0,0,0,0,0,0,0,0,0,0,0,0,0,0,0,0,0,0,0,0,0,0,0,0,0,0,0,0,0,0,0,0,0,0,0,0,0,0,0,0,0,0,0,0,0,0,0,0,0,0,0,0,0,0,0,{"$f":"+VNR5+VNR6+VNR7","v":0},0,0,0,0,0,0,0,0,0,0,0,0,0,0,0,0,0,0,0,0,0,0,0,0,0,0,0,0,0,0,0,0,0,0,0,0,0,0,0,0,0,0,0,0,0,0,0,0,0,0,0,0,0,0,0,0,0,0,0,0,0,0,0,{"$f":"+VQD5+VQD6+VQD7","v":0},0,0,0,0,0,0,0,0,0,0,0,0,0,0,0,0,0,0,0,0,0,0,0,0,0,0,0,0,0,0,0,0,0,0,0,0,0,0,0,0,0,0,0,0,0,0,0,0,0,0,0,0,0,0,0,0,0,0,0,0,0,0,0,{"$f":"+VSP5+VSP6+VSP7","v":0},0,0,0,0,0,0,0,0,0,0,0,0,0,0,0,0,0,0,0,0,0,0,0,0,0,0,0,0,0,0,0,0,0,0,0,0,0,0,0,0,0,0,0,0,0,0,0,0,0,0,0,0,0,0,0,0,0,0,0,0,0,0,0,{"$f":"+VVB5+VVB6+VVB7","v":0},0,0,0,0,0,0,0,0,0,0,0,0,0,0,0,0,0,0,0,0,0,0,0,0,0,0,0,0,0,0,0,0,0,0,0,0,0,0,0,0,0,0,0,0,0,0,0,0,0,0,0,0,0,0,0,0,0,0,0,0,0,0,0,{"$f":"+VXN5+VXN6+VXN7","v":0},0,0,0,0,0,0,0,0,0,0,0,0,0,0,0,0,0,0,0,0,0,0,0,0,0,0,0,0,0,0,0,0,0,0,0,0,0,0,0,0,0,0,0,0,0,0,0,0,0,0,0,0,0,0,0,0,0,0,0,0,0,0,0,{"$f":"+VZZ5+VZZ6+VZZ7","v":0},0,0,0,0,0,0,0,0,0,0,0,0,0,0,0,0,0,0,0,0,0,0,0,0,0,0,0,0,0,0,0,0,0,0,0,0,0,0,0,0,0,0,0,0,0,0,0,0,0,0,0,0,0,0,0,0,0,0,0,0,0,0,0,{"$f":"+WCL5+WCL6+WCL7","v":0},0,0,0,0,0,0,0,0,0,0,0,0,0,0,0,0,0,0,0,0,0,0,0,0,0,0,0,0,0,0,0,0,0,0,0,0,0,0,0,0,0,0,0,0,0,0,0,0,0,0,0,0,0,0,0,0,0,0,0,0,0,0,0,{"$f":"+WEX5+WEX6+WEX7","v":0},0,0,0,0,0,0,0,0,0,0,0,0,0,0,0,0,0,0,0,0,0,0,0,0,0,0,0,0,0,0,0,0,0,0,0,0,0,0,0,0,0,0,0,0,0,0,0,0,0,0,0,0,0,0,0,0,0,0,0,0,0,0,0,{"$f":"+WHJ5+WHJ6+WHJ7","v":0},0,0,0,0,0,0,0,0,0,0,0,0,0,0,0,0,0,0,0,0,0,0,0,0,0,0,0,0,0,0,0,0,0,0,0,0,0,0,0,0,0,0,0,0,0,0,0,0,0,0,0,0,0,0,0,0,0,0,0,0,0,0,0,{"$f":"+WJV5+WJV6+WJV7","v":0},0,0,0,0,0,0,0,0,0,0,0,0,0,0,0,0,0,0,0,0,0,0,0,0,0,0,0,0,0,0,0,0,0,0,0,0,0,0,0,0,0,0,0,0,0,0,0,0,0,0,0,0,0,0,0,0,0,0,0,0,0,0,0,{"$f":"+WMH5+WMH6+WMH7","v":0},0,0,0,0,0,0,0,0,0,0,0,0,0,0,0,0,0,0,0,0,0,0,0,0,0,0,0,0,0,0,0,0,0,0,0,0,0,0,0,0,0,0,0,0,0,0,0,0,0,0,0,0,0,0,0,0,0,0,0,0,0,0,0,{"$f":"+WOT5+WOT6+WOT7","v":0},0,0,0,0,0,0,0,0,0,0,0,0,0,0,0,0,0,0,0,0,0,0,0,0,0,0,0,0,0,0,0,0,0,0,0,0,0,0,0,0,0,0,0,0,0,0,0,0,0,0,0,0,0,0,0,0,0,0,0,0,0,0,0,{"$f":"+WRF5+WRF6+WRF7","v":0},0,0,0,0,0,0,0,0,0,0,0,0,0,0,0,0,0,0,0,0,0,0,0,0,0,0,0,0,0,0,0,0,0,0,0,0,0,0,0,0,0,0,0,0,0,0,0,0,0,0,0,0,0,0,0,0,0,0,0,0,0,0,0,{"$f":"+WTR5+WTR6+WTR7","v":0},0,0,0,0,0,0,0,0,0,0,0,0,0,0,0,0,0,0,0,0,0,0,0,0,0,0,0,0,0,0,0,0,0,0,0,0,0,0,0,0,0,0,0,0,0,0,0,0,0,0,0,0,0,0,0,0,0,0,0,0,0,0,0,{"$f":"+WWD5+WWD6+WWD7","v":0},0,0,0,0,0,0,0,0,0,0,0,0,0,0,0,0,0,0,0,0,0,0,0,0,0,0,0,0,0,0,0,0,0,0,0,0,0,0,0,0,0,0,0,0,0,0,0,0,0,0,0,0,0,0,0,0,0,0,0,0,0,0,0,{"$f":"+WYP5+WYP6+WYP7","v":0},0,0,0,0,0,0,0,0,0,0,0,0,0,0,0,0,0,0,0,0,0,0,0,0,0,0,0,0,0,0,0,0,0,0,0,0,0,0,0,0,0,0,0,0,0,0,0,0,0,0,0,0,0,0,0,0,0,0,0,0,0,0,0,{"$f":"+XBB5+XBB6+XBB7","v":0},0,0,0,0,0,0,0,0,0,0,0,0,0,0,0,0,0,0,0,0,0,0,0,0,0,0,0,0,0,0,0,0,0,0,0,0,0,0,0,0,0,0,0,0,0,0,0,0,0,0,0,0,0,0,0,0,0,0,0,0,0,0,0,{"$f":"+XDN5+XDN6+XDN7","v":0},0,0,0,0,0,0,0,0,0,0,0,0,0,0,0,0,0,0,0,0,0,0,0,0,0,0,0,0,0,0,0,0,0,0,0,0,0,0,0,0,0,0]
[2025,null,"RASHODI I IZDACI (3+4+5)",{"v":3391009,"d":"3,391,009"},{"$f":"'A.2 PRIHODI I RASHODI IF'!C33","v":{"v":3266326,"d":"3,266,326"}},{"$f":"'A.2 PRIHODI I RASHODI IF'!C34","v":0},{"$f":"'A.2 PRIHODI I RASHODI IF'!C36+'B.2 RAČUN FINANC IF'!C14","v":{"v":22010,"d":"22,010"}},{"$f":"'A.2 PRIHODI I RASHODI IF'!C38","v":0},{"$f":"'A.2 PRIHODI I RASHODI IF'!C39","v":{"v":73495,"d":"73,495"}},{"$f":"'A.2 PRIHODI I RASHODI IF'!C41","v":{"v":9000,"d":"9,000"}},{"$f":"'A.2 PRIHODI I RASHODI IF'!C42","v":{"v":20178,"d":"20,178"}},{"$f":"'A.2 PRIHODI I RASHODI IF'!C43","v":0},{"$f":"'A.2 PRIHODI I RASHODI IF'!C44","v":0},{"$f":"'A.2 PRIHODI I RASHODI IF'!C45","v":0},{"$f":"'A.2 PRIHODI I RASHODI IF'!C46","v":0},{"$f":"'A.2 PRIHODI I RASHODI IF'!C47","v":0},{"$f":"'A.2 PRIHODI I RASHODI IF'!C48","v":0},{"$f":"'A.2 PRIHODI I RASHODI IF'!C50","v":0},{"$f":"'A.2 PRIHODI I RASHODI IF'!C51","v":0},{"$f":"'A.2 PRIHODI I RASHODI IF'!C53","v":0},{"$f":"'A.2 PRIHODI I RASHODI IF'!C55","v":0},{"$f":"'A.2 PRIHODI I RASHODI IF'!C56","v":0},{"$f":"'OPĆI DIO'!#REF!","v":{"$error":"#REF!"}}]
[2025,null,"KONTROLA 2025 (stupac D = nula)",0,{"$f":"+E8-E9","v":0},{"$f":"+F8-F9","v":0},{"$f":"+G8-G9","v":0},0,0,{"$f":"+J8-J9","v":0},0,0,0,0,0,0,0,0,0,0,{"$f":"+U8-U9","v":0},0,{"$f":"'OPĆI DIO'!#REF!","v":{"$error":"#REF!"}}]
[{"$nulls":22},{"$f":"'OPĆI DIO'!#REF!","v":{"$error":"#REF!"}}]
["Godina","Stavka","NOVI PLAN 2025","Ukupno ","IZVOR 11             Opći prihodi i primici ","IZVOR 12             Sredstva učešća za pomoći","IZVOR 31                  Vlastiti prihodi ","IZVOR 41                  Vlastiti prihodi ","IZVOR 43                   Prihodi za posebne namjene ","IZVOR 51                              Pomoći EU","IZVOR 52                              Ostale pomoći ","IZVOR 552                             Ostale pomoći ","IZVOR 559                          Ostale refundacije iz sredstava EU","IZVOR 561                         Europski socijalni fond (ESF)","IZVOR 563                         Europski fond za regionalni razvoj (EFRR)","573 Instrumenti Europskog gospodarskog prostora i ostali instrumenti","IZVOR 581                Mehanizam za oporavak i otpornost (NPOO)","IZVOR 61                         Donacije ","IZVOR 63                         Inozemne donacije ","IZVOR 71                          Prihodi od nefinancijske imovine i nadoknade šteta s osnova osiguranja","IZVOR 810 Namjenski primici -ostali","IZVOR 815 Namjenski primitak - NPOO",{"$f":"'OPĆI DIO'!#REF!","v":{"$error":"#REF!"}}]
[2025,null,"DONOS",{"$f":"SUM(E13:V13)","v":{"v":17977,"d":"17,977"}},0,{"$nulls":4},{"v":17977,"d":"17,977"}]
[2025,null,"PRIHODI I PRIMICI (6+7+8)",{"v":3950381,"d":"3,950,381"},{"$f":"'A.2 PRIHODI I RASHODI IF'!E7","v":{"v":3759151,"d":"3,759,151"}},{"$f":"'A.2 PRIHODI I RASHODI IF'!E8","v":0},{"$f":"'A.2 PRIHODI I RASHODI IF'!E10","v":{"v":36891,"d":"36,891"}},{"$f":"'A.2 PRIHODI I RASHODI IF'!E12","v":0},{"$f":"'A.2 PRIHODI I RASHODI IF'!E13+'B.2 RAČUN FINANC IF'!E7","v":{"v":80000,"d":"80,000"}},{"$f":"'A.2 PRIHODI I RASHODI IF'!E15","v":{"v":6720,"d":"6,720"}},{"$f":"'A.2 PRIHODI I RASHODI IF'!E16","v":{"v":63089,"d":"63,089"}},{"$f":"'A.2 PRIHODI I RASHODI IF'!E17","v":0},{"$f":"'A.2 PRIHODI I RASHODI IF'!E18","v":0},{"$f":"'A.2 PRIHODI I RASHODI IF'!E19","v":0},{"$f":"'A.2 PRIHODI I RASHODI IF'!E20","v":0},{"$f":"'A.2 PRIHODI I RASHODI IF'!E21","v":0},{"$f":"'A.2 PRIHODI I RASHODI IF'!E22","v":{"v":4530,"d":"4,530"}},{"$f":"'A.2 PRIHODI I RASHODI IF'!E24","v":0},{"$f":"'A.2 PRIHODI I RASHODI IF'!E25","v":0},{"$f":"'A.2 PRIHODI I RASHODI IF'!E27","v":0},{"$f":"'B.2 RAČUN FINANC IF'!E11","v":0},{"$f":"'A.2 PRIHODI I RASHODI IF'!E29","v":0},{"$f":"'OPĆI DIO'!#REF!","v":{"$error":"#REF!"}}]
[2025,null,"ODNOS (unosi se s negativnim predznakom)",{"v":-29686,"d":"-29,686"},null,null,{"v":-343,"d":"-343 "},null,{"v":-1244,"d":"-1,244 "},{"v":-6188,"d":"-6,188 "},{"v":-21911,"d":"-21,911 "},{"$nulls":8},0]
[2025,null,"LIMIT ZA RASHODE I IZDATKE",{"v":3938672,"d":"3,938,672"},{"$f":"+E13+E14+E15","v":{"v":3759151,"d":"3,759,151"}},{"$f":"+F13+F14+F15","v":0},{"v":36548,"d":"36,548"},0,{"v":78756,"d":"78,756"},{"v":18509,"d":"18,509"},{"v":41178,"d":"41,178"},0,0,0,0,0,{"v":4530,"d":"4,530"},0,0,{"$f":"+T13+T14+T15","v":0},{"$f":"+U13+U14+U15","v":0},{"$f":"+V13+V14+V15","v":0},{"$error":"#REF!"},0,0,0,0,0,0,0,0,0,0,0,0,0,0,0,0,0,0,0,0,0,0,0,0,0,0,0,0,0,0,0,0,0,0,0,0,0,0,0,0,0,0,0,0,0,0,0,0,0,0,0,0,0,0,0,0,0,0,0,0,0,0,{"$f":"+CH13+CH14+CH15","v":0},0,0,0,0,0,0,0,0,0,0,0,0,0,0,0,0,0,0,0,0,0,0,0,0,0,0,0,0,0,0,0,0,0,0,0,0,0,0,0,0,0,0,0,0,0,0,0,0,0,0,0,0,0,0,0,0,0,0,0,0,0,0,0,{"$f":"+ET13+ET14+ET15","v":0},0,0,0,0,0,0,0,0,0,0,0,0,0,0,0,0,0,0,0,0,0,0,0,0,0,0,0,0,0,0,0,0,0,0,0,0,0,0,0,0,0,0,0,0,0,0,0,0,0,0,0,0,0,0,0,0,0,0,0,0,0,0,0,{"$f":"+HF13+HF14+HF15","v":0},0,0,0,0,0,0,0,0,0,0,0,0,0,0,0,0,0,0,0,0,0,0,0,0,0,0,0,0,0,0,0,0,0,0,0,0,0,0,0,0,0,0,0,0,0,0,0,0,0,0,0,0,0,0,0,0,0,0,0,0,0,0,0,{"$f":"+JR13+JR14+JR15","v":0},0,0,0,0,0,0,0,0,0,0,0,0,0,0,0,0,0,0,0,0,0,0,0,0,0,0,0,0,0,0,0,0,0,0,0,0,0,0,0,0,0,0,0,0,0,0,0,0,0,0,0,0,0,0,0,0,0,0,0,0,0,0,0,{"$f":"+MD13+MD14+MD15","v":0},0,0,0,0,0,0,0,0,0,0,0,0,0,0,0,0,0,0,0,0,0,0,0,0,0,0,0,0,0,0,0,0,0,0,0,0,0,0,0,0,0,0,0,0,0,0,0,0,0,0,0,0,0,0,0,0,0,0,0,0,0,0,0,{"$f":"+OP13+OP14+OP15","v":0},0,0,0,0,0,0,0,0,0,0,0,0,0,0,0,0,0,0,0,0,0,0,0,0,0,0,0,0,0,0,0,0,0,0,0,0,0,0,0,0,0,0,0,0,0,0,0,0,0,0,0,0,0,0,0,0,0,0,0,0,0,0,0,{"$f":"+RB13+RB14+RB15","v":0},0,0,0,0,0,0,0,0,0,0,0,0,0,0,0,0,0,0,0,0,0,0,0,0,0,0,0,0,0,0,0,0,0,0,0,0,0,0,0,0,0,0,0,0,0,0,0,0,0,0,0,0,0,0,0,0,0,0,0,0,0,0,0,{"$f":"+TN13+TN14+TN15","v":0},0,0,0,0,0,0,0,0,0,0,0,0,0,0,0,0,0,0,0,0,0,0,0,0,0,0,0,0,0,0,0,0,0,0,0,0,0,0,0,0,0,0,0,0,0,0,0,0,0,0,0,0,0,0,0,0,0,0,0,0,0,0,0,{"$f":"+VZ13+VZ14+VZ15","v":0},0,0,0,0,0,0,0,0,0,0,0,0,0,0,0,0,0,0,0,0,0,0,0,0,0,0,0,0,0,0,0,0,0,0,0,0,0,0,0,0,0,0,0,0,0,0,0,0,0,0,0,0,0,0,0,0,0,0,0,0,0,0,0,{"$f":"+YL13+YL14+YL15","v":0},0,0,0,0,0,0,0,0,0,0,0,0,0,0,0,0,0,0,0,0,0,0,0,0,0,0,0,0,0,0,0,0,0,0,0,0,0,0,0,0,0,0,0,0,0,0,0,0,0,0,0,0,0,0,0,0,0,0,0,0,0,0,0,{"$f":"+AAX13+AAX14+AAX15","v":0},0,0,0,0,0,0,0,0,0,0,0,0,0,0,0,0,0,0,0,0,0,0,0,0,0,0,0,0,0,0,0,0,0,0,0,0,0,0,0,0,0,0,0,0,0,0,0,0,0,0,0,0,0,0,0,0,0,0,0,0,0,0,0,{"$f":"+ADJ13+ADJ14+ADJ15","v":0},0,0,0,0,0,0,0,0,0,0,0,0,0,0,0,0,0,0,0,0,0,0,0,0,0,0,0,0,0,0,0,0,0,0,0,0,0,0,0,0,0,0,0,0,0,0,0,0,0,0,0,0,0,0,0,0,0,0,0,0,0,0,0,{"$f":"+AFV13+AFV14+AFV15","v":0},0,0,0,0,0,0,0,0,0,0,0,0,0,0,0,0,0,0,0,0,0,0,0,0,0,0,0,0,0,0,0,0,0,0,0,0,0,0,0,0,0,0,0,0,0,0,0,0,0,0,0,0,0,0,0,0,0,0,0,0,0,0,0,{"$f":"+AIH13+AIH14+AIH15","v":0},0,0,0,0,0,0,0,0,0,0,0,0,0,0,0,0,0,0,0,0,0,0,0,0,0,0,0,0,0,0,0,0,0,0,0,0,0,0,0,0,0,0,0,0,0,0,0,0,0,0,0,0,0,0,0,0,0,0,0,0,0,0,0,{"$f":"+AKT13+AKT14+AKT15","v":0},0,0,0,0,0,0,0,0,0,0,0,0,0,0,0,0,0,0,0,0,0,0,0,0,0,0,0,0,0,0,0,0,0,0,0,0,0,0,0,0,0,0,0,0,0,0,0,0,0,0,0,0,0,0,0,0,0,0,0,0,0,0,0,{"$f":"+ANF13+ANF14+ANF15","v":0},0,0,0,0,0,0,0,0,0,0,0,0,0,0,0,0,0,0,0,0,0,0,0,0,0,0,0,0,0,0,0,0,0,0,0,0,0,0,0,0,0,0,0,0,0,0,0,0,0,0,0,0,0,0,0,0,0,0,0,0,0,0,0,{"$f":"+APR13+APR14+APR15","v":0},0,0,0,0,0,0,0,0,0,0,0,0,0,0,0,0,0,0,0,0,0,0,0,0,0,0,0,0,0,0,0,0,0,0,0,0,0,0,0,0,0,0,0,0,0,0,0,0,0,0,0,0,0,0,0,0,0,0,0,0,0,0,0,{"$f":"+ASD13+ASD14+ASD15","v":0},0,0,0,0,0,0,0,0,0,0,0,0,0,0,0,0,0,0,0,0,0,0,0,0,0,0,0,0,0,0,0,0,0,0,0,0,0,0,0,0,0,0,0,0,0,0,0,0,0,0,0,0,0,0,0,0,0,0,0,0,0,0,0,{"$f":"+AUP13+AUP14+AUP15","v":0},0,0,0,0,0,0,0,0,0,0,0,0,0,0,0,0,0,0,0,0,0,0,0,0,0,0,0,0,0,0,0,0,0,0,0,0,0,0,0,0,0,0,0,0,0,0,0,0,0,0,0,0,0,0,0,0,0,0,0,0,0,0,0,{"$f":"+AXB13+AXB14+AXB15","v":0},0,0,0,0,0,0,0,0,0,0,0,0,0,0,0,0,0,0,0,0,0,0,0,0,0,0,0,0,0,0,0,0,0,0,0,0,0,0,0,0,0,0,0,0,0,0,0,0,0,0,0,0,0,0,0,0,0,0,0,0,0,0,0,{"$f":"+AZN13+AZN14+AZN15","v":0},0,0,0,0,0,0,0,0,0,0,0,0,0,0,0,0,0,0,0,0,0,0,0,0,0,0,0,0,0,0,0,0,0,0,0,0,0,0,0,0,0,0,0,0,0,0,0,0,0,0,0,0,0,0,0,0,0,0,0,0,0,0,0,{"$f":"+BBZ13+BBZ14+BBZ15","v":0},0,0,0,0,0,0,0,0,0,0,0,0,0,0,0,0,0,0,0,0,0,0,0,0,0,0,0,0,0,0,0,0,0,0,0,0,0,0,0,0,0,0,0,0,0,0,0,0,0,0,0,0,0,0,0,0,0,0,0,0,0,0,0,{"$f":"+BEL13+BEL14+BEL15","v":0},0,0,0,0,0,0,0,0,0,0,0,0,0,0,0,0,0,0,0,0,0,0,0,0,0,0,0,0,0,0,0,0,0,0,0,0,0,0,0,0,0,0,0,0,0,0,0,0,0,0,0,0,0,0,0,0,0,0,0,0,0,0,0,{"$f":"+BGX13+BGX14+BGX15","v":0},0,0,0,0,0,0,0,0,0,0,0,0,0,0,0,0,0,0,0,0,0,0,0,0,0,0,0,0,0,0,0,0,0,0,0,0,0,0,0,0,0,0,0,0,0,0,0,0,0,0,0,0,0,0,0,0,0,0,0,0,0,0,0,{"$f":"+BJJ13+BJJ14+BJJ15","v":0},0,0,0,0,0,0,0,0,0,0,0,0,0,0,0,0,0,0,0,0,0,0,0,0,0,0,0,0,0,0,0,0,0,0,0,0,0,0,0,0,0,0,0,0,0,0,0,0,0,0,0,0,0,0,0,0,0,0,0,0,0,0,0,{"$f":"+BLV13+BLV14+BLV15","v":0},0,0,0,0,0,0,0,0,0,0,0,0,0,0,0,0,0,0,0,0,0,0,0,0,0,0,0,0,0,0,0,0,0,0,0,0,0,0,0,0,0,0,0,0,0,0,0,0,0,0,0,0,0,0,0,0,0,0,0,0,0,0,0,{"$f":"+BOH13+BOH14+BOH15","v":0},0,0,0,0,0,0,0,0,0,0,0,0,0,0,0,0,0,0,0,0,0,0,0,0,0,0,0,0,0,0,0,0,0,0,0,0,0,0,0,0,0,0,0,0,0,0,0,0,0,0,0,0,0,0,0,0,0,0,0,0,0,0,0,{"$f":"+BQT13+BQT14+BQT15","v":0},0,0,0,0,0,0,0,0,0,0,0,0,0,0,0,0,0,0,0,0,0,0,0,0,0,0,0,0,0,0,0,0,0,0,0,0,0,0,0,0,0,0,0,0,0,0,0,0,0,0,0,0,0,0,0,0,0,0,0,0,0,0,0,{"$f":"+BTF13+BTF14+BTF15","v":0},0,0,0,0,0,0,0,0,0,0,0,0,0,0,0,0,0,0,0,0,0,0,0,0,0,0,0,0,0,0,0,0,0,0,0,0,0,0,0,0,0,0,0,0,0,0,0,0,0,0,0,0,0,0,0,0,0,0,0,0,0,0,0,{"$f":"+BVR13+BVR14+BVR15","v":0},0,0,0,0,0,0,0,0,0,0,0,0,0,0,0,0,0,0,0,0,0,0,0,0,0,0,0,0,0,0,0,0,0,0,0,0,0,0,0,0,0,0,0,0,0,0,0,0,0,0,0,0,0,0,0,0,0,0,0,0,0,0,0,{"$f":"+BYD13+BYD14+BYD15","v":0},0,0,0,0,0,0,0,0,0,0,0,0,0,0,0,0,0,0,0,0,0,0,0,0,0,0,0,0,0,0,0,0,0,0,0,0,0,0,0,0,0,0,0,0,0,0,0,0,0,0,0,0,0,0,0,0,0,0,0,0,0,0,0,{"$f":"+CAP13+CAP14+CAP15","v":0},0,0,0,0,0,0,0,0,0,0,0,0,0,0,0,0,0,0,0,0,0,0,0,0,0,0,0,0,0,0,0,0,0,0,0,0,0,0,0,0,0,0,0,0,0,0,0,0,0,0,0,0,0,0,0,0,0,0,0,0,0,0,0,{"$f":"+CDB13+CDB14+CDB15","v":0},0,0,0,0,0,0,0,0,0,0,0,0,0,0,0,0,0,0,0,0,0,0,0,0,0,0,0,0,0,0,0,0,0,0,0,0,0,0,0,0,0,0,0,0,0,0,0,0,0,0,0,0,0,0,0,0,0,0,0,0,0,0,0,{"$f":"+CFN13+CFN14+CFN15","v":0},0,0,0,0,0,0,0,0,0,0,0,0,0,0,0,0,0,0,0,0,0,0,0,0,0,0,0,0,0,0,0,0,0,0,0,0,0,0,0,0,0,0,0,0,0,0,0,0,0,0,0,0,0,0,0,0,0,0,0,0,0,0,0,{"$f":"+CHZ13+CHZ14+CHZ15","v":0},0,0,0,0,0,0,0,0,0,0,0,0,0,0,0,0,0,0,0,0,0,0,0,0,0,0,0,0,0,0,0,0,0,0,0,0,0,0,0,0,0,0,0,0,0,0,0,0,0,0,0,0,0,0,0,0,0,0,0,0,0,0,0,{"$f":"+CKL13+CKL14+CKL15","v":0},0,0,0,0,0,0,0,0,0,0,0,0,0,0,0,0,0,0,0,0,0,0,0,0,0,0,0,0,0,0,0,0,0,0,0,0,0,0,0,0,0,0,0,0,0,0,0,0,0,0,0,0,0,0,0,0,0,0,0,0,0,0,0,{"$f":"+CMX13+CMX14+CMX15","v":0},0,0,0,0,0,0,0,0,0,0,0,0,0,0,0,0,0,0,0,0,0,0,0,0,0,0,0,0,0,0,0,0,0,0,0,0,0,0,0,0,0,0,0,0,0,0,0,0,0,0,0,0,0,0,0,0,0,0,0,0,0,0,0,{"$f":"+CPJ13+CPJ14+CPJ15","v":0},0,0,0,0,0,0,0,0,0,0,0,0,0,0,0,0,0,0,0,0,0,0,0,0,0,0,0,0,0,0,0,0,0,0,0,0,0,0,0,0,0,0,0,0,0,0,0,0,0,0,0,0,0,0,0,0,0,0,0,0,0,0,0,{"$f":"+CRV13+CRV14+CRV15","v":0},0,0,0,0,0,0,0,0,0,0,0,0,0,0,0,0,0,0,0,0,0,0,0,0,0,0,0,0,0,0,0,0,0,0,0,0,0,0,0,0,0,0,0,0,0,0,0,0,0,0,0,0,0,0,0,0,0,0,0,0,0,0,0,{"$f":"+CUH13+CUH14+CUH15","v":0},0,0,0,0,0,0,0,0,0,0,0,0,0,0,0,0,0,0,0,0,0,0,0,0,0,0,0,0,0,0,0,0,0,0,0,0,0,0,0,0,0,0,0,0,0,0,0,0,0,0,0,0,0,0,0,0,0,0,0,0,0,0,0,{"$f":"+CWT13+CWT14+CWT15","v":0},0,0,0,0,0,0,0,0,0,0,0,0,0,0,0,0,0,0,0,0,0,0,0,0,0,0,0,0,0,0,0,0,0,0,0,0,0,0,0,0,0,0,0,0,0,0,0,0,0,0,0,0,0,0,0,0,0,0,0,0,0,0,0,{"$f":"+CZF13+CZF14+CZF15","v":0},0,0,0,0,0,0,0,0,0,0,0,0,0,0,0,0,0,0,0,0,0,0,0,0,0,0,0,0,0,0,0,0,0,0,0,0,0,0,0,0,0,0,0,0,0,0,0,0,0,0,0,0,0,0,0,0,0,0,0,0,0,0,0,{"$f":"+DBR13+DBR14+DBR15","v":0},0,0,0,0,0,0,0,0,0,0,0,0,0,0,0,0,0,0,0,0,0,0,0,0,0,0,0,0,0,0,0,0,0,0,0,0,0,0,0,0,0,0,0,0,0,0,0,0,0,0,0,0,0,0,0,0,0,0,0,0,0,0,0,{"$f":"+DED13+DED14+DED15","v":0},0,0,0,0,0,0,0,0,0,0,0,0,0,0,0,0,0,0,0,0,0,0,0,0,0,0,0,0,0,0,0,0,0,0,0,0,0,0,0,0,0,0,0,0,0,0,0,0,0,0,0,0,0,0,0,0,0,0,0,0,0,0,0,{"$f":"+DGP13+DGP14+DGP15","v":0},0,0,0,0,0,0,0,0,0,0,0,0,0,0,0,0,0,0,0,0,0,0,0,0,0,0,0,0,0,0,0,0,0,0,0,0,0,0,0,0,0,0,0,0,0,0,0,0,0,0,0,0,0,0,0,0,0,0,0,0,0,0,0,{"$f":"+DJB13+DJB14+DJB15","v":0},0,0,0,0,0,0,0,0,0,0,0,0,0,0,0,0,0,0,0,0,0,0,0,0,0,0,0,0,0,0,0,0,0,0,0,0,0,0,0,0,0,0,0,0,0,0,0,0,0,0,0,0,0,0,0,0,0,0,0,0,0,0,0,{"$f":"+DLN13+DLN14+DLN15","v":0},0,0,0,0,0,0,0,0,0,0,0,0,0,0,0,0,0,0,0,0,0,0,0,0,0,0,0,0,0,0,0,0,0,0,0,0,0,0,0,0,0,0,0,0,0,0,0,0,0,0,0,0,0,0,0,0,0,0,0,0,0,0,0,{"$f":"+DNZ13+DNZ14+DNZ15","v":0},0,0,0,0,0,0,0,0,0,0,0,0,0,0,0,0,0,0,0,0,0,0,0,0,0,0,0,0,0,0,0,0,0,0,0,0,0,0,0,0,0,0,0,0,0,0,0,0,0,0,0,0,0,0,0,0,0,0,0,0,0,0,0,{"$f":"+DQL13+DQL14+DQL15","v":0},0,0,0,0,0,0,0,0,0,0,0,0,0,0,0,0,0,0,0,0,0,0,0,0,0,0,0,0,0,0,0,0,0,0,0,0,0,0,0,0,0,0,0,0,0,0,0,0,0,0,0,0,0,0,0,0,0,0,0,0,0,0,0,{"$f":"+DSX13+DSX14+DSX15","v":0},0,0,0,0,0,0,0,0,0,0,0,0,0,0,0,0,0,0,0,0,0,0,0,0,0,0,0,0,0,0,0,0,0,0,0,0,0,0,0,0,0,0,0,0,0,0,0,0,0,0,0,0,0,0,0,0,0,0,0,0,0,0,0,{"$f":"+DVJ13+DVJ14+DVJ15","v":0},0,0,0,0,0,0,0,0,0,0,0,0,0,0,0,0,0,0,0,0,0,0,0,0,0,0,0,0,0,0,0,0,0,0,0,0,0,0,0,0,0,0,0,0,0,0,0,0,0,0,0,0,0,0,0,0,0,0,0,0,0,0,0,{"$f":"+DXV13+DXV14+DXV15","v":0},0,0,0,0,0,0,0,0,0,0,0,0,0,0,0,0,0,0,0,0,0,0,0,0,0,0,0,0,0,0,0,0,0,0,0,0,0,0,0,0,0,0,0,0,0,0,0,0,0,0,0,0,0,0,0,0,0,0,0,0,0,0,0,{"$f":"+EAH13+EAH14+EAH15","v":0},0,0,0,0,0,0,0,0,0,0,0,0,0,0,0,0,0,0,0,0,0,0,0,0,0,0,0,0,0,0,0,0,0,0,0,0,0,0,0,0,0,0,0,0,0,0,0,0,0,0,0,0,0,0,0,0,0,0,0,0,0,0,0,{"$f":"+ECT13+ECT14+ECT15","v":0},0,0,0,0,0,0,0,0,0,0,0,0,0,0,0,0,0,0,0,0,0,0,0,0,0,0,0,0,0,0,0,0,0,0,0,0,0,0,0,0,0,0,0,0,0,0,0,0,0,0,0,0,0,0,0,0,0,0,0,0,0,0,0,{"$f":"+EFF13+EFF14+EFF15","v":0},0,0,0,0,0,0,0,0,0,0,0,0,0,0,0,0,0,0,0,0,0,0,0,0,0,0,0,0,0,0,0,0,0,0,0,0,0,0,0,0,0,0,0,0,0,0,0,0,0,0,0,0,0,0,0,0,0,0,0,0,0,0,0,{"$f":"+EHR13+EHR14+EHR15","v":0},0,0,0,0,0,0,0,0,0,0,0,0,0,0,0,0,0,0,0,0,0,0,0,0,0,0,0,0,0,0,0,0,0,0,0,0,0,0,0,0,0,0,0,0,0,0,0,0,0,0,0,0,0,0,0,0,0,0,0,0,0,0,0,{"$f":"+EKD13+EKD14+EKD15","v":0},0,0,0,0,0,0,0,0,0,0,0,0,0,0,0,0,0,0,0,0,0,0,0,0,0,0,0,0,0,0,0,0,0,0,0,0,0,0,0,0,0,0,0,0,0,0,0,0,0,0,0,0,0,0,0,0,0,0,0,0,0,0,0,{"$f":"+EMP13+EMP14+EMP15","v":0},0,0,0,0,0,0,0,0,0,0,0,0,0,0,0,0,0,0,0,0,0,0,0,0,0,0,0,0,0,0,0,0,0,0,0,0,0,0,0,0,0,0,0,0,0,0,0,0,0,0,0,0,0,0,0,0,0,0,0,0,0,0,0,{"$f":"+EPB13+EPB14+EPB15","v":0},0,0,0,0,0,0,0,0,0,0,0,0,0,0,0,0,0,0,0,0,0,0,0,0,0,0,0,0,0,0,0,0,0,0,0,0,0,0,0,0,0,0,0,0,0,0,0,0,0,0,0,0,0,0,0,0,0,0,0,0,0,0,0,{"$f":"+ERN13+ERN14+ERN15","v":0},0,0,0,0,0,0,0,0,0,0,0,0,0,0,0,0,0,0,0,0,0,0,0,0,0,0,0,0,0,0,0,0,0,0,0,0,0,0,0,0,0,0,0,0,0,0,0,0,0,0,0,0,0,0,0,0,0,0,0,0,0,0,0,{"$f":"+ETZ13+ETZ14+ETZ15","v":0},0,0,0,0,0,0,0,0,0,0,0,0,0,0,0,0,0,0,0,0,0,0,0,0,0,0,0,0,0,0,0,0,0,0,0,0,0,0,0,0,0,0,0,0,0,0,0,0,0,0,0,0,0,0,0,0,0,0,0,0,0,0,0,{"$f":"+EWL13+EWL14+EWL15","v":0},0,0,0,0,0,0,0,0,0,0,0,0,0,0,0,0,0,0,0,0,0,0,0,0,0,0,0,0,0,0,0,0,0,0,0,0,0,0,0,0,0,0,0,0,0,0,0,0,0,0,0,0,0,0,0,0,0,0,0,0,0,0,0,{"$f":"+EYX13+EYX14+EYX15","v":0},0,0,0,0,0,0,0,0,0,0,0,0,0,0,0,0,0,0,0,0,0,0,0,0,0,0,0,0,0,0,0,0,0,0,0,0,0,0,0,0,0,0,0,0,0,0,0,0,0,0,0,0,0,0,0,0,0,0,0,0,0,0,0,{"$f":"+FBJ13+FBJ14+FBJ15","v":0},0,0,0,0,0,0,0,0,0,0,0,0,0,0,0,0,0,0,0,0,0,0,0,0,0,0,0,0,0,0,0,0,0,0,0,0,0,0,0,0,0,0,0,0,0,0,0,0,0,0,0,0,0,0,0,0,0,0,0,0,0,0,0,{"$f":"+FDV13+FDV14+FDV15","v":0},0,0,0,0,0,0,0,0,0,0,0,0,0,0,0,0,0,0,0,0,0,0,0,0,0,0,0,0,0,0,0,0,0,0,0,0,0,0,0,0,0,0,0,0,0,0,0,0,0,0,0,0,0,0,0,0,0,0,0,0,0,0,0,{"$f":"+FGH13+FGH14+FGH15","v":0},0,0,0,0,0,0,0,0,0,0,0,0,0,0,0,0,0,0,0,0,0,0,0,0,0,0,0,0,0,0,0,0,0,0,0,0,0,0,0,0,0,0,0,0,0,0,0,0,0,0,0,0,0,0,0,0,0,0,0,0,0,0,0,{"$f":"+FIT13+FIT14+FIT15","v":0},0,0,0,0,0,0,0,0,0,0,0,0,0,0,0,0,0,0,0,0,0,0,0,0,0,0,0,0,0,0,0,0,0,0,0,0,0,0,0,0,0,0,0,0,0,0,0,0,0,0,0,0,0,0,0,0,0,0,0,0,0,0,0,{"$f":"+FLF13+FLF14+FLF15","v":0},0,0,0,0,0,0,0,0,0,0,0,0,0,0,0,0,0,0,0,0,0,0,0,0,0,0,0,0,0,0,0,0,0,0,0,0,0,0,0,0,0,0,0,0,0,0,0,0,0,0,0,0,0,0,0,0,0,0,0,0,0,0,0,{"$f":"+FNR13+FNR14+FNR15","v":0},0,0,0,0,0,0,0,0,0,0,0,0,0,0,0,0,0,0,0,0,0,0,0,0,0,0,0,0,0,0,0,0,0,0,0,0,0,0,0,0,0,0,0,0,0,0,0,0,0,0,0,0,0,0,0,0,0,0,0,0,0,0,0,{"$f":"+FQD13+FQD14+FQD15","v":0},0,0,0,0,0,0,0,0,0,0,0,0,0,0,0,0,0,0,0,0,0,0,0,0,0,0,0,0,0,0,0,0,0,0,0,0,0,0,0,0,0,0,0,0,0,0,0,0,0,0,0,0,0,0,0,0,0,0,0,0,0,0,0,{"$f":"+FSP13+FSP14+FSP15","v":0},0,0,0,0,0,0,0,0,0,0,0,0,0,0,0,0,0,0,0,0,0,0,0,0,0,0,0,0,0,0,0,0,0,0,0,0,0,0,0,0,0,0,0,0,0,0,0,0,0,0,0,0,0,0,0,0,0,0,0,0,0,0,0,{"$f":"+FVB13+FVB14+FVB15","v":0},0,0,0,0,0,0,0,0,0,0,0,0,0,0,0,0,0,0,0,0,0,0,0,0,0,0,0,0,0,0,0,0,0,0,0,0,0,0,0,0,0,0,0,0,0,0,0,0,0,0,0,0,0,0,0,0,0,0,0,0,0,0,0,{"$f":"+FXN13+FXN14+FXN15","v":0},0,0,0,0,0,0,0,0,0,0,0,0,0,0,0,0,0,0,0,0,0,0,0,0,0,0,0,0,0,0,0,0,0,0,0,0,0,0,0,0,0,0,0,0,0,0,0,0,0,0,0,0,0,0,0,0,0,0,0,0,0,0,0,{"$f":"+FZZ13+FZZ14+FZZ15","v":0},0,0,0,0,0,0,0,0,0,0,0,0,0,0,0,0,0,0,0,0,0,0,0,0,0,0,0,0,0,0,0,0,0,0,0,0,0,0,0,0,0,0,0,0,0,0,0,0,0,0,0,0,0,0,0,0,0,0,0,0,0,0,0,{"$f":"+GCL13+GCL14+GCL15","v":0},0,0,0,0,0,0,0,0,0,0,0,0,0,0,0,0,0,0,0,0,0,0,0,0,0,0,0,0,0,0,0,0,0,0,0,0,0,0,0,0,0,0,0,0,0,0,0,0,0,0,0,0,0,0,0,0,0,0,0,0,0,0,0,{"$f":"+GEX13+GEX14+GEX15","v":0},0,0,0,0,0,0,0,0,0,0,0,0,0,0,0,0,0,0,0,0,0,0,0,0,0,0,0,0,0,0,0,0,0,0,0,0,0,0,0,0,0,0,0,0,0,0,0,0,0,0,0,0,0,0,0,0,0,0,0,0,0,0,0,{"$f":"+GHJ13+GHJ14+GHJ15","v":0},0,0,0,0,0,0,0,0,0,0,0,0,0,0,0,0,0,0,0,0,0,0,0,0,0,0,0,0,0,0,0,0,0,0,0,0,0,0,0,0,0,0,0,0,0,0,0,0,0,0,0,0,0,0,0,0,0,0,0,0,0,0,0,{"$f":"+GJV13+GJV14+GJV15","v":0},0,0,0,0,0,0,0,0,0,0,0,0,0,0,0,0,0,0,0,0,0,0,0,0,0,0,0,0,0,0,0,0,0,0,0,0,0,0,0,0,0,0,0,0,0,0,0,0,0,0,0,0,0,0,0,0,0,0,0,0,0,0,0,{"$f":"+GMH13+GMH14+GMH15","v":0},0,0,0,0,0,0,0,0,0,0,0,0,0,0,0,0,0,0,0,0,0,0,0,0,0,0,0,0,0,0,0,0,0,0,0,0,0,0,0,0,0,0,0,0,0,0,0,0,0,0,0,0,0,0,0,0,0,0,0,0,0,0,0,{"$f":"+GOT13+GOT14+GOT15","v":0},0,0,0,0,0,0,0,0,0,0,0,0,0,0,0,0,0,0,0,0,0,0,0,0,0,0,0,0,0,0,0,0,0,0,0,0,0,0,0,0,0,0,0,0,0,0,0,0,0,0,0,0,0,0,0,0,0,0,0,0,0,0,0,{"$f":"+GRF13+GRF14+GRF15","v":0},0,0,0,0,0,0,0,0,0,0,0,0,0,0,0,0,0,0,0,0,0,0,0,0,0,0,0,0,0,0,0,0,0,0,0,0,0,0,0,0,0,0,0,0,0,0,0,0,0,0,0,0,0,0,0,0,0,0,0,0,0,0,0,{"$f":"+GTR13+GTR14+GTR15","v":0},0,0,0,0,0,0,0,0,0,0,0,0,0,0,0,0,0,0,0,0,0,0,0,0,0,0,0,0,0,0,0,0,0,0,0,0,0,0,0,0,0,0,0,0,0,0,0,0,0,0,0,0,0,0,0,0,0,0,0,0,0,0,0,{"$f":"+GWD13+GWD14+GWD15","v":0},0,0,0,0,0,0,0,0,0,0,0,0,0,0,0,0,0,0,0,0,0,0,0,0,0,0,0,0,0,0,0,0,0,0,0,0,0,0,0,0,0,0,0,0,0,0,0,0,0,0,0,0,0,0,0,0,0,0,0,0,0,0,0,{"$f":"+GYP13+GYP14+GYP15","v":0},0,0,0,0,0,0,0,0,0,0,0,0,0,0,0,0,0,0,0,0,0,0,0,0,0,0,0,0,0,0,0,0,0,0,0,0,0,0,0,0,0,0,0,0,0,0,0,0,0,0,0,0,0,0,0,0,0,0,0,0,0,0,0,{"$f":"+HBB13+HBB14+HBB15","v":0},0,0,0,0,0,0,0,0,0,0,0,0,0,0,0,0,0,0,0,0,0,0,0,0,0,0,0,0,0,0,0,0,0,0,0,0,0,0,0,0,0,0,0,0,0,0,0,0,0,0,0,0,0,0,0,0,0,0,0,0,0,0,0,{"$f":"+HDN13+HDN14+HDN15","v":0},0,0,0,0,0,0,0,0,0,0,0,0,0,0,0,0,0,0,0,0,0,0,0,0,0,0,0,0,0,0,0,0,0,0,0,0,0,0,0,0,0,0,0,0,0,0,0,0,0,0,0,0,0,0,0,0,0,0,0,0,0,0,0,{"$f":"+HFZ13+HFZ14+HFZ15","v":0},0,0,0,0,0,0,0,0,0,0,0,0,0,0,0,0,0,0,0,0,0,0,0,0,0,0,0,0,0,0,0,0,0,0,0,0,0,0,0,0,0,0,0,0,0,0,0,0,0,0,0,0,0,0,0,0,0,0,0,0,0,0,0,{"$f":"+HIL13+HIL14+HIL15","v":0},0,0,0,0,0,0,0,0,0,0,0,0,0,0,0,0,0,0,0,0,0,0,0,0,0,0,0,0,0,0,0,0,0,0,0,0,0,0,0,0,0,0,0,0,0,0,0,0,0,0,0,0,0,0,0,0,0,0,0,0,0,0,0,{"$f":"+HKX13+HKX14+HKX15","v":0},0,0,0,0,0,0,0,0,0,0,0,0,0,0,0,0,0,0,0,0,0,0,0,0,0,0,0,0,0,0,0,0,0,0,0,0,0,0,0,0,0,0,0,0,0,0,0,0,0,0,0,0,0,0,0,0,0,0,0,0,0,0,0,{"$f":"+HNJ13+HNJ14+HNJ15","v":0},0,0,0,0,0,0,0,0,0,0,0,0,0,0,0,0,0,0,0,0,0,0,0,0,0,0,0,0,0,0,0,0,0,0,0,0,0,0,0,0,0,0,0,0,0,0,0,0,0,0,0,0,0,0,0,0,0,0,0,0,0,0,0,{"$f":"+HPV13+HPV14+HPV15","v":0},0,0,0,0,0,0,0,0,0,0,0,0,0,0,0,0,0,0,0,0,0,0,0,0,0,0,0,0,0,0,0,0,0,0,0,0,0,0,0,0,0,0,0,0,0,0,0,0,0,0,0,0,0,0,0,0,0,0,0,0,0,0,0,{"$f":"+HSH13+HSH14+HSH15","v":0},0,0,0,0,0,0,0,0,0,0,0,0,0,0,0,0,0,0,0,0,0,0,0,0,0,0,0,0,0,0,0,0,0,0,0,0,0,0,0,0,0,0,0,0,0,0,0,0,0,0,0,0,0,0,0,0,0,0,0,0,0,0,0,{"$f":"+HUT13+HUT14+HUT15","v":0},0,0,0,0,0,0,0,0,0,0,0,0,0,0,0,0,0,0,0,0,0,0,0,0,0,0,0,0,0,0,0,0,0,0,0,0,0,0,0,0,0,0,0,0,0,0,0,0,0,0,0,0,0,0,0,0,0,0,0,0,0,0,0,{"$f":"+HXF13+HXF14+HXF15","v":0},0,0,0,0,0,0,0,0,0,0,0,0,0,0,0,0,0,0,0,0,0,0,0,0,0,0,0,0,0,0,0,0,0,0,0,0,0,0,0,0,0,0,0,0,0,0,0,0,0,0,0,0,0,0,0,0,0,0,0,0,0,0,0,{"$f":"+HZR13+HZR14+HZR15","v":0},0,0,0,0,0,0,0,0,0,0,0,0,0,0,0,0,0,0,0,0,0,0,0,0,0,0,0,0,0,0,0,0,0,0,0,0,0,0,0,0,0,0,0,0,0,0,0,0,0,0,0,0,0,0,0,0,0,0,0,0,0,0,0,{"$f":"+ICD13+ICD14+ICD15","v":0},0,0,0,0,0,0,0,0,0,0,0,0,0,0,0,0,0,0,0,0,0,0,0,0,0,0,0,0,0,0,0,0,0,0,0,0,0,0,0,0,0,0,0,0,0,0,0,0,0,0,0,0,0,0,0,0,0,0,0,0,0,0,0,{"$f":"+IEP13+IEP14+IEP15","v":0},0,0,0,0,0,0,0,0,0,0,0,0,0,0,0,0,0,0,0,0,0,0,0,0,0,0,0,0,0,0,0,0,0,0,0,0,0,0,0,0,0,0,0,0,0,0,0,0,0,0,0,0,0,0,0,0,0,0,0,0,0,0,0,{"$f":"+IHB13+IHB14+IHB15","v":0},0,0,0,0,0,0,0,0,0,0,0,0,0,0,0,0,0,0,0,0,0,0,0,0,0,0,0,0,0,0,0,0,0,0,0,0,0,0,0,0,0,0,0,0,0,0,0,0,0,0,0,0,0,0,0,0,0,0,0,0,0,0,0,{"$f":"+IJN13+IJN14+IJN15","v":0},0,0,0,0,0,0,0,0,0,0,0,0,0,0,0,0,0,0,0,0,0,0,0,0,0,0,0,0,0,0,0,0,0,0,0,0,0,0,0,0,0,0,0,0,0,0,0,0,0,0,0,0,0,0,0,0,0,0,0,0,0,0,0,{"$f":"+ILZ13+ILZ14+ILZ15","v":0},0,0,0,0,0,0,0,0,0,0,0,0,0,0,0,0,0,0,0,0,0,0,0,0,0,0,0,0,0,0,0,0,0,0,0,0,0,0,0,0,0,0,0,0,0,0,0,0,0,0,0,0,0,0,0,0,0,0,0,0,0,0,0,{"$f":"+IOL13+IOL14+IOL15","v":0},0,0,0,0,0,0,0,0,0,0,0,0,0,0,0,0,0,0,0,0,0,0,0,0,0,0,0,0,0,0,0,0,0,0,0,0,0,0,0,0,0,0,0,0,0,0,0,0,0,0,0,0,0,0,0,0,0,0,0,0,0,0,0,{"$f":"+IQX13+IQX14+IQX15","v":0},0,0,0,0,0,0,0,0,0,0,0,0,0,0,0,0,0,0,0,0,0,0,0,0,0,0,0,0,0,0,0,0,0,0,0,0,0,0,0,0,0,0,0,0,0,0,0,0,0,0,0,0,0,0,0,0,0,0,0,0,0,0,0,{"$f":"+ITJ13+ITJ14+ITJ15","v":0},0,0,0,0,0,0,0,0,0,0,0,0,0,0,0,0,0,0,0,0,0,0,0,0,0,0,0,0,0,0,0,0,0,0,0,0,0,0,0,0,0,0,0,0,0,0,0,0,0,0,0,0,0,0,0,0,0,0,0,0,0,0,0,{"$f":"+IVV13+IVV14+IVV15","v":0},0,0,0,0,0,0,0,0,0,0,0,0,0,0,0,0,0,0,0,0,0,0,0,0,0,0,0,0,0,0,0,0,0,0,0,0,0,0,0,0,0,0,0,0,0,0,0,0,0,0,0,0,0,0,0,0,0,0,0,0,0,0,0,{"$f":"+IYH13+IYH14+IYH15","v":0},0,0,0,0,0,0,0,0,0,0,0,0,0,0,0,0,0,0,0,0,0,0,0,0,0,0,0,0,0,0,0,0,0,0,0,0,0,0,0,0,0,0,0,0,0,0,0,0,0,0,0,0,0,0,0,0,0,0,0,0,0,0,0,{"$f":"+JAT13+JAT14+JAT15","v":0},0,0,0,0,0,0,0,0,0,0,0,0,0,0,0,0,0,0,0,0,0,0,0,0,0,0,0,0,0,0,0,0,0,0,0,0,0,0,0,0,0,0,0,0,0,0,0,0,0,0,0,0,0,0,0,0,0,0,0,0,0,0,0,{"$f":"+JDF13+JDF14+JDF15","v":0},0,0,0,0,0,0,0,0,0,0,0,0,0,0,0,0,0,0,0,0,0,0,0,0,0,0,0,0,0,0,0,0,0,0,0,0,0,0,0,0,0,0,0,0,0,0,0,0,0,0,0,0,0,0,0,0,0,0,0,0,0,0,0,{"$f":"+JFR13+JFR14+JFR15","v":0},0,0,0,0,0,0,0,0,0,0,0,0,0,0,0,0,0,0,0,0,0,0,0,0,0,0,0,0,0,0,0,0,0,0,0,0,0,0,0,0,0,0,0,0,0,0,0,0,0,0,0,0,0,0,0,0,0,0,0,0,0,0,0,{"$f":"+JID13+JID14+JID15","v":0},0,0,0,0,0,0,0,0,0,0,0,0,0,0,0,0,0,0,0,0,0,0,0,0,0,0,0,0,0,0,0,0,0,0,0,0,0,0,0,0,0,0,0,0,0,0,0,0,0,0,0,0,0,0,0,0,0,0,0,0,0,0,0,{"$f":"+JKP13+JKP14+JKP15","v":0},0,0,0,0,0,0,0,0,0,0,0,0,0,0,0,0,0,0,0,0,0,0,0,0,0,0,0,0,0,0,0,0,0,0,0,0,0,0,0,0,0,0,0,0,0,0,0,0,0,0,0,0,0,0,0,0,0,0,0,0,0,0,0,{"$f":"+JNB13+JNB14+JNB15","v":0},0,0,0,0,0,0,0,0,0,0,0,0,0,0,0,0,0,0,0,0,0,0,0,0,0,0,0,0,0,0,0,0,0,0,0,0,0,0,0,0,0,0,0,0,0,0,0,0,0,0,0,0,0,0,0,0,0,0,0,0,0,0,0,{"$f":"+JPN13+JPN14+JPN15","v":0},0,0,0,0,0,0,0,0,0,0,0,0,0,0,0,0,0,0,0,0,0,0,0,0,0,0,0,0,0,0,0,0,0,0,0,0,0,0,0,0,0,0,0,0,0,0,0,0,0,0,0,0,0,0,0,0,0,0,0,0,0,0,0,{"$f":"+JRZ13+JRZ14+JRZ15","v":0},0,0,0,0,0,0,0,0,0,0,0,0,0,0,0,0,0,0,0,0,0,0,0,0,0,0,0,0,0,0,0,0,0,0,0,0,0,0,0,0,0,0,0,0,0,0,0,0,0,0,0,0,0,0,0,0,0,0,0,0,0,0,0,{"$f":"+JUL13+JUL14+JUL15","v":0},0,0,0,0,0,0,0,0,0,0,0,0,0,0,0,0,0,0,0,0,0,0,0,0,0,0,0,0,0,0,0,0,0,0,0,0,0,0,0,0,0,0,0,0,0,0,0,0,0,0,0,0,0,0,0,0,0,0,0,0,0,0,0,{"$f":"+JWX13+JWX14+JWX15","v":0},0,0,0,0,0,0,0,0,0,0,0,0,0,0,0,0,0,0,0,0,0,0,0,0,0,0,0,0,0,0,0,0,0,0,0,0,0,0,0,0,0,0,0,0,0,0,0,0,0,0,0,0,0,0,0,0,0,0,0,0,0,0,0,{"$f":"+JZJ13+JZJ14+JZJ15","v":0},0,0,0,0,0,0,0,0,0,0,0,0,0,0,0,0,0,0,0,0,0,0,0,0,0,0,0,0,0,0,0,0,0,0,0,0,0,0,0,0,0,0,0,0,0,0,0,0,0,0,0,0,0,0,0,0,0,0,0,0,0,0,0,{"$f":"+KBV13+KBV14+KBV15","v":0},0,0,0,0,0,0,0,0,0,0,0,0,0,0,0,0,0,0,0,0,0,0,0,0,0,0,0,0,0,0,0,0,0,0,0,0,0,0,0,0,0,0,0,0,0,0,0,0,0,0,0,0,0,0,0,0,0,0,0,0,0,0,0,{"$f":"+KEH13+KEH14+KEH15","v":0},0,0,0,0,0,0,0,0,0,0,0,0,0,0,0,0,0,0,0,0,0,0,0,0,0,0,0,0,0,0,0,0,0,0,0,0,0,0,0,0,0,0,0,0,0,0,0,0,0,0,0,0,0,0,0,0,0,0,0,0,0,0,0,{"$f":"+KGT13+KGT14+KGT15","v":0},0,0,0,0,0,0,0,0,0,0,0,0,0,0,0,0,0,0,0,0,0,0,0,0,0,0,0,0,0,0,0,0,0,0,0,0,0,0,0,0,0,0,0,0,0,0,0,0,0,0,0,0,0,0,0,0,0,0,0,0,0,0,0,{"$f":"+KJF13+KJF14+KJF15","v":0},0,0,0,0,0,0,0,0,0,0,0,0,0,0,0,0,0,0,0,0,0,0,0,0,0,0,0,0,0,0,0,0,0,0,0,0,0,0,0,0,0,0,0,0,0,0,0,0,0,0,0,0,0,0,0,0,0,0,0,0,0,0,0,{"$f":"+KLR13+KLR14+KLR15","v":0},0,0,0,0,0,0,0,0,0,0,0,0,0,0,0,0,0,0,0,0,0,0,0,0,0,0,0,0,0,0,0,0,0,0,0,0,0,0,0,0,0,0,0,0,0,0,0,0,0,0,0,0,0,0,0,0,0,0,0,0,0,0,0,{"$f":"+KOD13+KOD14+KOD15","v":0},0,0,0,0,0,0,0,0,0,0,0,0,0,0,0,0,0,0,0,0,0,0,0,0,0,0,0,0,0,0,0,0,0,0,0,0,0,0,0,0,0,0,0,0,0,0,0,0,0,0,0,0,0,0,0,0,0,0,0,0,0,0,0,{"$f":"+KQP13+KQP14+KQP15","v":0},0,0,0,0,0,0,0,0,0,0,0,0,0,0,0,0,0,0,0,0,0,0,0,0,0,0,0,0,0,0,0,0,0,0,0,0,0,0,0,0,0,0,0,0,0,0,0,0,0,0,0,0,0,0,0,0,0,0,0,0,0,0,0,{"$f":"+KTB13+KTB14+KTB15","v":0},0,0,0,0,0,0,0,0,0,0,0,0,0,0,0,0,0,0,0,0,0,0,0,0,0,0,0,0,0,0,0,0,0,0,0,0,0,0,0,0,0,0,0,0,0,0,0,0,0,0,0,0,0,0,0,0,0,0,0,0,0,0,0,{"$f":"+KVN13+KVN14+KVN15","v":0},0,0,0,0,0,0,0,0,0,0,0,0,0,0,0,0,0,0,0,0,0,0,0,0,0,0,0,0,0,0,0,0,0,0,0,0,0,0,0,0,0,0,0,0,0,0,0,0,0,0,0,0,0,0,0,0,0,0,0,0,0,0,0,{"$f":"+KXZ13+KXZ14+KXZ15","v":0},0,0,0,0,0,0,0,0,0,0,0,0,0,0,0,0,0,0,0,0,0,0,0,0,0,0,0,0,0,0,0,0,0,0,0,0,0,0,0,0,0,0,0,0,0,0,0,0,0,0,0,0,0,0,0,0,0,0,0,0,0,0,0,{"$f":"+LAL13+LAL14+LAL15","v":0},0,0,0,0,0,0,0,0,0,0,0,0,0,0,0,0,0,0,0,0,0,0,0,0,0,0,0,0,0,0,0,0,0,0,0,0,0,0,0,0,0,0,0,0,0,0,0,0,0,0,0,0,0,0,0,0,0,0,0,0,0,0,0,{"$f":"+LCX13+LCX14+LCX15","v":0},0,0,0,0,0,0,0,0,0,0,0,0,0,0,0,0,0,0,0,0,0,0,0,0,0,0,0,0,0,0,0,0,0,0,0,0,0,0,0,0,0,0,0,0,0,0,0,0,0,0,0,0,0,0,0,0,0,0,0,0,0,0,0,{"$f":"+LFJ13+LFJ14+LFJ15","v":0},0,0,0,0,0,0,0,0,0,0,0,0,0,0,0,0,0,0,0,0,0,0,0,0,0,0,0,0,0,0,0,0,0,0,0,0,0,0,0,0,0,0,0,0,0,0,0,0,0,0,0,0,0,0,0,0,0,0,0,0,0,0,0,{"$f":"+LHV13+LHV14+LHV15","v":0},0,0,0,0,0,0,0,0,0,0,0,0,0,0,0,0,0,0,0,0,0,0,0,0,0,0,0,0,0,0,0,0,0,0,0,0,0,0,0,0,0,0,0,0,0,0,0,0,0,0,0,0,0,0,0,0,0,0,0,0,0,0,0,{"$f":"+LKH13+LKH14+LKH15","v":0},0,0,0,0,0,0,0,0,0,0,0,0,0,0,0,0,0,0,0,0,0,0,0,0,0,0,0,0,0,0,0,0,0,0,0,0,0,0,0,0,0,0,0,0,0,0,0,0,0,0,0,0,0,0,0,0,0,0,0,0,0,0,0,{"$f":"+LMT13+LMT14+LMT15","v":0},0,0,0,0,0,0,0,0,0,0,0,0,0,0,0,0,0,0,0,0,0,0,0,0,0,0,0,0,0,0,0,0,0,0,0,0,0,0,0,0,0,0,0,0,0,0,0,0,0,0,0,0,0,0,0,0,0,0,0,0,0,0,0,{"$f":"+LPF13+LPF14+LPF15","v":0},0,0,0,0,0,0,0,0,0,0,0,0,0,0,0,0,0,0,0,0,0,0,0,0,0,0,0,0,0,0,0,0,0,0,0,0,0,0,0,0,0,0,0,0,0,0,0,0,0,0,0,0,0,0,0,0,0,0,0,0,0,0,0,{"$f":"+LRR13+LRR14+LRR15","v":0},0,0,0,0,0,0,0,0,0,0,0,0,0,0,0,0,0,0,0,0,0,0,0,0,0,0,0,0,0,0,0,0,0,0,0,0,0,0,0,0,0,0,0,0,0,0,0,0,0,0,0,0,0,0,0,0,0,0,0,0,0,0,0,{"$f":"+LUD13+LUD14+LUD15","v":0},0,0,0,0,0,0,0,0,0,0,0,0,0,0,0,0,0,0,0,0,0,0,0,0,0,0,0,0,0,0,0,0,0,0,0,0,0,0,0,0,0,0,0,0,0,0,0,0,0,0,0,0,0,0,0,0,0,0,0,0,0,0,0,{"$f":"+LWP13+LWP14+LWP15","v":0},0,0,0,0,0,0,0,0,0,0,0,0,0,0,0,0,0,0,0,0,0,0,0,0,0,0,0,0,0,0,0,0,0,0,0,0,0,0,0,0,0,0,0,0,0,0,0,0,0,0,0,0,0,0,0,0,0,0,0,0,0,0,0,{"$f":"+LZB13+LZB14+LZB15","v":0},0,0,0,0,0,0,0,0,0,0,0,0,0,0,0,0,0,0,0,0,0,0,0,0,0,0,0,0,0,0,0,0,0,0,0,0,0,0,0,0,0,0,0,0,0,0,0,0,0,0,0,0,0,0,0,0,0,0,0,0,0,0,0,{"$f":"+MBN13+MBN14+MBN15","v":0},0,0,0,0,0,0,0,0,0,0,0,0,0,0,0,0,0,0,0,0,0,0,0,0,0,0,0,0,0,0,0,0,0,0,0,0,0,0,0,0,0,0,0,0,0,0,0,0,0,0,0,0,0,0,0,0,0,0,0,0,0,0,0,{"$f":"+MDZ13+MDZ14+MDZ15","v":0},0,0,0,0,0,0,0,0,0,0,0,0,0,0,0,0,0,0,0,0,0,0,0,0,0,0,0,0,0,0,0,0,0,0,0,0,0,0,0,0,0,0,0,0,0,0,0,0,0,0,0,0,0,0,0,0,0,0,0,0,0,0,0,{"$f":"+MGL13+MGL14+MGL15","v":0},0,0,0,0,0,0,0,0,0,0,0,0,0,0,0,0,0,0,0,0,0,0,0,0,0,0,0,0,0,0,0,0,0,0,0,0,0,0,0,0,0,0,0,0,0,0,0,0,0,0,0,0,0,0,0,0,0,0,0,0,0,0,0,{"$f":"+MIX13+MIX14+MIX15","v":0},0,0,0,0,0,0,0,0,0,0,0,0,0,0,0,0,0,0,0,0,0,0,0,0,0,0,0,0,0,0,0,0,0,0,0,0,0,0,0,0,0,0,0,0,0,0,0,0,0,0,0,0,0,0,0,0,0,0,0,0,0,0,0,{"$f":"+MLJ13+MLJ14+MLJ15","v":0},0,0,0,0,0,0,0,0,0,0,0,0,0,0,0,0,0,0,0,0,0,0,0,0,0,0,0,0,0,0,0,0,0,0,0,0,0,0,0,0,0,0,0,0,0,0,0,0,0,0,0,0,0,0,0,0,0,0,0,0,0,0,0,{"$f":"+MNV13+MNV14+MNV15","v":0},0,0,0,0,0,0,0,0,0,0,0,0,0,0,0,0,0,0,0,0,0,0,0,0,0,0,0,0,0,0,0,0,0,0,0,0,0,0,0,0,0,0,0,0,0,0,0,0,0,0,0,0,0,0,0,0,0,0,0,0,0,0,0,{"$f":"+MQH13+MQH14+MQH15","v":0},0,0,0,0,0,0,0,0,0,0,0,0,0,0,0,0,0,0,0,0,0,0,0,0,0,0,0,0,0,0,0,0,0,0,0,0,0,0,0,0,0,0,0,0,0,0,0,0,0,0,0,0,0,0,0,0,0,0,0,0,0,0,0,{"$f":"+MST13+MST14+MST15","v":0},0,0,0,0,0,0,0,0,0,0,0,0,0,0,0,0,0,0,0,0,0,0,0,0,0,0,0,0,0,0,0,0,0,0,0,0,0,0,0,0,0,0,0,0,0,0,0,0,0,0,0,0,0,0,0,0,0,0,0,0,0,0,0,{"$f":"+MVF13+MVF14+MVF15","v":0},0,0,0,0,0,0,0,0,0,0,0,0,0,0,0,0,0,0,0,0,0,0,0,0,0,0,0,0,0,0,0,0,0,0,0,0,0,0,0,0,0,0,0,0,0,0,0,0,0,0,0,0,0,0,0,0,0,0,0,0,0,0,0,{"$f":"+MXR13+MXR14+MXR15","v":0},0,0,0,0,0,0,0,0,0,0,0,0,0,0,0,0,0,0,0,0,0,0,0,0,0,0,0,0,0,0,0,0,0,0,0,0,0,0,0,0,0,0,0,0,0,0,0,0,0,0,0,0,0,0,0,0,0,0,0,0,0,0,0,{"$f":"+NAD13+NAD14+NAD15","v":0},0,0,0,0,0,0,0,0,0,0,0,0,0,0,0,0,0,0,0,0,0,0,0,0,0,0,0,0,0,0,0,0,0,0,0,0,0,0,0,0,0,0,0,0,0,0,0,0,0,0,0,0,0,0,0,0,0,0,0,0,0,0,0,{"$f":"+NCP13+NCP14+NCP15","v":0},0,0,0,0,0,0,0,0,0,0,0,0,0,0,0,0,0,0,0,0,0,0,0,0,0,0,0,0,0,0,0,0,0,0,0,0,0,0,0,0,0,0,0,0,0,0,0,0,0,0,0,0,0,0,0,0,0,0,0,0,0,0,0,{"$f":"+NFB13+NFB14+NFB15","v":0},0,0,0,0,0,0,0,0,0,0,0,0,0,0,0,0,0,0,0,0,0,0,0,0,0,0,0,0,0,0,0,0,0,0,0,0,0,0,0,0,0,0,0,0,0,0,0,0,0,0,0,0,0,0,0,0,0,0,0,0,0,0,0,{"$f":"+NHN13+NHN14+NHN15","v":0},0,0,0,0,0,0,0,0,0,0,0,0,0,0,0,0,0,0,0,0,0,0,0,0,0,0,0,0,0,0,0,0,0,0,0,0,0,0,0,0,0,0,0,0,0,0,0,0,0,0,0,0,0,0,0,0,0,0,0,0,0,0,0,{"$f":"+NJZ13+NJZ14+NJZ15","v":0},0,0,0,0,0,0,0,0,0,0,0,0,0,0,0,0,0,0,0,0,0,0,0,0,0,0,0,0,0,0,0,0,0,0,0,0,0,0,0,0,0,0,0,0,0,0,0,0,0,0,0,0,0,0,0,0,0,0,0,0,0,0,0,{"$f":"+NML13+NML14+NML15","v":0},0,0,0,0,0,0,0,0,0,0,0,0,0,0,0,0,0,0,0,0,0,0,0,0,0,0,0,0,0,0,0,0,0,0,0,0,0,0,0,0,0,0,0,0,0,0,0,0,0,0,0,0,0,0,0,0,0,0,0,0,0,0,0,{"$f":"+NOX13+NOX14+NOX15","v":0},0,0,0,0,0,0,0,0,0,0,0,0,0,0,0,0,0,0,0,0,0,0,0,0,0,0,0,0,0,0,0,0,0,0,0,0,0,0,0,0,0,0,0,0,0,0,0,0,0,0,0,0,0,0,0,0,0,0,0,0,0,0,0,{"$f":"+NRJ13+NRJ14+NRJ15","v":0},0,0,0,0,0,0,0,0,0,0,0,0,0,0,0,0,0,0,0,0,0,0,0,0,0,0,0,0,0,0,0,0,0,0,0,0,0,0,0,0,0,0,0,0,0,0,0,0,0,0,0,0,0,0,0,0,0,0,0,0,0,0,0,{"$f":"+NTV13+NTV14+NTV15","v":0},0,0,0,0,0,0,0,0,0,0,0,0,0,0,0,0,0,0,0,0,0,0,0,0,0,0,0,0,0,0,0,0,0,0,0,0,0,0,0,0,0,0,0,0,0,0,0,0,0,0,0,0,0,0,0,0,0,0,0,0,0,0,0,{"$f":"+NWH13+NWH14+NWH15","v":0},0,0,0,0,0,0,0,0,0,0,0,0,0,0,0,0,0,0,0,0,0,0,0,0,0,0,0,0,0,0,0,0,0,0,0,0,0,0,0,0,0,0,0,0,0,0,0,0,0,0,0,0,0,0,0,0,0,0,0,0,0,0,0,{"$f":"+NYT13+NYT14+NYT15","v":0},0,0,0,0,0,0,0,0,0,0,0,0,0,0,0,0,0,0,0,0,0,0,0,0,0,0,0,0,0,0,0,0,0,0,0,0,0,0,0,0,0,0,0,0,0,0,0,0,0,0,0,0,0,0,0,0,0,0,0,0,0,0,0,{"$f":"+OBF13+OBF14+OBF15","v":0},0,0,0,0,0,0,0,0,0,0,0,0,0,0,0,0,0,0,0,0,0,0,0,0,0,0,0,0,0,0,0,0,0,0,0,0,0,0,0,0,0,0,0,0,0,0,0,0,0,0,0,0,0,0,0,0,0,0,0,0,0,0,0,{"$f":"+ODR13+ODR14+ODR15","v":0},0,0,0,0,0,0,0,0,0,0,0,0,0,0,0,0,0,0,0,0,0,0,0,0,0,0,0,0,0,0,0,0,0,0,0,0,0,0,0,0,0,0,0,0,0,0,0,0,0,0,0,0,0,0,0,0,0,0,0,0,0,0,0,{"$f":"+OGD13+OGD14+OGD15","v":0},0,0,0,0,0,0,0,0,0,0,0,0,0,0,0,0,0,0,0,0,0,0,0,0,0,0,0,0,0,0,0,0,0,0,0,0,0,0,0,0,0,0,0,0,0,0,0,0,0,0,0,0,0,0,0,0,0,0,0,0,0,0,0,{"$f":"+OIP13+OIP14+OIP15","v":0},0,0,0,0,0,0,0,0,0,0,0,0,0,0,0,0,0,0,0,0,0,0,0,0,0,0,0,0,0,0,0,0,0,0,0,0,0,0,0,0,0,0,0,0,0,0,0,0,0,0,0,0,0,0,0,0,0,0,0,0,0,0,0,{"$f":"+OLB13+OLB14+OLB15","v":0},0,0,0,0,0,0,0,0,0,0,0,0,0,0,0,0,0,0,0,0,0,0,0,0,0,0,0,0,0,0,0,0,0,0,0,0,0,0,0,0,0,0,0,0,0,0,0,0,0,0,0,0,0,0,0,0,0,0,0,0,0,0,0,{"$f":"+ONN13+ONN14+ONN15","v":0},0,0,0,0,0,0,0,0,0,0,0,0,0,0,0,0,0,0,0,0,0,0,0,0,0,0,0,0,0,0,0,0,0,0,0,0,0,0,0,0,0,0,0,0,0,0,0,0,0,0,0,0,0,0,0,0,0,0,0,0,0,0,0,{"$f":"+OPZ13+OPZ14+OPZ15","v":0},0,0,0,0,0,0,0,0,0,0,0,0,0,0,0,0,0,0,0,0,0,0,0,0,0,0,0,0,0,0,0,0,0,0,0,0,0,0,0,0,0,0,0,0,0,0,0,0,0,0,0,0,0,0,0,0,0,0,0,0,0,0,0,{"$f":"+OSL13+OSL14+OSL15","v":0},0,0,0,0,0,0,0,0,0,0,0,0,0,0,0,0,0,0,0,0,0,0,0,0,0,0,0,0,0,0,0,0,0,0,0,0,0,0,0,0,0,0,0,0,0,0,0,0,0,0,0,0,0,0,0,0,0,0,0,0,0,0,0,{"$f":"+OUX13+OUX14+OUX15","v":0},0,0,0,0,0,0,0,0,0,0,0,0,0,0,0,0,0,0,0,0,0,0,0,0,0,0,0,0,0,0,0,0,0,0,0,0,0,0,0,0,0,0,0,0,0,0,0,0,0,0,0,0,0,0,0,0,0,0,0,0,0,0,0,{"$f":"+OXJ13+OXJ14+OXJ15","v":0},0,0,0,0,0,0,0,0,0,0,0,0,0,0,0,0,0,0,0,0,0,0,0,0,0,0,0,0,0,0,0,0,0,0,0,0,0,0,0,0,0,0,0,0,0,0,0,0,0,0,0,0,0,0,0,0,0,0,0,0,0,0,0,{"$f":"+OZV13+OZV14+OZV15","v":0},0,0,0,0,0,0,0,0,0,0,0,0,0,0,0,0,0,0,0,0,0,0,0,0,0,0,0,0,0,0,0,0,0,0,0,0,0,0,0,0,0,0,0,0,0,0,0,0,0,0,0,0,0,0,0,0,0,0,0,0,0,0,0,{"$f":"+PCH13+PCH14+PCH15","v":0},0,0,0,0,0,0,0,0,0,0,0,0,0,0,0,0,0,0,0,0,0,0,0,0,0,0,0,0,0,0,0,0,0,0,0,0,0,0,0,0,0,0,0,0,0,0,0,0,0,0,0,0,0,0,0,0,0,0,0,0,0,0,0,{"$f":"+PET13+PET14+PET15","v":0},0,0,0,0,0,0,0,0,0,0,0,0,0,0,0,0,0,0,0,0,0,0,0,0,0,0,0,0,0,0,0,0,0,0,0,0,0,0,0,0,0,0,0,0,0,0,0,0,0,0,0,0,0,0,0,0,0,0,0,0,0,0,0,{"$f":"+PHF13+PHF14+PHF15","v":0},0,0,0,0,0,0,0,0,0,0,0,0,0,0,0,0,0,0,0,0,0,0,0,0,0,0,0,0,0,0,0,0,0,0,0,0,0,0,0,0,0,0,0,0,0,0,0,0,0,0,0,0,0,0,0,0,0,0,0,0,0,0,0,{"$f":"+PJR13+PJR14+PJR15","v":0},0,0,0,0,0,0,0,0,0,0,0,0,0,0,0,0,0,0,0,0,0,0,0,0,0,0,0,0,0,0,0,0,0,0,0,0,0,0,0,0,0,0,0,0,0,0,0,0,0,0,0,0,0,0,0,0,0,0,0,0,0,0,0,{"$f":"+PMD13+PMD14+PMD15","v":0},0,0,0,0,0,0,0,0,0,0,0,0,0,0,0,0,0,0,0,0,0,0,0,0,0,0,0,0,0,0,0,0,0,0,0,0,0,0,0,0,0,0,0,0,0,0,0,0,0,0,0,0,0,0,0,0,0,0,0,0,0,0,0,{"$f":"+POP13+POP14+POP15","v":0},0,0,0,0,0,0,0,0,0,0,0,0,0,0,0,0,0,0,0,0,0,0,0,0,0,0,0,0,0,0,0,0,0,0,0,0,0,0,0,0,0,0,0,0,0,0,0,0,0,0,0,0,0,0,0,0,0,0,0,0,0,0,0,{"$f":"+PRB13+PRB14+PRB15","v":0},0,0,0,0,0,0,0,0,0,0,0,0,0,0,0,0,0,0,0,0,0,0,0,0,0,0,0,0,0,0,0,0,0,0,0,0,0,0,0,0,0,0,0,0,0,0,0,0,0,0,0,0,0,0,0,0,0,0,0,0,0,0,0,{"$f":"+PTN13+PTN14+PTN15","v":0},0,0,0,0,0,0,0,0,0,0,0,0,0,0,0,0,0,0,0,0,0,0,0,0,0,0,0,0,0,0,0,0,0,0,0,0,0,0,0,0,0,0,0,0,0,0,0,0,0,0,0,0,0,0,0,0,0,0,0,0,0,0,0,{"$f":"+PVZ13+PVZ14+PVZ15","v":0},0,0,0,0,0,0,0,0,0,0,0,0,0,0,0,0,0,0,0,0,0,0,0,0,0,0,0,0,0,0,0,0,0,0,0,0,0,0,0,0,0,0,0,0,0,0,0,0,0,0,0,0,0,0,0,0,0,0,0,0,0,0,0,{"$f":"+PYL13+PYL14+PYL15","v":0},0,0,0,0,0,0,0,0,0,0,0,0,0,0,0,0,0,0,0,0,0,0,0,0,0,0,0,0,0,0,0,0,0,0,0,0,0,0,0,0,0,0,0,0,0,0,0,0,0,0,0,0,0,0,0,0,0,0,0,0,0,0,0,{"$f":"+QAX13+QAX14+QAX15","v":0},0,0,0,0,0,0,0,0,0,0,0,0,0,0,0,0,0,0,0,0,0,0,0,0,0,0,0,0,0,0,0,0,0,0,0,0,0,0,0,0,0,0,0,0,0,0,0,0,0,0,0,0,0,0,0,0,0,0,0,0,0,0,0,{"$f":"+QDJ13+QDJ14+QDJ15","v":0},0,0,0,0,0,0,0,0,0,0,0,0,0,0,0,0,0,0,0,0,0,0,0,0,0,0,0,0,0,0,0,0,0,0,0,0,0,0,0,0,0,0,0,0,0,0,0,0,0,0,0,0,0,0,0,0,0,0,0,0,0,0,0,{"$f":"+QFV13+QFV14+QFV15","v":0},0,0,0,0,0,0,0,0,0,0,0,0,0,0,0,0,0,0,0,0,0,0,0,0,0,0,0,0,0,0,0,0,0,0,0,0,0,0,0,0,0,0,0,0,0,0,0,0,0,0,0,0,0,0,0,0,0,0,0,0,0,0,0,{"$f":"+QIH13+QIH14+QIH15","v":0},0,0,0,0,0,0,0,0,0,0,0,0,0,0,0,0,0,0,0,0,0,0,0,0,0,0,0,0,0,0,0,0,0,0,0,0,0,0,0,0,0,0,0,0,0,0,0,0,0,0,0,0,0,0,0,0,0,0,0,0,0,0,0,{"$f":"+QKT13+QKT14+QKT15","v":0},0,0,0,0,0,0,0,0,0,0,0,0,0,0,0,0,0,0,0,0,0,0,0,0,0,0,0,0,0,0,0,0,0,0,0,0,0,0,0,0,0,0,0,0,0,0,0,0,0,0,0,0,0,0,0,0,0,0,0,0,0,0,0,{"$f":"+QNF13+QNF14+QNF15","v":0},0,0,0,0,0,0,0,0,0,0,0,0,0,0,0,0,0,0,0,0,0,0,0,0,0,0,0,0,0,0,0,0,0,0,0,0,0,0,0,0,0,0,0,0,0,0,0,0,0,0,0,0,0,0,0,0,0,0,0,0,0,0,0,{"$f":"+QPR13+QPR14+QPR15","v":0},0,0,0,0,0,0,0,0,0,0,0,0,0,0,0,0,0,0,0,0,0,0,0,0,0,0,0,0,0,0,0,0,0,0,0,0,0,0,0,0,0,0,0,0,0,0,0,0,0,0,0,0,0,0,0,0,0,0,0,0,0,0,0,{"$f":"+QSD13+QSD14+QSD15","v":0},0,0,0,0,0,0,0,0,0,0,0,0,0,0,0,0,0,0,0,0,0,0,0,0,0,0,0,0,0,0,0,0,0,0,0,0,0,0,0,0,0,0,0,0,0,0,0,0,0,0,0,0,0,0,0,0,0,0,0,0,0,0,0,{"$f":"+QUP13+QUP14+QUP15","v":0},0,0,0,0,0,0,0,0,0,0,0,0,0,0,0,0,0,0,0,0,0,0,0,0,0,0,0,0,0,0,0,0,0,0,0,0,0,0,0,0,0,0,0,0,0,0,0,0,0,0,0,0,0,0,0,0,0,0,0,0,0,0,0,{"$f":"+QXB13+QXB14+QXB15","v":0},0,0,0,0,0,0,0,0,0,0,0,0,0,0,0,0,0,0,0,0,0,0,0,0,0,0,0,0,0,0,0,0,0,0,0,0,0,0,0,0,0,0,0,0,0,0,0,0,0,0,0,0,0,0,0,0,0,0,0,0,0,0,0,{"$f":"+QZN13+QZN14+QZN15","v":0},0,0,0,0,0,0,0,0,0,0,0,0,0,0,0,0,0,0,0,0,0,0,0,0,0,0,0,0,0,0,0,0,0,0,0,0,0,0,0,0,0,0,0,0,0,0,0,0,0,0,0,0,0,0,0,0,0,0,0,0,0,0,0,{"$f":"+RBZ13+RBZ14+RBZ15","v":0},0,0,0,0,0,0,0,0,0,0,0,0,0,0,0,0,0,0,0,0,0,0,0,0,0,0,0,0,0,0,0,0,0,0,0,0,0,0,0,0,0,0,0,0,0,0,0,0,0,0,0,0,0,0,0,0,0,0,0,0,0,0,0,{"$f":"+REL13+REL14+REL15","v":0},0,0,0,0,0,0,0,0,0,0,0,0,0,0,0,0,0,0,0,0,0,0,0,0,0,0,0,0,0,0,0,0,0,0,0,0,0,0,0,0,0,0,0,0,0,0,0,0,0,0,0,0,0,0,0,0,0,0,0,0,0,0,0,{"$f":"+RGX13+RGX14+RGX15","v":0},0,0,0,0,0,0,0,0,0,0,0,0,0,0,0,0,0,0,0,0,0,0,0,0,0,0,0,0,0,0,0,0,0,0,0,0,0,0,0,0,0,0,0,0,0,0,0,0,0,0,0,0,0,0,0,0,0,0,0,0,0,0,0,{"$f":"+RJJ13+RJJ14+RJJ15","v":0},0,0,0,0,0,0,0,0,0,0,0,0,0,0,0,0,0,0,0,0,0,0,0,0,0,0,0,0,0,0,0,0,0,0,0,0,0,0,0,0,0,0,0,0,0,0,0,0,0,0,0,0,0,0,0,0,0,0,0,0,0,0,0,{"$f":"+RLV13+RLV14+RLV15","v":0},0,0,0,0,0,0,0,0,0,0,0,0,0,0,0,0,0,0,0,0,0,0,0,0,0,0,0,0,0,0,0,0,0,0,0,0,0,0,0,0,0,0,0,0,0,0,0,0,0,0,0,0,0,0,0,0,0,0,0,0,0,0,0,{"$f":"+ROH13+ROH14+ROH15","v":0},0,0,0,0,0,0,0,0,0,0,0,0,0,0,0,0,0,0,0,0,0,0,0,0,0,0,0,0,0,0,0,0,0,0,0,0,0,0,0,0,0,0,0,0,0,0,0,0,0,0,0,0,0,0,0,0,0,0,0,0,0,0,0,{"$f":"+RQT13+RQT14+RQT15","v":0},0,0,0,0,0,0,0,0,0,0,0,0,0,0,0,0,0,0,0,0,0,0,0,0,0,0,0,0,0,0,0,0,0,0,0,0,0,0,0,0,0,0,0,0,0,0,0,0,0,0,0,0,0,0,0,0,0,0,0,0,0,0,0,{"$f":"+RTF13+RTF14+RTF15","v":0},0,0,0,0,0,0,0,0,0,0,0,0,0,0,0,0,0,0,0,0,0,0,0,0,0,0,0,0,0,0,0,0,0,0,0,0,0,0,0,0,0,0,0,0,0,0,0,0,0,0,0,0,0,0,0,0,0,0,0,0,0,0,0,{"$f":"+RVR13+RVR14+RVR15","v":0},0,0,0,0,0,0,0,0,0,0,0,0,0,0,0,0,0,0,0,0,0,0,0,0,0,0,0,0,0,0,0,0,0,0,0,0,0,0,0,0,0,0,0,0,0,0,0,0,0,0,0,0,0,0,0,0,0,0,0,0,0,0,0,{"$f":"+RYD13+RYD14+RYD15","v":0},0,0,0,0,0,0,0,0,0,0,0,0,0,0,0,0,0,0,0,0,0,0,0,0,0,0,0,0,0,0,0,0,0,0,0,0,0,0,0,0,0,0,0,0,0,0,0,0,0,0,0,0,0,0,0,0,0,0,0,0,0,0,0,{"$f":"+SAP13+SAP14+SAP15","v":0},0,0,0,0,0,0,0,0,0,0,0,0,0,0,0,0,0,0,0,0,0,0,0,0,0,0,0,0,0,0,0,0,0,0,0,0,0,0,0,0,0,0,0,0,0,0,0,0,0,0,0,0,0,0,0,0,0,0,0,0,0,0,0,{"$f":"+SDB13+SDB14+SDB15","v":0},0,0,0,0,0,0,0,0,0,0,0,0,0,0,0,0,0,0,0,0,0,0,0,0,0,0,0,0,0,0,0,0,0,0,0,0,0,0,0,0,0,0,0,0,0,0,0,0,0,0,0,0,0,0,0,0,0,0,0,0,0,0,0,{"$f":"+SFN13+SFN14+SFN15","v":0},0,0,0,0,0,0,0,0,0,0,0,0,0,0,0,0,0,0,0,0,0,0,0,0,0,0,0,0,0,0,0,0,0,0,0,0,0,0,0,0,0,0,0,0,0,0,0,0,0,0,0,0,0,0,0,0,0,0,0,0,0,0,0,{"$f":"+SHZ13+SHZ14+SHZ15","v":0},0,0,0,0,0,0,0,0,0,0,0,0,0,0,0,0,0,0,0,0,0,0,0,0,0,0,0,0,0,0,0,0,0,0,0,0,0,0,0,0,0,0,0,0,0,0,0,0,0,0,0,0,0,0,0,0,0,0,0,0,0,0,0,{"$f":"+SKL13+SKL14+SKL15","v":0},0,0,0,0,0,0,0,0,0,0,0,0,0,0,0,0,0,0,0,0,0,0,0,0,0,0,0,0,0,0,0,0,0,0,0,0,0,0,0,0,0,0,0,0,0,0,0,0,0,0,0,0,0,0,0,0,0,0,0,0,0,0,0,{"$f":"+SMX13+SMX14+SMX15","v":0},0,0,0,0,0,0,0,0,0,0,0,0,0,0,0,0,0,0,0,0,0,0,0,0,0,0,0,0,0,0,0,0,0,0,0,0,0,0,0,0,0,0,0,0,0,0,0,0,0,0,0,0,0,0,0,0,0,0,0,0,0,0,0,{"$f":"+SPJ13+SPJ14+SPJ15","v":0},0,0,0,0,0,0,0,0,0,0,0,0,0,0,0,0,0,0,0,0,0,0,0,0,0,0,0,0,0,0,0,0,0,0,0,0,0,0,0,0,0,0,0,0,0,0,0,0,0,0,0,0,0,0,0,0,0,0,0,0,0,0,0,{"$f":"+SRV13+SRV14+SRV15","v":0},0,0,0,0,0,0,0,0,0,0,0,0,0,0,0,0,0,0,0,0,0,0,0,0,0,0,0,0,0,0,0,0,0,0,0,0,0,0,0,0,0,0,0,0,0,0,0,0,0,0,0,0,0,0,0,0,0,0,0,0,0,0,0,{"$f":"+SUH13+SUH14+SUH15","v":0},0,0,0,0,0,0,0,0,0,0,0,0,0,0,0,0,0,0,0,0,0,0,0,0,0,0,0,0,0,0,0,0,0,0,0,0,0,0,0,0,0,0,0,0,0,0,0,0,0,0,0,0,0,0,0,0,0,0,0,0,0,0,0,{"$f":"+SWT13+SWT14+SWT15","v":0},0,0,0,0,0,0,0,0,0,0,0,0,0,0,0,0,0,0,0,0,0,0,0,0,0,0,0,0,0,0,0,0,0,0,0,0,0,0,0,0,0,0,0,0,0,0,0,0,0,0,0,0,0,0,0,0,0,0,0,0,0,0,0,{"$f":"+SZF13+SZF14+SZF15","v":0},0,0,0,0,0,0,0,0,0,0,0,0,0,0,0,0,0,0,0,0,0,0,0,0,0,0,0,0,0,0,0,0,0,0,0,0,0,0,0,0,0,0,0,0,0,0,0,0,0,0,0,0,0,0,0,0,0,0,0,0,0,0,0,{"$f":"+TBR13+TBR14+TBR15","v":0},0,0,0,0,0,0,0,0,0,0,0,0,0,0,0,0,0,0,0,0,0,0,0,0,0,0,0,0,0,0,0,0,0,0,0,0,0,0,0,0,0,0,0,0,0,0,0,0,0,0,0,0,0,0,0,0,0,0,0,0,0,0,0,{"$f":"+TED13+TED14+TED15","v":0},0,0,0,0,0,0,0,0,0,0,0,0,0,0,0,0,0,0,0,0,0,0,0,0,0,0,0,0,0,0,0,0,0,0,0,0,0,0,0,0,0,0,0,0,0,0,0,0,0,0,0,0,0,0,0,0,0,0,0,0,0,0,0,{"$f":"+TGP13+TGP14+TGP15","v":0},0,0,0,0,0,0,0,0,0,0,0,0,0,0,0,0,0,0,0,0,0,0,0,0,0,0,0,0,0,0,0,0,0,0,0,0,0,0,0,0,0,0,0,0,0,0,0,0,0,0,0,0,0,0,0,0,0,0,0,0,0,0,0,{"$f":"+TJB13+TJB14+TJB15","v":0},0,0,0,0,0,0,0,0,0,0,0,0,0,0,0,0,0,0,0,0,0,0,0,0,0,0,0,0,0,0,0,0,0,0,0,0,0,0,0,0,0,0,0,0,0,0,0,0,0,0,0,0,0,0,0,0,0,0,0,0,0,0,0,{"$f":"+TLN13+TLN14+TLN15","v":0},0,0,0,0,0,0,0,0,0,0,0,0,0,0,0,0,0,0,0,0,0,0,0,0,0,0,0,0,0,0,0,0,0,0,0,0,0,0,0,0,0,0,0,0,0,0,0,0,0,0,0,0,0,0,0,0,0,0,0,0,0,0,0,{"$f":"+TNZ13+TNZ14+TNZ15","v":0},0,0,0,0,0,0,0,0,0,0,0,0,0,0,0,0,0,0,0,0,0,0,0,0,0,0,0,0,0,0,0,0,0,0,0,0,0,0,0,0,0,0,0,0,0,0,0,0,0,0,0,0,0,0,0,0,0,0,0,0,0,0,0,{"$f":"+TQL13+TQL14+TQL15","v":0},0,0,0,0,0,0,0,0,0,0,0,0,0,0,0,0,0,0,0,0,0,0,0,0,0,0,0,0,0,0,0,0,0,0,0,0,0,0,0,0,0,0,0,0,0,0,0,0,0,0,0,0,0,0,0,0,0,0,0,0,0,0,0,{"$f":"+TSX13+TSX14+TSX15","v":0},0,0,0,0,0,0,0,0,0,0,0,0,0,0,0,0,0,0,0,0,0,0,0,0,0,0,0,0,0,0,0,0,0,0,0,0,0,0,0,0,0,0,0,0,0,0,0,0,0,0,0,0,0,0,0,0,0,0,0,0,0,0,0,{"$f":"+TVJ13+TVJ14+TVJ15","v":0},0,0,0,0,0,0,0,0,0,0,0,0,0,0,0,0,0,0,0,0,0,0,0,0,0,0,0,0,0,0,0,0,0,0,0,0,0,0,0,0,0,0,0,0,0,0,0,0,0,0,0,0,0,0,0,0,0,0,0,0,0,0,0,{"$f":"+TXV13+TXV14+TXV15","v":0},0,0,0,0,0,0,0,0,0,0,0,0,0,0,0,0,0,0,0,0,0,0,0,0,0,0,0,0,0,0,0,0,0,0,0,0,0,0,0,0,0,0,0,0,0,0,0,0,0,0,0,0,0,0,0,0,0,0,0,0,0,0,0,{"$f":"+UAH13+UAH14+UAH15","v":0},0,0,0,0,0,0,0,0,0,0,0,0,0,0,0,0,0,0,0,0,0,0,0,0,0,0,0,0,0,0,0,0,0,0,0,0,0,0,0,0,0,0,0,0,0,0,0,0,0,0,0,0,0,0,0,0,0,0,0,0,0,0,0,{"$f":"+UCT13+UCT14+UCT15","v":0},0,0,0,0,0,0,0,0,0,0,0,0,0,0,0,0,0,0,0,0,0,0,0,0,0,0,0,0,0,0,0,0,0,0,0,0,0,0,0,0,0,0,0,0,0,0,0,0,0,0,0,0,0,0,0,0,0,0,0,0,0,0,0,{"$f":"+UFF13+UFF14+UFF15","v":0},0,0,0,0,0,0,0,0,0,0,0,0,0,0,0,0,0,0,0,0,0,0,0,0,0,0,0,0,0,0,0,0,0,0,0,0,0,0,0,0,0,0,0,0,0,0,0,0,0,0,0,0,0,0,0,0,0,0,0,0,0,0,0,{"$f":"+UHR13+UHR14+UHR15","v":0},0,0,0,0,0,0,0,0,0,0,0,0,0,0,0,0,0,0,0,0,0,0,0,0,0,0,0,0,0,0,0,0,0,0,0,0,0,0,0,0,0,0,0,0,0,0,0,0,0,0,0,0,0,0,0,0,0,0,0,0,0,0,0,{"$f":"+UKD13+UKD14+UKD15","v":0},0,0,0,0,0,0,0,0,0,0,0,0,0,0,0,0,0,0,0,0,0,0,0,0,0,0,0,0,0,0,0,0,0,0,0,0,0,0,0,0,0,0,0,0,0,0,0,0,0,0,0,0,0,0,0,0,0,0,0,0,0,0,0,{"$f":"+UMP13+UMP14+UMP15","v":0},0,0,0,0,0,0,0,0,0,0,0,0,0,0,0,0,0,0,0,0,0,0,0,0,0,0,0,0,0,0,0,0,0,0,0,0,0,0,0,0,0,0,0,0,0,0,0,0,0,0,0,0,0,0,0,0,0,0,0,0,0,0,0,{"$f":"+UPB13+UPB14+UPB15","v":0},0,0,0,0,0,0,0,0,0,0,0,0,0,0,0,0,0,0,0,0,0,0,0,0,0,0,0,0,0,0,0,0,0,0,0,0,0,0,0,0,0,0,0,0,0,0,0,0,0,0,0,0,0,0,0,0,0,0,0,0,0,0,0,{"$f":"+URN13+URN14+URN15","v":0},0,0,0,0,0,0,0,0,0,0,0,0,0,0,0,0,0,0,0,0,0,0,0,0,0,0,0,0,0,0,0,0,0,0,0,0,0,0,0,0,0,0,0,0,0,0,0,0,0,0,0,0,0,0,0,0,0,0,0,0,0,0,0,{"$f":"+UTZ13+UTZ14+UTZ15","v":0},0,0,0,0,0,0,0,0,0,0,0,0,0,0,0,0,0,0,0,0,0,0,0,0,0,0,0,0,0,0,0,0,0,0,0,0,0,0,0,0,0,0,0,0,0,0,0,0,0,0,0,0,0,0,0,0,0,0,0,0,0,0,0,{"$f":"+UWL13+UWL14+UWL15","v":0},0,0,0,0,0,0,0,0,0,0,0,0,0,0,0,0,0,0,0,0,0,0,0,0,0,0,0,0,0,0,0,0,0,0,0,0,0,0,0,0,0,0,0,0,0,0,0,0,0,0,0,0,0,0,0,0,0,0,0,0,0,0,0,{"$f":"+UYX13+UYX14+UYX15","v":0},0,0,0,0,0,0,0,0,0,0,0,0,0,0,0,0,0,0,0,0,0,0,0,0,0,0,0,0,0,0,0,0,0,0,0,0,0,0,0,0,0,0,0,0,0,0,0,0,0,0,0,0,0,0,0,0,0,0,0,0,0,0,0,{"$f":"+VBJ13+VBJ14+VBJ15","v":0},0,0,0,0,0,0,0,0,0,0,0,0,0,0,0,0,0,0,0,0,0,0,0,0,0,0,0,0,0,0,0,0,0,0,0,0,0,0,0,0,0,0,0,0,0,0,0,0,0,0,0,0,0,0,0,0,0,0,0,0,0,0,0,{"$f":"+VDV13+VDV14+VDV15","v":0},0,0,0,0,0,0,0,0,0,0,0,0,0,0,0,0,0,0,0,0,0,0,0,0,0,0,0,0,0,0,0,0,0,0,0,0,0,0,0,0,0,0,0,0,0,0,0,0,0,0,0,0,0,0,0,0,0,0,0,0,0,0,0,{"$f":"+VGH13+VGH14+VGH15","v":0},0,0,0,0,0,0,0,0,0,0,0,0,0,0,0,0,0,0,0,0,0,0,0,0,0,0,0,0,0,0,0,0,0,0,0,0,0,0,0,0,0,0,0,0,0,0,0,0,0,0,0,0,0,0,0,0,0,0,0,0,0,0,0,{"$f":"+VIT13+VIT14+VIT15","v":0},0,0,0,0,0,0,0,0,0,0,0,0,0,0,0,0,0,0,0,0,0,0,0,0,0,0,0,0,0,0,0,0,0,0,0,0,0,0,0,0,0,0,0,0,0,0,0,0,0,0,0,0,0,0,0,0,0,0,0,0,0,0,0,{"$f":"+VLF13+VLF14+VLF15","v":0},0,0,0,0,0,0,0,0,0,0,0,0,0,0,0,0,0,0,0,0,0,0,0,0,0,0,0,0,0,0,0,0,0,0,0,0,0,0,0,0,0,0,0,0,0,0,0,0,0,0,0,0,0,0,0,0,0,0,0,0,0,0,0,{"$f":"+VNR13+VNR14+VNR15","v":0},0,0,0,0,0,0,0,0,0,0,0,0,0,0,0,0,0,0,0,0,0,0,0,0,0,0,0,0,0,0,0,0,0,0,0,0,0,0,0,0,0,0,0,0,0,0,0,0,0,0,0,0,0,0,0,0,0,0,0,0,0,0,0,{"$f":"+VQD13+VQD14+VQD15","v":0},0,0,0,0,0,0,0,0,0,0,0,0,0,0,0,0,0,0,0,0,0,0,0,0,0,0,0,0,0,0,0,0,0,0,0,0,0,0,0,0,0,0,0,0,0,0,0,0,0,0,0,0,0,0,0,0,0,0,0,0,0,0,0,{"$f":"+VSP13+VSP14+VSP15","v":0},0,0,0,0,0,0,0,0,0,0,0,0,0,0,0,0,0,0,0,0,0,0,0,0,0,0,0,0,0,0,0,0,0,0,0,0,0,0,0,0,0,0,0,0,0,0,0,0,0,0,0,0,0,0,0,0,0,0,0,0,0,0,0,{"$f":"+VVB13+VVB14+VVB15","v":0},0,0,0,0,0,0,0,0,0,0,0,0,0,0,0,0,0,0,0,0,0,0,0,0,0,0,0,0,0,0,0,0,0,0,0,0,0,0,0,0,0,0,0,0,0,0,0,0,0,0,0,0,0,0,0,0,0,0,0,0,0,0,0,{"$f":"+VXN13+VXN14+VXN15","v":0},0,0,0,0,0,0,0,0,0,0,0,0,0,0,0,0,0,0,0,0,0,0,0,0,0,0,0,0,0,0,0,0,0,0,0,0,0,0,0,0,0,0,0,0,0,0,0,0,0,0,0,0,0,0,0,0,0,0,0,0,0,0,0,{"$f":"+VZZ13+VZZ14+VZZ15","v":0},0,0,0,0,0,0,0,0,0,0,0,0,0,0,0,0,0,0,0,0,0,0,0,0,0,0,0,0,0,0,0,0,0,0,0,0,0,0,0,0,0,0,0,0,0,0,0,0,0,0,0,0,0,0,0,0,0,0,0,0,0,0,0,{"$f":"+WCL13+WCL14+WCL15","v":0},0,0,0,0,0,0,0,0,0,0,0,0,0,0,0,0,0,0,0,0,0,0,0,0,0,0,0,0,0,0,0,0,0,0,0,0,0,0,0,0,0,0,0,0,0,0,0,0,0,0,0,0,0,0,0,0,0,0,0,0,0,0,0,{"$f":"+WEX13+WEX14+WEX15","v":0},0,0,0,0,0,0,0,0,0,0,0,0,0,0,0,0,0,0,0,0,0,0,0,0,0,0,0,0,0,0,0,0,0,0,0,0,0,0,0,0,0,0,0,0,0,0,0,0,0,0,0,0,0,0,0,0,0,0,0,0,0,0,0,{"$f":"+WHJ13+WHJ14+WHJ15","v":0},0,0,0,0,0,0,0,0,0,0,0,0,0,0,0,0,0,0,0,0,0,0,0,0,0,0,0,0,0,0,0,0,0,0,0,0,0,0,0,0,0,0,0,0,0,0,0,0,0,0,0,0,0,0,0,0,0,0,0,0,0,0,0,{"$f":"+WJV13+WJV14+WJV15","v":0},0,0,0,0,0,0,0,0,0,0,0,0,0,0,0,0,0,0,0,0,0,0,0,0,0,0,0,0,0,0,0,0,0,0,0,0,0,0,0,0,0,0,0,0,0,0,0,0,0,0,0,0,0,0,0,0,0,0,0,0,0,0,0,{"$f":"+WMH13+WMH14+WMH15","v":0},0,0,0,0,0,0,0,0,0,0,0,0,0,0,0,0,0,0,0,0,0,0,0,0,0,0,0,0,0,0,0,0,0,0,0,0,0,0,0,0,0,0,0,0,0,0,0,0,0,0,0,0,0,0,0,0,0,0,0,0,0,0,0,{"$f":"+WOT13+WOT14+WOT15","v":0},0,0,0,0,0,0,0,0,0,0,0,0,0,0,0,0,0,0,0,0,0,0,0,0,0,0,0,0,0,0,0,0,0,0,0,0,0,0,0,0,0,0,0,0,0,0,0,0,0,0,0,0,0,0,0,0,0,0,0,0,0,0,0,{"$f":"+WRF13+WRF14+WRF15","v":0},0,0,0,0,0,0,0,0,0,0,0,0,0,0,0,0,0,0,0,0,0,0,0,0,0,0,0,0,0,0,0,0,0,0,0,0,0,0,0,0,0,0,0,0,0,0,0,0,0,0,0,0,0,0,0,0,0,0,0,0,0,0,0,{"$f":"+WTR13+WTR14+WTR15","v":0},0,0,0,0,0,0,0,0,0,0,0,0,0,0,0,0,0,0,0,0,0,0,0,0,0,0,0,0,0,0,0,0,0,0,0,0,0,0,0,0,0,0,0,0,0,0,0,0,0,0,0,0,0,0,0,0,0,0,0,0,0,0,0,{"$f":"+WWD13+WWD14+WWD15","v":0},0,0,0,0,0,0,0,0,0,0,0,0,0,0,0,0,0,0,0,0,0,0,0,0,0,0,0,0,0,0,0,0,0,0,0,0,0,0,0,0,0,0,0,0,0,0,0,0,0,0,0,0,0,0,0,0,0,0,0,0,0,0,0,{"$f":"+WYP13+WYP14+WYP15","v":0},0,0,0,0,0,0,0,0,0,0,0,0,0,0,0,0,0,0,0,0,0,0,0,0,0,0,0,0,0,0,0,0,0,0,0,0,0,0,0,0,0,0,0,0,0,0,0,0,0,0,0,0,0,0,0,0,0,0,0,0,0,0,0,{"$f":"+XBB13+XBB14+XBB15","v":0},0,0,0,0,0,0,0,0,0,0,0,0,0,0,0,0,0,0,0,0,0,0,0,0,0,0,0,0,0,0,0,0,0,0,0,0,0,0,0,0,0,0,0,0,0,0,0,0,0,0,0,0,0,0,0,0,0,0,0,0,0,0,0,{"$f":"+XDN13+XDN14+XDN15","v":0},0,0,0,0,0,0,0,0,0,0,0,0,0,0,0,0,0,0,0,0,0,0,0,0,0,0,0,0,0,0,0,0,0,0,0,0,0,0,0,0,0,0]
[2025,null,"RASHODI I IZDACI (3+4+5)",{"v":3938672,"d":"3,938,672"},{"$f":"'A.2 PRIHODI I RASHODI IF'!E33","v":{"v":3759151,"d":"3,759,151"}},{"$f":"'A.2 PRIHODI I RASHODI IF'!E34","v":0},{"$f":"'A.2 PRIHODI I RASHODI IF'!E36+'B.2 RAČUN FINANC IF'!E14","v":{"v":36548,"d":"36,548"}},{"$f":"'A.2 PRIHODI I RASHODI IF'!E38","v":0},{"$f":"'A.2 PRIHODI I RASHODI IF'!E39","v":{"v":78756,"d":"78,756"}},{"$f":"'A.2 PRIHODI I RASHODI IF'!E41","v":{"v":18509,"d":"18,509"}},{"$f":"'A.2 PRIHODI I RASHODI IF'!E42","v":{"v":41178,"d":"41,178"}},{"$f":"'A.2 PRIHODI I RASHODI IF'!E43","v":0},{"$f":"'A.2 PRIHODI I RASHODI IF'!E44","v":0},{"$f":"'A.2 PRIHODI I RASHODI IF'!E45","v":0},{"$f":"'A.2 PRIHODI I RASHODI IF'!E46","v":0},{"$f":"'A.2 PRIHODI I RASHODI IF'!E47","v":0},{"$f":"'A.2 PRIHODI I RASHODI IF'!E48","v":{"v":4530,"d":"4,530"}},{"$f":"'A.2 PRIHODI I RASHODI IF'!E50","v":0},{"$f":"'A.2 PRIHODI I RASHODI IF'!E51","v":0},{"$f":"'A.2 PRIHODI I RASHODI IF'!E53","v":0},{"$f":"'A.2 PRIHODI I RASHODI IF'!E55","v":0},{"$f":"'A.2 PRIHODI I RASHODI IF'!E56","v":0},{"$f":"'OPĆI DIO'!#REF!","v":{"$error":"#REF!"}}]
[2025,null,"KONTROLA 2025 (stupac D = nula)",0,{"$f":"+E16-E17","v":0},{"$f":"+F16-F17","v":0},{"$f":"+G16-G17","v":0},{"$f":"+H16-H17","v":0},0,{"$f":"+J16-J17","v":0},{"$f":"+K16-K17","v":0},0,0,0,0,0,0,0,0,0,{"$f":"+U16-U17","v":0},{"$f":"+V16-V17","v":0},{"$f":"'OPĆI DIO'!#REF!","v":{"$error":"#REF!"}}]
[{"$nulls":22},{"$f":"'OPĆI DIO'!#REF!","v":{"$error":"#REF!"}}]

{"sheet":"A.1 PRIHODI I RASHODI EK","index":5,"n_rows":40,"n_cols":7,"rows_kept":40,"merged":[[1,0,1,5],[3,0,3,5],[5,0,5,5],[7,0,7,2],[8,0,8,2],[23,0,23,2],[24,0,24,2]]}
[]
["I. OPĆI DIO"]
[]
["A. RAČUN PRIHODA I RASHODA "]
[]
["A1. PRIHODI I RASHODI PREMA EKONOMSKOJ KLASIFIKACIJI"]
[]
["BROJČANA OZNAKA I NAZIV",null,null,"PLAN \n2025.","Povećanje/\nsmanjenje","NOVI PLAN 2025."]
[1,null,null,4,5,6]
[null,null,"UKUPNO PRIHODI",{"$f":"+D11+D19","v":{"v":3376426,"d":"3,376,426"}},{"$f":"+E11+E19","v":{"v":573955,"d":"573,955"}},{"$f":"+F11+F19","v":{"v":3950381,"d":"3,950,381"}},{"$f":"'OPĆI DIO'!$C$1","v":"38454 SVEUČILIŠTE U RIJECI - AKADEMIJA PRIMJENJENIH UMJETNOSTI"}]
[6,null,"Prihodi poslovanja",{"$f":"SUM(D12:D18)","v":{"v":3376426,"d":"3,376,426"}},{"$f":"SUM(E12:E18)","v":{"v":573955,"d":"573,955"}},{"$f":"SUM(F12:F18)","v":{"v":3950381,"d":"3,950,381"}},{"$f":"'OPĆI DIO'!$C$1","v":"38454 SVEUČILIŠTE U RIJECI - AKADEMIJA PRIMJENJENIH UMJETNOSTI"}]
[null,"61","Prihodi od poreza",{"$f":"SUMIF('Unos prihoda i primitaka'!$L$3:$L$501,$B12,'Unos prihoda i primitaka'!G$3:G$501)","v":0},{"$f":"SUMIF('Unos prihoda i primitaka'!$L$3:$L$501,$B12,'Unos prihoda i primitaka'!H$3:H$501)","v":0},{"$f":"SUMIF('Unos prihoda i primitaka'!$L$3:$L$501,$B12,'Unos prihoda i primitaka'!I$3:I$501)","v":0},{"$f":"'OPĆI DIO'!$C$1","v":"38454 SVEUČILIŠTE U RIJECI - AKADEMIJA PRIMJENJENIH UMJETNOSTI"}]
[null,"63","Pomoći iz inozemstva (darovnice) i od subjekata unutar općeg proračuna",{"$f":"SUMIF('Unos prihoda i primitaka'!$L$3:$L$501,$B13,'Unos prihoda i primitaka'!G$3:G$501)","v":{"v":7100,"d":"7,100"}},{"$f":"SUMIF('Unos prihoda i primitaka'!$L$3:$L$501,$B13,'Unos prihoda i primitaka'!H$3:H$501)","v":{"v":62709,"d":"62,709"}},{"$f":"SUMIF('Unos prihoda i primitaka'!$L$3:$L$501,$B13,'Unos prihoda i primitaka'!I$3:I$501)","v":{"v":69809,"d":"69,809"}},{"$f":"'OPĆI DIO'!$C$1","v":"38454 SVEUČILIŠTE U RIJECI - AKADEMIJA PRIMJENJENIH UMJETNOSTI"}]
[null,"64","Prihodi od imovine",{"$f":"SUMIF('Unos prihoda i primitaka'!$L$3:$L$501,$B14,'Unos prihoda i primitaka'!G$3:G$501)","v":0},{"$f":"SUMIF('Unos prihoda i primitaka'!$L$3:$L$501,$B14,'Unos prihoda i primitaka'!H$3:H$501)","v":0},{"$f":"SUMIF('Unos prihoda i primitaka'!$L$3:$L$501,$B14,'Unos prihoda i primitaka'!I$3:I$501)","v":0},{"$f":"'OPĆI DIO'!$C$1","v":"38454 SVEUČILIŠTE U RIJECI - AKADEMIJA PRIMJENJENIH UMJETNOSTI"}]
[null,"65","Prihodi od upravnih i administrativnih pristojbi, pristojbi po posebnim propisima i naknada",{"$f":"SUMIF('Unos prihoda i primitaka'!$L$3:$L$501,$B15,'Unos prihoda i primitaka'!G$3:G$501)","v":{"v":80000,"d":"80,000"}},{"$f":"SUMIF('Unos prihoda i primitaka'!$L$3:$L$501,$B15,'Unos prihoda i primitaka'!H$3:H$501)","v":0},{"$f":"SUMIF('Unos prihoda i primitaka'!$L$3:$L$501,$B15,'Unos prihoda i primitaka'!I$3:I$501)","v":{"v":80000,"d":"80,000"}},{"$f":"'OPĆI DIO'!$C$1","v":"38454 SVEUČILIŠTE U RIJECI - AKADEMIJA PRIMJENJENIH UMJETNOSTI"}]
[null,"66","Prihodi od prodaje proizvoda i robe te pruženih usluga i prihodi od donacija",{"$f":"SUMIF('Unos prihoda i primitaka'!$L$3:$L$501,$B16,'Unos prihoda i primitaka'!G$3:G$501)","v":{"v":23000,"d":"23,000"}},{"$f":"SUMIF('Unos prihoda i primitaka'!$L$3:$L$501,$B16,'Unos prihoda i primitaka'!H$3:H$501)","v":{"v":13891,"d":"13,891"}},{"$f":"SUMIF('Unos prihoda i primitaka'!$L$3:$L$501,$B16,'Unos prihoda i primitaka'!I$3:I$501)","v":{"v":36891,"d":"36,891"}},{"$f":"'OPĆI DIO'!$C$1","v":"38454 SVEUČILIŠTE U RIJECI - AKADEMIJA PRIMJENJENIH UMJETNOSTI"}]
[null,"67","Prihodi iz nadležnog proračuna i od HZZO-a temeljem ugovornih obveza",{"$f":"SUMIF('Unos prihoda i primitaka'!$L$3:$L$501,$B17,'Unos prihoda i primitaka'!G$3:G$501)","v":{"v":3266326,"d":"3,266,326"}},{"$f":"SUMIF('Unos prihoda i primitaka'!$L$3:$L$501,$B17,'Unos prihoda i primitaka'!H$3:H$501)","v":{"v":497355,"d":"497,355"}},{"$f":"SUMIF('Unos prihoda i primitaka'!$L$3:$L$501,$B17,'Unos prihoda i primitaka'!I$3:I$501)","v":{"v":3763681,"d":"3,763,681"}},{"$f":"'OPĆI DIO'!$C$1","v":"38454 SVEUČILIŠTE U RIJECI - AKADEMIJA PRIMJENJENIH UMJETNOSTI"}]
[null,"68","Kazne, upravne mjere i ostali prihodi",{"$f":"SUMIF('Unos prihoda i primitaka'!$L$3:$L$501,$B18,'Unos prihoda i primitaka'!G$3:G$501)","v":0},{"$f":"SUMIF('Unos prihoda i primitaka'!$L$3:$L$501,$B18,'Unos prihoda i primitaka'!H$3:H$501)","v":0},{"$f":"SUMIF('Unos prihoda i primitaka'!$L$3:$L$501,$B18,'Unos prihoda i primitaka'!I$3:I$501)","v":0},{"$f":"'OPĆI DIO'!$C$1","v":"38454 SVEUČILIŠTE U RIJECI - AKADEMIJA PRIMJENJENIH UMJETNOSTI"}]
[7,null,"Prihodi od prodaje nefinancijske imovine",{"$f":"+D20+D21","v":0},{"$f":"+E20+E21","v":0},{"$f":"+F20+F21","v":0},{"$f":"'OPĆI DIO'!$C$1","v":"38454 SVEUČILIŠTE U RIJECI - AKADEMIJA PRIMJENJENIH UMJETNOSTI"}]
[null,"71","Prihodi od prodaje neproizvedene dugotrajne imovine",{"$f":"SUMIF('Unos prihoda i primitaka'!$L$3:$L$501,$B20,'Unos prihoda i primitaka'!G$3:G$501)","v":0},{"$f":"SUMIF('Unos prihoda i primitaka'!$L$3:$L$501,$B20,'Unos prihoda i primitaka'!H$3:H$501)","v":0},{"$f":"SUMIF('Unos prihoda i primitaka'!$L$3:$L$501,$B20,'Unos prihoda i primitaka'!I$3:I$501)","v":0},{"$f":"'OPĆI DIO'!$C$1","v":"38454 SVEUČILIŠTE U RIJECI - AKADEMIJA PRIMJENJENIH UMJETNOSTI"}]
[null,"72","Prihodi od prodaje proizvedene dugotrajne imovine",{"$f":"SUMIF('Unos prihoda i primitaka'!$L$3:$L$501,$B21,'Unos prihoda i primitaka'!G$3:G$501)","v":0},{"$f":"SUMIF('Unos prihoda i primitaka'!$L$3:$L$501,$B21,'Unos prihoda i primitaka'!H$3:H$501)","v":0},{"$f":"SUMIF('Unos prihoda i primitaka'!$L$3:$L$501,$B21,'Unos prihoda i primitaka'!I$3:I$501)","v":0},{"$f":"'OPĆI DIO'!$C$1","v":"38454 SVEUČILIŠTE U RIJECI - AKADEMIJA PRIMJENJENIH UMJETNOSTI"}]
[]
[]
["BROJČANA OZNAKA I NAZIV",null,null,"PLAN \n2025.","Povećanje/\nsmanjenje","NOVI PLAN 2025."]
[1,null,null,4,5,6]
[null,null,"UKUPNO RASHODI",{"$f":"+D27+D35","v":{"v":3391009,"d":"3,391,009"}},{"$f":"+E27+E35","v":{"v":547663,"d":"547,663"}},{"$f":"+F27+F35","v":{"v":3938672,"d":"3,938,672"}},{"$f":"'OPĆI DIO'!$C$1","v":"38454 SVEUČILIŠTE U RIJECI - AKADEMIJA PRIMJENJENIH UMJETNOSTI"}]
[3,null,"Rashodi poslovanja",{"$f":"SUM(D28:D34)","v":{"v":3357710,"d":"3,357,710"}},{"$f":"SUM(E28:E34)","v":{"v":469030,"d":"469,030"}},{"$f":"SUM(F28:F34)","v":{"v":3826740,"d":"3,826,740"}},{"$f":"'OPĆI DIO'!$C$1","v":"38454 SVEUČILIŠTE U RIJECI - AKADEMIJA PRIMJENJENIH UMJETNOSTI"}]
[null,31,"Rashodi za zaposlene",{"$f":"SUMIF('Unos rashoda i izdataka'!$P$3:$P$501,$B28,'Unos rashoda i izdataka'!J$3:J$501)+SUMIF('Unos rashoda P4'!$S$3:$S$501,$B28,'Unos rashoda P4'!H$3:H$501)","v":{"v":2834110,"d":"2,834,110"}},{"$f":"SUMIF('Unos rashoda i izdataka'!$P$3:$P$501,$B28,'Unos rashoda i izdataka'!K$3:K$501)+SUMIF('Unos rashoda P4'!$S$3:$S$501,$B28,'Unos rashoda P4'!I$3:I$501)","v":{"v":175149,"d":"175,149"}},{"$f":"SUMIF('Unos rashoda i izdataka'!$P$3:$P$501,$B28,'Unos rashoda i izdataka'!L$3:L$501)+SUMIF('Unos rashoda P4'!$S$3:$S$501,$B28,'Unos rashoda P4'!J$3:J$501)","v":{"v":3009259,"d":"3,009,259"}},{"$f":"'OPĆI DIO'!$C$1","v":"38454 SVEUČILIŠTE U RIJECI - AKADEMIJA PRIMJENJENIH UMJETNOSTI"}]
[null,32,"Materijalni rashodi",{"$f":"SUMIF('Unos rashoda i izdataka'!$P$3:$P$501,$B29,'Unos rashoda i izdataka'!J$3:J$501)+SUMIF('Unos rashoda P4'!$S$3:$S$501,$B29,'Unos rashoda P4'!H$3:H$501)","v":{"v":519440,"d":"519,440"}},{"$f":"SUMIF('Unos rashoda i izdataka'!$P$3:$P$501,$B29,'Unos rashoda i izdataka'!K$3:K$501)+SUMIF('Unos rashoda P4'!$S$3:$S$501,$B29,'Unos rashoda P4'!I$3:I$501)","v":{"v":290041,"d":"290,041"}},{"$f":"SUMIF('Unos rashoda i izdataka'!$P$3:$P$501,$B29,'Unos rashoda i izdataka'!L$3:L$501)+SUMIF('Unos rashoda P4'!$S$3:$S$501,$B29,'Unos rashoda P4'!J$3:J$501)","v":{"v":809481,"d":"809,481"}},{"$f":"'OPĆI DIO'!$C$1","v":"38454 SVEUČILIŠTE U RIJECI - AKADEMIJA PRIMJENJENIH UMJETNOSTI"}]
[null,34,"Financijski rashodi",{"$f":"SUMIF('Unos rashoda i izdataka'!$P$3:$P$501,$B30,'Unos rashoda i izdataka'!J$3:J$501)+SUMIF('Unos rashoda P4'!$S$3:$S$501,$B30,'Unos rashoda P4'!H$3:H$501)","v":{"v":2000,"d":"2,000"}},{"$f":"SUMIF('Unos rashoda i izdataka'!$P$3:$P$501,$B30,'Unos rashoda i izdataka'!K$3:K$501)+SUMIF('Unos rashoda P4'!$S$3:$S$501,$B30,'Unos rashoda P4'!I$3:I$501)","v":0},{"$f":"SUMIF('Unos rashoda i izdataka'!$P$3:$P$501,$B30,'Unos rashoda i izdataka'!L$3:L$501)+SUMIF('Unos rashoda P4'!$S$3:$S$501,$B30,'Unos rashoda P4'!J$3:J$501)","v":{"v":2000,"d":"2,000"}},{"$f":"'OPĆI DIO'!$C$1","v":"38454 SVEUČILIŠTE U RIJECI - AKADEMIJA PRIMJENJENIH UMJETNOSTI"}]
[null,35,"Subvencije",{"$f":"SUMIF('Unos rashoda i izdataka'!$P$3:$P$501,$B31,'Unos rashoda i izdataka'!J$3:J$501)+SUMIF('Unos rashoda P4'!$S$3:$S$501,$B31,'Unos rashoda P4'!H$3:H$501)","v":0},{"$f":"SUMIF('Unos rashoda i izdataka'!$P$3:$P$501,$B31,'Unos rashoda i izdataka'!K$3:K$501)+SUMIF('Unos rashoda P4'!$S$3:$S$501,$B31,'Unos rashoda P4'!I$3:I$501)","v":0},{"$f":"SUMIF('Unos rashoda i izdataka'!$P$3:$P$501,$B31,'Unos rashoda i izdataka'!L$3:L$501)+SUMIF('Unos rashoda P4'!$S$3:$S$501,$B31,'Unos rashoda P4'!J$3:J$501)","v":0},{"$f":"'OPĆI DIO'!$C$1","v":"38454 SVEUČILIŠTE U RIJECI - AKADEMIJA PRIMJENJENIH UMJETNOSTI"}]
[null,36,"Pomoći dane u inozemstvo i unutar općeg proračuna",{"$f":"SUMIF('Unos rashoda i izdataka'!$P$3:$P$501,$B32,'Unos rashoda i izdataka'!J$3:J$501)+SUMIF('Unos rashoda P4'!$S$3:$S$501,$B32,'Unos rashoda P4'!H$3:H$501)","v":{"v":2160,"d":"2,160"}},{"$f":"SUMIF('Unos rashoda i izdataka'!$P$3:$P$501,$B32,'Unos rashoda i izdataka'!K$3:K$501)+SUMIF('Unos rashoda P4'!$S$3:$S$501,$B32,'Unos rashoda P4'!I$3:I$501)","v":{"v":3840,"d":"3,840"}},{"$f":"SUMIF('Unos rashoda i izdataka'!$P$3:$P$501,$B32,'Unos rashoda i izdataka'!L$3:L$501)+SUMIF('Unos rashoda P4'!$S$3:$S$501,$B32,'Unos rashoda P4'!J$3:J$501)","v":{"v":6000,"d":"6,000"}},{"$f":"'OPĆI DIO'!$C$1","v":"38454 SVEUČILIŠTE U RIJECI - AKADEMIJA PRIMJENJENIH UMJETNOSTI"}]
[null,37,"Naknade građanima i kućanstvima na temelju osiguranja i druge naknade",{"$f":"SUMIF('Unos rashoda i izdataka'!$P$3:$P$501,$B33,'Unos rashoda i izdataka'!J$3:J$501)+SUMIF('Unos rashoda P4'!$S$3:$S$501,$B33,'Unos rashoda P4'!H$3:H$501)","v":0},{"$f":"SUMIF('Unos rashoda i izdataka'!$P$3:$P$501,$B33,'Unos rashoda i izdataka'!K$3:K$501)+SUMIF('Unos rashoda P4'!$S$3:$S$501,$B33,'Unos rashoda P4'!I$3:I$501)","v":0},{"$f":"SUMIF('Unos rashoda i izdataka'!$P$3:$P$501,$B33,'Unos rashoda i izdataka'!L$3:L$501)+SUMIF('Unos rashoda P4'!$S$3:$S$501,$B33,'Unos rashoda P4'!J$3:J$501)","v":0},{"$f":"'OPĆI DIO'!$C$1","v":"38454 SVEUČILIŠTE U RIJECI - AKADEMIJA PRIMJENJENIH UMJETNOSTI"}]
[null,38,"Rashodi za donacije, kazne, naknade šteta i kapitalne pomoći",{"$f":"SUMIF('Unos rashoda i izdataka'!$P$3:$P$501,$B34,'Unos rashoda i izdataka'!J$3:J$501)+SUMIF('Unos rashoda P4'!$S$3:$S$501,$B34,'Unos rashoda P4'!H$3:H$501)","v":0},{"$f":"SUMIF('Unos rashoda i izdataka'!$P$3:$P$501,$B34,'Unos rashoda i izdataka'!K$3:K$501)+SUMIF('Unos rashoda P4'!$S$3:$S$501,$B34,'Unos rashoda P4'!I$3:I$501)","v":0},{"$f":"SUMIF('Unos rashoda i izdataka'!$P$3:$P$501,$B34,'Unos rashoda i izdataka'!L$3:L$501)+SUMIF('Unos rashoda P4'!$S$3:$S$501,$B34,'Unos rashoda P4'!J$3:J$501)","v":0},{"$f":"'OPĆI DIO'!$C$1","v":"38454 SVEUČILIŠTE U RIJECI - AKADEMIJA PRIMJENJENIH UMJETNOSTI"}]
[4,null,"Rashodi za nabavu nefinancijske imovine",{"$f":"SUM(D36:D40)","v":{"v":33299,"d":"33,299"}},{"$f":"SUM(E36:E40)","v":{"v":78633,"d":"78,633"}},{"$f":"SUM(F36:F40)","v":{"v":111932,"d":"111,932"}},{"$f":"'OPĆI DIO'!$C$1","v":"38454 SVEUČILIŠTE U RIJECI - AKADEMIJA PRIMJENJENIH UMJETNOSTI"}]
[null,41,"Rashodi za nabavu neproizvedene dugotrajne imovine",{"$f":"SUMIF('Unos rashoda i izdataka'!$P$3:$P$501,$B36,'Unos rashoda i izdataka'!J$3:J$501)+SUMIF('Unos rashoda P4'!$S$3:$S$501,$B36,'Unos rashoda P4'!H$3:H$501)","v":0},{"$f":"SUMIF('Unos rashoda i izdataka'!$P$3:$P$501,$B36,'Unos rashoda i izdataka'!K$3:K$501)+SUMIF('Unos rashoda P4'!$S$3:$S$501,$B36,'Unos rashoda P4'!I$3:I$501)","v":0},{"$f":"SUMIF('Unos rashoda i izdataka'!$P$3:$P$501,$B36,'Unos rashoda i izdataka'!L$3:L$501)+SUMIF('Unos rashoda P4'!$S$3:$S$501,$B36,'Unos rashoda P4'!J$3:J$501)","v":0},{"$f":"'OPĆI DIO'!$C$1","v":"38454 SVEUČILIŠTE U RIJECI - AKADEMIJA PRIMJENJENIH UMJETNOSTI"}]
[null,42,"Rashodi za nabavu proizvedene dugotrajne imovine",{"$f":"SUMIF('Unos rashoda i izdataka'!$P$3:$P$501,$B37,'Unos rashoda i izdataka'!J$3:J$501)+SUMIF('Unos rashoda P4'!$S$3:$S$501,$B37,'Unos rashoda P4'!H$3:H$501)","v":{"v":33299,"d":"33,299"}},{"$f":"SUMIF('Unos rashoda i izdataka'!$P$3:$P$501,$B37,'Unos rashoda i izdataka'!K$3:K$501)+SUMIF('Unos rashoda P4'!$S$3:$S$501,$B37,'Unos rashoda P4'!I$3:I$501)","v":{"v":78633,"d":"78,633"}},{"$f":"SUMIF('Unos rashoda i izdataka'!$P$3:$P$501,$B37,'Unos rashoda i izdataka'!L$3:L$501)+SUMIF('Unos rashoda P4'!$S$3:$S$501,$B37,'Unos rashoda P4'!J$3:J$501)","v":{"v":111932,"d":"111,932"}},{"$f":"'OPĆI DIO'!$C$1","v":"38454 SVEUČILIŠTE U RIJECI - AKADEMIJA PRIMJENJENIH UMJETNOSTI"}]
[null,43,"Plemeniti metali i ostale pohranjene vrijednosti",{"$f":"SUMIF('Unos rashoda i izdataka'!$P$3:$P$501,$B38,'Unos rashoda i izdataka'!J$3:J$501)+SUMIF('Unos rashoda P4'!$S$3:$S$501,$B38,'Unos rashoda P4'!H$3:H$501)","v":0},{"$f":"SUMIF('Unos rashoda i izdataka'!$P$3:$P$501,$B38,'Unos rashoda i izdataka'!K$3:K$501)+SUMIF('Unos rashoda P4'!$S$3:$S$501,$B38,'Unos rashoda P4'!I$3:I$501)","v":0},{"$f":"SUMIF('Unos rashoda i izdataka'!$P$3:$P$501,$B38,'Unos rashoda i izdataka'!L$3:L$501)+SUMIF('Unos rashoda P4'!$S$3:$S$501,$B38,'Unos rashoda P4'!J$3:J$501)","v":0},{"$f":"'OPĆI DIO'!$C$1","v":"38454 SVEUČILIŠTE U RIJECI - AKADEMIJA PRIMJENJENIH UMJETNOSTI"}]
[null,44,"Rashodi za nabavu proizvedene kratkotrajne imovine",{"$f":"SUMIF('Unos rashoda i izdataka'!$P$3:$P$501,$B39,'Unos rashoda i izdataka'!J$3:J$501)+SUMIF('Unos rashoda P4'!$S$3:$S$501,$B39,'Unos rashoda P4'!H$3:H$501)","v":0},{"$f":"SUMIF('Unos rashoda i izdataka'!$P$3:$P$501,$B39,'Unos rashoda i izdataka'!K$3:K$501)+SUMIF('Unos rashoda P4'!$S$3:$S$501,$B39,'Unos rashoda P4'!I$3:I$501)","v":0},{"$f":"SUMIF('Unos rashoda i izdataka'!$P$3:$P$501,$B39,'Unos rashoda i izdataka'!L$3:L$501)+SUMIF('Unos rashoda P4'!$S$3:$S$501,$B39,'Unos rashoda P4'!J$3:J$501)","v":0},{"$f":"'OPĆI DIO'!$C$1","v":"38454 SVEUČILIŠTE U RIJECI - AKADEMIJA PRIMJENJENIH UMJETNOSTI"}]
[null,45,"Rashodi za dodatna ulaganja na nefinancijskoj imovini",{"$f":"SUMIF('Unos rashoda i izdataka'!$P$3:$P$501,$B40,'Unos rashoda i izdataka'!J$3:J$501)+SUMIF('Unos rashoda P4'!$S$3:$S$501,$B40,'Unos rashoda P4'!H$3:H$501)","v":0},{"$f":"SUMIF('Unos rashoda i izdataka'!$P$3:$P$501,$B40,'Unos rashoda i izdataka'!K$3:K$501)+SUMIF('Unos rashoda P4'!$S$3:$S$501,$B40,'Unos rashoda P4'!I$3:I$501)","v":0},{"$f":"SUMIF('Unos rashoda i izdataka'!$P$3:$P$501,$B40,'Unos rashoda i izdataka'!L$3:L$501)+SUMIF('Unos rashoda P4'!$S$3:$S$501,$B40,'Unos rashoda P4'!J$3:J$501)","v":0},{"$f":"'OPĆI DIO'!$C$1","v":"38454 SVEUČILIŠTE U RIJECI - AKADEMIJA PRIMJENJENIH UMJETNOSTI"}]

{"sheet":"A.2 PRIHODI I RASHODI IF","index":6,"n_rows":56,"n_cols":6,"rows_kept":56,"merged":[[0,1,0,4]]}
[null,"A2. PRIHODI I RASHODI PREMA IZVORIMA FINANCIRANJA"]
[]
[null,"BROJČANA OZNAKA I NAZIV","PLAN \n2025.","Povećanje/\nsmanjenje","NOVI PLAN 2025."]
[null,1,4,5,6]
[null,"UKUPNO PRIHODI",{"$f":"+C6+C9+C11+C14+C23+C26+C28","v":{"v":3376426,"d":"3,376,426"}},{"$f":"+D6+D9+D11+D14+D23+D26+D28","v":{"v":573955,"d":"573,955"}},{"$f":"+E6+E9+E11+E14+E23+E26+E28","v":{"v":3950381,"d":"3,950,381"}},{"$f":"'OPĆI DIO'!$C$1","v":"38454 SVEUČILIŠTE U RIJECI - AKADEMIJA PRIMJENJENIH UMJETNOSTI"}]
[1,"1 Opći prihodi i primici",{"$f":"+C7+C8","v":{"v":3266326,"d":"3,266,326"}},{"$f":"+D7+D8","v":{"v":492825,"d":"492,825"}},{"$f":"+E7+E8","v":{"v":3759151,"d":"3,759,151"}},{"$f":"'OPĆI DIO'!$C$1","v":"38454 SVEUČILIŠTE U RIJECI - AKADEMIJA PRIMJENJENIH UMJETNOSTI"}]
[11,"11 Opći prihodi i primici",{"$f":"SUMIF('Unos prihoda i primitaka'!$C$3:$C$501,$A7,'Unos prihoda i primitaka'!G$3:G$501)","v":{"v":3266326,"d":"3,266,326"}},{"$f":"SUMIF('Unos prihoda i primitaka'!$C$3:$C$501,$A7,'Unos prihoda i primitaka'!H$3:H$501)","v":{"v":492825,"d":"492,825"}},{"$f":"SUMIF('Unos prihoda i primitaka'!$C$3:$C$501,$A7,'Unos prihoda i primitaka'!I$3:I$501)","v":{"v":3759151,"d":"3,759,151"}},{"$f":"'OPĆI DIO'!$C$1","v":"38454 SVEUČILIŠTE U RIJECI - AKADEMIJA PRIMJENJENIH UMJETNOSTI"}]
[12,"12 Sredstva učešća za pomoći",{"$f":"SUMIF('Unos prihoda i primitaka'!$C$3:$C$501,$A8,'Unos prihoda i primitaka'!G$3:G$501)","v":0},{"$f":"SUMIF('Unos prihoda i primitaka'!$C$3:$C$501,$A8,'Unos prihoda i primitaka'!H$3:H$501)","v":0},{"$f":"SUMIF('Unos prihoda i primitaka'!$C$3:$C$501,$A8,'Unos prihoda i primitaka'!I$3:I$501)","v":0},{"$f":"'OPĆI DIO'!$C$1","v":"38454 SVEUČILIŠTE U RIJECI - AKADEMIJA PRIMJENJENIH UMJETNOSTI"}]
[3,"3 Vlastiti prihodi",{"$f":"+C10","v":{"v":23000,"d":"23,000"}},{"$f":"+D10","v":{"v":13891,"d":"13,891"}},{"$f":"+E10","v":{"v":36891,"d":"36,891"}},{"$f":"'OPĆI DIO'!$C$1","v":"38454 SVEUČILIŠTE U RIJECI - AKADEMIJA PRIMJENJENIH UMJETNOSTI"}]
[31,"31 Vlastiti prihodi",{"$f":"SUMIF('Unos prihoda i primitaka'!$C$3:$C$501,$A10,'Unos prihoda i primitaka'!G$3:G$501)","v":{"v":23000,"d":"23,000"}},{"$f":"SUMIF('Unos prihoda i primitaka'!$C$3:$C$501,$A10,'Unos prihoda i primitaka'!H$3:H$501)","v":{"v":13891,"d":"13,891"}},{"$f":"SUMIF('Unos prihoda i primitaka'!$C$3:$C$501,$A10,'Unos prihoda i primitaka'!I$3:I$501)","v":{"v":36891,"d":"36,891"}},{"$f":"'OPĆI DIO'!$C$1","v":"38454 SVEUČILIŠTE U RIJECI - AKADEMIJA PRIMJENJENIH UMJETNOSTI"}]
[4,"4 Prihodi za posebne namjene",{"$f":"+C12+C13","v":{"v":80000,"d":"80,000"}},{"$f":"+D12+D13","v":0},{"$f":"+E12+E13","v":{"v":80000,"d":"80,000"}},{"$f":"'OPĆI DIO'!$C$1","v":"38454 SVEUČILIŠTE U RIJECI - AKADEMIJA PRIMJENJENIH UMJETNOSTI"}]
[41,"41 Prihodi od igara na sreću",{"$f":"SUMIF('Unos prihoda i primitaka'!$C$3:$C$501,$A12,'Unos prihoda i primitaka'!G$3:G$501)","v":0},{"$f":"SUMIF('Unos prihoda i primitaka'!$C$3:$C$501,$A12,'Unos prihoda i primitaka'!H$3:H$501)","v":0},{"$f":"SUMIF('Unos prihoda i primitaka'!$C$3:$C$501,$A12,'Unos prihoda i primitaka'!I$3:I$501)","v":0},{"$f":"'OPĆI DIO'!$C$1","v":"38454 SVEUČILIŠTE U RIJECI - AKADEMIJA PRIMJENJENIH UMJETNOSTI"}]
[43,"43  Prihodi za posebne namjene ",{"$f":"SUMIF('Unos prihoda i primitaka'!$C$3:$C$501,$A13,'Unos prihoda i primitaka'!G$3:G$501)-'B.2 RAČUN FINANC IF'!C7","v":{"v":80000,"d":"80,000"}},{"$f":"SUMIF('Unos prihoda i primitaka'!$C$3:$C$501,$A13,'Unos prihoda i primitaka'!H$3:H$501)-'B.2 RAČUN FINANC IF'!D7","v":0},{"$f":"SUMIF('Unos prihoda i primitaka'!$C$3:$C$501,$A13,'Unos prihoda i primitaka'!I$3:I$501)-'B.2 RAČUN FINANC IF'!E7","v":{"v":80000,"d":"80,000"}},{"$f":"'OPĆI DIO'!$C$1","v":"38454 SVEUČILIŠTE U RIJECI - AKADEMIJA PRIMJENJENIH UMJETNOSTI"}]
[5,"5 Pomoći",{"$f":"SUM(C15:C22)","v":{"v":7100,"d":"7,100"}},{"$f":"SUM(D15:D22)","v":{"v":67239,"d":"67,239"}},{"$f":"SUM(E15:E22)","v":{"v":74339,"d":"74,339"}},{"$f":"'OPĆI DIO'!$C$1","v":"38454 SVEUČILIŠTE U RIJECI - AKADEMIJA PRIMJENJENIH UMJETNOSTI"}]
[51," 51 Pomoći EU",{"$f":"SUMIF('Unos prihoda i primitaka'!$C$3:$C$501,$A15,'Unos prihoda i primitaka'!G$3:G$501)","v":{"v":6720,"d":"6,720"}},{"$f":"SUMIF('Unos prihoda i primitaka'!$C$3:$C$501,$A15,'Unos prihoda i primitaka'!H$3:H$501)","v":0},{"$f":"SUMIF('Unos prihoda i primitaka'!$C$3:$C$501,$A15,'Unos prihoda i primitaka'!I$3:I$501)","v":{"v":6720,"d":"6,720"}},{"$f":"'OPĆI DIO'!$C$1","v":"38454 SVEUČILIŠTE U RIJECI - AKADEMIJA PRIMJENJENIH UMJETNOSTI"}]
[52,"52 Ostale pomoći ",{"$f":"SUMIF('Unos prihoda i primitaka'!$C$3:$C$501,$A16,'Unos prihoda i primitaka'!G$3:G$501)","v":380},{"$f":"SUMIF('Unos prihoda i primitaka'!$C$3:$C$501,$A16,'Unos prihoda i primitaka'!H$3:H$501)","v":{"v":62709,"d":"62,709"}},{"$f":"SUMIF('Unos prihoda i primitaka'!$C$3:$C$501,$A16,'Unos prihoda i primitaka'!I$3:I$501)","v":{"v":63089,"d":"63,089"}},{"$f":"'OPĆI DIO'!$C$1","v":"38454 SVEUČILIŠTE U RIJECI - AKADEMIJA PRIMJENJENIH UMJETNOSTI"}]
[552," 552 Ostale pomoći ",{"$f":"SUMIF('Unos prihoda i primitaka'!$C$3:$C$501,$A17,'Unos prihoda i primitaka'!G$3:G$501)","v":0},{"$f":"SUMIF('Unos prihoda i primitaka'!$C$3:$C$501,$A17,'Unos prihoda i primitaka'!H$3:H$501)","v":0},{"$f":"SUMIF('Unos prihoda i primitaka'!$C$3:$C$501,$A17,'Unos prihoda i primitaka'!I$3:I$501)","v":0},{"$f":"'OPĆI DIO'!$C$1","v":"38454 SVEUČILIŠTE U RIJECI - AKADEMIJA PRIMJENJENIH UMJETNOSTI"}]
[559,"559 Ostale refundacije iz sredstava EU",{"$f":"SUMIF('Unos prihoda i primitaka'!$C$3:$C$501,$A18,'Unos prihoda i primitaka'!G$3:G$501)","v":0},{"$f":"SUMIF('Unos prihoda i primitaka'!$C$3:$C$501,$A18,'Unos prihoda i primitaka'!H$3:H$501)","v":0},{"$f":"SUMIF('Unos prihoda i primitaka'!$C$3:$C$501,$A18,'Unos prihoda i primitaka'!I$3:I$501)","v":0},{"$f":"'OPĆI DIO'!$C$1","v":"38454 SVEUČILIŠTE U RIJECI - AKADEMIJA PRIMJENJENIH UMJETNOSTI"}]
[561,"561 Europski socijalni fond (ESF)",{"$f":"SUMIF('Unos prihoda i primitaka'!$C$3:$C$501,$A19,'Unos prihoda i primitaka'!G$3:G$501)","v":0},{"$f":"SUMIF('Unos prihoda i primitaka'!$C$3:$C$501,$A19,'Unos prihoda i primitaka'!H$3:H$501)","v":0},{"$f":"SUMIF('Unos prihoda i primitaka'!$C$3:$C$501,$A19,'Unos prihoda i primitaka'!I$3:I$501)","v":0},{"$f":"'OPĆI DIO'!$C$1","v":"38454 SVEUČILIŠTE U RIJECI - AKADEMIJA PRIMJENJENIH UMJETNOSTI"}]
[563,"563 Europski fond za regionalni razvoj (EFRR)",{"$f":"SUMIF('Unos prihoda i primitaka'!$C$3:$C$501,$A20,'Unos prihoda i primitaka'!G$3:G$501)","v":0},{"$f":"SUMIF('Unos prihoda i primitaka'!$C$3:$C$501,$A20,'Unos prihoda i primitaka'!H$3:H$501)","v":0},{"$f":"SUMIF('Unos prihoda i primitaka'!$C$3:$C$501,$A20,'Unos prihoda i primitaka'!I$3:I$501)","v":0},{"$f":"'OPĆI DIO'!$C$1","v":"38454 SVEUČILIŠTE U RIJECI - AKADEMIJA PRIMJENJENIH UMJETNOSTI"}]
[573,"573 Instrumenti Europskog gospodarskog prostora i ostali instrumenti",{"$f":"SUMIF('Unos prihoda i primitaka'!$C$3:$C$501,$A21,'Unos prihoda i primitaka'!G$3:G$501)","v":0},{"$f":"SUMIF('Unos prihoda i primitaka'!$C$3:$C$501,$A21,'Unos prihoda i primitaka'!H$3:H$501)","v":0},{"$f":"SUMIF('Unos prihoda i primitaka'!$C$3:$C$501,$A21,'Unos prihoda i primitaka'!I$3:I$501)","v":0},{"$f":"'OPĆI DIO'!$C$1","v":"38454 SVEUČILIŠTE U RIJECI - AKADEMIJA PRIMJENJENIH UMJETNOSTI"}]
[581,"581 Mehanizam za oporavak i otpornost",{"$f":"SUMIF('Unos prihoda i primitaka'!$C$3:$C$501,$A22,'Unos prihoda i primitaka'!G$3:G$501)","v":0},{"$f":"SUMIF('Unos prihoda i primitaka'!$C$3:$C$501,$A22,'Unos prihoda i primitaka'!H$3:H$501)","v":{"v":4530,"d":"4,530"}},{"$f":"SUMIF('Unos prihoda i primitaka'!$C$3:$C$501,$A22,'Unos prihoda i primitaka'!I$3:I$501)","v":{"v":4530,"d":"4,530"}},{"$f":"'OPĆI DIO'!$C$1","v":"38454 SVEUČILIŠTE U RIJECI - AKADEMIJA PRIMJENJENIH UMJETNOSTI"}]
[6,"6 Donacije",{"$f":"SUM(C24:C25)","v":0},{"$f":"SUM(D24:D25)","v":0},{"$f":"SUM(E24:E25)","v":0},{"$f":"'OPĆI DIO'!$C$1","v":"38454 SVEUČILIŠTE U RIJECI - AKADEMIJA PRIMJENJENIH UMJETNOSTI"}]
[61,"61 Donacije ",{"$f":"SUMIF('Unos prihoda i primitaka'!$C$3:$C$501,$A24,'Unos prihoda i primitaka'!G$3:G$501)","v":0},{"$f":"SUMIF('Unos prihoda i primitaka'!$C$3:$C$501,$A24,'Unos prihoda i primitaka'!H$3:H$501)","v":0},{"$f":"SUMIF('Unos prihoda i primitaka'!$C$3:$C$501,$A24,'Unos prihoda i primitaka'!I$3:I$501)","v":0},{"$f":"'OPĆI DIO'!$C$1","v":"38454 SVEUČILIŠTE U RIJECI - AKADEMIJA PRIMJENJENIH UMJETNOSTI"}]
[63,"63 Inozemne donacije ",{"$f":"SUMIF('Unos prihoda i primitaka'!$C$3:$C$501,$A25,'Unos prihoda i primitaka'!G$3:G$501)","v":0},{"$f":"SUMIF('Unos prihoda i primitaka'!$C$3:$C$501,$A25,'Unos prihoda i primitaka'!H$3:H$501)","v":0},{"$f":"SUMIF('Unos prihoda i primitaka'!$C$3:$C$501,$A25,'Unos prihoda i primitaka'!I$3:I$501)","v":0},{"$f":"'OPĆI DIO'!$C$1","v":"38454 SVEUČILIŠTE U RIJECI - AKADEMIJA PRIMJENJENIH UMJETNOSTI"}]
[7,"7 Prihodi od prodaje ili zamjene nefinancijske imovine i naknade s naslova osiguranja",{"$f":"+C27","v":0},{"$f":"+D27","v":0},{"$f":"+E27","v":0},{"$f":"'OPĆI DIO'!$C$1","v":"38454 SVEUČILIŠTE U RIJECI - AKADEMIJA PRIMJENJENIH UMJETNOSTI"}]
[71,"71 Prihodi od nefin. imovine i nadoknade šteta s osnova osig.",{"$f":"SUMIF('Unos prihoda i primitaka'!$C$3:$C$501,$A27,'Unos prihoda i primitaka'!G$3:G$501)","v":0},{"$f":"SUMIF('Unos prihoda i primitaka'!$C$3:$C$501,$A27,'Unos prihoda i primitaka'!H$3:H$501)","v":0},{"$f":"SUMIF('Unos prihoda i primitaka'!$C$3:$C$501,$A27,'Unos prihoda i primitaka'!I$3:I$501)","v":0},{"$f":"'OPĆI DIO'!$C$1","v":"38454 SVEUČILIŠTE U RIJECI - AKADEMIJA PRIMJENJENIH UMJETNOSTI"}]
[8,"Primici od financijske imovine i zaduživanja",{"$f":"+C29","v":0},{"$f":"+D29","v":0},{"$f":"+E29","v":0},{"$f":"'OPĆI DIO'!$C$1","v":"38454 SVEUČILIŠTE U RIJECI - AKADEMIJA PRIMJENJENIH UMJETNOSTI"}]
[815,"Namjenski primitak - NPOO",{"$f":"SUMIF('Unos prihoda i primitaka'!$C$3:$C$501,$A29,'Unos prihoda i primitaka'!G$3:G$501)","v":0},{"$f":"SUMIF('Unos prihoda i primitaka'!$C$3:$C$501,$A29,'Unos prihoda i primitaka'!H$3:H$501)","v":0},{"$f":"SUMIF('Unos prihoda i primitaka'!$C$3:$C$501,$A29,'Unos prihoda i primitaka'!I$3:I$501)","v":0},"1837 SVEUČILIŠTE U ZAGREBU - GRAĐEVINSKI FAKULTET"]
[]
[0,"UKUPNO RASHODI",{"$f":"+C32+C35+C37+C40+C49+C52+C54","v":{"v":3391009,"d":"3,391,009"}},{"$f":"+D32+D35+D37+D40+D49+D52+D54","v":{"v":547663,"d":"547,663"}},{"$f":"+E32+E35+E37+E40+E49+E52+E54","v":{"v":3938672,"d":"3,938,672"}},{"$f":"'OPĆI DIO'!$C$1","v":"38454 SVEUČILIŠTE U RIJECI - AKADEMIJA PRIMJENJENIH UMJETNOSTI"}]
[1,"1 Opći prihodi i primici",{"$f":"+C33+C34","v":{"v":3266326,"d":"3,266,326"}},{"$f":"+D33+D34","v":{"v":492825,"d":"492,825"}},{"$f":"+E33+E34","v":{"v":3759151,"d":"3,759,151"}},{"$f":"'OPĆI DIO'!$C$1","v":"38454 SVEUČILIŠTE U RIJECI - AKADEMIJA PRIMJENJENIH UMJETNOSTI"}]
[11,"11 Opći prihodi i primici",{"$f":"SUMIF('Unos rashoda i izdataka'!$Q$3:$Q$501,$A33,'Unos rashoda i izdataka'!J$3:J$501)+SUMIF('Unos rashoda P4'!$A$3:$A$501,$A33,'Unos rashoda P4'!H$3:H$501)","v":{"v":3266326,"d":"3,266,326"}},{"$f":"SUMIF('Unos rashoda i izdataka'!$Q$3:$Q$501,$A33,'Unos rashoda i izdataka'!K$3:K$501)+SUMIF('Unos rashoda P4'!$A$3:$A$501,$A33,'Unos rashoda P4'!I$3:I$501)","v":{"v":492825,"d":"492,825"}},{"$f":"SUMIF('Unos rashoda i izdataka'!$Q$3:$Q$501,$A33,'Unos rashoda i izdataka'!L$3:L$501)+SUMIF('Unos rashoda P4'!$A$3:$A$501,$A33,'Unos rashoda P4'!J$3:J$501)","v":{"v":3759151,"d":"3,759,151"}},{"$f":"'OPĆI DIO'!$C$1","v":"38454 SVEUČILIŠTE U RIJECI - AKADEMIJA PRIMJENJENIH UMJETNOSTI"}]
[12,"12 Sredstva učešća za pomoći",{"$f":"SUMIF('Unos rashoda i izdataka'!$Q$3:$Q$501,$A34,'Unos rashoda i izdataka'!J$3:J$501)+SUMIF('Unos rashoda P4'!$A$3:$A$501,$A34,'Unos rashoda P4'!H$3:H$501)","v":0},{"$f":"SUMIF('Unos rashoda i izdataka'!$Q$3:$Q$501,$A34,'Unos rashoda i izdataka'!K$3:K$501)+SUMIF('Unos rashoda P4'!$A$3:$A$501,$A34,'Unos rashoda P4'!I$3:I$501)","v":0},{"$f":"SUMIF('Unos rashoda i izdataka'!$Q$3:$Q$501,$A34,'Unos rashoda i izdataka'!L$3:L$501)+SUMIF('Unos rashoda P4'!$A$3:$A$501,$A34,'Unos rashoda P4'!J$3:J$501)","v":0},{"$f":"'OPĆI DIO'!$C$1","v":"38454 SVEUČILIŠTE U RIJECI - AKADEMIJA PRIMJENJENIH UMJETNOSTI"}]
[3,"3 Vlastiti prihodi",{"$f":"+C36","v":{"v":22010,"d":"22,010"}},{"$f":"+D36","v":{"v":14538,"d":"14,538"}},{"$f":"+E36","v":{"v":36548,"d":"36,548"}},{"$f":"'OPĆI DIO'!$C$1","v":"38454 SVEUČILIŠTE U RIJECI - AKADEMIJA PRIMJENJENIH UMJETNOSTI"}]
[31,"31 Vlastiti prihodi",{"$f":"SUMIF('Unos rashoda i izdataka'!$Q$3:$Q$501,$A36,'Unos rashoda i izdataka'!J$3:J$501)+SUMIF('Unos rashoda P4'!$A$3:$A$501,$A36,'Unos rashoda P4'!H$3:H$501)-'B.2 RAČUN FINANC IF'!C13","v":{"v":22010,"d":"22,010"}},{"$f":"SUMIF('Unos rashoda i izdataka'!$Q$3:$Q$501,$A36,'Unos rashoda i izdataka'!K$3:K$501)+SUMIF('Unos rashoda P4'!$A$3:$A$501,$A36,'Unos rashoda P4'!I$3:I$501)-'B.2 RAČUN FINANC IF'!D13","v":{"v":14538,"d":"14,538"}},{"$f":"SUMIF('Unos rashoda i izdataka'!$Q$3:$Q$501,$A36,'Unos rashoda i izdataka'!L$3:L$501)+SUMIF('Unos rashoda P4'!$A$3:$A$501,$A36,'Unos rashoda P4'!J$3:J$501)-'B.2 RAČUN FINANC IF'!E13","v":{"v":36548,"d":"36,548"}},{"$f":"'OPĆI DIO'!$C$1","v":"38454 SVEUČILIŠTE U RIJECI - AKADEMIJA PRIMJENJENIH UMJETNOSTI"}]
[4,"4 Prihodi za posebne namjene",{"$f":"+C38+C39","v":{"v":73495,"d":"73,495"}},{"$f":"+D38+D39","v":{"v":5261,"d":"5,261"}},{"$f":"+E38+E39","v":{"v":78756,"d":"78,756"}},{"$f":"'OPĆI DIO'!$C$1","v":"38454 SVEUČILIŠTE U RIJECI - AKADEMIJA PRIMJENJENIH UMJETNOSTI"}]
[41,"41 Prihodi od igara na sreću",{"$f":"SUMIF('Unos rashoda i izdataka'!$Q$3:$Q$501,$A38,'Unos rashoda i izdataka'!J$3:J$501)+SUMIF('Unos rashoda P4'!$A$3:$A$501,$A38,'Unos rashoda P4'!H$3:H$501)","v":0},{"$f":"SUMIF('Unos rashoda i izdataka'!$Q$3:$Q$501,$A38,'Unos rashoda i izdataka'!K$3:K$501)+SUMIF('Unos rashoda P4'!$A$3:$A$501,$A38,'Unos rashoda P4'!I$3:I$501)","v":0},{"$f":"SUMIF('Unos rashoda i izdataka'!$Q$3:$Q$501,$A38,'Unos rashoda i izdataka'!L$3:L$501)+SUMIF('Unos rashoda P4'!$A$3:$A$501,$A38,'Unos rashoda P4'!J$3:J$501)","v":0},{"$f":"'OPĆI DIO'!$C$1","v":"38454 SVEUČILIŠTE U RIJECI - AKADEMIJA PRIMJENJENIH UMJETNOSTI"}]
[43,"43  Prihodi za posebne namjene ",{"$f":"SUMIF('Unos rashoda i izdataka'!$Q$3:$Q$501,$A39,'Unos rashoda i izdataka'!J$3:J$501)+SUMIF('Unos rashoda P4'!$A$3:$A$501,$A39,'Unos rashoda P4'!H$3:H$501)","v":{"v":73495,"d":"73,495"}},{"$f":"SUMIF('Unos rashoda i izdataka'!$Q$3:$Q$501,$A39,'Unos rashoda i izdataka'!K$3:K$501)+SUMIF('Unos rashoda P4'!$A$3:$A$501,$A39,'Unos rashoda P4'!I$3:I$501)","v":{"v":5261,"d":"5,261"}},{"$f":"SUMIF('Unos rashoda i izdataka'!$Q$3:$Q$501,$A39,'Unos rashoda i izdataka'!L$3:L$501)+SUMIF('Unos rashoda P4'!$A$3:$A$501,$A39,'Unos rashoda P4'!J$3:J$501)","v":{"v":78756,"d":"78,756"}},{"$f":"'OPĆI DIO'!$C$1","v":"38454 SVEUČILIŠTE U RIJECI - AKADEMIJA PRIMJENJENIH UMJETNOSTI"}]
[5,"5 Pomoći",{"$f":"SUM(C41:C48)","v":{"v":29178,"d":"29,178"}},{"$f":"SUM(D41:D48)","v":{"v":35039,"d":"35,039"}},{"$f":"SUM(E41:E48)","v":{"v":64217,"d":"64,217"}},{"$f":"'OPĆI DIO'!$C$1","v":"38454 SVEUČILIŠTE U RIJECI - AKADEMIJA PRIMJENJENIH UMJETNOSTI"}]
[51," 51 Pomoći EU",{"$f":"SUMIF('Unos rashoda i izdataka'!$Q$3:$Q$501,$A41,'Unos rashoda i izdataka'!J$3:J$501)+SUMIF('Unos rashoda P4'!$A$3:$A$501,$A41,'Unos rashoda P4'!H$3:H$501)","v":{"v":9000,"d":"9,000"}},{"$f":"SUMIF('Unos rashoda i izdataka'!$Q$3:$Q$501,$A41,'Unos rashoda i izdataka'!K$3:K$501)+SUMIF('Unos rashoda P4'!$A$3:$A$501,$A41,'Unos rashoda P4'!I$3:I$501)","v":{"v":9509,"d":"9,509"}},{"$f":"SUMIF('Unos rashoda i izdataka'!$Q$3:$Q$501,$A41,'Unos rashoda i izdataka'!L$3:L$501)+SUMIF('Unos rashoda P4'!$A$3:$A$501,$A41,'Unos rashoda P4'!J$3:J$501)","v":{"v":18509,"d":"18,509"}},{"$f":"'OPĆI DIO'!$C$1","v":"38454 SVEUČILIŠTE U RIJECI - AKADEMIJA PRIMJENJENIH UMJETNOSTI"}]
[52,"52 Ostale pomoći ",{"$f":"SUMIF('Unos rashoda i izdataka'!$Q$3:$Q$501,$A42,'Unos rashoda i izdataka'!J$3:J$501)+SUMIF('Unos rashoda P4'!$A$3:$A$501,$A42,'Unos rashoda P4'!H$3:H$501)","v":{"v":20178,"d":"20,178"}},{"$f":"SUMIF('Unos rashoda i izdataka'!$Q$3:$Q$501,$A42,'Unos rashoda i izdataka'!K$3:K$501)+SUMIF('Unos rashoda P4'!$A$3:$A$501,$A42,'Unos rashoda P4'!I$3:I$501)","v":{"v":21000,"d":"21,000"}},{"$f":"SUMIF('Unos rashoda i izdataka'!$Q$3:$Q$501,$A42,'Unos rashoda i izdataka'!L$3:L$501)+SUMIF('Unos rashoda P4'!$A$3:$A$501,$A42,'Unos rashoda P4'!J$3:J$501)","v":{"v":41178,"d":"41,178"}},{"$f":"'OPĆI DIO'!$C$1","v":"38454 SVEUČILIŠTE U RIJECI - AKADEMIJA PRIMJENJENIH UMJETNOSTI"}]
[552," 552 Ostale pomoći ",{"$f":"SUMIF('Unos rashoda i izdataka'!$Q$3:$Q$501,$A43,'Unos rashoda i izdataka'!J$3:J$501)+SUMIF('Unos rashoda P4'!$A$3:$A$501,$A43,'Unos rashoda P4'!H$3:H$501)","v":0},{"$f":"SUMIF('Unos rashoda i izdataka'!$Q$3:$Q$501,$A43,'Unos rashoda i izdataka'!K$3:K$501)+SUMIF('Unos rashoda P4'!$A$3:$A$501,$A43,'Unos rashoda P4'!I$3:I$501)","v":0},{"$f":"SUMIF('Unos rashoda i izdataka'!$Q$3:$Q$501,$A43,'Unos rashoda i izdataka'!L$3:L$501)+SUMIF('Unos rashoda P4'!$A$3:$A$501,$A43,'Unos rashoda P4'!J$3:J$501)","v":0},{"$f":"'OPĆI DIO'!$C$1","v":"38454 SVEUČILIŠTE U RIJECI - AKADEMIJA PRIMJENJENIH UMJETNOSTI"}]
[559,"559 Ostale refundacije iz sredstava EU",{"$f":"SUMIF('Unos rashoda i izdataka'!$Q$3:$Q$501,$A44,'Unos rashoda i izdataka'!J$3:J$501)+SUMIF('Unos rashoda P4'!$A$3:$A$501,$A44,'Unos rashoda P4'!H$3:H$501)","v":0},{"$f":"SUMIF('Unos rashoda i izdataka'!$Q$3:$Q$501,$A44,'Unos rashoda i izdataka'!K$3:K$501)+SUMIF('Unos rashoda P4'!$A$3:$A$501,$A44,'Unos rashoda P4'!I$3:I$501)","v":0},{"$f":"SUMIF('Unos rashoda i izdataka'!$Q$3:$Q$501,$A44,'Unos rashoda i izdataka'!L$3:L$501)+SUMIF('Unos rashoda P4'!$A$3:$A$501,$A44,'Unos rashoda P4'!J$3:J$501)","v":0},{"$f":"'OPĆI DIO'!$C$1","v":"38454 SVEUČILIŠTE U RIJECI - AKADEMIJA PRIMJENJENIH UMJETNOSTI"}]
[561,"561 Europski socijalni fond (ESF)",{"$f":"SUMIF('Unos rashoda i izdataka'!$Q$3:$Q$501,$A45,'Unos rashoda i izdataka'!J$3:J$501)+SUMIF('Unos rashoda P4'!$A$3:$A$501,$A45,'Unos rashoda P4'!H$3:H$501)","v":0},{"$f":"SUMIF('Unos rashoda i izdataka'!$Q$3:$Q$501,$A45,'Unos rashoda i izdataka'!K$3:K$501)+SUMIF('Unos rashoda P4'!$A$3:$A$501,$A45,'Unos rashoda P4'!I$3:I$501)","v":0},{"$f":"SUMIF('Unos rashoda i izdataka'!$Q$3:$Q$501,$A45,'Unos rashoda i izdataka'!L$3:L$501)+SUMIF('Unos rashoda P4'!$A$3:$A$501,$A45,'Unos rashoda P4'!J$3:J$501)","v":0},{"$f":"'OPĆI DIO'!$C$1","v":"38454 SVEUČILIŠTE U RIJECI - AKADEMIJA PRIMJENJENIH UMJETNOSTI"}]
[563,"563 Europski fond za regionalni razvoj (EFRR)",{"$f":"SUMIF('Unos rashoda i izdataka'!$Q$3:$Q$501,$A46,'Unos rashoda i izdataka'!J$3:J$501)+SUMIF('Unos rashoda P4'!$A$3:$A$501,$A46,'Unos rashoda P4'!H$3:H$501)","v":0},{"$f":"SUMIF('Unos rashoda i izdataka'!$Q$3:$Q$501,$A46,'Unos rashoda i izdataka'!K$3:K$501)+SUMIF('Unos rashoda P4'!$A$3:$A$501,$A46,'Unos rashoda P4'!I$3:I$501)","v":0},{"$f":"SUMIF('Unos rashoda i izdataka'!$Q$3:$Q$501,$A46,'Unos rashoda i izdataka'!L$3:L$501)+SUMIF('Unos rashoda P4'!$A$3:$A$501,$A46,'Unos rashoda P4'!J$3:J$501)","v":0},{"$f":"'OPĆI DIO'!$C$1","v":"38454 SVEUČILIŠTE U RIJECI - AKADEMIJA PRIMJENJENIH UMJETNOSTI"}]
[573,"573 Instrumenti Europskog gospodarskog prostora i ostali instrumenti",{"$f":"SUMIF('Unos rashoda i izdataka'!$Q$3:$Q$501,$A47,'Unos rashoda i izdataka'!J$3:J$501)+SUMIF('Unos rashoda P4'!$A$3:$A$501,$A47,'Unos rashoda P4'!H$3:H$501)","v":0},{"$f":"SUMIF('Unos rashoda i izdataka'!$Q$3:$Q$501,$A47,'Unos rashoda i izdataka'!K$3:K$501)+SUMIF('Unos rashoda P4'!$A$3:$A$501,$A47,'Unos rashoda P4'!I$3:I$501)","v":0},{"$f":"SUMIF('Unos rashoda i izdataka'!$Q$3:$Q$501,$A47,'Unos rashoda i izdataka'!L$3:L$501)+SUMIF('Unos rashoda P4'!$A$3:$A$501,$A47,'Unos rashoda P4'!J$3:J$501)","v":0},{"$f":"'OPĆI DIO'!$C$1","v":"38454 SVEUČILIŠTE U RIJECI - AKADEMIJA PRIMJENJENIH UMJETNOSTI"}]
[581,"581 Mehanizam za oporavak i otpornost",{"$f":"SUMIF('Unos rashoda i izdataka'!$Q$3:$Q$501,$A48,'Unos rashoda i izdataka'!J$3:J$501)+SUMIF('Unos rashoda P4'!$A$3:$A$501,$A48,'Unos rashoda P4'!H$3:H$501)","v":0},{"$f":"SUMIF('Unos rashoda i izdataka'!$Q$3:$Q$501,$A48,'Unos rashoda i izdataka'!K$3:K$501)+SUMIF('Unos rashoda P4'!$A$3:$A$501,$A48,'Unos rashoda P4'!I$3:I$501)","v":{"v":4530,"d":"4,530"}},{"$f":"SUMIF('Unos rashoda i izdataka'!$Q$3:$Q$501,$A48,'Unos rashoda i izdataka'!L$3:L$501)+SUMIF('Unos rashoda P4'!$A$3:$A$501,$A48,'Unos rashoda P4'!J$3:J$501)","v":{"v":4530,"d":"4,530"}},{"$f":"'OPĆI DIO'!$C$1","v":"38454 SVEUČILIŠTE U RIJECI - AKADEMIJA PRIMJENJENIH UMJETNOSTI"}]
[6,"6 Donacije",{"$f":"+C50+C51","v":0},{"$f":"+D50+D51","v":0},{"$f":"+E50+E51","v":0},{"$f":"'OPĆI DIO'!$C$1","v":"38454 SVEUČILIŠTE U RIJECI - AKADEMIJA PRIMJENJENIH UMJETNOSTI"}]
[61,"61 Donacije ",{"$f":"SUMIF('Unos rashoda i izdataka'!$Q$3:$Q$501,$A50,'Unos rashoda i izdataka'!J$3:J$501)+SUMIF('Unos rashoda P4'!$A$3:$A$501,$A50,'Unos rashoda P4'!H$3:H$501)","v":0},{"$f":"SUMIF('Unos rashoda i izdataka'!$Q$3:$Q$501,$A50,'Unos rashoda i izdataka'!K$3:K$501)+SUMIF('Unos rashoda P4'!$A$3:$A$501,$A50,'Unos rashoda P4'!I$3:I$501)","v":0},{"$f":"SUMIF('Unos rashoda i izdataka'!$Q$3:$Q$501,$A50,'Unos rashoda i izdataka'!L$3:L$501)+SUMIF('Unos rashoda P4'!$A$3:$A$501,$A50,'Unos rashoda P4'!J$3:J$501)","v":0},{"$f":"'OPĆI DIO'!$C$1","v":"38454 SVEUČILIŠTE U RIJECI - AKADEMIJA PRIMJENJENIH UMJETNOSTI"}]
[63,"63 Inozemne donacije ",{"$f":"SUMIF('Unos rashoda i izdataka'!$Q$3:$Q$501,$A51,'Unos rashoda i izdataka'!J$3:J$501)+SUMIF('Unos rashoda P4'!$A$3:$A$501,$A51,'Unos rashoda P4'!H$3:H$501)","v":0},{"$f":"SUMIF('Unos rashoda i izdataka'!$Q$3:$Q$501,$A51,'Unos rashoda i izdataka'!K$3:K$501)+SUMIF('Unos rashoda P4'!$A$3:$A$501,$A51,'Unos rashoda P4'!I$3:I$501)","v":0},{"$f":"SUMIF('Unos rashoda i izdataka'!$Q$3:$Q$501,$A51,'Unos rashoda i izdataka'!L$3:L$501)+SUMIF('Unos rashoda P4'!$A$3:$A$501,$A51,'Unos rashoda P4'!J$3:J$501)","v":0},{"$f":"'OPĆI DIO'!$C$1","v":"38454 SVEUČILIŠTE U RIJECI - AKADEMIJA PRIMJENJENIH UMJETNOSTI"}]
[7,"7 Prihodi od prodaje ili zamjene nefinancijske imovine i naknade s naslova osiguranja",{"$f":"+C53","v":0},{"$f":"+D53","v":0},{"$f":"+E53","v":0},{"$f":"'OPĆI DIO'!$C$1","v":"38454 SVEUČILIŠTE U RIJECI - AKADEMIJA PRIMJENJENIH UMJETNOSTI"}]
[71,"71 Prihodi od nefin. imovine i nadoknade šteta s osnova osig.",{"$f":"SUMIF('Unos rashoda i izdataka'!$Q$3:$Q$501,$A53,'Unos rashoda i izdataka'!J$3:J$501)+SUMIF('Unos rashoda P4'!$A$3:$A$501,$A53,'Unos rashoda P4'!H$3:H$501)","v":0},{"$f":"SUMIF('Unos rashoda i izdataka'!$Q$3:$Q$501,$A53,'Unos rashoda i izdataka'!K$3:K$501)+SUMIF('Unos rashoda P4'!$A$3:$A$501,$A53,'Unos rashoda P4'!I$3:I$501)","v":0},{"$f":"SUMIF('Unos rashoda i izdataka'!$Q$3:$Q$501,$A53,'Unos rashoda i izdataka'!L$3:L$501)+SUMIF('Unos rashoda P4'!$A$3:$A$501,$A53,'Unos rashoda P4'!J$3:J$501)","v":0},{"$f":"'OPĆI DIO'!$C$1","v":"38454 SVEUČILIŠTE U RIJECI - AKADEMIJA PRIMJENJENIH UMJETNOSTI"}]
[8,"Primici od financijske imovine i zaduživanja",{"$f":"+C56","v":0},{"$f":"+D56","v":0},{"$f":"+E56","v":0},{"$f":"'OPĆI DIO'!$C$1","v":"38454 SVEUČILIŠTE U RIJECI - AKADEMIJA PRIMJENJENIH UMJETNOSTI"}]
[810,"Namjenski primici -ostali",{"$f":"SUMIF('Unos rashoda i izdataka'!$Q$3:$Q$501,$A55,'Unos rashoda i izdataka'!J$3:J$501)+SUMIF('Unos rashoda P4'!$A$3:$A$501,$A55,'Unos rashoda P4'!H$3:H$501)","v":0},{"$f":"SUMIF('Unos rashoda i izdataka'!$Q$3:$Q$501,$A55,'Unos rashoda i izdataka'!K$3:K$501)+SUMIF('Unos rashoda P4'!$A$3:$A$501,$A55,'Unos rashoda P4'!I$3:I$501)","v":0},{"$f":"SUMIF('Unos rashoda i izdataka'!$Q$3:$Q$501,$A55,'Unos rashoda i izdataka'!L$3:L$501)+SUMIF('Unos rashoda P4'!$A$3:$A$501,$A55,'Unos rashoda P4'!J$3:J$501)","v":0},{"$f":"'OPĆI DIO'!$C$1","v":"38454 SVEUČILIŠTE U RIJECI - AKADEMIJA PRIMJENJENIH UMJETNOSTI"}]
[815,"Namjenski primitak - NPOO",{"$f":"SUMIF('Unos rashoda i izdataka'!$Q$3:$Q$501,$A56,'Unos rashoda i izdataka'!J$3:J$501)+SUMIF('Unos rashoda P4'!$A$3:$A$501,$A56,'Unos rashoda P4'!H$3:H$501)","v":0},{"$f":"SUMIF('Unos rashoda i izdataka'!$Q$3:$Q$501,$A56,'Unos rashoda i izdataka'!K$3:K$501)+SUMIF('Unos rashoda P4'!$A$3:$A$501,$A56,'Unos rashoda P4'!I$3:I$501)","v":0},{"$f":"SUMIF('Unos rashoda i izdataka'!$Q$3:$Q$501,$A56,'Unos rashoda i izdataka'!L$3:L$501)+SUMIF('Unos rashoda P4'!$A$3:$A$501,$A56,'Unos rashoda P4'!J$3:J$501)","v":0},{"$f":"'OPĆI DIO'!$C$1","v":"38454 SVEUČILIŠTE U RIJECI - AKADEMIJA PRIMJENJENIH UMJETNOSTI"}]

{"sheet":"A.3 RASHODI FUNK","index":7,"n_rows":84,"n_cols":6,"rows_kept":84,"merged":[[0,0,0,4]]}
["A. 4. RASHODI PREMA FUNKCIJSKOJ KLASIFIKACIJI"]
[]
[{"$nulls":4},"u EUR"]
["BROJČANA OZNAKA","NAZIV FUNKCIJSKE KLASIFIKACIJE","PLAN \n2025.","Povećanje/\nsmanjenje","NOVI PLAN 2025."]
[null,"UKUPNI RASHODI",{"$f":"+C6+C15+C21+C28+C38+C45+C52+C59+C66+C75","v":{"v":3391009,"d":"3,391,009"}},{"$f":"+D6+D15+D21+D28+D38+D45+D52+D59+D66+D75","v":{"v":547663,"d":"547,663"}},{"$f":"+E6+E15+E21+E28+E38+E45+E52+E59+E66+E75","v":{"v":3938672,"d":"3,938,672"}}]
[1,"Opće javne usluge",{"$f":"SUM(C7:C14)","v":0},{"$f":"SUM(D7:D14)","v":0},{"$f":"SUM(E7:E14)","v":0},{"$f":"'OPĆI DIO'!$C$1","v":"38454 SVEUČILIŠTE U RIJECI - AKADEMIJA PRIMJENJENIH UMJETNOSTI"}]
[11,"Izvršna i zakonodavna tijela, financijski i fiskalni poslovi, vanjski poslovi",{"$f":"SUMIF('Unos rashoda i izdataka'!$R$3:$R$501,'A.3 RASHODI FUNK'!$A7,'Unos rashoda i izdataka'!J$3:J$501)+SUMIF('Unos rashoda P4'!$T$3:$T$501,'A.3 RASHODI FUNK'!$A7,'Unos rashoda P4'!H$3:H$501)","v":0},{"$f":"SUMIF('Unos rashoda i izdataka'!$R$3:$R$501,'A.3 RASHODI FUNK'!$A7,'Unos rashoda i izdataka'!K$3:K$501)+SUMIF('Unos rashoda P4'!$T$3:$T$501,'A.3 RASHODI FUNK'!$A7,'Unos rashoda P4'!I$3:I$501)","v":0},{"$f":"SUMIF('Unos rashoda i izdataka'!$R$3:$R$501,'A.3 RASHODI FUNK'!$A7,'Unos rashoda i izdataka'!L$3:L$501)+SUMIF('Unos rashoda P4'!$T$3:$T$501,'A.3 RASHODI FUNK'!$A7,'Unos rashoda P4'!J$3:J$501)","v":0},{"$f":"'OPĆI DIO'!$C$1","v":"38454 SVEUČILIŠTE U RIJECI - AKADEMIJA PRIMJENJENIH UMJETNOSTI"}]
[12,"Inozemna ekonomska pomoć",{"$f":"SUMIF('Unos rashoda i izdataka'!$R$3:$R$501,'A.3 RASHODI FUNK'!$A8,'Unos rashoda i izdataka'!J$3:J$501)+SUMIF('Unos rashoda P4'!$T$3:$T$501,'A.3 RASHODI FUNK'!$A8,'Unos rashoda P4'!H$3:H$501)","v":0},{"$f":"SUMIF('Unos rashoda i izdataka'!$R$3:$R$501,'A.3 RASHODI FUNK'!$A8,'Unos rashoda i izdataka'!K$3:K$501)+SUMIF('Unos rashoda P4'!$T$3:$T$501,'A.3 RASHODI FUNK'!$A8,'Unos rashoda P4'!I$3:I$501)","v":0},{"$f":"SUMIF('Unos rashoda i izdataka'!$R$3:$R$501,'A.3 RASHODI FUNK'!$A8,'Unos rashoda i izdataka'!L$3:L$501)+SUMIF('Unos rashoda P4'!$T$3:$T$501,'A.3 RASHODI FUNK'!$A8,'Unos rashoda P4'!J$3:J$501)","v":0},{"$f":"'OPĆI DIO'!$C$1","v":"38454 SVEUČILIŠTE U RIJECI - AKADEMIJA PRIMJENJENIH UMJETNOSTI"}]
[13,"Opće usluge",{"$f":"SUMIF('Unos rashoda i izdataka'!$R$3:$R$501,'A.3 RASHODI FUNK'!$A9,'Unos rashoda i izdataka'!J$3:J$501)+SUMIF('Unos rashoda P4'!$T$3:$T$501,'A.3 RASHODI FUNK'!$A9,'Unos rashoda P4'!H$3:H$501)","v":0},{"$f":"SUMIF('Unos rashoda i izdataka'!$R$3:$R$501,'A.3 RASHODI FUNK'!$A9,'Unos rashoda i izdataka'!K$3:K$501)+SUMIF('Unos rashoda P4'!$T$3:$T$501,'A.3 RASHODI FUNK'!$A9,'Unos rashoda P4'!I$3:I$501)","v":0},{"$f":"SUMIF('Unos rashoda i izdataka'!$R$3:$R$501,'A.3 RASHODI FUNK'!$A9,'Unos rashoda i izdataka'!L$3:L$501)+SUMIF('Unos rashoda P4'!$T$3:$T$501,'A.3 RASHODI FUNK'!$A9,'Unos rashoda P4'!J$3:J$501)","v":0},{"$f":"'OPĆI DIO'!$C$1","v":"38454 SVEUČILIŠTE U RIJECI - AKADEMIJA PRIMJENJENIH UMJETNOSTI"}]
[14,"Osnovna istraživanja",{"$f":"SUMIF('Unos rashoda i izdataka'!$R$3:$R$501,'A.3 RASHODI FUNK'!$A10,'Unos rashoda i izdataka'!J$3:J$501)+SUMIF('Unos rashoda P4'!$T$3:$T$501,'A.3 RASHODI FUNK'!$A10,'Unos rashoda P4'!H$3:H$501)","v":0},{"$f":"SUMIF('Unos rashoda i izdataka'!$R$3:$R$501,'A.3 RASHODI FUNK'!$A10,'Unos rashoda i izdataka'!K$3:K$501)+SUMIF('Unos rashoda P4'!$T$3:$T$501,'A.3 RASHODI FUNK'!$A10,'Unos rashoda P4'!I$3:I$501)","v":0},{"$f":"SUMIF('Unos rashoda i izdataka'!$R$3:$R$501,'A.3 RASHODI FUNK'!$A10,'Unos rashoda i izdataka'!L$3:L$501)+SUMIF('Unos rashoda P4'!$T$3:$T$501,'A.3 RASHODI FUNK'!$A10,'Unos rashoda P4'!J$3:J$501)","v":0},{"$f":"'OPĆI DIO'!$C$1","v":"38454 SVEUČILIŠTE U RIJECI - AKADEMIJA PRIMJENJENIH UMJETNOSTI"}]
[15,"Istraživanje i razvoj: Opće javne usluge",{"$f":"SUMIF('Unos rashoda i izdataka'!$R$3:$R$501,'A.3 RASHODI FUNK'!$A11,'Unos rashoda i izdataka'!J$3:J$501)+SUMIF('Unos rashoda P4'!$T$3:$T$501,'A.3 RASHODI FUNK'!$A11,'Unos rashoda P4'!H$3:H$501)","v":0},{"$f":"SUMIF('Unos rashoda i izdataka'!$R$3:$R$501,'A.3 RASHODI FUNK'!$A11,'Unos rashoda i izdataka'!K$3:K$501)+SUMIF('Unos rashoda P4'!$T$3:$T$501,'A.3 RASHODI FUNK'!$A11,'Unos rashoda P4'!I$3:I$501)","v":0},{"$f":"SUMIF('Unos rashoda i izdataka'!$R$3:$R$501,'A.3 RASHODI FUNK'!$A11,'Unos rashoda i izdataka'!L$3:L$501)+SUMIF('Unos rashoda P4'!$T$3:$T$501,'A.3 RASHODI FUNK'!$A11,'Unos rashoda P4'!J$3:J$501)","v":0},{"$f":"'OPĆI DIO'!$C$1","v":"38454 SVEUČILIŠTE U RIJECI - AKADEMIJA PRIMJENJENIH UMJETNOSTI"}]
[16,"Opće javne usluge koje nisu drugdje svrstane",{"$f":"SUMIF('Unos rashoda i izdataka'!$R$3:$R$501,'A.3 RASHODI FUNK'!$A12,'Unos rashoda i izdataka'!J$3:J$501)+SUMIF('Unos rashoda P4'!$T$3:$T$501,'A.3 RASHODI FUNK'!$A12,'Unos rashoda P4'!H$3:H$501)","v":0},{"$f":"SUMIF('Unos rashoda i izdataka'!$R$3:$R$501,'A.3 RASHODI FUNK'!$A12,'Unos rashoda i izdataka'!K$3:K$501)+SUMIF('Unos rashoda P4'!$T$3:$T$501,'A.3 RASHODI FUNK'!$A12,'Unos rashoda P4'!I$3:I$501)","v":0},{"$f":"SUMIF('Unos rashoda i izdataka'!$R$3:$R$501,'A.3 RASHODI FUNK'!$A12,'Unos rashoda i izdataka'!L$3:L$501)+SUMIF('Unos rashoda P4'!$T$3:$T$501,'A.3 RASHODI FUNK'!$A12,'Unos rashoda P4'!J$3:J$501)","v":0},{"$f":"'OPĆI DIO'!$C$1","v":"38454 SVEUČILIŠTE U RIJECI - AKADEMIJA PRIMJENJENIH UMJETNOSTI"}]
[17,"Transakcije vezane uz javni dug",{"$f":"SUMIF('Unos rashoda i izdataka'!$R$3:$R$501,'A.3 RASHODI FUNK'!$A13,'Unos rashoda i izdataka'!J$3:J$501)+SUMIF('Unos rashoda P4'!$T$3:$T$501,'A.3 RASHODI FUNK'!$A13,'Unos rashoda P4'!H$3:H$501)","v":0},{"$f":"SUMIF('Unos rashoda i izdataka'!$R$3:$R$501,'A.3 RASHODI FUNK'!$A13,'Unos rashoda i izdataka'!K$3:K$501)+SUMIF('Unos rashoda P4'!$T$3:$T$501,'A.3 RASHODI FUNK'!$A13,'Unos rashoda P4'!I$3:I$501)","v":0},{"$f":"SUMIF('Unos rashoda i izdataka'!$R$3:$R$501,'A.3 RASHODI FUNK'!$A13,'Unos rashoda i izdataka'!L$3:L$501)+SUMIF('Unos rashoda P4'!$T$3:$T$501,'A.3 RASHODI FUNK'!$A13,'Unos rashoda P4'!J$3:J$501)","v":0},{"$f":"'OPĆI DIO'!$C$1","v":"38454 SVEUČILIŠTE U RIJECI - AKADEMIJA PRIMJENJENIH UMJETNOSTI"}]
[18,"Prijenosi općeg karaktera između različitih državnih razina",{"$f":"SUMIF('Unos rashoda i izdataka'!$R$3:$R$501,'A.3 RASHODI FUNK'!$A14,'Unos rashoda i izdataka'!J$3:J$501)+SUMIF('Unos rashoda P4'!$T$3:$T$501,'A.3 RASHODI FUNK'!$A14,'Unos rashoda P4'!H$3:H$501)","v":0},{"$f":"SUMIF('Unos rashoda i izdataka'!$R$3:$R$501,'A.3 RASHODI FUNK'!$A14,'Unos rashoda i izdataka'!K$3:K$501)+SUMIF('Unos rashoda P4'!$T$3:$T$501,'A.3 RASHODI FUNK'!$A14,'Unos rashoda P4'!I$3:I$501)","v":0},{"$f":"SUMIF('Unos rashoda i izdataka'!$R$3:$R$501,'A.3 RASHODI FUNK'!$A14,'Unos rashoda i izdataka'!L$3:L$501)+SUMIF('Unos rashoda P4'!$T$3:$T$501,'A.3 RASHODI FUNK'!$A14,'Unos rashoda P4'!J$3:J$501)","v":0},{"$f":"'OPĆI DIO'!$C$1","v":"38454 SVEUČILIŠTE U RIJECI - AKADEMIJA PRIMJENJENIH UMJETNOSTI"}]
[2,"Obrana",{"$f":"SUM(C16:C20)","v":0},{"$f":"SUM(D16:D20)","v":0},{"$f":"SUM(E16:E20)","v":0},{"$f":"'OPĆI DIO'!$C$1","v":"38454 SVEUČILIŠTE U RIJECI - AKADEMIJA PRIMJENJENIH UMJETNOSTI"}]
[21,"Vojna obrana",{"$f":"SUMIF('Unos rashoda i izdataka'!$R$3:$R$501,'A.3 RASHODI FUNK'!$A16,'Unos rashoda i izdataka'!J$3:J$501)+SUMIF('Unos rashoda P4'!$T$3:$T$501,'A.3 RASHODI FUNK'!$A16,'Unos rashoda P4'!H$3:H$501)","v":0},{"$f":"SUMIF('Unos rashoda i izdataka'!$R$3:$R$501,'A.3 RASHODI FUNK'!$A16,'Unos rashoda i izdataka'!K$3:K$501)+SUMIF('Unos rashoda P4'!$T$3:$T$501,'A.3 RASHODI FUNK'!$A16,'Unos rashoda P4'!I$3:I$501)","v":0},{"$f":"SUMIF('Unos rashoda i izdataka'!$R$3:$R$501,'A.3 RASHODI FUNK'!$A16,'Unos rashoda i izdataka'!L$3:L$501)+SUMIF('Unos rashoda P4'!$T$3:$T$501,'A.3 RASHODI FUNK'!$A16,'Unos rashoda P4'!J$3:J$501)","v":0},{"$f":"'OPĆI DIO'!$C$1","v":"38454 SVEUČILIŠTE U RIJECI - AKADEMIJA PRIMJENJENIH UMJETNOSTI"}]
[22,"Civilna obrana",{"$f":"SUMIF('Unos rashoda i izdataka'!$R$3:$R$501,'A.3 RASHODI FUNK'!$A17,'Unos rashoda i izdataka'!J$3:J$501)+SUMIF('Unos rashoda P4'!$T$3:$T$501,'A.3 RASHODI FUNK'!$A17,'Unos rashoda P4'!H$3:H$501)","v":0},{"$f":"SUMIF('Unos rashoda i izdataka'!$R$3:$R$501,'A.3 RASHODI FUNK'!$A17,'Unos rashoda i izdataka'!K$3:K$501)+SUMIF('Unos rashoda P4'!$T$3:$T$501,'A.3 RASHODI FUNK'!$A17,'Unos rashoda P4'!I$3:I$501)","v":0},{"$f":"SUMIF('Unos rashoda i izdataka'!$R$3:$R$501,'A.3 RASHODI FUNK'!$A17,'Unos rashoda i izdataka'!L$3:L$501)+SUMIF('Unos rashoda P4'!$T$3:$T$501,'A.3 RASHODI FUNK'!$A17,'Unos rashoda P4'!J$3:J$501)","v":0},{"$f":"'OPĆI DIO'!$C$1","v":"38454 SVEUČILIŠTE U RIJECI - AKADEMIJA PRIMJENJENIH UMJETNOSTI"}]
[23,"Inozemna vojna pomoć",{"$f":"SUMIF('Unos rashoda i izdataka'!$R$3:$R$501,'A.3 RASHODI FUNK'!$A18,'Unos rashoda i izdataka'!J$3:J$501)+SUMIF('Unos rashoda P4'!$T$3:$T$501,'A.3 RASHODI FUNK'!$A18,'Unos rashoda P4'!H$3:H$501)","v":0},{"$f":"SUMIF('Unos rashoda i izdataka'!$R$3:$R$501,'A.3 RASHODI FUNK'!$A18,'Unos rashoda i izdataka'!K$3:K$501)+SUMIF('Unos rashoda P4'!$T$3:$T$501,'A.3 RASHODI FUNK'!$A18,'Unos rashoda P4'!I$3:I$501)","v":0},{"$f":"SUMIF('Unos rashoda i izdataka'!$R$3:$R$501,'A.3 RASHODI FUNK'!$A18,'Unos rashoda i izdataka'!L$3:L$501)+SUMIF('Unos rashoda P4'!$T$3:$T$501,'A.3 RASHODI FUNK'!$A18,'Unos rashoda P4'!J$3:J$501)","v":0},{"$f":"'OPĆI DIO'!$C$1","v":"38454 SVEUČILIŠTE U RIJECI - AKADEMIJA PRIMJENJENIH UMJETNOSTI"}]
[24,"Istraživanje i razvoj obrane",{"$f":"SUMIF('Unos rashoda i izdataka'!$R$3:$R$501,'A.3 RASHODI FUNK'!$A19,'Unos rashoda i izdataka'!J$3:J$501)+SUMIF('Unos rashoda P4'!$T$3:$T$501,'A.3 RASHODI FUNK'!$A19,'Unos rashoda P4'!H$3:H$501)","v":0},{"$f":"SUMIF('Unos rashoda i izdataka'!$R$3:$R$501,'A.3 RASHODI FUNK'!$A19,'Unos rashoda i izdataka'!K$3:K$501)+SUMIF('Unos rashoda P4'!$T$3:$T$501,'A.3 RASHODI FUNK'!$A19,'Unos rashoda P4'!I$3:I$501)","v":0},{"$f":"SUMIF('Unos rashoda i izdataka'!$R$3:$R$501,'A.3 RASHODI FUNK'!$A19,'Unos rashoda i izdataka'!L$3:L$501)+SUMIF('Unos rashoda P4'!$T$3:$T$501,'A.3 RASHODI FUNK'!$A19,'Unos rashoda P4'!J$3:J$501)","v":0},{"$f":"'OPĆI DIO'!$C$1","v":"38454 SVEUČILIŠTE U RIJECI - AKADEMIJA PRIMJENJENIH UMJETNOSTI"}]
[25,"Rashodi za obranu koji nisu drugdje svrstani",{"$f":"SUMIF('Unos rashoda i izdataka'!$R$3:$R$501,'A.3 RASHODI FUNK'!$A20,'Unos rashoda i izdataka'!J$3:J$501)+SUMIF('Unos rashoda P4'!$T$3:$T$501,'A.3 RASHODI FUNK'!$A20,'Unos rashoda P4'!H$3:H$501)","v":0},{"$f":"SUMIF('Unos rashoda i izdataka'!$R$3:$R$501,'A.3 RASHODI FUNK'!$A20,'Unos rashoda i izdataka'!K$3:K$501)+SUMIF('Unos rashoda P4'!$T$3:$T$501,'A.3 RASHODI FUNK'!$A20,'Unos rashoda P4'!I$3:I$501)","v":0},{"$f":"SUMIF('Unos rashoda i izdataka'!$R$3:$R$501,'A.3 RASHODI FUNK'!$A20,'Unos rashoda i izdataka'!L$3:L$501)+SUMIF('Unos rashoda P4'!$T$3:$T$501,'A.3 RASHODI FUNK'!$A20,'Unos rashoda P4'!J$3:J$501)","v":0},{"$f":"'OPĆI DIO'!$C$1","v":"38454 SVEUČILIŠTE U RIJECI - AKADEMIJA PRIMJENJENIH UMJETNOSTI"}]
[3,"Javni red i sigurnost",{"$f":"SUM(C22:C27)","v":0},{"$f":"SUM(D22:D27)","v":0},{"$f":"SUM(E22:E27)","v":0},{"$f":"'OPĆI DIO'!$C$1","v":"38454 SVEUČILIŠTE U RIJECI - AKADEMIJA PRIMJENJENIH UMJETNOSTI"}]
[31,"Usluge policije",{"$f":"SUMIF('Unos rashoda i izdataka'!$R$3:$R$501,'A.3 RASHODI FUNK'!$A22,'Unos rashoda i izdataka'!J$3:J$501)+SUMIF('Unos rashoda P4'!$T$3:$T$501,'A.3 RASHODI FUNK'!$A22,'Unos rashoda P4'!H$3:H$501)","v":0},{"$f":"SUMIF('Unos rashoda i izdataka'!$R$3:$R$501,'A.3 RASHODI FUNK'!$A22,'Unos rashoda i izdataka'!K$3:K$501)+SUMIF('Unos rashoda P4'!$T$3:$T$501,'A.3 RASHODI FUNK'!$A22,'Unos rashoda P4'!I$3:I$501)","v":0},{"$f":"SUMIF('Unos rashoda i izdataka'!$R$3:$R$501,'A.3 RASHODI FUNK'!$A22,'Unos rashoda i izdataka'!L$3:L$501)+SUMIF('Unos rashoda P4'!$T$3:$T$501,'A.3 RASHODI FUNK'!$A22,'Unos rashoda P4'!J$3:J$501)","v":0},{"$f":"'OPĆI DIO'!$C$1","v":"38454 SVEUČILIŠTE U RIJECI - AKADEMIJA PRIMJENJENIH UMJETNOSTI"}]
[32,"Usluge protupožarne zaštite",{"$f":"SUMIF('Unos rashoda i izdataka'!$R$3:$R$501,'A.3 RASHODI FUNK'!$A23,'Unos rashoda i izdataka'!J$3:J$501)+SUMIF('Unos rashoda P4'!$T$3:$T$501,'A.3 RASHODI FUNK'!$A23,'Unos rashoda P4'!H$3:H$501)","v":0},{"$f":"SUMIF('Unos rashoda i izdataka'!$R$3:$R$501,'A.3 RASHODI FUNK'!$A23,'Unos rashoda i izdataka'!K$3:K$501)+SUMIF('Unos rashoda P4'!$T$3:$T$501,'A.3 RASHODI FUNK'!$A23,'Unos rashoda P4'!I$3:I$501)","v":0},{"$f":"SUMIF('Unos rashoda i izdataka'!$R$3:$R$501,'A.3 RASHODI FUNK'!$A23,'Unos rashoda i izdataka'!L$3:L$501)+SUMIF('Unos rashoda P4'!$T$3:$T$501,'A.3 RASHODI FUNK'!$A23,'Unos rashoda P4'!J$3:J$501)","v":0},{"$f":"'OPĆI DIO'!$C$1","v":"38454 SVEUČILIŠTE U RIJECI - AKADEMIJA PRIMJENJENIH UMJETNOSTI"}]
[33,"Sudovi",{"$f":"SUMIF('Unos rashoda i izdataka'!$R$3:$R$501,'A.3 RASHODI FUNK'!$A24,'Unos rashoda i izdataka'!J$3:J$501)+SUMIF('Unos rashoda P4'!$T$3:$T$501,'A.3 RASHODI FUNK'!$A24,'Unos rashoda P4'!H$3:H$501)","v":0},{"$f":"SUMIF('Unos rashoda i izdataka'!$R$3:$R$501,'A.3 RASHODI FUNK'!$A24,'Unos rashoda i izdataka'!K$3:K$501)+SUMIF('Unos rashoda P4'!$T$3:$T$501,'A.3 RASHODI FUNK'!$A24,'Unos rashoda P4'!I$3:I$501)","v":0},{"$f":"SUMIF('Unos rashoda i izdataka'!$R$3:$R$501,'A.3 RASHODI FUNK'!$A24,'Unos rashoda i izdataka'!L$3:L$501)+SUMIF('Unos rashoda P4'!$T$3:$T$501,'A.3 RASHODI FUNK'!$A24,'Unos rashoda P4'!J$3:J$501)","v":0},{"$f":"'OPĆI DIO'!$C$1","v":"38454 SVEUČILIŠTE U RIJECI - AKADEMIJA PRIMJENJENIH UMJETNOSTI"}]
[34,"Zatvori",{"$f":"SUMIF('Unos rashoda i izdataka'!$R$3:$R$501,'A.3 RASHODI FUNK'!$A25,'Unos rashoda i izdataka'!J$3:J$501)+SUMIF('Unos rashoda P4'!$T$3:$T$501,'A.3 RASHODI FUNK'!$A25,'Unos rashoda P4'!H$3:H$501)","v":0},{"$f":"SUMIF('Unos rashoda i izdataka'!$R$3:$R$501,'A.3 RASHODI FUNK'!$A25,'Unos rashoda i izdataka'!K$3:K$501)+SUMIF('Unos rashoda P4'!$T$3:$T$501,'A.3 RASHODI FUNK'!$A25,'Unos rashoda P4'!I$3:I$501)","v":0},{"$f":"SUMIF('Unos rashoda i izdataka'!$R$3:$R$501,'A.3 RASHODI FUNK'!$A25,'Unos rashoda i izdataka'!L$3:L$501)+SUMIF('Unos rashoda P4'!$T$3:$T$501,'A.3 RASHODI FUNK'!$A25,'Unos rashoda P4'!J$3:J$501)","v":0},{"$f":"'OPĆI DIO'!$C$1","v":"38454 SVEUČILIŠTE U RIJECI - AKADEMIJA PRIMJENJENIH UMJETNOSTI"}]
[35,"Istraživanje i razvoj: Javni red i sigurnost",{"$f":"SUMIF('Unos rashoda i izdataka'!$R$3:$R$501,'A.3 RASHODI FUNK'!$A26,'Unos rashoda i izdataka'!J$3:J$501)+SUMIF('Unos rashoda P4'!$T$3:$T$501,'A.3 RASHODI FUNK'!$A26,'Unos rashoda P4'!H$3:H$501)","v":0},{"$f":"SUMIF('Unos rashoda i izdataka'!$R$3:$R$501,'A.3 RASHODI FUNK'!$A26,'Unos rashoda i izdataka'!K$3:K$501)+SUMIF('Unos rashoda P4'!$T$3:$T$501,'A.3 RASHODI FUNK'!$A26,'Unos rashoda P4'!I$3:I$501)","v":0},{"$f":"SUMIF('Unos rashoda i izdataka'!$R$3:$R$501,'A.3 RASHODI FUNK'!$A26,'Unos rashoda i izdataka'!L$3:L$501)+SUMIF('Unos rashoda P4'!$T$3:$T$501,'A.3 RASHODI FUNK'!$A26,'Unos rashoda P4'!J$3:J$501)","v":0},{"$f":"'OPĆI DIO'!$C$1","v":"38454 SVEUČILIŠTE U RIJECI - AKADEMIJA PRIMJENJENIH UMJETNOSTI"}]
[36,"Rashodi za javni red i sigurnost koji nisu drugdje svrstani",{"$f":"SUMIF('Unos rashoda i izdataka'!$R$3:$R$501,'A.3 RASHODI FUNK'!$A27,'Unos rashoda i izdataka'!J$3:J$501)+SUMIF('Unos rashoda P4'!$T$3:$T$501,'A.3 RASHODI FUNK'!$A27,'Unos rashoda P4'!H$3:H$501)","v":0},{"$f":"SUMIF('Unos rashoda i izdataka'!$R$3:$R$501,'A.3 RASHODI FUNK'!$A27,'Unos rashoda i izdataka'!K$3:K$501)+SUMIF('Unos rashoda P4'!$T$3:$T$501,'A.3 RASHODI FUNK'!$A27,'Unos rashoda P4'!I$3:I$501)","v":0},{"$f":"SUMIF('Unos rashoda i izdataka'!$R$3:$R$501,'A.3 RASHODI FUNK'!$A27,'Unos rashoda i izdataka'!L$3:L$501)+SUMIF('Unos rashoda P4'!$T$3:$T$501,'A.3 RASHODI FUNK'!$A27,'Unos rashoda P4'!J$3:J$501)","v":0},{"$f":"'OPĆI DIO'!$C$1","v":"38454 SVEUČILIŠTE U RIJECI - AKADEMIJA PRIMJENJENIH UMJETNOSTI"}]
[4,"Ekonomski poslovi",{"$f":"SUM(C29:C37)","v":0},{"$f":"SUM(D29:D37)","v":0},{"$f":"SUM(E29:E37)","v":0},{"$f":"'OPĆI DIO'!$C$1","v":"38454 SVEUČILIŠTE U RIJECI - AKADEMIJA PRIMJENJENIH UMJETNOSTI"}]
[41,"Opći ekonomski, trgovački i poslovi vezani uz rad",{"$f":"SUMIF('Unos rashoda i izdataka'!$R$3:$R$501,'A.3 RASHODI FUNK'!$A29,'Unos rashoda i izdataka'!J$3:J$501)+SUMIF('Unos rashoda P4'!$T$3:$T$501,'A.3 RASHODI FUNK'!$A29,'Unos rashoda P4'!H$3:H$501)","v":0},{"$f":"SUMIF('Unos rashoda i izdataka'!$R$3:$R$501,'A.3 RASHODI FUNK'!$A29,'Unos rashoda i izdataka'!K$3:K$501)+SUMIF('Unos rashoda P4'!$T$3:$T$501,'A.3 RASHODI FUNK'!$A29,'Unos rashoda P4'!I$3:I$501)","v":0},{"$f":"SUMIF('Unos rashoda i izdataka'!$R$3:$R$501,'A.3 RASHODI FUNK'!$A29,'Unos rashoda i izdataka'!L$3:L$501)+SUMIF('Unos rashoda P4'!$T$3:$T$501,'A.3 RASHODI FUNK'!$A29,'Unos rashoda P4'!J$3:J$501)","v":0},{"$f":"'OPĆI DIO'!$C$1","v":"38454 SVEUČILIŠTE U RIJECI - AKADEMIJA PRIMJENJENIH UMJETNOSTI"}]
[42,"Poljoprivreda, šumarstvo, ribarstvo i lov",{"$f":"SUMIF('Unos rashoda i izdataka'!$R$3:$R$501,'A.3 RASHODI FUNK'!$A30,'Unos rashoda i izdataka'!J$3:J$501)+SUMIF('Unos rashoda P4'!$T$3:$T$501,'A.3 RASHODI FUNK'!$A30,'Unos rashoda P4'!H$3:H$501)","v":0},{"$f":"SUMIF('Unos rashoda i izdataka'!$R$3:$R$501,'A.3 RASHODI FUNK'!$A30,'Unos rashoda i izdataka'!K$3:K$501)+SUMIF('Unos rashoda P4'!$T$3:$T$501,'A.3 RASHODI FUNK'!$A30,'Unos rashoda P4'!I$3:I$501)","v":0},{"$f":"SUMIF('Unos rashoda i izdataka'!$R$3:$R$501,'A.3 RASHODI FUNK'!$A30,'Unos rashoda i izdataka'!L$3:L$501)+SUMIF('Unos rashoda P4'!$T$3:$T$501,'A.3 RASHODI FUNK'!$A30,'Unos rashoda P4'!J$3:J$501)","v":0},{"$f":"'OPĆI DIO'!$C$1","v":"38454 SVEUČILIŠTE U RIJECI - AKADEMIJA PRIMJENJENIH UMJETNOSTI"}]
[43,"Gorivo i energija",{"$f":"SUMIF('Unos rashoda i izdataka'!$R$3:$R$501,'A.3 RASHODI FUNK'!$A31,'Unos rashoda i izdataka'!J$3:J$501)+SUMIF('Unos rashoda P4'!$T$3:$T$501,'A.3 RASHODI FUNK'!$A31,'Unos rashoda P4'!H$3:H$501)","v":0},{"$f":"SUMIF('Unos rashoda i izdataka'!$R$3:$R$501,'A.3 RASHODI FUNK'!$A31,'Unos rashoda i izdataka'!K$3:K$501)+SUMIF('Unos rashoda P4'!$T$3:$T$501,'A.3 RASHODI FUNK'!$A31,'Unos rashoda P4'!I$3:I$501)","v":0},{"$f":"SUMIF('Unos rashoda i izdataka'!$R$3:$R$501,'A.3 RASHODI FUNK'!$A31,'Unos rashoda i izdataka'!L$3:L$501)+SUMIF('Unos rashoda P4'!$T$3:$T$501,'A.3 RASHODI FUNK'!$A31,'Unos rashoda P4'!J$3:J$501)","v":0},{"$f":"'OPĆI DIO'!$C$1","v":"38454 SVEUČILIŠTE U RIJECI - AKADEMIJA PRIMJENJENIH UMJETNOSTI"}]
[44,"Rudarstvo, proizvodnja i građevinarstvo",{"$f":"SUMIF('Unos rashoda i izdataka'!$R$3:$R$501,'A.3 RASHODI FUNK'!$A32,'Unos rashoda i izdataka'!J$3:J$501)+SUMIF('Unos rashoda P4'!$T$3:$T$501,'A.3 RASHODI FUNK'!$A32,'Unos rashoda P4'!H$3:H$501)","v":0},{"$f":"SUMIF('Unos rashoda i izdataka'!$R$3:$R$501,'A.3 RASHODI FUNK'!$A32,'Unos rashoda i izdataka'!K$3:K$501)+SUMIF('Unos rashoda P4'!$T$3:$T$501,'A.3 RASHODI FUNK'!$A32,'Unos rashoda P4'!I$3:I$501)","v":0},{"$f":"SUMIF('Unos rashoda i izdataka'!$R$3:$R$501,'A.3 RASHODI FUNK'!$A32,'Unos rashoda i izdataka'!L$3:L$501)+SUMIF('Unos rashoda P4'!$T$3:$T$501,'A.3 RASHODI FUNK'!$A32,'Unos rashoda P4'!J$3:J$501)","v":0},{"$f":"'OPĆI DIO'!$C$1","v":"38454 SVEUČILIŠTE U RIJECI - AKADEMIJA PRIMJENJENIH UMJETNOSTI"}]
[45,"Promet",{"$f":"SUMIF('Unos rashoda i izdataka'!$R$3:$R$501,'A.3 RASHODI FUNK'!$A33,'Unos rashoda i izdataka'!J$3:J$501)+SUMIF('Unos rashoda P4'!$T$3:$T$501,'A.3 RASHODI FUNK'!$A33,'Unos rashoda P4'!H$3:H$501)","v":0},{"$f":"SUMIF('Unos rashoda i izdataka'!$R$3:$R$501,'A.3 RASHODI FUNK'!$A33,'Unos rashoda i izdataka'!K$3:K$501)+SUMIF('Unos rashoda P4'!$T$3:$T$501,'A.3 RASHODI FUNK'!$A33,'Unos rashoda P4'!I$3:I$501)","v":0},{"$f":"SUMIF('Unos rashoda i izdataka'!$R$3:$R$501,'A.3 RASHODI FUNK'!$A33,'Unos rashoda i izdataka'!L$3:L$501)+SUMIF('Unos rashoda P4'!$T$3:$T$501,'A.3 RASHODI FUNK'!$A33,'Unos rashoda P4'!J$3:J$501)","v":0},{"$f":"'OPĆI DIO'!$C$1","v":"38454 SVEUČILIŠTE U RIJECI - AKADEMIJA PRIMJENJENIH UMJETNOSTI"}]
[46,"Komunikacije",{"$f":"SUMIF('Unos rashoda i izdataka'!$R$3:$R$501,'A.3 RASHODI FUNK'!$A34,'Unos rashoda i izdataka'!J$3:J$501)+SUMIF('Unos rashoda P4'!$T$3:$T$501,'A.3 RASHODI FUNK'!$A34,'Unos rashoda P4'!H$3:H$501)","v":0},{"$f":"SUMIF('Unos rashoda i izdataka'!$R$3:$R$501,'A.3 RASHODI FUNK'!$A34,'Unos rashoda i izdataka'!K$3:K$501)+SUMIF('Unos rashoda P4'!$T$3:$T$501,'A.3 RASHODI FUNK'!$A34,'Unos rashoda P4'!I$3:I$501)","v":0},{"$f":"SUMIF('Unos rashoda i izdataka'!$R$3:$R$501,'A.3 RASHODI FUNK'!$A34,'Unos rashoda i izdataka'!L$3:L$501)+SUMIF('Unos rashoda P4'!$T$3:$T$501,'A.3 RASHODI FUNK'!$A34,'Unos rashoda P4'!J$3:J$501)","v":0},{"$f":"'OPĆI DIO'!$C$1","v":"38454 SVEUČILIŠTE U RIJECI - AKADEMIJA PRIMJENJENIH UMJETNOSTI"}]
[47,"Ostale industrije",{"$f":"SUMIF('Unos rashoda i izdataka'!$R$3:$R$501,'A.3 RASHODI FUNK'!$A35,'Unos rashoda i izdataka'!J$3:J$501)+SUMIF('Unos rashoda P4'!$T$3:$T$501,'A.3 RASHODI FUNK'!$A35,'Unos rashoda P4'!H$3:H$501)","v":0},{"$f":"SUMIF('Unos rashoda i izdataka'!$R$3:$R$501,'A.3 RASHODI FUNK'!$A35,'Unos rashoda i izdataka'!K$3:K$501)+SUMIF('Unos rashoda P4'!$T$3:$T$501,'A.3 RASHODI FUNK'!$A35,'Unos rashoda P4'!I$3:I$501)","v":0},{"$f":"SUMIF('Unos rashoda i izdataka'!$R$3:$R$501,'A.3 RASHODI FUNK'!$A35,'Unos rashoda i izdataka'!L$3:L$501)+SUMIF('Unos rashoda P4'!$T$3:$T$501,'A.3 RASHODI FUNK'!$A35,'Unos rashoda P4'!J$3:J$501)","v":0},{"$f":"'OPĆI DIO'!$C$1","v":"38454 SVEUČILIŠTE U RIJECI - AKADEMIJA PRIMJENJENIH UMJETNOSTI"}]
[48,"Istraživanje i razvoj: Ekonomski poslovi",{"$f":"SUMIF('Unos rashoda i izdataka'!$R$3:$R$501,'A.3 RASHODI FUNK'!$A36,'Unos rashoda i izdataka'!J$3:J$501)+SUMIF('Unos rashoda P4'!$T$3:$T$501,'A.3 RASHODI FUNK'!$A36,'Unos rashoda P4'!H$3:H$501)","v":0},{"$f":"SUMIF('Unos rashoda i izdataka'!$R$3:$R$501,'A.3 RASHODI FUNK'!$A36,'Unos rashoda i izdataka'!K$3:K$501)+SUMIF('Unos rashoda P4'!$T$3:$T$501,'A.3 RASHODI FUNK'!$A36,'Unos rashoda P4'!I$3:I$501)","v":0},{"$f":"SUMIF('Unos rashoda i izdataka'!$R$3:$R$501,'A.3 RASHODI FUNK'!$A36,'Unos rashoda i izdataka'!L$3:L$501)+SUMIF('Unos rashoda P4'!$T$3:$T$501,'A.3 RASHODI FUNK'!$A36,'Unos rashoda P4'!J$3:J$501)","v":0},{"$f":"'OPĆI DIO'!$C$1","v":"38454 SVEUČILIŠTE U RIJECI - AKADEMIJA PRIMJENJENIH UMJETNOSTI"}]
[49,"Ekonomski poslovi koji nisu drugdje svrstani",{"$f":"SUMIF('Unos rashoda i izdataka'!$R$3:$R$501,'A.3 RASHODI FUNK'!$A37,'Unos rashoda i izdataka'!J$3:J$501)+SUMIF('Unos rashoda P4'!$T$3:$T$501,'A.3 RASHODI FUNK'!$A37,'Unos rashoda P4'!H$3:H$501)","v":0},{"$f":"SUMIF('Unos rashoda i izdataka'!$R$3:$R$501,'A.3 RASHODI FUNK'!$A37,'Unos rashoda i izdataka'!K$3:K$501)+SUMIF('Unos rashoda P4'!$T$3:$T$501,'A.3 RASHODI FUNK'!$A37,'Unos rashoda P4'!I$3:I$501)","v":0},{"$f":"SUMIF('Unos rashoda i izdataka'!$R$3:$R$501,'A.3 RASHODI FUNK'!$A37,'Unos rashoda i izdataka'!L$3:L$501)+SUMIF('Unos rashoda P4'!$T$3:$T$501,'A.3 RASHODI FUNK'!$A37,'Unos rashoda P4'!J$3:J$501)","v":0},{"$f":"'OPĆI DIO'!$C$1","v":"38454 SVEUČILIŠTE U RIJECI - AKADEMIJA PRIMJENJENIH UMJETNOSTI"}]
[5,"Zaštita okoliša",{"$f":"SUM(C39:C44)","v":0},{"$f":"SUM(D39:D44)","v":0},{"$f":"SUM(E39:E44)","v":0},{"$f":"'OPĆI DIO'!$C$1","v":"38454 SVEUČILIŠTE U RIJECI - AKADEMIJA PRIMJENJENIH UMJETNOSTI"}]
[51,"Gospodarenje otpadom",{"$f":"SUMIF('Unos rashoda i izdataka'!$R$3:$R$501,'A.3 RASHODI FUNK'!$A39,'Unos rashoda i izdataka'!J$3:J$501)+SUMIF('Unos rashoda P4'!$T$3:$T$501,'A.3 RASHODI FUNK'!$A39,'Unos rashoda P4'!H$3:H$501)","v":0},{"$f":"SUMIF('Unos rashoda i izdataka'!$R$3:$R$501,'A.3 RASHODI FUNK'!$A39,'Unos rashoda i izdataka'!K$3:K$501)+SUMIF('Unos rashoda P4'!$T$3:$T$501,'A.3 RASHODI FUNK'!$A39,'Unos rashoda P4'!I$3:I$501)","v":0},{"$f":"SUMIF('Unos rashoda i izdataka'!$R$3:$R$501,'A.3 RASHODI FUNK'!$A39,'Unos rashoda i izdataka'!L$3:L$501)+SUMIF('Unos rashoda P4'!$T$3:$T$501,'A.3 RASHODI FUNK'!$A39,'Unos rashoda P4'!J$3:J$501)","v":0},{"$f":"'OPĆI DIO'!$C$1","v":"38454 SVEUČILIŠTE U RIJECI - AKADEMIJA PRIMJENJENIH UMJETNOSTI"}]
[52,"Gospodarenje otpadnim vodama",{"$f":"SUMIF('Unos rashoda i izdataka'!$R$3:$R$501,'A.3 RASHODI FUNK'!$A40,'Unos rashoda i izdataka'!J$3:J$501)+SUMIF('Unos rashoda P4'!$T$3:$T$501,'A.3 RASHODI FUNK'!$A40,'Unos rashoda P4'!H$3:H$501)","v":0},{"$f":"SUMIF('Unos rashoda i izdataka'!$R$3:$R$501,'A.3 RASHODI FUNK'!$A40,'Unos rashoda i izdataka'!K$3:K$501)+SUMIF('Unos rashoda P4'!$T$3:$T$501,'A.3 RASHODI FUNK'!$A40,'Unos rashoda P4'!I$3:I$501)","v":0},{"$f":"SUMIF('Unos rashoda i izdataka'!$R$3:$R$501,'A.3 RASHODI FUNK'!$A40,'Unos rashoda i izdataka'!L$3:L$501)+SUMIF('Unos rashoda P4'!$T$3:$T$501,'A.3 RASHODI FUNK'!$A40,'Unos rashoda P4'!J$3:J$501)","v":0},{"$f":"'OPĆI DIO'!$C$1","v":"38454 SVEUČILIŠTE U RIJECI - AKADEMIJA PRIMJENJENIH UMJETNOSTI"}]
[53,"Smanjenje zagađivanja",{"$f":"SUMIF('Unos rashoda i izdataka'!$R$3:$R$501,'A.3 RASHODI FUNK'!$A41,'Unos rashoda i izdataka'!J$3:J$501)+SUMIF('Unos rashoda P4'!$T$3:$T$501,'A.3 RASHODI FUNK'!$A41,'Unos rashoda P4'!H$3:H$501)","v":0},{"$f":"SUMIF('Unos rashoda i izdataka'!$R$3:$R$501,'A.3 RASHODI FUNK'!$A41,'Unos rashoda i izdataka'!K$3:K$501)+SUMIF('Unos rashoda P4'!$T$3:$T$501,'A.3 RASHODI FUNK'!$A41,'Unos rashoda P4'!I$3:I$501)","v":0},{"$f":"SUMIF('Unos rashoda i izdataka'!$R$3:$R$501,'A.3 RASHODI FUNK'!$A41,'Unos rashoda i izdataka'!L$3:L$501)+SUMIF('Unos rashoda P4'!$T$3:$T$501,'A.3 RASHODI FUNK'!$A41,'Unos rashoda P4'!J$3:J$501)","v":0},{"$f":"'OPĆI DIO'!$C$1","v":"38454 SVEUČILIŠTE U RIJECI - AKADEMIJA PRIMJENJENIH UMJETNOSTI"}]
[54,"Zaštita bioraznolikosti i krajolika",{"$f":"SUMIF('Unos rashoda i izdataka'!$R$3:$R$501,'A.3 RASHODI FUNK'!$A42,'Unos rashoda i izdataka'!J$3:J$501)+SUMIF('Unos rashoda P4'!$T$3:$T$501,'A.3 RASHODI FUNK'!$A42,'Unos rashoda P4'!H$3:H$501)","v":0},{"$f":"SUMIF('Unos rashoda i izdataka'!$R$3:$R$501,'A.3 RASHODI FUNK'!$A42,'Unos rashoda i izdataka'!K$3:K$501)+SUMIF('Unos rashoda P4'!$T$3:$T$501,'A.3 RASHODI FUNK'!$A42,'Unos rashoda P4'!I$3:I$501)","v":0},{"$f":"SUMIF('Unos rashoda i izdataka'!$R$3:$R$501,'A.3 RASHODI FUNK'!$A42,'Unos rashoda i izdataka'!L$3:L$501)+SUMIF('Unos rashoda P4'!$T$3:$T$501,'A.3 RASHODI FUNK'!$A42,'Unos rashoda P4'!J$3:J$501)","v":0},{"$f":"'OPĆI DIO'!$C$1","v":"38454 SVEUČILIŠTE U RIJECI - AKADEMIJA PRIMJENJENIH UMJETNOSTI"}]
[55,"Istraživanje i razvoj: Zaštita okoliša",{"$f":"SUMIF('Unos rashoda i izdataka'!$R$3:$R$501,'A.3 RASHODI FUNK'!$A43,'Unos rashoda i izdataka'!J$3:J$501)+SUMIF('Unos rashoda P4'!$T$3:$T$501,'A.3 RASHODI FUNK'!$A43,'Unos rashoda P4'!H$3:H$501)","v":0},{"$f":"SUMIF('Unos rashoda i izdataka'!$R$3:$R$501,'A.3 RASHODI FUNK'!$A43,'Unos rashoda i izdataka'!K$3:K$501)+SUMIF('Unos rashoda P4'!$T$3:$T$501,'A.3 RASHODI FUNK'!$A43,'Unos rashoda P4'!I$3:I$501)","v":0},{"$f":"SUMIF('Unos rashoda i izdataka'!$R$3:$R$501,'A.3 RASHODI FUNK'!$A43,'Unos rashoda i izdataka'!L$3:L$501)+SUMIF('Unos rashoda P4'!$T$3:$T$501,'A.3 RASHODI FUNK'!$A43,'Unos rashoda P4'!J$3:J$501)","v":0},{"$f":"'OPĆI DIO'!$C$1","v":"38454 SVEUČILIŠTE U RIJECI - AKADEMIJA PRIMJENJENIH UMJETNOSTI"}]
[56,"Poslovi i usluge zaštite okoliša koji nisu drugdje svrstani",{"$f":"SUMIF('Unos rashoda i izdataka'!$R$3:$R$501,'A.3 RASHODI FUNK'!$A44,'Unos rashoda i izdataka'!J$3:J$501)+SUMIF('Unos rashoda P4'!$T$3:$T$501,'A.3 RASHODI FUNK'!$A44,'Unos rashoda P4'!H$3:H$501)","v":0},{"$f":"SUMIF('Unos rashoda i izdataka'!$R$3:$R$501,'A.3 RASHODI FUNK'!$A44,'Unos rashoda i izdataka'!K$3:K$501)+SUMIF('Unos rashoda P4'!$T$3:$T$501,'A.3 RASHODI FUNK'!$A44,'Unos rashoda P4'!I$3:I$501)","v":0},{"$f":"SUMIF('Unos rashoda i izdataka'!$R$3:$R$501,'A.3 RASHODI FUNK'!$A44,'Unos rashoda i izdataka'!L$3:L$501)+SUMIF('Unos rashoda P4'!$T$3:$T$501,'A.3 RASHODI FUNK'!$A44,'Unos rashoda P4'!J$3:J$501)","v":0},{"$f":"'OPĆI DIO'!$C$1","v":"38454 SVEUČILIŠTE U RIJECI - AKADEMIJA PRIMJENJENIH UMJETNOSTI"}]
[6,"Usluge unaprjeđenja stanovanja i zajednice",{"$f":"SUM(C46:C51)","v":0},{"$f":"SUM(D46:D51)","v":0},{"$f":"SUM(E46:E51)","v":0},{"$f":"'OPĆI DIO'!$C$1","v":"38454 SVEUČILIŠTE U RIJECI - AKADEMIJA PRIMJENJENIH UMJETNOSTI"}]
[61,"Razvoj stanovanja",{"$f":"SUMIF('Unos rashoda i izdataka'!$R$3:$R$501,'A.3 RASHODI FUNK'!$A46,'Unos rashoda i izdataka'!J$3:J$501)+SUMIF('Unos rashoda P4'!$T$3:$T$501,'A.3 RASHODI FUNK'!$A46,'Unos rashoda P4'!H$3:H$501)","v":0},{"$f":"SUMIF('Unos rashoda i izdataka'!$R$3:$R$501,'A.3 RASHODI FUNK'!$A46,'Unos rashoda i izdataka'!K$3:K$501)+SUMIF('Unos rashoda P4'!$T$3:$T$501,'A.3 RASHODI FUNK'!$A46,'Unos rashoda P4'!I$3:I$501)","v":0},{"$f":"SUMIF('Unos rashoda i izdataka'!$R$3:$R$501,'A.3 RASHODI FUNK'!$A46,'Unos rashoda i izdataka'!L$3:L$501)+SUMIF('Unos rashoda P4'!$T$3:$T$501,'A.3 RASHODI FUNK'!$A46,'Unos rashoda P4'!J$3:J$501)","v":0},{"$f":"'OPĆI DIO'!$C$1","v":"38454 SVEUČILIŠTE U RIJECI - AKADEMIJA PRIMJENJENIH UMJETNOSTI"}]
[62,"Razvoj zajednice",{"$f":"SUMIF('Unos rashoda i izdataka'!$R$3:$R$501,'A.3 RASHODI FUNK'!$A47,'Unos rashoda i izdataka'!J$3:J$501)+SUMIF('Unos rashoda P4'!$T$3:$T$501,'A.3 RASHODI FUNK'!$A47,'Unos rashoda P4'!H$3:H$501)","v":0},{"$f":"SUMIF('Unos rashoda i izdataka'!$R$3:$R$501,'A.3 RASHODI FUNK'!$A47,'Unos rashoda i izdataka'!K$3:K$501)+SUMIF('Unos rashoda P4'!$T$3:$T$501,'A.3 RASHODI FUNK'!$A47,'Unos rashoda P4'!I$3:I$501)","v":0},{"$f":"SUMIF('Unos rashoda i izdataka'!$R$3:$R$501,'A.3 RASHODI FUNK'!$A47,'Unos rashoda i izdataka'!L$3:L$501)+SUMIF('Unos rashoda P4'!$T$3:$T$501,'A.3 RASHODI FUNK'!$A47,'Unos rashoda P4'!J$3:J$501)","v":0},{"$f":"'OPĆI DIO'!$C$1","v":"38454 SVEUČILIŠTE U RIJECI - AKADEMIJA PRIMJENJENIH UMJETNOSTI"}]
[63,"Opskrba vodom",{"$f":"SUMIF('Unos rashoda i izdataka'!$R$3:$R$501,'A.3 RASHODI FUNK'!$A48,'Unos rashoda i izdataka'!J$3:J$501)+SUMIF('Unos rashoda P4'!$T$3:$T$501,'A.3 RASHODI FUNK'!$A48,'Unos rashoda P4'!H$3:H$501)","v":0},{"$f":"SUMIF('Unos rashoda i izdataka'!$R$3:$R$501,'A.3 RASHODI FUNK'!$A48,'Unos rashoda i izdataka'!K$3:K$501)+SUMIF('Unos rashoda P4'!$T$3:$T$501,'A.3 RASHODI FUNK'!$A48,'Unos rashoda P4'!I$3:I$501)","v":0},{"$f":"SUMIF('Unos rashoda i izdataka'!$R$3:$R$501,'A.3 RASHODI FUNK'!$A48,'Unos rashoda i izdataka'!L$3:L$501)+SUMIF('Unos rashoda P4'!$T$3:$T$501,'A.3 RASHODI FUNK'!$A48,'Unos rashoda P4'!J$3:J$501)","v":0},{"$f":"'OPĆI DIO'!$C$1","v":"38454 SVEUČILIŠTE U RIJECI - AKADEMIJA PRIMJENJENIH UMJETNOSTI"}]
[64,"Ulična rasvjeta",{"$f":"SUMIF('Unos rashoda i izdataka'!$R$3:$R$501,'A.3 RASHODI FUNK'!$A49,'Unos rashoda i izdataka'!J$3:J$501)+SUMIF('Unos rashoda P4'!$T$3:$T$501,'A.3 RASHODI FUNK'!$A49,'Unos rashoda P4'!H$3:H$501)","v":0},{"$f":"SUMIF('Unos rashoda i izdataka'!$R$3:$R$501,'A.3 RASHODI FUNK'!$A49,'Unos rashoda i izdataka'!K$3:K$501)+SUMIF('Unos rashoda P4'!$T$3:$T$501,'A.3 RASHODI FUNK'!$A49,'Unos rashoda P4'!I$3:I$501)","v":0},{"$f":"SUMIF('Unos rashoda i izdataka'!$R$3:$R$501,'A.3 RASHODI FUNK'!$A49,'Unos rashoda i izdataka'!L$3:L$501)+SUMIF('Unos rashoda P4'!$T$3:$T$501,'A.3 RASHODI FUNK'!$A49,'Unos rashoda P4'!J$3:J$501)","v":0},{"$f":"'OPĆI DIO'!$C$1","v":"38454 SVEUČILIŠTE U RIJECI - AKADEMIJA PRIMJENJENIH UMJETNOSTI"}]
[65,"Istraživanje i razvoj stanovanja i komunalnih pogodnosti",{"$f":"SUMIF('Unos rashoda i izdataka'!$R$3:$R$501,'A.3 RASHODI FUNK'!$A50,'Unos rashoda i izdataka'!J$3:J$501)+SUMIF('Unos rashoda P4'!$T$3:$T$501,'A.3 RASHODI FUNK'!$A50,'Unos rashoda P4'!H$3:H$501)","v":0},{"$f":"SUMIF('Unos rashoda i izdataka'!$R$3:$R$501,'A.3 RASHODI FUNK'!$A50,'Unos rashoda i izdataka'!K$3:K$501)+SUMIF('Unos rashoda P4'!$T$3:$T$501,'A.3 RASHODI FUNK'!$A50,'Unos rashoda P4'!I$3:I$501)","v":0},{"$f":"SUMIF('Unos rashoda i izdataka'!$R$3:$R$501,'A.3 RASHODI FUNK'!$A50,'Unos rashoda i izdataka'!L$3:L$501)+SUMIF('Unos rashoda P4'!$T$3:$T$501,'A.3 RASHODI FUNK'!$A50,'Unos rashoda P4'!J$3:J$501)","v":0},{"$f":"'OPĆI DIO'!$C$1","v":"38454 SVEUČILIŠTE U RIJECI - AKADEMIJA PRIMJENJENIH UMJETNOSTI"}]
[66,"Rashodi vezani uz stanovanje i kom. pogodnosti koji nisu drugdje svrstani",{"$f":"SUMIF('Unos rashoda i izdataka'!$R$3:$R$501,'A.3 RASHODI FUNK'!$A51,'Unos rashoda i izdataka'!J$3:J$501)+SUMIF('Unos rashoda P4'!$T$3:$T$501,'A.3 RASHODI FUNK'!$A51,'Unos rashoda P4'!H$3:H$501)","v":0},{"$f":"SUMIF('Unos rashoda i izdataka'!$R$3:$R$501,'A.3 RASHODI FUNK'!$A51,'Unos rashoda i izdataka'!K$3:K$501)+SUMIF('Unos rashoda P4'!$T$3:$T$501,'A.3 RASHODI FUNK'!$A51,'Unos rashoda P4'!I$3:I$501)","v":0},{"$f":"SUMIF('Unos rashoda i izdataka'!$R$3:$R$501,'A.3 RASHODI FUNK'!$A51,'Unos rashoda i izdataka'!L$3:L$501)+SUMIF('Unos rashoda P4'!$T$3:$T$501,'A.3 RASHODI FUNK'!$A51,'Unos rashoda P4'!J$3:J$501)","v":0},{"$f":"'OPĆI DIO'!$C$1","v":"38454 SVEUČILIŠTE U RIJECI - AKADEMIJA PRIMJENJENIH UMJETNOSTI"}]
[7,"Zdravstvo",{"$f":"SUM(C53:C58)","v":0},{"$f":"SUM(D53:D58)","v":0},{"$f":"SUM(E53:E58)","v":0},{"$f":"'OPĆI DIO'!$C$1","v":"38454 SVEUČILIŠTE U RIJECI - AKADEMIJA PRIMJENJENIH UMJETNOSTI"}]
[71,"Medicinski proizvodi, pribor i oprema",{"$f":"SUMIF('Unos rashoda i izdataka'!$R$3:$R$501,'A.3 RASHODI FUNK'!$A53,'Unos rashoda i izdataka'!J$3:J$501)+SUMIF('Unos rashoda P4'!$T$3:$T$501,'A.3 RASHODI FUNK'!$A53,'Unos rashoda P4'!H$3:H$501)","v":0},{"$f":"SUMIF('Unos rashoda i izdataka'!$R$3:$R$501,'A.3 RASHODI FUNK'!$A53,'Unos rashoda i izdataka'!K$3:K$501)+SUMIF('Unos rashoda P4'!$T$3:$T$501,'A.3 RASHODI FUNK'!$A53,'Unos rashoda P4'!I$3:I$501)","v":0},{"$f":"SUMIF('Unos rashoda i izdataka'!$R$3:$R$501,'A.3 RASHODI FUNK'!$A53,'Unos rashoda i izdataka'!L$3:L$501)+SUMIF('Unos rashoda P4'!$T$3:$T$501,'A.3 RASHODI FUNK'!$A53,'Unos rashoda P4'!J$3:J$501)","v":0},{"$f":"'OPĆI DIO'!$C$1","v":"38454 SVEUČILIŠTE U RIJECI - AKADEMIJA PRIMJENJENIH UMJETNOSTI"}]
[72,"Službe za vanjske pacijente",{"$f":"SUMIF('Unos rashoda i izdataka'!$R$3:$R$501,'A.3 RASHODI FUNK'!$A54,'Unos rashoda i izdataka'!J$3:J$501)+SUMIF('Unos rashoda P4'!$T$3:$T$501,'A.3 RASHODI FUNK'!$A54,'Unos rashoda P4'!H$3:H$501)","v":0},{"$f":"SUMIF('Unos rashoda i izdataka'!$R$3:$R$501,'A.3 RASHODI FUNK'!$A54,'Unos rashoda i izdataka'!K$3:K$501)+SUMIF('Unos rashoda P4'!$T$3:$T$501,'A.3 RASHODI FUNK'!$A54,'Unos rashoda P4'!I$3:I$501)","v":0},{"$f":"SUMIF('Unos rashoda i izdataka'!$R$3:$R$501,'A.3 RASHODI FUNK'!$A54,'Unos rashoda i izdataka'!L$3:L$501)+SUMIF('Unos rashoda P4'!$T$3:$T$501,'A.3 RASHODI FUNK'!$A54,'Unos rashoda P4'!J$3:J$501)","v":0},{"$f":"'OPĆI DIO'!$C$1","v":"38454 SVEUČILIŠTE U RIJECI - AKADEMIJA PRIMJENJENIH UMJETNOSTI"}]
[73,"Bolničke službe",{"$f":"SUMIF('Unos rashoda i izdataka'!$R$3:$R$501,'A.3 RASHODI FUNK'!$A55,'Unos rashoda i izdataka'!J$3:J$501)+SUMIF('Unos rashoda P4'!$T$3:$T$501,'A.3 RASHODI FUNK'!$A55,'Unos rashoda P4'!H$3:H$501)","v":0},{"$f":"SUMIF('Unos rashoda i izdataka'!$R$3:$R$501,'A.3 RASHODI FUNK'!$A55,'Unos rashoda i izdataka'!K$3:K$501)+SUMIF('Unos rashoda P4'!$T$3:$T$501,'A.3 RASHODI FUNK'!$A55,'Unos rashoda P4'!I$3:I$501)","v":0},{"$f":"SUMIF('Unos rashoda i izdataka'!$R$3:$R$501,'A.3 RASHODI FUNK'!$A55,'Unos rashoda i izdataka'!L$3:L$501)+SUMIF('Unos rashoda P4'!$T$3:$T$501,'A.3 RASHODI FUNK'!$A55,'Unos rashoda P4'!J$3:J$501)","v":0},{"$f":"'OPĆI DIO'!$C$1","v":"38454 SVEUČILIŠTE U RIJECI - AKADEMIJA PRIMJENJENIH UMJETNOSTI"}]
[74,"Službe javnog zdravstva",{"$f":"SUMIF('Unos rashoda i izdataka'!$R$3:$R$501,'A.3 RASHODI FUNK'!$A56,'Unos rashoda i izdataka'!J$3:J$501)+SUMIF('Unos rashoda P4'!$T$3:$T$501,'A.3 RASHODI FUNK'!$A56,'Unos rashoda P4'!H$3:H$501)","v":0},{"$f":"SUMIF('Unos rashoda i izdataka'!$R$3:$R$501,'A.3 RASHODI FUNK'!$A56,'Unos rashoda i izdataka'!K$3:K$501)+SUMIF('Unos rashoda P4'!$T$3:$T$501,'A.3 RASHODI FUNK'!$A56,'Unos rashoda P4'!I$3:I$501)","v":0},{"$f":"SUMIF('Unos rashoda i izdataka'!$R$3:$R$501,'A.3 RASHODI FUNK'!$A56,'Unos rashoda i izdataka'!L$3:L$501)+SUMIF('Unos rashoda P4'!$T$3:$T$501,'A.3 RASHODI FUNK'!$A56,'Unos rashoda P4'!J$3:J$501)","v":0},{"$f":"'OPĆI DIO'!$C$1","v":"38454 SVEUČILIŠTE U RIJECI - AKADEMIJA PRIMJENJENIH UMJETNOSTI"}]
[75,"Istraživanje i razvoj zdravstva",{"$f":"SUMIF('Unos rashoda i izdataka'!$R$3:$R$501,'A.3 RASHODI FUNK'!$A57,'Unos rashoda i izdataka'!J$3:J$501)+SUMIF('Unos rashoda P4'!$T$3:$T$501,'A.3 RASHODI FUNK'!$A57,'Unos rashoda P4'!H$3:H$501)","v":0},{"$f":"SUMIF('Unos rashoda i izdataka'!$R$3:$R$501,'A.3 RASHODI FUNK'!$A57,'Unos rashoda i izdataka'!K$3:K$501)+SUMIF('Unos rashoda P4'!$T$3:$T$501,'A.3 RASHODI FUNK'!$A57,'Unos rashoda P4'!I$3:I$501)","v":0},{"$f":"SUMIF('Unos rashoda i izdataka'!$R$3:$R$501,'A.3 RASHODI FUNK'!$A57,'Unos rashoda i izdataka'!L$3:L$501)+SUMIF('Unos rashoda P4'!$T$3:$T$501,'A.3 RASHODI FUNK'!$A57,'Unos rashoda P4'!J$3:J$501)","v":0},{"$f":"'OPĆI DIO'!$C$1","v":"38454 SVEUČILIŠTE U RIJECI - AKADEMIJA PRIMJENJENIH UMJETNOSTI"}]
[76,"Poslovi i usluge zdravstva koji nisu drugdje svrstani",{"$f":"SUMIF('Unos rashoda i izdataka'!$R$3:$R$501,'A.3 RASHODI FUNK'!$A58,'Unos rashoda i izdataka'!J$3:J$501)+SUMIF('Unos rashoda P4'!$T$3:$T$501,'A.3 RASHODI FUNK'!$A58,'Unos rashoda P4'!H$3:H$501)","v":0},{"$f":"SUMIF('Unos rashoda i izdataka'!$R$3:$R$501,'A.3 RASHODI FUNK'!$A58,'Unos rashoda i izdataka'!K$3:K$501)+SUMIF('Unos rashoda P4'!$T$3:$T$501,'A.3 RASHODI FUNK'!$A58,'Unos rashoda P4'!I$3:I$501)","v":0},{"$f":"SUMIF('Unos rashoda i izdataka'!$R$3:$R$501,'A.3 RASHODI FUNK'!$A58,'Unos rashoda i izdataka'!L$3:L$501)+SUMIF('Unos rashoda P4'!$T$3:$T$501,'A.3 RASHODI FUNK'!$A58,'Unos rashoda P4'!J$3:J$501)","v":0},{"$f":"'OPĆI DIO'!$C$1","v":"38454 SVEUČILIŠTE U RIJECI - AKADEMIJA PRIMJENJENIH UMJETNOSTI"}]
[8,"Rekreacija, kultura i religija",{"$f":"SUM(C60:C65)","v":0},{"$f":"SUM(D60:D65)","v":0},{"$f":"SUM(E60:E65)","v":0},{"$f":"'OPĆI DIO'!$C$1","v":"38454 SVEUČILIŠTE U RIJECI - AKADEMIJA PRIMJENJENIH UMJETNOSTI"}]
[81,"Službe rekreacije i sporta",{"$f":"SUMIF('Unos rashoda i izdataka'!$R$3:$R$501,'A.3 RASHODI FUNK'!$A60,'Unos rashoda i izdataka'!J$3:J$501)+SUMIF('Unos rashoda P4'!$T$3:$T$501,'A.3 RASHODI FUNK'!$A60,'Unos rashoda P4'!H$3:H$501)","v":0},{"$f":"SUMIF('Unos rashoda i izdataka'!$R$3:$R$501,'A.3 RASHODI FUNK'!$A60,'Unos rashoda i izdataka'!K$3:K$501)+SUMIF('Unos rashoda P4'!$T$3:$T$501,'A.3 RASHODI FUNK'!$A60,'Unos rashoda P4'!I$3:I$501)","v":0},{"$f":"SUMIF('Unos rashoda i izdataka'!$R$3:$R$501,'A.3 RASHODI FUNK'!$A60,'Unos rashoda i izdataka'!L$3:L$501)+SUMIF('Unos rashoda P4'!$T$3:$T$501,'A.3 RASHODI FUNK'!$A60,'Unos rashoda P4'!J$3:J$501)","v":0},{"$f":"'OPĆI DIO'!$C$1","v":"38454 SVEUČILIŠTE U RIJECI - AKADEMIJA PRIMJENJENIH UMJETNOSTI"}]
[82,"Službe kulture",{"$f":"SUMIF('Unos rashoda i izdataka'!$R$3:$R$501,'A.3 RASHODI FUNK'!$A61,'Unos rashoda i izdataka'!J$3:J$501)+SUMIF('Unos rashoda P4'!$T$3:$T$501,'A.3 RASHODI FUNK'!$A61,'Unos rashoda P4'!H$3:H$501)","v":0},{"$f":"SUMIF('Unos rashoda i izdataka'!$R$3:$R$501,'A.3 RASHODI FUNK'!$A61,'Unos rashoda i izdataka'!K$3:K$501)+SUMIF('Unos rashoda P4'!$T$3:$T$501,'A.3 RASHODI FUNK'!$A61,'Unos rashoda P4'!I$3:I$501)","v":0},{"$f":"SUMIF('Unos rashoda i izdataka'!$R$3:$R$501,'A.3 RASHODI FUNK'!$A61,'Unos rashoda i izdataka'!L$3:L$501)+SUMIF('Unos rashoda P4'!$T$3:$T$501,'A.3 RASHODI FUNK'!$A61,'Unos rashoda P4'!J$3:J$501)","v":0},{"$f":"'OPĆI DIO'!$C$1","v":"38454 SVEUČILIŠTE U RIJECI - AKADEMIJA PRIMJENJENIH UMJETNOSTI"}]
[83,"Službe emitiranja i izdavanja",{"$f":"SUMIF('Unos rashoda i izdataka'!$R$3:$R$501,'A.3 RASHODI FUNK'!$A62,'Unos rashoda i izdataka'!J$3:J$501)+SUMIF('Unos rashoda P4'!$T$3:$T$501,'A.3 RASHODI FUNK'!$A62,'Unos rashoda P4'!H$3:H$501)","v":0},{"$f":"SUMIF('Unos rashoda i izdataka'!$R$3:$R$501,'A.3 RASHODI FUNK'!$A62,'Unos rashoda i izdataka'!K$3:K$501)+SUMIF('Unos rashoda P4'!$T$3:$T$501,'A.3 RASHODI FUNK'!$A62,'Unos rashoda P4'!I$3:I$501)","v":0},{"$f":"SUMIF('Unos rashoda i izdataka'!$R$3:$R$501,'A.3 RASHODI FUNK'!$A62,'Unos rashoda i izdataka'!L$3:L$501)+SUMIF('Unos rashoda P4'!$T$3:$T$501,'A.3 RASHODI FUNK'!$A62,'Unos rashoda P4'!J$3:J$501)","v":0},{"$f":"'OPĆI DIO'!$C$1","v":"38454 SVEUČILIŠTE U RIJECI - AKADEMIJA PRIMJENJENIH UMJETNOSTI"}]
[84,"Religijske i druge službe zajednice",{"$f":"SUMIF('Unos rashoda i izdataka'!$R$3:$R$501,'A.3 RASHODI FUNK'!$A63,'Unos rashoda i izdataka'!J$3:J$501)+SUMIF('Unos rashoda P4'!$T$3:$T$501,'A.3 RASHODI FUNK'!$A63,'Unos rashoda P4'!H$3:H$501)","v":0},{"$f":"SUMIF('Unos rashoda i izdataka'!$R$3:$R$501,'A.3 RASHODI FUNK'!$A63,'Unos rashoda i izdataka'!K$3:K$501)+SUMIF('Unos rashoda P4'!$T$3:$T$501,'A.3 RASHODI FUNK'!$A63,'Unos rashoda P4'!I$3:I$501)","v":0},{"$f":"SUMIF('Unos rashoda i izdataka'!$R$3:$R$501,'A.3 RASHODI FUNK'!$A63,'Unos rashoda i izdataka'!L$3:L$501)+SUMIF('Unos rashoda P4'!$T$3:$T$501,'A.3 RASHODI FUNK'!$A63,'Unos rashoda P4'!J$3:J$501)","v":0},{"$f":"'OPĆI DIO'!$C$1","v":"38454 SVEUČILIŠTE U RIJECI - AKADEMIJA PRIMJENJENIH UMJETNOSTI"}]
[85,"Istraživanje i razvoj rekreacije, kulture i religije",{"$f":"SUMIF('Unos rashoda i izdataka'!$R$3:$R$501,'A.3 RASHODI FUNK'!$A64,'Unos rashoda i izdataka'!J$3:J$501)+SUMIF('Unos rashoda P4'!$T$3:$T$501,'A.3 RASHODI FUNK'!$A64,'Unos rashoda P4'!H$3:H$501)","v":0},{"$f":"SUMIF('Unos rashoda i izdataka'!$R$3:$R$501,'A.3 RASHODI FUNK'!$A64,'Unos rashoda i izdataka'!K$3:K$501)+SUMIF('Unos rashoda P4'!$T$3:$T$501,'A.3 RASHODI FUNK'!$A64,'Unos rashoda P4'!I$3:I$501)","v":0},{"$f":"SUMIF('Unos rashoda i izdataka'!$R$3:$R$501,'A.3 RASHODI FUNK'!$A64,'Unos rashoda i izdataka'!L$3:L$501)+SUMIF('Unos rashoda P4'!$T$3:$T$501,'A.3 RASHODI FUNK'!$A64,'Unos rashoda P4'!J$3:J$501)","v":0},{"$f":"'OPĆI DIO'!$C$1","v":"38454 SVEUČILIŠTE U RIJECI - AKADEMIJA PRIMJENJENIH UMJETNOSTI"}]
[86,"Rashodi za rekreaciju, kulturu i religiju koji nisu drugdje svrstani",{"$f":"SUMIF('Unos rashoda i izdataka'!$R$3:$R$501,'A.3 RASHODI FUNK'!$A65,'Unos rashoda i izdataka'!J$3:J$501)+SUMIF('Unos rashoda P4'!$T$3:$T$501,'A.3 RASHODI FUNK'!$A65,'Unos rashoda P4'!H$3:H$501)","v":0},{"$f":"SUMIF('Unos rashoda i izdataka'!$R$3:$R$501,'A.3 RASHODI FUNK'!$A65,'Unos rashoda i izdataka'!K$3:K$501)+SUMIF('Unos rashoda P4'!$T$3:$T$501,'A.3 RASHODI FUNK'!$A65,'Unos rashoda P4'!I$3:I$501)","v":0},{"$f":"SUMIF('Unos rashoda i izdataka'!$R$3:$R$501,'A.3 RASHODI FUNK'!$A65,'Unos rashoda i izdataka'!L$3:L$501)+SUMIF('Unos rashoda P4'!$T$3:$T$501,'A.3 RASHODI FUNK'!$A65,'Unos rashoda P4'!J$3:J$501)","v":0},{"$f":"'OPĆI DIO'!$C$1","v":"38454 SVEUČILIŠTE U RIJECI - AKADEMIJA PRIMJENJENIH UMJETNOSTI"}]
[9,"Obrazovanje",{"$f":"SUM(C67:C74)","v":{"v":3391009,"d":"3,391,009"}},{"$f":"SUM(D67:D74)","v":{"v":547663,"d":"547,663"}},{"$f":"SUM(E67:E74)","v":{"v":3938672,"d":"3,938,672"}},{"$f":"'OPĆI DIO'!$C$1","v":"38454 SVEUČILIŠTE U RIJECI - AKADEMIJA PRIMJENJENIH UMJETNOSTI"}]
[91,"Predškolsko i osnovno obrazovanje",{"$f":"SUMIF('Unos rashoda i izdataka'!$R$3:$R$501,'A.3 RASHODI FUNK'!$A67,'Unos rashoda i izdataka'!J$3:J$501)+SUMIF('Unos rashoda P4'!$T$3:$T$501,'A.3 RASHODI FUNK'!$A67,'Unos rashoda P4'!H$3:H$501)","v":0},{"$f":"SUMIF('Unos rashoda i izdataka'!$R$3:$R$501,'A.3 RASHODI FUNK'!$A67,'Unos rashoda i izdataka'!K$3:K$501)+SUMIF('Unos rashoda P4'!$T$3:$T$501,'A.3 RASHODI FUNK'!$A67,'Unos rashoda P4'!I$3:I$501)","v":0},{"$f":"SUMIF('Unos rashoda i izdataka'!$R$3:$R$501,'A.3 RASHODI FUNK'!$A67,'Unos rashoda i izdataka'!L$3:L$501)+SUMIF('Unos rashoda P4'!$T$3:$T$501,'A.3 RASHODI FUNK'!$A67,'Unos rashoda P4'!J$3:J$501)","v":0},{"$f":"'OPĆI DIO'!$C$1","v":"38454 SVEUČILIŠTE U RIJECI - AKADEMIJA PRIMJENJENIH UMJETNOSTI"}]
[92,"Srednjoškolsko obrazovanje",{"$f":"SUMIF('Unos rashoda i izdataka'!$R$3:$R$501,'A.3 RASHODI FUNK'!$A68,'Unos rashoda i izdataka'!J$3:J$501)+SUMIF('Unos rashoda P4'!$T$3:$T$501,'A.3 RASHODI FUNK'!$A68,'Unos rashoda P4'!H$3:H$501)","v":0},{"$f":"SUMIF('Unos rashoda i izdataka'!$R$3:$R$501,'A.3 RASHODI FUNK'!$A68,'Unos rashoda i izdataka'!K$3:K$501)+SUMIF('Unos rashoda P4'!$T$3:$T$501,'A.3 RASHODI FUNK'!$A68,'Unos rashoda P4'!I$3:I$501)","v":0},{"$f":"SUMIF('Unos rashoda i izdataka'!$R$3:$R$501,'A.3 RASHODI FUNK'!$A68,'Unos rashoda i izdataka'!L$3:L$501)+SUMIF('Unos rashoda P4'!$T$3:$T$501,'A.3 RASHODI FUNK'!$A68,'Unos rashoda P4'!J$3:J$501)","v":0},{"$f":"'OPĆI DIO'!$C$1","v":"38454 SVEUČILIŠTE U RIJECI - AKADEMIJA PRIMJENJENIH UMJETNOSTI"}]
[93,"Poslije srednjoškolsko, ali ne visoko obrazovanje",{"$f":"SUMIF('Unos rashoda i izdataka'!$R$3:$R$501,'A.3 RASHODI FUNK'!$A69,'Unos rashoda i izdataka'!J$3:J$501)+SUMIF('Unos rashoda P4'!$T$3:$T$501,'A.3 RASHODI FUNK'!$A69,'Unos rashoda P4'!H$3:H$501)","v":0},{"$f":"SUMIF('Unos rashoda i izdataka'!$R$3:$R$501,'A.3 RASHODI FUNK'!$A69,'Unos rashoda i izdataka'!K$3:K$501)+SUMIF('Unos rashoda P4'!$T$3:$T$501,'A.3 RASHODI FUNK'!$A69,'Unos rashoda P4'!I$3:I$501)","v":0},{"$f":"SUMIF('Unos rashoda i izdataka'!$R$3:$R$501,'A.3 RASHODI FUNK'!$A69,'Unos rashoda i izdataka'!L$3:L$501)+SUMIF('Unos rashoda P4'!$T$3:$T$501,'A.3 RASHODI FUNK'!$A69,'Unos rashoda P4'!J$3:J$501)","v":0},{"$f":"'OPĆI DIO'!$C$1","v":"38454 SVEUČILIŠTE U RIJECI - AKADEMIJA PRIMJENJENIH UMJETNOSTI"}]
[94,"Visoka naobrazba",{"$f":"SUMIF('Unos rashoda i izdataka'!$R$3:$R$501,'A.3 RASHODI FUNK'!$A70,'Unos rashoda i izdataka'!J$3:J$501)+SUMIF('Unos rashoda P4'!$T$3:$T$501,'A.3 RASHODI FUNK'!$A70,'Unos rashoda P4'!H$3:H$501)","v":{"v":3391009,"d":"3,391,009"}},{"$f":"SUMIF('Unos rashoda i izdataka'!$R$3:$R$501,'A.3 RASHODI FUNK'!$A70,'Unos rashoda i izdataka'!K$3:K$501)+SUMIF('Unos rashoda P4'!$T$3:$T$501,'A.3 RASHODI FUNK'!$A70,'Unos rashoda P4'!I$3:I$501)","v":{"v":547663,"d":"547,663"}},{"$f":"SUMIF('Unos rashoda i izdataka'!$R$3:$R$501,'A.3 RASHODI FUNK'!$A70,'Unos rashoda i izdataka'!L$3:L$501)+SUMIF('Unos rashoda P4'!$T$3:$T$501,'A.3 RASHODI FUNK'!$A70,'Unos rashoda P4'!J$3:J$501)","v":{"v":3938672,"d":"3,938,672"}},{"$f":"'OPĆI DIO'!$C$1","v":"38454 SVEUČILIŠTE U RIJECI - AKADEMIJA PRIMJENJENIH UMJETNOSTI"}]
[95,"Obrazovanje koje se ne može definirati po stupnju",{"$f":"SUMIF('Unos rashoda i izdataka'!$R$3:$R$501,'A.3 RASHODI FUNK'!$A71,'Unos rashoda i izdataka'!J$3:J$501)+SUMIF('Unos rashoda P4'!$T$3:$T$501,'A.3 RASHODI FUNK'!$A71,'Unos rashoda P4'!H$3:H$501)","v":0},{"$f":"SUMIF('Unos rashoda i izdataka'!$R$3:$R$501,'A.3 RASHODI FUNK'!$A71,'Unos rashoda i izdataka'!K$3:K$501)+SUMIF('Unos rashoda P4'!$T$3:$T$501,'A.3 RASHODI FUNK'!$A71,'Unos rashoda P4'!I$3:I$501)","v":0},{"$f":"SUMIF('Unos rashoda i izdataka'!$R$3:$R$501,'A.3 RASHODI FUNK'!$A71,'Unos rashoda i izdataka'!L$3:L$501)+SUMIF('Unos rashoda P4'!$T$3:$T$501,'A.3 RASHODI FUNK'!$A71,'Unos rashoda P4'!J$3:J$501)","v":0},{"$f":"'OPĆI DIO'!$C$1","v":"38454 SVEUČILIŠTE U RIJECI - AKADEMIJA PRIMJENJENIH UMJETNOSTI"}]
[96,"Dodatne usluge u obrazovanju",{"$f":"SUMIF('Unos rashoda i izdataka'!$R$3:$R$501,'A.3 RASHODI FUNK'!$A72,'Unos rashoda i izdataka'!J$3:J$501)+SUMIF('Unos rashoda P4'!$T$3:$T$501,'A.3 RASHODI FUNK'!$A72,'Unos rashoda P4'!H$3:H$501)","v":0},{"$f":"SUMIF('Unos rashoda i izdataka'!$R$3:$R$501,'A.3 RASHODI FUNK'!$A72,'Unos rashoda i izdataka'!K$3:K$501)+SUMIF('Unos rashoda P4'!$T$3:$T$501,'A.3 RASHODI FUNK'!$A72,'Unos rashoda P4'!I$3:I$501)","v":0},{"$f":"SUMIF('Unos rashoda i izdataka'!$R$3:$R$501,'A.3 RASHODI FUNK'!$A72,'Unos rashoda i izdataka'!L$3:L$501)+SUMIF('Unos rashoda P4'!$T$3:$T$501,'A.3 RASHODI FUNK'!$A72,'Unos rashoda P4'!J$3:J$501)","v":0},{"$f":"'OPĆI DIO'!$C$1","v":"38454 SVEUČILIŠTE U RIJECI - AKADEMIJA PRIMJENJENIH UMJETNOSTI"}]
[97,"Istraživanje i razvoj obrazovanja",{"$f":"SUMIF('Unos rashoda i izdataka'!$R$3:$R$501,'A.3 RASHODI FUNK'!$A73,'Unos rashoda i izdataka'!J$3:J$501)+SUMIF('Unos rashoda P4'!$T$3:$T$501,'A.3 RASHODI FUNK'!$A73,'Unos rashoda P4'!H$3:H$501)","v":0},{"$f":"SUMIF('Unos rashoda i izdataka'!$R$3:$R$501,'A.3 RASHODI FUNK'!$A73,'Unos rashoda i izdataka'!K$3:K$501)+SUMIF('Unos rashoda P4'!$T$3:$T$501,'A.3 RASHODI FUNK'!$A73,'Unos rashoda P4'!I$3:I$501)","v":0},{"$f":"SUMIF('Unos rashoda i izdataka'!$R$3:$R$501,'A.3 RASHODI FUNK'!$A73,'Unos rashoda i izdataka'!L$3:L$501)+SUMIF('Unos rashoda P4'!$T$3:$T$501,'A.3 RASHODI FUNK'!$A73,'Unos rashoda P4'!J$3:J$501)","v":0},{"$f":"'OPĆI DIO'!$C$1","v":"38454 SVEUČILIŠTE U RIJECI - AKADEMIJA PRIMJENJENIH UMJETNOSTI"}]
[98,"Usluge obrazovanja koje nisu drugdje svrstane",{"$f":"SUMIF('Unos rashoda i izdataka'!$R$3:$R$501,'A.3 RASHODI FUNK'!$A74,'Unos rashoda i izdataka'!J$3:J$501)+SUMIF('Unos rashoda P4'!$T$3:$T$501,'A.3 RASHODI FUNK'!$A74,'Unos rashoda P4'!H$3:H$501)","v":0},{"$f":"SUMIF('Unos rashoda i izdataka'!$R$3:$R$501,'A.3 RASHODI FUNK'!$A74,'Unos rashoda i izdataka'!K$3:K$501)+SUMIF('Unos rashoda P4'!$T$3:$T$501,'A.3 RASHODI FUNK'!$A74,'Unos rashoda P4'!I$3:I$501)","v":0},{"$f":"SUMIF('Unos rashoda i izdataka'!$R$3:$R$501,'A.3 RASHODI FUNK'!$A74,'Unos rashoda i izdataka'!L$3:L$501)+SUMIF('Unos rashoda P4'!$T$3:$T$501,'A.3 RASHODI FUNK'!$A74,'Unos rashoda P4'!J$3:J$501)","v":0},{"$f":"'OPĆI DIO'!$C$1","v":"38454 SVEUČILIŠTE U RIJECI - AKADEMIJA PRIMJENJENIH UMJETNOSTI"}]
[10,"Socijalna zaštita",{"$f":"SUM(C76:C84)","v":0},{"$f":"SUM(D76:D84)","v":0},{"$f":"SUM(E76:E84)","v":0},{"$f":"'OPĆI DIO'!$C$1","v":"38454 SVEUČILIŠTE U RIJECI - AKADEMIJA PRIMJENJENIH UMJETNOSTI"}]
[101,"Bolest i invaliditet",{"$f":"SUMIF('Unos rashoda i izdataka'!$R$3:$R$501,'A.3 RASHODI FUNK'!$A76,'Unos rashoda i izdataka'!J$3:J$501)+SUMIF('Unos rashoda P4'!$T$3:$T$501,'A.3 RASHODI FUNK'!$A76,'Unos rashoda P4'!H$3:H$501)","v":0},{"$f":"SUMIF('Unos rashoda i izdataka'!$R$3:$R$501,'A.3 RASHODI FUNK'!$A76,'Unos rashoda i izdataka'!K$3:K$501)+SUMIF('Unos rashoda P4'!$T$3:$T$501,'A.3 RASHODI FUNK'!$A76,'Unos rashoda P4'!I$3:I$501)","v":0},{"$f":"SUMIF('Unos rashoda i izdataka'!$R$3:$R$501,'A.3 RASHODI FUNK'!$A76,'Unos rashoda i izdataka'!L$3:L$501)+SUMIF('Unos rashoda P4'!$T$3:$T$501,'A.3 RASHODI FUNK'!$A76,'Unos rashoda P4'!J$3:J$501)","v":0},{"$f":"'OPĆI DIO'!$C$1","v":"38454 SVEUČILIŠTE U RIJECI - AKADEMIJA PRIMJENJENIH UMJETNOSTI"}]
[102,"Starost",{"$f":"SUMIF('Unos rashoda i izdataka'!$R$3:$R$501,'A.3 RASHODI FUNK'!$A77,'Unos rashoda i izdataka'!J$3:J$501)+SUMIF('Unos rashoda P4'!$T$3:$T$501,'A.3 RASHODI FUNK'!$A77,'Unos rashoda P4'!H$3:H$501)","v":0},{"$f":"SUMIF('Unos rashoda i izdataka'!$R$3:$R$501,'A.3 RASHODI FUNK'!$A77,'Unos rashoda i izdataka'!K$3:K$501)+SUMIF('Unos rashoda P4'!$T$3:$T$501,'A.3 RASHODI FUNK'!$A77,'Unos rashoda P4'!I$3:I$501)","v":0},{"$f":"SUMIF('Unos rashoda i izdataka'!$R$3:$R$501,'A.3 RASHODI FUNK'!$A77,'Unos rashoda i izdataka'!L$3:L$501)+SUMIF('Unos rashoda P4'!$T$3:$T$501,'A.3 RASHODI FUNK'!$A77,'Unos rashoda P4'!J$3:J$501)","v":0},{"$f":"'OPĆI DIO'!$C$1","v":"38454 SVEUČILIŠTE U RIJECI - AKADEMIJA PRIMJENJENIH UMJETNOSTI"}]
[103,"Sljednici",{"$f":"SUMIF('Unos rashoda i izdataka'!$R$3:$R$501,'A.3 RASHODI FUNK'!$A78,'Unos rashoda i izdataka'!J$3:J$501)+SUMIF('Unos rashoda P4'!$T$3:$T$501,'A.3 RASHODI FUNK'!$A78,'Unos rashoda P4'!H$3:H$501)","v":0},{"$f":"SUMIF('Unos rashoda i izdataka'!$R$3:$R$501,'A.3 RASHODI FUNK'!$A78,'Unos rashoda i izdataka'!K$3:K$501)+SUMIF('Unos rashoda P4'!$T$3:$T$501,'A.3 RASHODI FUNK'!$A78,'Unos rashoda P4'!I$3:I$501)","v":0},{"$f":"SUMIF('Unos rashoda i izdataka'!$R$3:$R$501,'A.3 RASHODI FUNK'!$A78,'Unos rashoda i izdataka'!L$3:L$501)+SUMIF('Unos rashoda P4'!$T$3:$T$501,'A.3 RASHODI FUNK'!$A78,'Unos rashoda P4'!J$3:J$501)","v":0},{"$f":"'OPĆI DIO'!$C$1","v":"38454 SVEUČILIŠTE U RIJECI - AKADEMIJA PRIMJENJENIH UMJETNOSTI"}]
[104,"Obitelj i djeca",{"$f":"SUMIF('Unos rashoda i izdataka'!$R$3:$R$501,'A.3 RASHODI FUNK'!$A79,'Unos rashoda i izdataka'!J$3:J$501)+SUMIF('Unos rashoda P4'!$T$3:$T$501,'A.3 RASHODI FUNK'!$A79,'Unos rashoda P4'!H$3:H$501)","v":0},{"$f":"SUMIF('Unos rashoda i izdataka'!$R$3:$R$501,'A.3 RASHODI FUNK'!$A79,'Unos rashoda i izdataka'!K$3:K$501)+SUMIF('Unos rashoda P4'!$T$3:$T$501,'A.3 RASHODI FUNK'!$A79,'Unos rashoda P4'!I$3:I$501)","v":0},{"$f":"SUMIF('Unos rashoda i izdataka'!$R$3:$R$501,'A.3 RASHODI FUNK'!$A79,'Unos rashoda i izdataka'!L$3:L$501)+SUMIF('Unos rashoda P4'!$T$3:$T$501,'A.3 RASHODI FUNK'!$A79,'Unos rashoda P4'!J$3:J$501)","v":0},{"$f":"'OPĆI DIO'!$C$1","v":"38454 SVEUČILIŠTE U RIJECI - AKADEMIJA PRIMJENJENIH UMJETNOSTI"}]
[105,"Nezaposlenost",{"$f":"SUMIF('Unos rashoda i izdataka'!$R$3:$R$501,'A.3 RASHODI FUNK'!$A80,'Unos rashoda i izdataka'!J$3:J$501)+SUMIF('Unos rashoda P4'!$T$3:$T$501,'A.3 RASHODI FUNK'!$A80,'Unos rashoda P4'!H$3:H$501)","v":0},{"$f":"SUMIF('Unos rashoda i izdataka'!$R$3:$R$501,'A.3 RASHODI FUNK'!$A80,'Unos rashoda i izdataka'!K$3:K$501)+SUMIF('Unos rashoda P4'!$T$3:$T$501,'A.3 RASHODI FUNK'!$A80,'Unos rashoda P4'!I$3:I$501)","v":0},{"$f":"SUMIF('Unos rashoda i izdataka'!$R$3:$R$501,'A.3 RASHODI FUNK'!$A80,'Unos rashoda i izdataka'!L$3:L$501)+SUMIF('Unos rashoda P4'!$T$3:$T$501,'A.3 RASHODI FUNK'!$A80,'Unos rashoda P4'!J$3:J$501)","v":0},{"$f":"'OPĆI DIO'!$C$1","v":"38454 SVEUČILIŠTE U RIJECI - AKADEMIJA PRIMJENJENIH UMJETNOSTI"}]
[106,"Stanovanje",{"$f":"SUMIF('Unos rashoda i izdataka'!$R$3:$R$501,'A.3 RASHODI FUNK'!$A81,'Unos rashoda i izdataka'!J$3:J$501)+SUMIF('Unos rashoda P4'!$T$3:$T$501,'A.3 RASHODI FUNK'!$A81,'Unos rashoda P4'!H$3:H$501)","v":0},{"$f":"SUMIF('Unos rashoda i izdataka'!$R$3:$R$501,'A.3 RASHODI FUNK'!$A81,'Unos rashoda i izdataka'!K$3:K$501)+SUMIF('Unos rashoda P4'!$T$3:$T$501,'A.3 RASHODI FUNK'!$A81,'Unos rashoda P4'!I$3:I$501)","v":0},{"$f":"SUMIF('Unos rashoda i izdataka'!$R$3:$R$501,'A.3 RASHODI FUNK'!$A81,'Unos rashoda i izdataka'!L$3:L$501)+SUMIF('Unos rashoda P4'!$T$3:$T$501,'A.3 RASHODI FUNK'!$A81,'Unos rashoda P4'!J$3:J$501)","v":0},{"$f":"'OPĆI DIO'!$C$1","v":"38454 SVEUČILIŠTE U RIJECI - AKADEMIJA PRIMJENJENIH UMJETNOSTI"}]
[107,"Socijalna pomoć stanovništvu koje nije obuhvaćeno redovnim socijalnim programima",{"$f":"SUMIF('Unos rashoda i izdataka'!$R$3:$R$501,'A.3 RASHODI FUNK'!$A82,'Unos rashoda i izdataka'!J$3:J$501)+SUMIF('Unos rashoda P4'!$T$3:$T$501,'A.3 RASHODI FUNK'!$A82,'Unos rashoda P4'!H$3:H$501)","v":0},{"$f":"SUMIF('Unos rashoda i izdataka'!$R$3:$R$501,'A.3 RASHODI FUNK'!$A82,'Unos rashoda i izdataka'!K$3:K$501)+SUMIF('Unos rashoda P4'!$T$3:$T$501,'A.3 RASHODI FUNK'!$A82,'Unos rashoda P4'!I$3:I$501)","v":0},{"$f":"SUMIF('Unos rashoda i izdataka'!$R$3:$R$501,'A.3 RASHODI FUNK'!$A82,'Unos rashoda i izdataka'!L$3:L$501)+SUMIF('Unos rashoda P4'!$T$3:$T$501,'A.3 RASHODI FUNK'!$A82,'Unos rashoda P4'!J$3:J$501)","v":0},{"$f":"'OPĆI DIO'!$C$1","v":"38454 SVEUČILIŠTE U RIJECI - AKADEMIJA PRIMJENJENIH UMJETNOSTI"}]
[108,"Istraživanje i razvoj socijalne zaštite",{"$f":"SUMIF('Unos rashoda i izdataka'!$R$3:$R$501,'A.3 RASHODI FUNK'!$A83,'Unos rashoda i izdataka'!J$3:J$501)+SUMIF('Unos rashoda P4'!$T$3:$T$501,'A.3 RASHODI FUNK'!$A83,'Unos rashoda P4'!H$3:H$501)","v":0},{"$f":"SUMIF('Unos rashoda i izdataka'!$R$3:$R$501,'A.3 RASHODI FUNK'!$A83,'Unos rashoda i izdataka'!K$3:K$501)+SUMIF('Unos rashoda P4'!$T$3:$T$501,'A.3 RASHODI FUNK'!$A83,'Unos rashoda P4'!I$3:I$501)","v":0},{"$f":"SUMIF('Unos rashoda i izdataka'!$R$3:$R$501,'A.3 RASHODI FUNK'!$A83,'Unos rashoda i izdataka'!L$3:L$501)+SUMIF('Unos rashoda P4'!$T$3:$T$501,'A.3 RASHODI FUNK'!$A83,'Unos rashoda P4'!J$3:J$501)","v":0},{"$f":"'OPĆI DIO'!$C$1","v":"38454 SVEUČILIŠTE U RIJECI - AKADEMIJA PRIMJENJENIH UMJETNOSTI"}]
[109,"Aktivnosti socijalne zaštite koje nisu drugdje svrstane",{"$f":"SUMIF('Unos rashoda i izdataka'!$R$3:$R$501,'A.3 RASHODI FUNK'!$A84,'Unos rashoda i izdataka'!J$3:J$501)+SUMIF('Unos rashoda P4'!$T$3:$T$501,'A.3 RASHODI FUNK'!$A84,'Unos rashoda P4'!H$3:H$501)","v":0},{"$f":"SUMIF('Unos rashoda i izdataka'!$R$3:$R$501,'A.3 RASHODI FUNK'!$A84,'Unos rashoda i izdataka'!K$3:K$501)+SUMIF('Unos rashoda P4'!$T$3:$T$501,'A.3 RASHODI FUNK'!$A84,'Unos rashoda P4'!I$3:I$501)","v":0},{"$f":"SUMIF('Unos rashoda i izdataka'!$R$3:$R$501,'A.3 RASHODI FUNK'!$A84,'Unos rashoda i izdataka'!L$3:L$501)+SUMIF('Unos rashoda P4'!$T$3:$T$501,'A.3 RASHODI FUNK'!$A84,'Unos rashoda P4'!J$3:J$501)","v":0},{"$f":"'OPĆI DIO'!$C$1","v":"38454 SVEUČILIŠTE U RIJECI - AKADEMIJA PRIMJENJENIH UMJETNOSTI"}]

{"sheet":"B.1 RAČUN FINANC EK","index":8,"n_rows":20,"n_cols":7,"rows_kept":20,"merged":[[1,0,1,5],[3,0,3,5],[5,0,5,5],[7,0,7,2],[8,0,8,2]]}
[]
["I. OPĆI DIO"]
[]
["B. RAČUN FINANCIRANJA"]
[]
["B1. RAČUN FINANCIRANJA PREMA EKONOMSKOJ KLASIFIKACIJI"]
[]
["BROJČANA OZNAKA I NAZIV",null,null,"PLAN \n2025.","Povećanje/\nsmanjenje","NOVI PLAN 2025."]
[1,null,null,4,5,6]
[8,null,"Primici od financijske imovine i zaduživanja",{"$f":"SUM(D11:D14)","v":0},{"$f":"SUM(E11:E14)","v":0},{"$f":"SUM(F11:F14)","v":0},{"$f":"'OPĆI DIO'!$C$1","v":"38454 SVEUČILIŠTE U RIJECI - AKADEMIJA PRIMJENJENIH UMJETNOSTI"}]
[null,81,"Primljeni povrati glavnica danih zajmova",{"$f":"SUMIF('Unos prihoda i primitaka'!$L$3:$L$501,$B11,'Unos prihoda i primitaka'!G$3:G$501)","v":0},{"$f":"SUMIF('Unos prihoda i primitaka'!$L$3:$L$501,$B11,'Unos prihoda i primitaka'!H$3:H$501)","v":0},{"$f":"SUMIF('Unos prihoda i primitaka'!$L$3:$L$501,$B11,'Unos prihoda i primitaka'!I$3:I$501)","v":0},{"$f":"'OPĆI DIO'!$C$1","v":"38454 SVEUČILIŠTE U RIJECI - AKADEMIJA PRIMJENJENIH UMJETNOSTI"}]
[null,82,"Primici od izdanih financijskih instrumenata - vrijednosnih papira",{"$f":"SUMIF('Unos prihoda i primitaka'!$L$3:$L$501,$B12,'Unos prihoda i primitaka'!G$3:G$501)","v":0},{"$f":"SUMIF('Unos prihoda i primitaka'!$L$3:$L$501,$B12,'Unos prihoda i primitaka'!H$3:H$501)","v":0},{"$f":"SUMIF('Unos prihoda i primitaka'!$L$3:$L$501,$B12,'Unos prihoda i primitaka'!I$3:I$501)","v":0},{"$f":"'OPĆI DIO'!$C$1","v":"38454 SVEUČILIŠTE U RIJECI - AKADEMIJA PRIMJENJENIH UMJETNOSTI"}]
[null,83,"Primici od prodaje financijskih instrumenata - dionica i udjela u glavnici",{"$f":"SUMIF('Unos prihoda i primitaka'!$L$3:$L$501,$B13,'Unos prihoda i primitaka'!G$3:G$501)","v":0},{"$f":"SUMIF('Unos prihoda i primitaka'!$L$3:$L$501,$B13,'Unos prihoda i primitaka'!H$3:H$501)","v":0},{"$f":"SUMIF('Unos prihoda i primitaka'!$L$3:$L$501,$B13,'Unos prihoda i primitaka'!I$3:I$501)","v":0},{"$f":"'OPĆI DIO'!$C$1","v":"38454 SVEUČILIŠTE U RIJECI - AKADEMIJA PRIMJENJENIH UMJETNOSTI"}]
[null,84,"Primici od zaduživanja",{"$f":"SUMIF('Unos prihoda i primitaka'!$L$3:$L$501,$B14,'Unos prihoda i primitaka'!G$3:G$501)","v":0},{"$f":"SUMIF('Unos prihoda i primitaka'!$L$3:$L$501,$B14,'Unos prihoda i primitaka'!H$3:H$501)","v":0},{"$f":"SUMIF('Unos prihoda i primitaka'!$L$3:$L$501,$B14,'Unos prihoda i primitaka'!I$3:I$501)","v":0},{"$f":"'OPĆI DIO'!$C$1","v":"38454 SVEUČILIŠTE U RIJECI - AKADEMIJA PRIMJENJENIH UMJETNOSTI"}]
[5,null,"Izdaci za financijsku imovinu i otplate zajmova",{"$f":"SUM(D16:D21)","v":0},{"$f":"SUM(E16:E21)","v":0},{"$f":"SUM(F16:F21)","v":0},{"$f":"'OPĆI DIO'!$C$1","v":"38454 SVEUČILIŠTE U RIJECI - AKADEMIJA PRIMJENJENIH UMJETNOSTI"}]
[null,51,"Izdaci za dane zajmove i jamčevne pologe",{"$f":"SUMIF('Unos rashoda i izdataka'!$P$3:$P$501,$B16,'Unos rashoda i izdataka'!J$3:J$501)+SUMIF('Unos rashoda P4'!$S$3:$S$501,$B16,'Unos rashoda P4'!H$3:H$501)","v":0},{"$f":"SUMIF('Unos rashoda i izdataka'!$P$3:$P$501,$B16,'Unos rashoda i izdataka'!K$3:K$501)+SUMIF('Unos rashoda P4'!$S$3:$S$501,$B16,'Unos rashoda P4'!I$3:I$501)","v":0},{"$f":"SUMIF('Unos rashoda i izdataka'!$P$3:$P$501,$B16,'Unos rashoda i izdataka'!L$3:L$501)+SUMIF('Unos rashoda P4'!$S$3:$S$501,$B16,'Unos rashoda P4'!J$3:J$501)","v":0},{"$f":"'OPĆI DIO'!$C$1","v":"38454 SVEUČILIŠTE U RIJECI - AKADEMIJA PRIMJENJENIH UMJETNOSTI"}]
[null,52,"Izdaci za ulaganja u financijske instrumente - vrijednosne papire",{"$nulls":3},{"$f":"'OPĆI DIO'!$C$1","v":"38454 SVEUČILIŠTE U RIJECI - AKADEMIJA PRIMJENJENIH UMJETNOSTI"}]
[null,53,"Izdaci za ulaganja financijske instrumente - dionice i udjele u glavnici",{"$nulls":3},{"$f":"'OPĆI DIO'!$C$1","v":"38454 SVEUČILIŠTE U RIJECI - AKADEMIJA PRIMJENJENIH UMJETNOSTI"}]
[null,54,"Izdaci za otplatu glavnice primljenih kredita i zajmova",{"$f":"SUMIF('Unos rashoda i izdataka'!$P$3:$P$501,$B19,'Unos rashoda i izdataka'!J$3:J$501)+SUMIF('Unos rashoda P4'!$S$3:$S$501,$B19,'Unos rashoda P4'!H$3:H$501)","v":0},{"$f":"SUMIF('Unos rashoda i izdataka'!$P$3:$P$501,$B19,'Unos rashoda i izdataka'!K$3:K$501)+SUMIF('Unos rashoda P4'!$S$3:$S$501,$B19,'Unos rashoda P4'!I$3:I$501)","v":0},{"$f":"SUMIF('Unos rashoda i izdataka'!$P$3:$P$501,$B19,'Unos rashoda i izdataka'!L$3:L$501)+SUMIF('Unos rashoda P4'!$S$3:$S$501,$B19,'Unos rashoda P4'!J$3:J$501)","v":0},{"$f":"'OPĆI DIO'!$C$1","v":"38454 SVEUČILIŠTE U RIJECI - AKADEMIJA PRIMJENJENIH UMJETNOSTI"}]
[null,55,"Izdaci za otplatu glavnice za izdane financijske instrumente – vrijednosne papire",{"$nulls":3},{"$f":"'OPĆI DIO'!$C$1","v":"38454 SVEUČILIŠTE U RIJECI - AKADEMIJA PRIMJENJENIH UMJETNOSTI"}]

{"sheet":"B.2 RAČUN FINANC IF","index":9,"n_rows":14,"n_cols":6,"rows_kept":14,"merged":[[1,1,1,4]]}
[]
[null,"B2. RAČUN FINANCIRANJA PREMA IZVORIMA FINANCIRANJA"]
[]
["Račun","BROJČANA OZNAKA I NAZIV","PLAN \n2025.","Povećanje/\nsmanjenje","NOVI PLAN 2025."]
[null,1,4,5,6]
[null,"UKUPNO PRIMICI",{"$f":"+C7+C10","v":0},{"$f":"+D7+D10","v":0},{"$f":"+E7+E10","v":0},{"$f":"'OPĆI DIO'!$C$1","v":"38454 SVEUČILIŠTE U RIJECI - AKADEMIJA PRIMJENJENIH UMJETNOSTI"}]
[43,"43 Prihodi za posebne namjene",{"$f":"C8+C9","v":0},{"$f":"D8+D9","v":0},{"$f":"E8+E9","v":0},{"$f":"'OPĆI DIO'!$C$1","v":"38454 SVEUČILIŠTE U RIJECI - AKADEMIJA PRIMJENJENIH UMJETNOSTI"}]
[81,"43  Prihodi za posebne namjene ",{"$f":"SUMIF('Unos prihoda i primitaka'!$L$3:$L$501,$A8,'Unos prihoda i primitaka'!G$3:G$501)","v":0},{"$f":"SUMIF('Unos prihoda i primitaka'!$L$3:$L$501,$A8,'Unos prihoda i primitaka'!H$3:H$501)","v":0},{"$f":"SUMIF('Unos prihoda i primitaka'!$L$3:$L$501,$A8,'Unos prihoda i primitaka'!I$3:I$501)","v":0},{"$f":"'OPĆI DIO'!$C$1","v":"38454 SVEUČILIŠTE U RIJECI - AKADEMIJA PRIMJENJENIH UMJETNOSTI"}]
[83,"43  Prihodi za posebne namjene ",{"$f":"SUMIF('Unos prihoda i primitaka'!$L$3:$L$501,$A9,'Unos prihoda i primitaka'!G$3:G$501)","v":0},{"$f":"SUMIF('Unos prihoda i primitaka'!$L$3:$L$501,$A9,'Unos prihoda i primitaka'!H$3:H$501)","v":0},{"$f":"SUMIF('Unos prihoda i primitaka'!$L$3:$L$501,$A9,'Unos prihoda i primitaka'!I$3:I$501)","v":0},{"$f":"'OPĆI DIO'!$C$1","v":"38454 SVEUČILIŠTE U RIJECI - AKADEMIJA PRIMJENJENIH UMJETNOSTI"}]
[81,"81 Namjenski primici od zaduživanja",{"$f":"C11","v":0},{"$f":"D11","v":0},{"$f":"E11","v":0},{"$f":"'OPĆI DIO'!$C$1","v":"38454 SVEUČILIŠTE U RIJECI - AKADEMIJA PRIMJENJENIH UMJETNOSTI"}]
[84,"810 Namjenski primici od zaduživanja",{"$f":"SUMIF('Unos prihoda i primitaka'!$L$3:$L$501,$A11,'Unos prihoda i primitaka'!G$3:G$501)","v":0},{"$f":"SUMIF('Unos prihoda i primitaka'!$L$3:$L$501,$A11,'Unos prihoda i primitaka'!H$3:H$501)","v":0},{"$f":"SUMIF('Unos prihoda i primitaka'!$L$3:$L$501,$A11,'Unos prihoda i primitaka'!I$3:I$501)","v":0},{"$f":"'OPĆI DIO'!$C$1","v":"38454 SVEUČILIŠTE U RIJECI - AKADEMIJA PRIMJENJENIH UMJETNOSTI"}]
[null,"UKUPNO IZDACI ",{"$f":"C13","v":0},0,0,{"$f":"'OPĆI DIO'!$C$1","v":"38454 SVEUČILIŠTE U RIJECI - AKADEMIJA PRIMJENJENIH UMJETNOSTI"}]
[null,"31 Vlastiti prihodi",0,0,0,{"$f":"'OPĆI DIO'!$C$1","v":"38454 SVEUČILIŠTE U RIJECI - AKADEMIJA PRIMJENJENIH UMJETNOSTI"}]
[5,"31 Vlastiti prihodi",{"$f":"SUMIF('Unos rashoda i izdataka'!$S$3:$S$501,$A14,'Unos rashoda i izdataka'!J$3:J$501)+SUMIF('Unos rashoda P4'!$U$3:$U$501,$A14,'Unos rashoda P4'!H$3:H$501)","v":0},{"$f":"SUMIF('Unos rashoda i izdataka'!$S$3:$S$501,$A14,'Unos rashoda i izdataka'!K$3:K$501)+SUMIF('Unos rashoda P4'!$U$3:$U$501,$A14,'Unos rashoda P4'!I$3:I$501)","v":0},{"$f":"SUMIF('Unos rashoda i izdataka'!$S$3:$S$501,$A14,'Unos rashoda i izdataka'!L$3:L$501)+SUMIF('Unos rashoda P4'!$U$3:$U$501,$A14,'Unos rashoda P4'!J$3:J$501)","v":0},{"$f":"'OPĆI DIO'!$C$1","v":"38454 SVEUČILIŠTE U RIJECI - AKADEMIJA PRIMJENJENIH UMJETNOSTI"}]

{"sheet":"AKT","index":10,"n_rows":351,"n_cols":10,"rows_kept":351}
["080","MINISTARSTVO ZNANOSTI I OBRAZOVANJA"]
["NOVI AKT","NAZIV AKTIVNOSTI / PROJEKTA"]
["Glava (O2) - iz podataka (povijesni pogled)","d",null,null,"Podprogram (P3)","d","Funkcijsko područje (F3)","d","d","d"]
["08005","Ministarstvo znanosti, obrazovanja i mladih","3701","RAZVOJ ODGOJNO OBRAZOVNOG SUSTAVA","A557043","NACIONALNO VIJEĆE ZA ODGOJ I OBRAZOVANJE","0970","Istraživanje i razvoj obrazovanja","09","091"]
["08005","Ministarstvo znanosti, obrazovanja i mladih","3701","RAZVOJ ODGOJNO OBRAZOVNOG SUSTAVA","A558047","POLITIKA ZA MLADE","1040","Obitelj i djeca"]
["08005","Ministarstvo znanosti, obrazovanja i mladih","3701","RAZVOJ ODGOJNO OBRAZOVNOG SUSTAVA","A558053","POTPORA ZA PROGRAME USMJERENE MLADIMA","1040","Obitelj i djeca"]
["08005","Ministarstvo znanosti, obrazovanja i mladih","3701","RAZVOJ ODGOJNO OBRAZOVNOG SUSTAVA","A577000","ADMINISTRACIJA I UPRAVLJANJE","0970","Istraživanje i razvoj obrazovanja"]
["08005","Ministarstvo znanosti, obrazovanja i mladih","3701","RAZVOJ ODGOJNO OBRAZOVNOG SUSTAVA","A577000","ADMINISTRACIJA I UPRAVLJANJE","0980","Usluge obrazovanja koje nisu drugdje svrstane"]
["08005","Ministarstvo znanosti, obrazovanja i mladih","3701","RAZVOJ ODGOJNO OBRAZOVNOG SUSTAVA","A577004","PROVEDBA KURIKULARNE REFORME","0970","Istraživanje i razvoj obrazovanja"]
["08005","Ministarstvo znanosti, obrazovanja i mladih","3701","RAZVOJ ODGOJNO OBRAZOVNOG SUSTAVA","A577012","OBRAZOVANJE DJECE HRVATSKIH GRAĐANA U INOZEMSTVU","0970","Istraživanje i razvoj obrazovanja"]
["08005","Ministarstvo znanosti, obrazovanja i mladih","3701","RAZVOJ ODGOJNO OBRAZOVNOG SUSTAVA","A577015","DRŽAVNE NAGRADE ZA IZUZETNE REZULTATE U OBRAZOVANJU I TEHNIČKOJ KULTURI","0942","Drugi stupanj visoke naobrazbe"]
["08005","Ministarstvo znanosti, obrazovanja i mladih","3701","RAZVOJ ODGOJNO OBRAZOVNOG SUSTAVA","A577016","PREVENCIJA NASILJA I OVISNOSTI","0912","Osnovno obrazovanje"]
["08005","Ministarstvo znanosti, obrazovanja i mladih","3701","RAZVOJ ODGOJNO OBRAZOVNOG SUSTAVA","A577028","POTICAJI HRVATSKOJ ZAJEDNICI TEHNIČKE KULTURE","0820","Službe kulture"]
["08005","Ministarstvo znanosti, obrazovanja i mladih","3701","RAZVOJ ODGOJNO OBRAZOVNOG SUSTAVA","A577124","HRVATSKA NASTAVA U INOZEMSTVU","0970","Istraživanje i razvoj obrazovanja"]
["08005","Ministarstvo znanosti, obrazovanja i mladih","3701","RAZVOJ ODGOJNO OBRAZOVNOG SUSTAVA","A577130","POTICAJI UDRUGAMA ZA IZVANINSTITUCIONALNI ODGOJ I OBRAZOVANJE DJECE I MLADIH","0970","Istraživanje i razvoj obrazovanja"]
["08005","Ministarstvo znanosti, obrazovanja i mladih","3701","RAZVOJ ODGOJNO OBRAZOVNOG SUSTAVA","A577131","POTICAJI OBRAZOVANJA NACIONALNIH MANJINA","0970","Istraživanje i razvoj obrazovanja"]
["08005","Ministarstvo znanosti, obrazovanja i mladih","3701","RAZVOJ ODGOJNO OBRAZOVNOG SUSTAVA","A577132","POTICANJE MEĐUNARODNE OBRAZOVNE SURADNJE ŠKOLA","0970","Istraživanje i razvoj obrazovanja"]
["08005","Ministarstvo znanosti, obrazovanja i mladih","3701","RAZVOJ ODGOJNO OBRAZOVNOG SUSTAVA","A577133","POTICANJE PROGRAMA RADA S DAROVITIM UČENICIMA I STUDENTIMA","0912","Osnovno obrazovanje"]
["08005","Ministarstvo znanosti, obrazovanja i mladih","3701","RAZVOJ ODGOJNO OBRAZOVNOG SUSTAVA","A577137","POSEBNI PROGRAMI OBRAZOVANJA ZA PROVOĐENJE PROGRAMA NACIONALNIH MANJINA","0970","Istraživanje i razvoj obrazovanja"]
["08005","Ministarstvo znanosti, obrazovanja i mladih","3701","RAZVOJ ODGOJNO OBRAZOVNOG SUSTAVA","A578041","POMOĆNICI U NASTAVI ZA DJECU S TEŠKOĆAMA U RAZVOJU","0970","Istraživanje i razvoj obrazovanja"]
["08005","Ministarstvo znanosti, obrazovanja i mladih","3701","RAZVOJ ODGOJNO OBRAZOVNOG SUSTAVA","A578042","OSIGURANJE UČENIKA I STUDENATA NA PRAKTIČNOJ NASTAVI I STRUČNOJ PRAKSI","0980","Usluge obrazovanja koje nisu drugdje svrstane"]
["08005","Ministarstvo znanosti, obrazovanja i mladih","3701","RAZVOJ ODGOJNO OBRAZOVNOG SUSTAVA","A578045","SUFINANCIRANJE NASTAVNIH MATERIJALA I OPREME ZA UČENIKE OSNOVNIH I SREDNJIH ŠKOLA","0970","Istraživanje i razvoj obrazovanja"]
["08005","Ministarstvo znanosti, obrazovanja i mladih","3701","RAZVOJ ODGOJNO OBRAZOVNOG SUSTAVA","A578059","EUROPSKA MREŽA ŠKOLA - EUROPEAN SCHOOLNET","0970","Istraživanje i razvoj obrazovanja"]
["08005","Ministarstvo znanosti, obrazovanja i mladih","3701","RAZVOJ ODGOJNO OBRAZOVNOG SUSTAVA","A578065","ERASMUS+ PROJEKT BAQUAL - BOLJE AKADEMSKE KVALIFIKACIJE KROZ OSIGURAVANJE KVALITETE","0970","Istraživanje i razvoj obrazovanja"]
["08005","Ministarstvo znanosti, obrazovanja i mladih","3701","RAZVOJ ODGOJNO OBRAZOVNOG SUSTAVA","A578066","ERASMUS PLUS - PROJEKT PROFFORMANCE - RAZVOJ SUSTAVA OCJENJIVANJA RADA I NAGRAĐIVANJA PROFESORA NA VISOKIM UČILIŠTIMA","0970","Istraživanje i razvoj obrazovanja"]
["08005","Ministarstvo znanosti, obrazovanja i mladih","3701","RAZVOJ ODGOJNO OBRAZOVNOG SUSTAVA","A579004","POTICANJE IZVANNASTAVNIH AKTIVNOSTI U OŠ","0970","Istraživanje i razvoj obrazovanja"]
["08005","Ministarstvo znanosti, obrazovanja i mladih","3701","RAZVOJ ODGOJNO OBRAZOVNOG SUSTAVA","A579072","POTPORA UČENICIMA RASELJENIMA IZ UKRAJINE","0970","Istraživanje i razvoj obrazovanja"]
["08005","Ministarstvo znanosti, obrazovanja i mladih","3701","RAZVOJ ODGOJNO OBRAZOVNOG SUSTAVA","A580003","POTICANJE IZVANNASTAVNIH AKTIVNOSTI U SREDNJIM ŠKOLAMA I VISOKOŠKOLSKOM OBRAZOVANJU","0922","Više srednjoškolsko obrazovanje"]
["08005","Ministarstvo znanosti, obrazovanja i mladih","3701","RAZVOJ ODGOJNO OBRAZOVNOG SUSTAVA","A676065","ERASMUS+ PROJEKT BWSE FORWARD - BOLONJA OČIMA ZAINTERESIRANIH DIONIKA ZA SNAŽNIJU BUDUĆNOST BOLONJSKOG PROCESA","0970","Istraživanje i razvoj obrazovanja"]
["08005","Ministarstvo znanosti, obrazovanja i mladih","3701","RAZVOJ ODGOJNO OBRAZOVNOG SUSTAVA","A676070","ERASMUS+ EUROPSKO ISTRAŽIVANJE PRAĆENJA OSOBA S DIPLOMOM (GT-HRVATSKA)","0970","Istraživanje i razvoj obrazovanja"]
["08005","Ministarstvo znanosti, obrazovanja i mladih","3701","RAZVOJ ODGOJNO OBRAZOVNOG SUSTAVA","A676072","ERASMUS PLUS - PROJEKTI","0970","Istraživanje i razvoj obrazovanja"]
["08005","Ministarstvo znanosti, obrazovanja i mladih","3701","RAZVOJ ODGOJNO OBRAZOVNOG SUSTAVA","A679008","PROGRAM RAZVOJNE SURADNJE","0970","Istraživanje i razvoj obrazovanja"]
["08005","Ministarstvo znanosti, obrazovanja i mladih","3701","RAZVOJ ODGOJNO OBRAZOVNOG SUSTAVA","A679009","REDOVNA DJELATNOST LEKTORATA","0970","Istraživanje i razvoj obrazovanja"]
["08005","Ministarstvo znanosti, obrazovanja i mladih","3701","RAZVOJ ODGOJNO OBRAZOVNOG SUSTAVA","A679047","MEĐUNARODNA SURADNJA I EUROPSKI POSLOVI","0150","Istraživanje i razvoj: Opće javne usluge"]
["08005","Ministarstvo znanosti, obrazovanja i mladih","3701","RAZVOJ ODGOJNO OBRAZOVNOG SUSTAVA","A733049","EUROPSKA AGENCIJA ZA POSEBNE POTREBE I INKLUZIVNO OBRAZOVANJE","0970","Istraživanje i razvoj obrazovanja"]
["08005","Ministarstvo znanosti, obrazovanja i mladih","3701","RAZVOJ ODGOJNO OBRAZOVNOG SUSTAVA","A733051","PROGRAMI IZRADE UDŽBENIKA ZA SLIJEPE I SLABOVIDNE UČENIKE I STUDENTE","0970","Istraživanje i razvoj obrazovanja"]
["08005","Ministarstvo znanosti, obrazovanja i mladih","3701","RAZVOJ ODGOJNO OBRAZOVNOG SUSTAVA","A733064","ERASMUS+ INTERDISCIPLINARNI STEM PRISTUP SVEMU OKO NAS - STE(A)M IT","0970","Istraživanje i razvoj obrazovanja"]
["08005","Ministarstvo znanosti, obrazovanja i mladih","3701","RAZVOJ ODGOJNO OBRAZOVNOG SUSTAVA","A733066","ERASMUS PLUS - OSNAŽIVANJE NASTAVNIKA DILJEM EUROPE - KA3 - HAND IN HAND","0970","Istraživanje i razvoj obrazovanja"]
["08005","Ministarstvo znanosti, obrazovanja i mladih","3701","RAZVOJ ODGOJNO OBRAZOVNOG SUSTAVA","A767002","IZRADA DEFICITARNIH UDŽBENIKA U ŠKOLSTVU","0970","Istraživanje i razvoj obrazovanja"]
["08005","Ministarstvo znanosti, obrazovanja i mladih","3701","RAZVOJ ODGOJNO OBRAZOVNOG SUSTAVA","A767003","SREDNJOŠKOLSKE STIPENDIJE ZA UČENIKE ROME","0970","Istraživanje i razvoj obrazovanja"]
["08005","Ministarstvo znanosti, obrazovanja i mladih","3701","RAZVOJ ODGOJNO OBRAZOVNOG SUSTAVA","A767004","NAOBRAZBA DJECE U ALTERNATIVNIM ŠKOLAMA","0970","Istraživanje i razvoj obrazovanja"]
["08005","Ministarstvo znanosti, obrazovanja i mladih","3701","RAZVOJ ODGOJNO OBRAZOVNOG SUSTAVA","A767008","SUBVENCIONIRANJE KAMATA ZA STANOVE UČITELJA","0970","Istraživanje i razvoj obrazovanja"]
["08005","Ministarstvo znanosti, obrazovanja i mladih","3701","RAZVOJ ODGOJNO OBRAZOVNOG SUSTAVA","A767015","PROVEDBA PROGRAMA ZA UKLJUČIVANJE ROMA","0970","Istraživanje i razvoj obrazovanja"]
["08005","Ministarstvo znanosti, obrazovanja i mladih","3701","RAZVOJ ODGOJNO OBRAZOVNOG SUSTAVA","A767042","OBRAZOVANJE OSOBA BEZ HRVATSKOG DRŽAVLJANSTVA","0970","Istraživanje i razvoj obrazovanja"]
["08005","Ministarstvo znanosti, obrazovanja i mladih","3701","RAZVOJ ODGOJNO OBRAZOVNOG SUSTAVA","A768053","EUROPSKE ŠKOLE","0970","Istraživanje i razvoj obrazovanja"]
["08005","Ministarstvo znanosti, obrazovanja i mladih","3701","RAZVOJ ODGOJNO OBRAZOVNOG SUSTAVA","A768054","DODATNA SREDSTVA IZRAVNANJA ZA DECENTRALIZIRANE FUNKCIJE","0970","Istraživanje i razvoj obrazovanja"]
["08005","Ministarstvo znanosti, obrazovanja i mladih","3701","RAZVOJ ODGOJNO OBRAZOVNOG SUSTAVA","A768058","PREUZETE OBVEZE PO MEĐUNARODNIM UGOVORIMA","0970","Istraživanje i razvoj obrazovanja"]
["08005","Ministarstvo znanosti, obrazovanja i mladih","3701","RAZVOJ ODGOJNO OBRAZOVNOG SUSTAVA","A768061","ERASMUS+ UČINKOVITO PARTNERSTVO ZA UNAPRIJEĐENO PRIZNAVANJE - EPER","0970","Istraživanje i razvoj obrazovanja"]
["08005","Ministarstvo znanosti, obrazovanja i mladih","3701","RAZVOJ ODGOJNO OBRAZOVNOG SUSTAVA","A768064","ERASMUS+ PROJEKT TRACER - TRANSPARENTNOST HRVATSKIH KVALIFIKACIJA RADI LAKŠEG PRIZNAVANJA","0970","Istraživanje i razvoj obrazovanja"]
["08005","Ministarstvo znanosti, obrazovanja i mladih","3701","RAZVOJ ODGOJNO OBRAZOVNOG SUSTAVA","A768065","OBZOR 2020 - MENTORSTVO ZA UNAPRJEĐENJE ŠKOLE - MENSI","0970","Istraživanje i razvoj obrazovanja"]
["08005","Ministarstvo znanosti, obrazovanja i mladih","3701","RAZVOJ ODGOJNO OBRAZOVNOG SUSTAVA","A768071","ERASMUS PLUS - AKTIVNOSTI SURADNIČKOG UČENJA I RESURSI ZA POTPORU NAČELA I SMJERNICA ZA SOCIJALNU DIMENZIJU - PLAR-U-PAGS","0970","Istraživanje i razvoj obrazovanja"]
["08005","Ministarstvo znanosti, obrazovanja i mladih","3701","RAZVOJ ODGOJNO OBRAZOVNOG SUSTAVA","A768073","PREVENCIJA MENTALNOG ZDRAVLJA","0970","Istraživanje i razvoj obrazovanja"]
["08005","Ministarstvo znanosti, obrazovanja i mladih","3701","RAZVOJ ODGOJNO OBRAZOVNOG SUSTAVA","A792009","PREVENCIJA NASILJA NAD I MEĐU MLADIMA","1040","Obitelj i djeca"]
["08005","Ministarstvo znanosti, obrazovanja i mladih","3701","RAZVOJ ODGOJNO OBRAZOVNOG SUSTAVA","A792019","PRAVOMOĆNE SUDSKE PRESUDE","0970","Istraživanje i razvoj obrazovanja"]
["08005","Ministarstvo znanosti, obrazovanja i mladih","3701","RAZVOJ ODGOJNO OBRAZOVNOG SUSTAVA","A818021","PRIMJENA UDŽBENIČKOG STANDARDA","0912","Osnovno obrazovanje"]
["08005","Ministarstvo znanosti, obrazovanja i mladih","3701","RAZVOJ ODGOJNO OBRAZOVNOG SUSTAVA","A818034","PROJEKT POVEZIVANJA S EUROPSKIM KVALIFIKACIJSKIM OKVIROM - EQF NCP GRANT","0970","Istraživanje i razvoj obrazovanja"]
["08005","Ministarstvo znanosti, obrazovanja i mladih","3701","RAZVOJ ODGOJNO OBRAZOVNOG SUSTAVA","A818035","MENTORI I STRUČNI ISPITI U OSNOVNIM I SREDNJIM ŠKOLAMA","0970","Istraživanje i razvoj obrazovanja"]
["08005","Ministarstvo znanosti, obrazovanja i mladih","3701","RAZVOJ ODGOJNO OBRAZOVNOG SUSTAVA","K578063","PROJEKT \"HRVATSKA: USUSRET ODRŽIVOM, PRAVEDNOM I UČINKOVITOM OBRAZOVANJU\"","0970","Istraživanje i razvoj obrazovanja"]
["08005","Ministarstvo znanosti, obrazovanja i mladih","3701","RAZVOJ ODGOJNO OBRAZOVNOG SUSTAVA","K579064","KAPITALNE INVESTICIJE U OSNOVNOM I SREDNJEM ŠKOLSTVU","0970","Istraživanje i razvoj obrazovanja"]
["08005","Ministarstvo znanosti, obrazovanja i mladih","3701","RAZVOJ ODGOJNO OBRAZOVNOG SUSTAVA","K580073","IZGRADNJA ŠKOLSKE SPORTSKE DVORANE SREDNJE ŠKOLE ZABOK","0922","Više srednjoškolsko obrazovanje"]
["08005","Ministarstvo znanosti, obrazovanja i mladih","3701","RAZVOJ ODGOJNO OBRAZOVNOG SUSTAVA","K621173","INFORMACIJSKA INFRASTRUKTURA SUSTAVA VISOKOG OBRAZOVANJA","0942","Drugi stupanj visoke naobrazbe"]
["08005","Ministarstvo znanosti, obrazovanja i mladih","3701","RAZVOJ ODGOJNO OBRAZOVNOG SUSTAVA","K676066","OBNOVA ZGRADA OŠTEĆENIH U POTRESU S ENERGETSKOM OBNOVOM - NPOO (C6.1.R1-I2)","0150","Istraživanje i razvoj: Opće javne usluge"]
["08005","Ministarstvo znanosti, obrazovanja i mladih","3701","RAZVOJ ODGOJNO OBRAZOVNOG SUSTAVA","K676066","OBNOVA ZGRADA OŠTEĆENIH U POTRESU S ENERGETSKOM OBNOVOM - NPOO (C6.1.R1-I2)","0970","Istraživanje i razvoj obrazovanja"]
["08005","Ministarstvo znanosti, obrazovanja i mladih","3701","RAZVOJ ODGOJNO OBRAZOVNOG SUSTAVA","K733067","PROGRAM UČINKOVITI LJUDSKI POTENCIJALI 2021.-2027., PRIORITET 2","0950","Obrazovanje koje se ne može definirati po stupnju"]
["08005","Ministarstvo znanosti, obrazovanja i mladih","3701","RAZVOJ ODGOJNO OBRAZOVNOG SUSTAVA","K768066","OBNOVA INFRASTRUKTURE I OPREME U PODRUČJU OBRAZOVANJA OŠTEĆENE POTRESOM","0970","Istraživanje i razvoj obrazovanja"]
["08005","Ministarstvo znanosti, obrazovanja i mladih","3701","RAZVOJ ODGOJNO OBRAZOVNOG SUSTAVA","K768070","OBNOVA INFRASTRUKTURE U PODRUČJU OBRAZOVANJA OŠTEĆENE POTRESOM FSEU.2022.MZO","0970","Istraživanje i razvoj obrazovanja"]
["08005","Ministarstvo znanosti, obrazovanja i mladih","3701","RAZVOJ ODGOJNO OBRAZOVNOG SUSTAVA","K768074","UČENIČKI DOM U KOPRIVNICI","0970","Istraživanje i razvoj obrazovanja"]
["08005","Ministarstvo znanosti, obrazovanja i mladih","3701","RAZVOJ ODGOJNO OBRAZOVNOG SUSTAVA","K818050","OP UČINKOVITI LJUDSKI POTENCIJALI 2014.-2020., PRIORITET 3 i 4","0950","Obrazovanje koje se ne može definirati po stupnju"]
["08005","Ministarstvo znanosti, obrazovanja i mladih","3701","RAZVOJ ODGOJNO OBRAZOVNOG SUSTAVA","T580070","SANACIJA POSLJEDICA POTRESA","0970","Istraživanje i razvoj obrazovanja"]
["08005","Ministarstvo znanosti, obrazovanja i mladih","3702","PREDŠKOLSKI ODGOJ","A578003","ODGOJ I NAOBRAZBA DJECE PRIPADNIKA NACIONALNIH MANJINA","0911","Predškolsko obrazovanje"]
["08005","Ministarstvo znanosti, obrazovanja i mladih","3702","PREDŠKOLSKI ODGOJ","A578004","PREDŠKOLSKI ODGOJ I OBRAZOVANJE DJECE S TEŠKOĆAMA U RAZVOJU (SUFINANCIRANJE)","0911","Predškolsko obrazovanje"]
["08005","Ministarstvo znanosti, obrazovanja i mladih","3702","PREDŠKOLSKI ODGOJ","A578008","ODGOJ I NAOBRAZBA DJECE U PROGRAMIMA PREDŠKOLE","0911","Predškolsko obrazovanje"]
["08005","Ministarstvo znanosti, obrazovanja i mladih","3702","PREDŠKOLSKI ODGOJ","A578009","ODGOJ I OBRAZOVANJE DAROVITE DJECE PREDŠKOLSKE DOBI U DJEČJIM VRTIĆIMA","0911","Predškolsko obrazovanje"]
["08005","Ministarstvo znanosti, obrazovanja i mladih","3702","PREDŠKOLSKI ODGOJ","K580071","KAPITALNE DONACIJE DJEČJIM VRTIĆIMA","0911","Predškolsko obrazovanje"]
["08005","Ministarstvo znanosti, obrazovanja i mladih","3702","PREDŠKOLSKI ODGOJ","K676067","IZGRADNJA, DOGRADNJA, REKONSTRUKCIJA I OPREMANJE PREDŠKOLSKIH USTANOVA - NPOO (C3.1.R1-I1)","0911","Predškolsko obrazovanje"]
["08005","Ministarstvo znanosti, obrazovanja i mladih","3702","PREDŠKOLSKI ODGOJ","K676071","FISKALNA ODRŽIVOST DJEČJIH VRTIĆA","0911","Predškolsko obrazovanje"]
["08005","Ministarstvo znanosti, obrazovanja i mladih","3703","OSNOVNOŠKOLSKO OBRAZOVANJE","A557041","PREUZIMANJE OBVEZA ZA PROJEKTE JAVNO PRIVATNOG PARTNERSTVA U VARAŽDINSKOJ I KOPRIVNIČKO-KRIŽEVAČKOJ ŽUPANIJI","0912","Osnovno obrazovanje"]
["08005","Ministarstvo znanosti, obrazovanja i mladih","3703","OSNOVNOŠKOLSKO OBRAZOVANJE","A579000","OSNOVNOŠKOLSKO OBRAZOVANJE","0180","Prijenosi općeg karaktera između različitih državnih razina"]
["08005","Ministarstvo znanosti, obrazovanja i mladih","3703","OSNOVNOŠKOLSKO OBRAZOVANJE","A579003","ODGOJ I NAOBRAZBA UČENIKA S TEŠKOĆAMA U RAZVOJU U OSNOVNIM ŠKOLAMA","0912","Osnovno obrazovanje"]
["08005","Ministarstvo znanosti, obrazovanja i mladih","3703","OSNOVNOŠKOLSKO OBRAZOVANJE","A579007","PRAVOMOĆNE SUDSKE PRESUDE","0180","Prijenosi općeg karaktera između različitih državnih razina"]
["08005","Ministarstvo znanosti, obrazovanja i mladih","3703","OSNOVNOŠKOLSKO OBRAZOVANJE","A579069","RAZVOJ PREDŠKOLSKOG I OSNOVNOŠKOLSKOG SUSTAVA ODGOJA I OBRAZOVANJA","0912","Osnovno obrazovanje"]
["08005","Ministarstvo znanosti, obrazovanja i mladih","3703","OSNOVNOŠKOLSKO OBRAZOVANJE","A768072","PREHRANA ZA UČENIKE U OSNOVNIM ŠKOLAMA","0912","Osnovno obrazovanje"]
["08005","Ministarstvo znanosti, obrazovanja i mladih","3703","OSNOVNOŠKOLSKO OBRAZOVANJE","K110283","OPREMANJE OSNOVNOŠKOLSKIH KNJIŽNICA OBVEZNOM LEKTIROM I STRUČNOM LITERATUROM","0912","Osnovno obrazovanje"]
["08005","Ministarstvo znanosti, obrazovanja i mladih","3703","OSNOVNOŠKOLSKO OBRAZOVANJE","K578064","CENTAR ZA ODGOJ I OBRAZOVANJE ČAKOVEC","0912","Osnovno obrazovanje"]
["08005","Ministarstvo znanosti, obrazovanja i mladih","3703","OSNOVNOŠKOLSKO OBRAZOVANJE","K733061","OSNOVNA ŠKOLA MILAN AMRUŠ SLAVONSKI BROD","0912","Osnovno obrazovanje"]
["08005","Ministarstvo znanosti, obrazovanja i mladih","3703","OSNOVNOŠKOLSKO OBRAZOVANJE","K767031","OŠ MIJATA STOJANOVIĆA U BABINOJ GREDI","0912","Osnovno obrazovanje"]
["08005","Ministarstvo znanosti, obrazovanja i mladih","3703","OSNOVNOŠKOLSKO OBRAZOVANJE","K768067","IZGRADNJA, DOGRADNJA, REKONSTRUKCIJA I OPREMANJE OSNOVNIH ŠKOLA ZA POTREBE JEDNOSMJENSKOG RADA I CJELODNEVNE NASTAVE - NPOO (C3.1.R1-I2)","0912","Osnovno obrazovanje"]
["08005","Ministarstvo znanosti, obrazovanja i mladih","3704","SREDNJOŠKOLSKO OBRAZOVANJE","A580000","SREDNJOŠKOLSKO OBRAZOVANJE","0180","Prijenosi općeg karaktera između različitih državnih razina"]
["08005","Ministarstvo znanosti, obrazovanja i mladih","3704","SREDNJOŠKOLSKO OBRAZOVANJE","A580004","STANDARD UČENIKA S POSEBNIM POTREBAMA","0922","Više srednjoškolsko obrazovanje"]
["08005","Ministarstvo znanosti, obrazovanja i mladih","3704","SREDNJOŠKOLSKO OBRAZOVANJE","A580007","PRAVOMOĆNE SUDSKE PRESUDE","0180","Prijenosi općeg karaktera između različitih državnih razina"]
["08005","Ministarstvo znanosti, obrazovanja i mladih","3704","SREDNJOŠKOLSKO OBRAZOVANJE","A580014","RAZVOJ SUSTAVA OBRAZOVANJA ODRASLIH","0922","Više srednjoškolsko obrazovanje"]
["08005","Ministarstvo znanosti, obrazovanja i mladih","3704","SREDNJOŠKOLSKO OBRAZOVANJE","A580037","JAVNI MEĐUMJESNI PRIJEVOZ ZA UČENIKE","0922","Više srednjoškolsko obrazovanje"]
["08005","Ministarstvo znanosti, obrazovanja i mladih","3704","SREDNJOŠKOLSKO OBRAZOVANJE","A580044","RAZVOJ SUSTAVA SREDNJOŠKOLSKOG ODGOJA I OBRAZOVANJA","0922","Više srednjoškolsko obrazovanje"]
["08005","Ministarstvo znanosti, obrazovanja i mladih","3704","SREDNJOŠKOLSKO OBRAZOVANJE","A767013","RAZVOJ SUSTAVA OSIGURANJA KVALITETE","0922","Više srednjoškolsko obrazovanje"]
["08005","Ministarstvo znanosti, obrazovanja i mladih","3704","SREDNJOŠKOLSKO OBRAZOVANJE","K110291","OPREMANJE SREDNJOŠKOLSKIH KNJIŽNICA LEKTIROM I STRUČNOM LITERATUROM","0922","Više srednjoškolsko obrazovanje"]
["08005","Ministarstvo znanosti, obrazovanja i mladih","3704","SREDNJOŠKOLSKO OBRAZOVANJE","K578068","IZGRADNJA, DOGRADNJA, REKONSTRUKCIJA I OPREMANJE SREDNJIH ŠKOLA - NPOO (C3.1.R1-I3)","0922","Više srednjoškolsko obrazovanje"]
["08005","Ministarstvo znanosti, obrazovanja i mladih","3704","SREDNJOŠKOLSKO OBRAZOVANJE","K676058","PROSVJETNO-KULTURNI CENTAR MAĐARA - IZGRADNJA UČENIČKOG DOMA","0922","Više srednjoškolsko obrazovanje"]
["08005","Ministarstvo znanosti, obrazovanja i mladih","3704","SREDNJOŠKOLSKO OBRAZOVANJE","K676064","TALIJANSKA SŠ LEONARDO DA VINCI BUJE-REKONSTRUKCIJA I DOGRADNJA","0922","Više srednjoškolsko obrazovanje"]
["08005","Ministarstvo znanosti, obrazovanja i mladih","3704","SREDNJOŠKOLSKO OBRAZOVANJE","K676064","TALIJANSKA SŠ LEONARDO DA VINCI BUJE-REKONSTRUKCIJA I DOGRADNJA","0970","Istraživanje i razvoj obrazovanja"]
["08005","Ministarstvo znanosti, obrazovanja i mladih","3704","SREDNJOŠKOLSKO OBRAZOVANJE","K676074","IZGRADNJA UČENIČKOG DOMA  U DARUVARU","0922","Više srednjoškolsko obrazovanje"]
["08005","Ministarstvo znanosti, obrazovanja i mladih","3705","VISOKO OBRAZOVANJE","A621021","SMJEŠTAJ I PREHRANA STUDENATA STUDENTSKOG CENTRA ZAGREB - SUFINANCIRANJE","0960","Dodatne usluge u obrazovanju"]
["08005","Ministarstvo znanosti, obrazovanja i mladih","3705","VISOKO OBRAZOVANJE","A621022","SMJEŠTAJ I PREHRANA STUDENATA STUDENTSKOG CENTRA OSIJEK - SUFINANCIRANJE","0960","Dodatne usluge u obrazovanju"]
["08005","Ministarstvo znanosti, obrazovanja i mladih","3705","VISOKO OBRAZOVANJE","A621023","SMJEŠTAJ I PREHRANA STUDENATA STUDENTSKOG CENTRA RIJEKA - SUFINANCIRANJE","0960","Dodatne usluge u obrazovanju"]
["08005","Ministarstvo znanosti, obrazovanja i mladih","3705","VISOKO OBRAZOVANJE","A621024","SMJEŠTAJ I PREHRANA STUDENATA STUDENTSKOG CENTRA SPLIT - SUFINANCIRANJE","0960","Dodatne usluge u obrazovanju"]
["08005","Ministarstvo znanosti, obrazovanja i mladih","3705","VISOKO OBRAZOVANJE","A621026","SMJEŠTAJ I PREHRANA STUDENATA STUDENTSKOG CENTRA ŠIBENIK - SUFINANCIRANJE","0960","Dodatne usluge u obrazovanju"]
["08005","Ministarstvo znanosti, obrazovanja i mladih","3705","VISOKO OBRAZOVANJE","A621028","SMJEŠTAJ I PREHRANA STUDENATA STUDENTSKOG CENTRA VARAŽDIN - SUFINANCIRANJE","0960","Dodatne usluge u obrazovanju"]
["08005","Ministarstvo znanosti, obrazovanja i mladih","3705","VISOKO OBRAZOVANJE","A621029","SMJEŠTAJ I PREHRANA STUDENATA STUDENTSKOG CENTRA SLAVONSKI BROD - SUFINANCIRANJE","0960","Dodatne usluge u obrazovanju"]
["08005","Ministarstvo znanosti, obrazovanja i mladih","3705","VISOKO OBRAZOVANJE","A621030","SMJEŠTAJ I PREHRANA STUDENATA STUDENTSKOG CENTRA POŽEGA - SUFINANCIRANJE","0960","Dodatne usluge u obrazovanju"]
["08005","Ministarstvo znanosti, obrazovanja i mladih","3705","VISOKO OBRAZOVANJE","A621031","SMJEŠTAJ I PREHRANA STUDENATA STUDENTSKOG CENTRA KARLOVAC - SUFINANCIRANJE","0960","Dodatne usluge u obrazovanju"]
["08005","Ministarstvo znanosti, obrazovanja i mladih","3705","VISOKO OBRAZOVANJE","A621049","KAMATE ZA STANOVE ZNANSTVENIH NOVAKA I ASISTENATA","0942","Drugi stupanj visoke naobrazbe"]
["08005","Ministarstvo znanosti, obrazovanja i mladih","3705","VISOKO OBRAZOVANJE","A621058","PROGRAMI POBOLJŠANJA STUDENTSKOG STANDARDA","0960","Dodatne usluge u obrazovanju"]
["08005","Ministarstvo znanosti, obrazovanja i mladih","3705","VISOKO OBRAZOVANJE","A621185","POTPORA HRVATSKOM KATOLIČKOM SVEUČILIŠTU U ZAGREBU","0942","Drugi stupanj visoke naobrazbe"]
["08005","Ministarstvo znanosti, obrazovanja i mladih","3705","VISOKO OBRAZOVANJE","A679049","POMOĆI BIH U SUSTAVU ZNANOSTI I OBRAZOVANJA","0970","Istraživanje i razvoj obrazovanja"]
["08005","Ministarstvo znanosti, obrazovanja i mladih","3705","VISOKO OBRAZOVANJE","A679064","ZNANSTVENO-UČILIŠNI KAMPUS BORONGAJ","0942","Drugi stupanj visoke naobrazbe"]
["08005","Ministarstvo znanosti, obrazovanja i mladih","3705","VISOKO OBRAZOVANJE","A679065","SMJEŠTAJ I PREHRANA STUDENATA STUDENTSKOG CENTRA PULA - SUFINANCIRANJE","0942","Drugi stupanj visoke naobrazbe"]
["08005","Ministarstvo znanosti, obrazovanja i mladih","3705","VISOKO OBRAZOVANJE","A679066","POTPORE ROMSKIM STUDIJIMA I STUDENTIMA ROMIMA","0942","Drugi stupanj visoke naobrazbe"]
["08005","Ministarstvo znanosti, obrazovanja i mladih","3705","VISOKO OBRAZOVANJE","A679067","DRŽAVNE STIPENDIJE ZA STUDENTE","0942","Drugi stupanj visoke naobrazbe"]
["08005","Ministarstvo znanosti, obrazovanja i mladih","3705","VISOKO OBRAZOVANJE","A679069","SMJEŠTAJ I PREHRANA STUDENATA STUDENTSKOG CENTRA SISAK - SUFINANCIRANJE","0942","Drugi stupanj visoke naobrazbe"]
["08005","Ministarstvo znanosti, obrazovanja i mladih","3705","VISOKO OBRAZOVANJE","A767043","RAZVOJ VISOKOG OBRAZOVANJA","0942","Drugi stupanj visoke naobrazbe"]
["08005","Ministarstvo znanosti, obrazovanja i mladih","3705","VISOKO OBRAZOVANJE","K733074","IZGRADNJA STUDENTSKOG DOMA U KOPRIVNICI","0942","Drugi stupanj visoke naobrazbe"]
["08005","Ministarstvo znanosti, obrazovanja i mladih","3801","ULAGANJE U ZNANSTVENO ISTRAŽIVAČKU DJELATNOST","A578050","POTPORA INOVACIJSKIM PROCESIMA","0150","Istraživanje i razvoj: Opće javne usluge"]
["08005","Ministarstvo znanosti, obrazovanja i mladih","3801","ULAGANJE U ZNANSTVENO ISTRAŽIVAČKU DJELATNOST","A578061","OBZOR 2020. - PROGRAM POTICANJA ISTRAŽIVANJA I RAZVOJA U PERSONALIZIRANOJ MEDICINI – ERA PERMED","0150","Istraživanje i razvoj: Opće javne usluge"]
["08005","Ministarstvo znanosti, obrazovanja i mladih","3801","ULAGANJE U ZNANSTVENO ISTRAŽIVAČKU DJELATNOST","A621047","DRŽAVNE, AKADEMSKE NAGRADE I POTPORE U ZNANOSTI I VISOKOM ŠKOLSTVU","0942","Drugi stupanj visoke naobrazbe"]
["08005","Ministarstvo znanosti, obrazovanja i mladih","3801","ULAGANJE U ZNANSTVENO ISTRAŽIVAČKU DJELATNOST","A621179","TROŠKOVI NACIONALNOG VIJEĆA ZA VISOKO OBRAZOVANJE, ZNANOST I TEHNOLOŠKI RAZVOJ","0150","Istraživanje i razvoj: Opće javne usluge"]
["08005","Ministarstvo znanosti, obrazovanja i mladih","3801","ULAGANJE U ZNANSTVENO ISTRAŽIVAČKU DJELATNOST","A622003","UGOVORNO FINANCIRANJE ZNANSTVENE DJELATNOSTI","0150","Istraživanje i razvoj: Opće javne usluge"]
["08005","Ministarstvo znanosti, obrazovanja i mladih","3801","ULAGANJE U ZNANSTVENO ISTRAŽIVAČKU DJELATNOST","A622004","IZDAVANJE DOMAĆIH ZNANSTVENIH ČASOPISA","0150","Istraživanje i razvoj: Opće javne usluge"]
["08005","Ministarstvo znanosti, obrazovanja i mladih","3801","ULAGANJE U ZNANSTVENO ISTRAŽIVAČKU DJELATNOST","A622005","ORGANIZIRANJE I ODRŽAVANJE ZNANSTVENIH SKUPOVA","0150","Istraživanje i razvoj: Opće javne usluge"]
["08005","Ministarstvo znanosti, obrazovanja i mladih","3801","ULAGANJE U ZNANSTVENO ISTRAŽIVAČKU DJELATNOST","A622006","IZDAVANJE  ZNANSTVENIH KNJIGA I UDŽBENIKA","0150","Istraživanje i razvoj: Opće javne usluge"]
["08005","Ministarstvo znanosti, obrazovanja i mladih","3801","ULAGANJE U ZNANSTVENO ISTRAŽIVAČKU DJELATNOST","A622007","FINANCIJSKA POTPORA ZNANSTVENIM UDRUGAMA","0150","Istraživanje i razvoj: Opće javne usluge"]
["08005","Ministarstvo znanosti, obrazovanja i mladih","3801","ULAGANJE U ZNANSTVENO ISTRAŽIVAČKU DJELATNOST","A679005","ČLANSTVO U MEĐUNARODNIM UDRUGAMA","0150","Istraživanje i razvoj: Opće javne usluge"]
["08005","Ministarstvo znanosti, obrazovanja i mladih","3801","ULAGANJE U ZNANSTVENO ISTRAŽIVAČKU DJELATNOST","A733050","PRAĆENJE I IMPLEMENTACIJA POLITIKA EUROPSKOG ISTRAŽIVAČKOG PROSTORA (ERA)","0150","Istraživanje i razvoj: Opće javne usluge"]
["08005","Ministarstvo znanosti, obrazovanja i mladih","3801","ULAGANJE U ZNANSTVENO ISTRAŽIVAČKU DJELATNOST","A733056","EUROPSKI ZNANSTVENI PROJEKTI","0150","Istraživanje i razvoj: Opće javne usluge"]
["08005","Ministarstvo znanosti, obrazovanja i mladih","3801","ULAGANJE U ZNANSTVENO ISTRAŽIVAČKU DJELATNOST","A767009","ZNANSTVENI CENTRI IZVRSNOSTI - DRUŠTVENO HUMANISTIČKO PODRUČJE","0150","Istraživanje i razvoj: Opće javne usluge"]
["08005","Ministarstvo znanosti, obrazovanja i mladih","3801","ULAGANJE U ZNANSTVENO ISTRAŽIVAČKU DJELATNOST","A767035","MEĐUNARODNA SURADNJA","0150","Istraživanje i razvoj: Opće javne usluge"]
["08005","Ministarstvo znanosti, obrazovanja i mladih","3801","ULAGANJE U ZNANSTVENO ISTRAŽIVAČKU DJELATNOST","A767038","OBZOR 2020. - PROGRAM MEĐUNARODNE MOBILNOSTI ZA ISTRAŽIVAČE - NEWFELPRO","0150","Istraživanje i razvoj: Opće javne usluge"]
["08005","Ministarstvo znanosti, obrazovanja i mladih","3801","ULAGANJE U ZNANSTVENO ISTRAŽIVAČKU DJELATNOST","A767056","OBZOR 2020. - PARTNERSTVO ZA ISTRAŽIVANJA I INOVACIJE NA MEDITERANSKOM PODRUČJU - PRIMA","0150","Istraživanje i razvoj: Opće javne usluge"]
["08005","Ministarstvo znanosti, obrazovanja i mladih","3801","ULAGANJE U ZNANSTVENO ISTRAŽIVAČKU DJELATNOST","A768068","OTKUP ZNANSTVENIH KNJIGA I VISOKOŠKOLSKIH UDŽBENIKA","0150","Istraživanje i razvoj: Opće javne usluge"]
["08005","Ministarstvo znanosti, obrazovanja i mladih","3801","ULAGANJE U ZNANSTVENO ISTRAŽIVAČKU DJELATNOST","K578051","OP KONKURENTNOST I KOHEZIJA 2014.-2020., PRIORITET 1, 9 i 10","0150","Istraživanje i razvoj: Opće javne usluge"]
["08005","Ministarstvo znanosti, obrazovanja i mladih","3801","ULAGANJE U ZNANSTVENO ISTRAŽIVAČKU DJELATNOST","K578070","POBOLJŠANJE UČINKOVITOSTI JAVNIH ULAGANJA NA PODRUČJU ISTRAŽIVANJA, RAZVOJA I INOVACIJA - NPOO (C3.2.R3)","0150","Istraživanje i razvoj: Opće javne usluge"]
["08005","Ministarstvo znanosti, obrazovanja i mladih","3801","ULAGANJE U ZNANSTVENO ISTRAŽIVAČKU DJELATNOST","K580074","POTPORA PROVOĐENJU PROGRAMA I PROJEKATA EU","0150","Istraživanje i razvoj: Opće javne usluge"]
["08005","Ministarstvo znanosti, obrazovanja i mladih","3801","ULAGANJE U ZNANSTVENO ISTRAŽIVAČKU DJELATNOST","K622113","ULAGANJE U ODRŽAVANJE ZNANSTVENOISTRAŽIVAČKE OPREME I INFRASTRUKTURE","0150","Istraživanje i razvoj: Opće javne usluge"]
["08005","Ministarstvo znanosti, obrazovanja i mladih","3801","ULAGANJE U ZNANSTVENO ISTRAŽIVAČKU DJELATNOST","K676068","PROGRAM KONKURENTNOST I KOHEZIJA 2021.-2027., PRIORITET 1","0150","Istraživanje i razvoj: Opće javne usluge"]
["08005","Ministarstvo znanosti, obrazovanja i mladih","3801","ULAGANJE U ZNANSTVENO ISTRAŽIVAČKU DJELATNOST","K676069","STVARANJE OKVIRA ZA PRIVLAČENJE STUDENATA I ISTRAŽIVAČA U STEM I ICT PODRUČJIMA - NPOO (C3.2.R2)","0150","Istraživanje i razvoj: Opće javne usluge"]
["08005","Ministarstvo znanosti, obrazovanja i mladih","3801","ULAGANJE U ZNANSTVENO ISTRAŽIVAČKU DJELATNOST","K676073","PROJEKT DIGITALNE, INOVATIVNE I ZELENE TEHNOLOGIJE - DIGIT","0150","Istraživanje i razvoj: Opće javne usluge"]
["08005","Ministarstvo znanosti, obrazovanja i mladih","3801","ULAGANJE U ZNANSTVENO ISTRAŽIVAČKU DJELATNOST","K768069","REFORMA I JAČANJE KAPACITETA JAVNOG ZNANSTVENO-ISTRAIŽIVAČKOG SEKTORA ZA ISTRAŽIVANJE I RAZVOJ - NPOO (C3.2.R1)","0150","Istraživanje i razvoj: Opće javne usluge"]
["08005","Ministarstvo znanosti, obrazovanja i mladih","3803","RAZVOJ INFORMACIJSKOG DRUŠTVA","A577143","RAZVOJ I ODRŽAVANJE INFORMACIJSKE INFRASTRUKTURE MINISTARSTVA","0980","Usluge obrazovanja koje nisu drugdje svrstane"]
["08005","Ministarstvo znanosti, obrazovanja i mladih","3803","RAZVOJ INFORMACIJSKOG DRUŠTVA","A628003","PROJEKTI PRIMJENE INFORMACIJSKE TEHNOLOGIJE","0150","Istraživanje i razvoj: Opće javne usluge"]
["08005","Ministarstvo znanosti, obrazovanja i mladih","3803","RAZVOJ INFORMACIJSKOG DRUŠTVA","K252755","RAČUNALNO KOMUNIKACIJSKA INFRASTRUKTURA U OSNOVNIM I SREDNJIM ŠKOLAMA","0980","Usluge obrazovanja koje nisu drugdje svrstane"]
["08006","Sveučilišta i veleučilišta u Republici Hrvatskoj","3705","VISOKO OBRAZOVANJE","A621001","REDOVNA DJELATNOST SVEUČILIŠTA U ZAGREBU","0942","Drugi stupanj visoke naobrazbe"]
["08006","Sveučilišta i veleučilišta u Republici Hrvatskoj","3705","VISOKO OBRAZOVANJE","A621002","REDOVNA DJELATNOST SVEUČILIŠTA U RIJECI","0942","Drugi stupanj visoke naobrazbe"]
["08006","Sveučilišta i veleučilišta u Republici Hrvatskoj","3705","VISOKO OBRAZOVANJE","A621003","REDOVNA DJELATNOST SVEUČILIŠTA U OSIJEKU","0942","Drugi stupanj visoke naobrazbe"]
["08006","Sveučilišta i veleučilišta u Republici Hrvatskoj","3705","VISOKO OBRAZOVANJE","A621004","REDOVNA DJELATNOST SVEUČILIŠTA U SPLITU","0942","Drugi stupanj visoke naobrazbe"]
["08006","Sveučilišta i veleučilišta u Republici Hrvatskoj","3705","VISOKO OBRAZOVANJE","A621038","PROGRAMI VJEŽBAONICA VISOKIH UČILIŠTA","0942","Drugi stupanj visoke naobrazbe"]
["08006","Sveučilišta i veleučilišta u Republici Hrvatskoj","3705","VISOKO OBRAZOVANJE","A621074","REDOVNA DJELATNOST SVEUČILIŠTA U ZADRU","0942","Drugi stupanj visoke naobrazbe"]
["08006","Sveučilišta i veleučilišta u Republici Hrvatskoj","3705","VISOKO OBRAZOVANJE","A621138","REDOVNA DJELATNOST SVEUČILIŠTA U DUBROVNIKU","0942","Drugi stupanj visoke naobrazbe"]
["08006","Sveučilišta i veleučilišta u Republici Hrvatskoj","3705","VISOKO OBRAZOVANJE","A621148","REDOVNA DJELATNOST VELEUČILIŠTA I VISOKIH ŠKOLA","0942","Drugi stupanj visoke naobrazbe"]
["08006","Sveučilišta i veleučilišta u Republici Hrvatskoj","3705","VISOKO OBRAZOVANJE","A621168","REDOVNA DJELATNOST SVEUČILIŠTA U PULI","0942","Drugi stupanj visoke naobrazbe"]
["08006","Sveučilišta i veleučilišta u Republici Hrvatskoj","3705","VISOKO OBRAZOVANJE","A621180","REKTORSKI ZBOR","0942","Drugi stupanj visoke naobrazbe"]
["08006","Sveučilišta i veleučilišta u Republici Hrvatskoj","3705","VISOKO OBRAZOVANJE","A621181","PRAVOMOĆNE SUDSKE PRESUDE","0942","Drugi stupanj visoke naobrazbe"]
["08006","Sveučilišta i veleučilišta u Republici Hrvatskoj","3705","VISOKO OBRAZOVANJE","A621183","STIPENDIJE I ŠKOLARINE ZA DOKTORSKI STUDIJ","0942","Drugi stupanj visoke naobrazbe"]
["08006","Sveučilišta i veleučilišta u Republici Hrvatskoj","3705","VISOKO OBRAZOVANJE","A622122","PROGRAMSKO FINANCIRANJE JAVNIH VISOKIH UČILIŠTA","0942","Drugi stupanj visoke naobrazbe"]
["08006","Sveučilišta i veleučilišta u Republici Hrvatskoj","3705","VISOKO OBRAZOVANJE","A679071","EU PROJEKTI SVEUČILIŠTA U OSIJEKU (IZ EVIDENCIJSKIH PRIHODA)","0942","Drugi stupanj visoke naobrazbe"]
["08006","Sveučilišta i veleučilišta u Republici Hrvatskoj","3705","VISOKO OBRAZOVANJE","A679072","EU PROJEKTI SVEUČILIŠTA U RIJECI (IZ EVIDENCIJSKIH PRIHODA)","0942","Drugi stupanj visoke naobrazbe"]
["08006","Sveučilišta i veleučilišta u Republici Hrvatskoj","3705","VISOKO OBRAZOVANJE","NOVI PODPROJEKT","EU PROJEKTI SVEUČILIŠTA U RIJECI (IZ EVIDENCIJSKIH PRIHODA)","0942","Drugi stupanj visoke naobrazbe"]
["08006","Sveučilišta i veleučilišta u Republici Hrvatskoj","3705","VISOKO OBRAZOVANJE","A679073","EU PROJEKTI SVEUČILIŠTA U DUBROVNIKU (IZ EVIDENCIJSKIH PRIHODA)","0942","Drugi stupanj visoke naobrazbe"]
["08006","Sveučilišta i veleučilišta u Republici Hrvatskoj","3705","VISOKO OBRAZOVANJE","A679074","EU PROJEKTI SVEUČILIŠTA U ZADRU (IZ EVIDENCIJSKIH PRIHODA)","0942","Drugi stupanj visoke naobrazbe"]
["08006","Sveučilišta i veleučilišta u Republici Hrvatskoj","3705","VISOKO OBRAZOVANJE","A679075","EU PROJEKTI SVEUČILIŠTA U PULI (IZ EVIDENCIJSKIH PRIHODA)","0942","Drugi stupanj visoke naobrazbe"]
["08006","Sveučilišta i veleučilišta u Republici Hrvatskoj","3705","VISOKO OBRAZOVANJE","A679076","EU PROJEKTI VELEUČILIŠTA I VISOKIH ŠKOLA (IZ EVIDENCIJSKIH PRIHODA)","0942","Drugi stupanj visoke naobrazbe"]
["08006","Sveučilišta i veleučilišta u Republici Hrvatskoj","3705","VISOKO OBRAZOVANJE","A679077","EU PROJEKTI SVEUČILIŠTA U SPLITU (IZ EVIDENCIJSKIH PRIHODA)","0942","Drugi stupanj visoke naobrazbe"]
["08006","Sveučilišta i veleučilišta u Republici Hrvatskoj","3705","VISOKO OBRAZOVANJE","A679078","EU PROJEKTI SVEUČILIŠTA U ZAGREBU (IZ EVIDENCIJSKIH PRIHODA)","0942","Drugi stupanj visoke naobrazbe"]
["08006","Sveučilišta i veleučilišta u Republici Hrvatskoj","3705","VISOKO OBRAZOVANJE","A679080","REDOVNA DJELATNOST SVEUČILIŠTA SJEVER","0942","Drugi stupanj visoke naobrazbe"]
["08006","Sveučilišta i veleučilišta u Republici Hrvatskoj","3705","VISOKO OBRAZOVANJE","A679080","REDOVNA DJELATNOST SVEUČILIŠTA SJEVER","0960","Dodatne usluge u obrazovanju"]
["08006","Sveučilišta i veleučilišta u Republici Hrvatskoj","3705","VISOKO OBRAZOVANJE","A679081","EU PROJEKTI SVEUČILIŠTA SJEVER (IZ EVIDENCIJSKIH PRIHODA)","0942","Drugi stupanj visoke naobrazbe"]
["08006","Sveučilišta i veleučilišta u Republici Hrvatskoj","3705","VISOKO OBRAZOVANJE","A679088","REDOVNA DJELATNOST SVEUČILIŠTA U ZAGREBU (IZ EVIDENCIJSKIH PRIHODA)","0942","Drugi stupanj visoke naobrazbe"]
["08006","Sveučilišta i veleučilišta u Republici Hrvatskoj","3705","VISOKO OBRAZOVANJE","A679089","REDOVNA DJELATNOST SVEUČILIŠTA U RIJECI (IZ EVIDENCIJSKIH PRIHODA)","0942","Drugi stupanj visoke naobrazbe"]
["08006","Sveučilišta i veleučilišta u Republici Hrvatskoj","3705","VISOKO OBRAZOVANJE","A679090","REDOVNA DJELATNOST SVEUČILIŠTA U OSIJEKU (IZ EVIDENCIJSKIH PRIHODA)","0942","Drugi stupanj visoke naobrazbe"]
["08006","Sveučilišta i veleučilišta u Republici Hrvatskoj","3705","VISOKO OBRAZOVANJE","A679091","REDOVNA DJELATNOST SVEUČILIŠTA U SPLITU (IZ EVIDENCIJSKIH PRIHODA)","0942","Drugi stupanj visoke naobrazbe"]
["08006","Sveučilišta i veleučilišta u Republici Hrvatskoj","3705","VISOKO OBRAZOVANJE","A679092","REDOVNA DJELATNOST SVEUČILIŠTA U ZADRU (IZ EVIDENCIJSKIH PRIHODA)","0942","Drugi stupanj visoke naobrazbe"]
["08006","Sveučilišta i veleučilišta u Republici Hrvatskoj","3705","VISOKO OBRAZOVANJE","A679093","REDOVNA DJELATNOST SVEUČILIŠTA U DUBROVNIKU (IZ EVIDENCIJSKIH PRIHODA)","0942","Drugi stupanj visoke naobrazbe"]
["08006","Sveučilišta i veleučilišta u Republici Hrvatskoj","3705","VISOKO OBRAZOVANJE","A679094","REDOVNA DJELATNOST VELEUČILIŠTA I VISOKIH ŠKOLA (IZ EVIDENCIJSKIH PRIHODA)","0942","Drugi stupanj visoke naobrazbe"]
["08006","Sveučilišta i veleučilišta u Republici Hrvatskoj","3705","VISOKO OBRAZOVANJE","A679095","REDOVNA DJELATNOST SVEUČILIŠTA U PULI (IZ EVIDENCIJSKIH PRIHODA)","0942","Drugi stupanj visoke naobrazbe"]
["08006","Sveučilišta i veleučilišta u Republici Hrvatskoj","3705","VISOKO OBRAZOVANJE","A679096","REDOVNA DJELATNOST SVEUČILIŠTA SJEVER (IZ EVIDENCIJSKIH PRIHODA)","0942","Drugi stupanj visoke naobrazbe"]
["08006","Sveučilišta i veleučilišta u Republici Hrvatskoj","3705","VISOKO OBRAZOVANJE","A679110","POTPORA UMJETNIČKIM STUDIJIMA","0942","Drugi stupanj visoke naobrazbe"]
["08006","Sveučilišta i veleučilišta u Republici Hrvatskoj","3705","VISOKO OBRAZOVANJE","A679112","REDOVNA DJELATNOST SVEUČILIŠTA U SLAVONSKOM BRODU","0942","Drugi stupanj visoke naobrazbe"]
["08006","Sveučilišta i veleučilišta u Republici Hrvatskoj","3705","VISOKO OBRAZOVANJE","A679114","REDOVNA DJELATNOST SVEUČILIŠTA U SLAVONSKOM BRODU (IZ EVIDENCIJSKIH PRIHODA)","0942","Drugi stupanj visoke naobrazbe"]
["08006","Sveučilišta i veleučilišta u Republici Hrvatskoj","3705","VISOKO OBRAZOVANJE","A679115","EU PROJEKTI SVEUČILIŠTA U SLAVONSKOM BRODU  (IZ EVIDENCIJSKIH PRIHODA)","0942","Drugi stupanj visoke naobrazbe"]
["08006","Sveučilišta i veleučilišta u Republici Hrvatskoj","3705","VISOKO OBRAZOVANJE","A679117","HPC - PROJEKT ISTRAŽIVANJA NA PODRUČJU POTRESNOG INŽENJERSTVA","0942","Drugi stupanj visoke naobrazbe"]
["08006","Sveučilišta i veleučilišta u Republici Hrvatskoj","3705","VISOKO OBRAZOVANJE","A679118","PROJEKT PRAĆENJA GEOLOŠKIH HAZARDA I RIZIKA NAKON POTRESA U PETRINJI","0942","Drugi stupanj visoke naobrazbe"]
["08006","Sveučilišta i veleučilišta u Republici Hrvatskoj","3705","VISOKO OBRAZOVANJE","K621061","ODRŽAVANJE OBJEKATA VISOKOOBRAZOVNIH USTANOVA","0942","Drugi stupanj visoke naobrazbe"]
["08006","Sveučilišta i veleučilišta u Republici Hrvatskoj","3705","VISOKO OBRAZOVANJE","K679084","OP KONKURENTNOST I KOHEZIJA 2014.-2020., PRIORITET 1, 9 i 10","0942","Drugi stupanj visoke naobrazbe"]
["08006","Sveučilišta i veleučilišta u Republici Hrvatskoj","3705","VISOKO OBRAZOVANJE","K679106","OP UČINKOVITI LJUDSKI POTENCIJALI 2014.-2020., PRIORITET 3","0942","Drugi stupanj visoke naobrazbe"]
["08006","Sveučilišta i veleučilišta u Republici Hrvatskoj","3705","VISOKO OBRAZOVANJE","K679116","OBNOVA INFRASTRUKTURE I OPREME U PODRUČJU OBRAZOVANJA OŠTEĆENE POTRESOM","0942","Drugi stupanj visoke naobrazbe"]
["08006","Sveučilišta i veleučilišta u Republici Hrvatskoj","3705","VISOKO OBRAZOVANJE","K679119","OBNOVA ZGRADA OŠTEĆENIH U POTRESU S ENERGETSKOM OBNOVOM - NPOO (C6.1.R1-I2)","0942","Drugi stupanj visoke naobrazbe"]
["08006","Sveučilišta i veleučilišta u Republici Hrvatskoj","3705","VISOKO OBRAZOVANJE","K679122","RAZVOJ MREŽE SEIZMOLOŠKIH PODATAKA - NPOO (C6.1.R4-I1)","0942","Drugi stupanj visoke naobrazbe"]
["08006","Sveučilišta i veleučilišta u Republici Hrvatskoj","3705","VISOKO OBRAZOVANJE","K679124","PROGRAM UČINKOVITI LJUDSKI POTENCIJALI 2021.-2027., PRIORITET 2","0942","Drugi stupanj visoke naobrazbe"]
["08006","Sveučilišta i veleučilišta u Republici Hrvatskoj","3705","VISOKO OBRAZOVANJE","K679125","OBNOVA INFRASTRUKTURE U PODRUČJU OBRAZOVANJA OŠTEĆENE POTRESOM FSEU.2022.MZO","0942","Drugi stupanj visoke naobrazbe"]
["08006","Sveučilišta i veleučilišta u Republici Hrvatskoj","3705","VISOKO OBRAZOVANJE","K679126","PROGRAM KONKURENTNOST I KOHEZIJA 2021.-2027., PRIORITET 1","0942","Drugi stupanj visoke naobrazbe"]
["08006","Sveučilišta i veleučilišta u Republici Hrvatskoj","3705","VISOKO OBRAZOVANJE","K679128","POBOLJŠANJE UČINKOVITOSTI JAVNIH ULAGANJA NA PODRUČJU ISTRAŽIVANJA, RAZVOJA I INOVACIJA - NPOO (C3.2.R3)","0942","Drugi stupanj visoke naobrazbe"]
["08006","Sveučilišta i veleučilišta u Republici Hrvatskoj","3705","VISOKO OBRAZOVANJE","K679129","STVARANJE OKVIRA ZA PRIVLAČENJE STUDENATA I ISTRAŽIVAČA NA STEM I ICT PODRUČJIMA - NPOO (C3.2.R2)","0942","Drugi stupanj visoke naobrazbe"]
["08006","Sveučilišta i veleučilišta u Republici Hrvatskoj","3801","ULAGANJE U ZNANSTVENO ISTRAŽIVAČKU DJELATNOST","A622012","REDOVNA DJELATNOST SEIZMOLOŠKE SLUŽBE","0942","Drugi stupanj visoke naobrazbe"]
["08008","Javni instituti u Republici Hrvatskoj","3801","ULAGANJE U ZNANSTVENO ISTRAŽIVAČKU DJELATNOST","A622000","REDOVNA DJELATNOST JAVNIH INSTITUTA","0150","Istraživanje i razvoj: Opće javne usluge"]
["08008","Javni instituti u Republici Hrvatskoj","3801","ULAGANJE U ZNANSTVENO ISTRAŽIVAČKU DJELATNOST","A622002","PROGRAM USAVRŠAVANJA ZNANSTVENIH NOVAKA","0150","Istraživanje i razvoj: Opće javne usluge"]
["08008","Javni instituti u Republici Hrvatskoj","3801","ULAGANJE U ZNANSTVENO ISTRAŽIVAČKU DJELATNOST","A622009","POTICAJ RAZVOJA ZNANOSTI I ULAGANJA U KADROVE - FINANCIRANJE ŠKOLARINA ZA POSLIJEDIPLOMSKI STUDIJ","0150","Istraživanje i razvoj: Opće javne usluge"]
["08008","Javni instituti u Republici Hrvatskoj","3801","ULAGANJE U ZNANSTVENO ISTRAŽIVAČKU DJELATNOST","A622011","REDOVNA DJELATNOST GEOLOŠKE SLUŽBE","0150","Istraživanje i razvoj: Opće javne usluge"]
["08008","Javni instituti u Republici Hrvatskoj","3801","ULAGANJE U ZNANSTVENO ISTRAŽIVAČKU DJELATNOST","A622120","PRAVOMOĆNE SUDSKE PRESUDE","0150","Istraživanje i razvoj: Opće javne usluge"]
["08008","Javni instituti u Republici Hrvatskoj","3801","ULAGANJE U ZNANSTVENO ISTRAŽIVAČKU DJELATNOST","A622125","EU PROJEKTI JAVNIH INSTITUTA (IZ EVIDENCIJSKIH PRIHODA)","0150","Istraživanje i razvoj: Opće javne usluge"]
["08008","Javni instituti u Republici Hrvatskoj","3801","ULAGANJE U ZNANSTVENO ISTRAŽIVAČKU DJELATNOST","A622132","REDOVNA DJELATNOST JAVNIH INSTITUTA (IZ EVIDENCIJSKIH PRIHODA)","0150","Istraživanje i razvoj: Opće javne usluge"]
["08008","Javni instituti u Republici Hrvatskoj","3801","ULAGANJE U ZNANSTVENO ISTRAŽIVAČKU DJELATNOST","A622137","PROGRAMSKO FINANCIRANJE JAVNIH ZNANSTVENIH INSTITUTA","0150","Istraživanje i razvoj: Opće javne usluge"]
["08008","Javni instituti u Republici Hrvatskoj","3801","ULAGANJE U ZNANSTVENO ISTRAŽIVAČKU DJELATNOST","A622150","PROGRAMSKO FINANCIRANJE JAVNIH INSTITUTA","0150","Istraživanje i razvoj: Opće javne usluge"]
["08008","Javni instituti u Republici Hrvatskoj","3801","ULAGANJE U ZNANSTVENO ISTRAŽIVAČKU DJELATNOST","A622151","PROGRAMSKO FINANCIRANJE JAVNIH INSTITUTA – IZ EVIDENCIJSKIH PRIHODA","0150","Istraživanje i razvoj: Opće javne usluge"]
["08008","Javni instituti u Republici Hrvatskoj","3801","ULAGANJE U ZNANSTVENO ISTRAŽIVAČKU DJELATNOST","A622152","PROGRAMSKO FINANCIRANJE JAVNIH INSTITUTA  - IZ STRUKTURNIH I INVESTICIJSKIH FONDOVA EU","0150","Istraživanje i razvoj: Opće javne usluge"]
["08008","Javni instituti u Republici Hrvatskoj","3801","ULAGANJE U ZNANSTVENO ISTRAŽIVAČKU DJELATNOST","A622153","SAMOSTALNA DJELATNOST JAVNIH INSTITUTA – IZ EVIDENCIJSKIH PRIHODA","0150","Istraživanje i razvoj: Opće javne usluge"]
["08008","Javni instituti u Republici Hrvatskoj","3801","ULAGANJE U ZNANSTVENO ISTRAŽIVAČKU DJELATNOST","K622128","OP KONKURENTNOST I KOHEZIJA 2014.-2020., PRIORITET 1 i 10","0150","Istraživanje i razvoj: Opće javne usluge"]
["08008","Javni instituti u Republici Hrvatskoj","3801","ULAGANJE U ZNANSTVENO ISTRAŽIVAČKU DJELATNOST","K622138","OBNOVA INFRASTRUKTURE I OPREME U PODRUČJU OBRAZOVANJA OŠTEĆENE POTRESOM","0150","Istraživanje i razvoj: Opće javne usluge"]
["08008","Javni instituti u Republici Hrvatskoj","3801","ULAGANJE U ZNANSTVENO ISTRAŽIVAČKU DJELATNOST","K622139","OBNOVA ZGRADA OŠTEĆENIH U POTRESU S ENERGETSKOM OBNOVOM - NPOO (C6.1.R1-I2)","0150","Istraživanje i razvoj: Opće javne usluge"]
["08008","Javni instituti u Republici Hrvatskoj","3801","ULAGANJE U ZNANSTVENO ISTRAŽIVAČKU DJELATNOST","K622142","RAZVOJ ODRŽIVOG, INOVATIVNOG I OTPORNOG TURIZMA  (C1.6 R1) - NPOO","0150","Istraživanje i razvoj: Opće javne usluge"]
["08008","Javni instituti u Republici Hrvatskoj","3801","ULAGANJE U ZNANSTVENO ISTRAŽIVAČKU DJELATNOST","K622144","OBNOVA INFRASTRUKTURE U PODRUČJU OBRAZOVANJA OŠTEĆENE POTRESOM FSEU.2022.MZO","0150","Istraživanje i razvoj: Opće javne usluge"]
["08008","Javni instituti u Republici Hrvatskoj","3801","ULAGANJE U ZNANSTVENO ISTRAŽIVAČKU DJELATNOST","K622149","REFORMA I JAČANJE KAPACITETA JAVNOG ZNANSTVENO-ISTRAŽIVAČKOG SEKTORA ZA ISTRAŽIVNJE I RAZVOJ - NPOO (C3.2.R1)","0150","Istraživanje i razvoj: Opće javne usluge"]
["08012","Državni zavod za intelektualno vlasništvo","3801","ULAGANJE U ZNANSTVENO ISTRAŽIVAČKU DJELATNOST","A763000","ADMINISTRACIJA I UPRAVLJANJE DRŽAVNOG ZAVODA ZA INTELEKTUALNO VLASNIŠTVO","0150","Istraživanje i razvoj: Opće javne usluge"]
["08012","Državni zavod za intelektualno vlasništvo","3801","ULAGANJE U ZNANSTVENO ISTRAŽIVAČKU DJELATNOST","T763005","SURADNJA DZIV-a S UREDOM EUROPSKE UNIJE ZA INTELEKTUALNO VLASNIŠTVO (EUIPO)","0150","Istraživanje i razvoj: Opće javne usluge"]
["21836","Nacionalna i sveučilišna knjižnica","3801","ULAGANJE U ZNANSTVENO ISTRAŽIVAČKU DJELATNOST","A622017","ADMINISTRACIJA I UPRAVLJANJE NACIONALNE SVEUČILIŠNE KNJIŽNICE","0820","Službe kulture"]
["21836","Nacionalna i sveučilišna knjižnica","3801","ULAGANJE U ZNANSTVENO ISTRAŽIVAČKU DJELATNOST","A622131","NABAVA INOZEMNIH ZNANSTVENIH ČASOPISA","0820","Službe kulture"]
["21836","Nacionalna i sveučilišna knjižnica","3801","ULAGANJE U ZNANSTVENO ISTRAŽIVAČKU DJELATNOST","A622134","ADMINISTRACIJA I UPRAVLJANJE NACIONALNE SVEUČILIŠNE KNJIŽNICE (IZ EVIDENCIJSKIH PRIHODA)","0820","Službe kulture"]
["21836","Nacionalna i sveučilišna knjižnica","3801","ULAGANJE U ZNANSTVENO ISTRAŽIVAČKU DJELATNOST","A622145","PRAVOMOĆNE SUDSKE PRESUDE","0820","Službe kulture"]
["21836","Nacionalna i sveučilišna knjižnica","3801","ULAGANJE U ZNANSTVENO ISTRAŽIVAČKU DJELATNOST","K622116","KNJIGE, UMJETNIČKA DJELA I OSTALE IZLOŽBENE VRIJEDNOSTI","0820","Službe kulture"]
["21836","Nacionalna i sveučilišna knjižnica","3801","ULAGANJE U ZNANSTVENO ISTRAŽIVAČKU DJELATNOST","K622147","PROJEKT E-SVEUČILIŠTA - NPOO (C.3.1. R2-I1)","0820","Službe kulture"]
["21852","Hrvatska akademska i istraživačka mreža Carnet","3803","RAZVOJ INFORMACIJSKOG DRUŠTVA","A628009","ADMINISTRACIJA I UPRAVLJANJE HRVATSKE AKADEMSKE I ISTRAŽIVAČKE MREŽE CARNET","0133","Ostale opće usluge"]
["21852","Hrvatska akademska i istraživačka mreža Carnet","3803","RAZVOJ INFORMACIJSKOG DRUŠTVA","A628011","PROGRAM TELEKOMUNIKACIJSKIH KAPACITETA ZA MREŽU CARNET","0133","Ostale opće usluge"]
["21852","Hrvatska akademska i istraživačka mreža Carnet","3803","RAZVOJ INFORMACIJSKOG DRUŠTVA","A628015","UKLJUČIVANJE MREŽE CARNET U PAN-EUROPSKE AKADEMSKE I ISTRAŽIVAČKE MREŽE","0460","Komunikacije"]
["21852","Hrvatska akademska i istraživačka mreža Carnet","3803","RAZVOJ INFORMACIJSKOG DRUŠTVA","A628068","SUDJELOVANJE NA IZGRADNJI, TESTIRANJU I RAZVOJU OKOSNICE PAN-EUROPSKE RAČUNALNO KOMUNIKACIJSKE MREŽE","0133","Ostale opće usluge"]
["21852","Hrvatska akademska i istraživačka mreža Carnet","3803","RAZVOJ INFORMACIJSKOG DRUŠTVA","A628070","PROGRAM OBJEDINJAVANJA I ODRŽAVANJA NACIONALNIH INFORMACIJSKIH SERVISA I E-ŠKOLA","0133","Ostale opće usluge"]
["21852","Hrvatska akademska i istraživačka mreža Carnet","3803","RAZVOJ INFORMACIJSKOG DRUŠTVA","A628074","PROGRAMI ZAJEDNICE","0133","Ostale opće usluge"]
["21852","Hrvatska akademska i istraživačka mreža Carnet","3803","RAZVOJ INFORMACIJSKOG DRUŠTVA","A628089","JAČANJE KAPACITETA NACIONALNOG CERT-A I POBOLJŠANJE SURADNJE NA HR I EU RAZINI - GROWCERT","0133","Ostale opće usluge"]
["21852","Hrvatska akademska i istraživačka mreža Carnet","3803","RAZVOJ INFORMACIJSKOG DRUŠTVA","A628090","UNAPRJEĐENJE JEDNAKIH MOGUĆNOSTI U OBRAZOVANJU ZA UČENIKE S TEŠKOĆAMA U RAZVOJU","0133","Ostale opće usluge"]
["21852","Hrvatska akademska i istraživačka mreža Carnet","3803","RAZVOJ INFORMACIJSKOG DRUŠTVA","A628091","OBRAZOVANJE U RURALNIM PODRUČJIMA - LEARNING FROM THE EXTREMES, A RURAL SCHOOLS INNOVATION ROADMAP","0133","Ostale opće usluge"]
["21852","Hrvatska akademska i istraživačka mreža Carnet","3803","RAZVOJ INFORMACIJSKOG DRUŠTVA","K406669","CARNET - ZAJEDNIČKA RK INFRASTRUKTURA","0133","Ostale opće usluge"]
["21852","Hrvatska akademska i istraživačka mreža Carnet","3803","RAZVOJ INFORMACIJSKOG DRUŠTVA","K628069","ULAGANJE U OPREMU ZA ODRŽAVANJE NACIONALNIH I INFORMACIJSKIH SERVISA","0133","Ostale opće usluge"]
["21852","Hrvatska akademska i istraživačka mreža Carnet","3803","RAZVOJ INFORMACIJSKOG DRUŠTVA","K628080","OP KONKURENTNOST I KOHEZIJA 2014.-2020., PRIORITET 9","0970","Istraživanje i razvoj obrazovanja"]
["21852","Hrvatska akademska i istraživačka mreža Carnet","3803","RAZVOJ INFORMACIJSKOG DRUŠTVA","K628081","OP UČINKOVITI LJUDSKI POTENCIJALI 2014.-2020., PRIORITET 3 i 4","0970","Istraživanje i razvoj obrazovanja"]
["21852","Hrvatska akademska i istraživačka mreža Carnet","3803","RAZVOJ INFORMACIJSKOG DRUŠTVA","K628093","DIGITALNA PREOBRAZBA VISOKOG OBRAZOVANJA E-SVEUČILIŠTA - NPOO (C3.2.R2)","0133","Ostale opće usluge"]
["21852","Hrvatska akademska i istraživačka mreža Carnet","3803","RAZVOJ INFORMACIJSKOG DRUŠTVA","K628095","HRVATSKA KVANTNA KOMUNIKACIJSKA INFRASTRUKTURA - CRO QCI - NPOO (C3.2.R2-I2)","0133","Ostale opće usluge"]
["21852","Hrvatska akademska i istraživačka mreža Carnet","3803","RAZVOJ INFORMACIJSKOG DRUŠTVA","K628100","PROGRAM UČINKOVITI LJUDSKI POTENCIJALI 2021.-2027., PRIORITET 2","0133","Ostale opće usluge"]
["21852","Hrvatska akademska i istraživačka mreža Carnet","3803","RAZVOJ INFORMACIJSKOG DRUŠTVA","K628100","PROGRAM UČINKOVITI LJUDSKI POTENCIJALI 2021.-2027., PRIORITET 2","0970","Istraživanje i razvoj obrazovanja"]
["21869","Leksikografski zavod Miroslav Krleža","3801","ULAGANJE U ZNANSTVENO ISTRAŽIVAČKU DJELATNOST","A622107","ADMINISTRACIJA I UPRAVLJANJE LEKSIKOGRAFSKOG ZAVODA MIROSLAV KRLEŽA","0150","Istraživanje i razvoj: Opće javne usluge"]
["21869","Leksikografski zavod Miroslav Krleža","3801","ULAGANJE U ZNANSTVENO ISTRAŽIVAČKU DJELATNOST","A622136","ADMINISTRACIJA I UPRAVLJANJE LEKSIKOGRAFSKOG ZAVODA MIROSLAV KRLEŽA (IZ EVIDENCIJSKIH PRIHODA)","0150","Istraživanje i razvoj: Opće javne usluge"]
["21869","Leksikografski zavod Miroslav Krleža","3801","ULAGANJE U ZNANSTVENO ISTRAŽIVAČKU DJELATNOST","A622146","PRAVOMOĆNE SUDSKE PRESUDE","0150","Istraživanje i razvoj: Opće javne usluge"]
["23665","Sveučilišni računski centar SRCE","3803","RAZVOJ INFORMACIJSKOG DRUŠTVA","A628018","ADMINISTRACIJA I UPRAVLJANJE SVEUČILIŠNOG RAČUNSKOG CENTRA SRCE","0133","Ostale opće usluge"]
["23665","Sveučilišni računski centar SRCE","3803","RAZVOJ INFORMACIJSKOG DRUŠTVA","A628084","ADMINISTRACIJA I UPRAVLJANJE SVEUČILIŠNOG RAČUNSKOG CENTRA SRCE  (IZ EVIDENCIJSKIH PRIHODA)","0133","Ostale opće usluge"]
["23665","Sveučilišni računski centar SRCE","3803","RAZVOJ INFORMACIJSKOG DRUŠTVA","A628098","PRAVOMOĆNE SUDSKE PRESUDE","0133","Ostale opće usluge"]
["23665","Sveučilišni računski centar SRCE","3803","RAZVOJ INFORMACIJSKOG DRUŠTVA","A628099","USPOSTAVA DIGITALNOG INOVACIJSKOG SREDIŠTA U HRVATSKOJ – CROBOHUB – NPOO ( C1.1.2. R4-I1)","0133","Ostale opće usluge"]
["23665","Sveučilišni računski centar SRCE","3803","RAZVOJ INFORMACIJSKOG DRUŠTVA","K628055","SRCE -IZRAVNA KAPITALNA ULAGANJA","0133","Ostale opće usluge"]
["23665","Sveučilišni računski centar SRCE","3803","RAZVOJ INFORMACIJSKOG DRUŠTVA","K628087","OP KONKURENTNOST I KOHEZIJA 2014.-2020., PRIORITETI 1 i 10","0133","Ostale opće usluge"]
["23665","Sveučilišni računski centar SRCE","3803","RAZVOJ INFORMACIJSKOG DRUŠTVA","K628094","INFORMACIJSKI SUSTAVI EVIDENCIJA U VISOKOM OBRAZOVANJU - ISEVO - NPOO (C3.1.R2-I1)","0133","Ostale opće usluge"]
["23665","Sveučilišni računski centar SRCE","3803","RAZVOJ INFORMACIJSKOG DRUŠTVA","K628097","HRVATSKA KVANTNA KOMUNIKACIJSKA INFRASTRUKTURA - CRO QCI - NPOO (C3.2.R2-I2)","0133","Ostale opće usluge"]
["23962","Agencija za odgoj i obrazovanje","3701","RAZVOJ ODGOJNO OBRAZOVNOG SUSTAVA","A579073","UČIMO PODUZETNIŠTVO 5.0","0970","Istraživanje i razvoj obrazovanja"]
["23962","Agencija za odgoj i obrazovanje","3701","RAZVOJ ODGOJNO OBRAZOVNOG SUSTAVA","A580006","STRUČNO USAVRŠAVANJE U OKVIRU ŽUPANIJSKIH STRUČNIH VIJEĆA SREDNJE ŠKOLE","0970","Istraživanje i razvoj obrazovanja"]
["23962","Agencija za odgoj i obrazovanje","3701","RAZVOJ ODGOJNO OBRAZOVNOG SUSTAVA","A580072","ERASMUS PLUS - PROJEKTI","0970","Istraživanje i razvoj obrazovanja"]
["23962","Agencija za odgoj i obrazovanje","3701","RAZVOJ ODGOJNO OBRAZOVNOG SUSTAVA","A733001","ADMINISTRACIJA I UPRAVLJANJE AGENCIJE ZA ODGOJ I OBRAZOVANJE","0970","Istraživanje i razvoj obrazovanja"]
["23962","Agencija za odgoj i obrazovanje","3701","RAZVOJ ODGOJNO OBRAZOVNOG SUSTAVA","A733027","STRUČNO USAVRŠAVANJE U OKVIRU ŽUPANIJSKIH STRUČNIH VIJEĆA OSNOVNE ŠKOLE","0970","Istraživanje i razvoj obrazovanja"]
["23962","Agencija za odgoj i obrazovanje","3701","RAZVOJ ODGOJNO OBRAZOVNOG SUSTAVA","A733032","IZVANNASTAVNE AKTIVNOSTI U OSNOVNIM I SREDNJIM ŠKOLAMA-NATJECANJE","0970","Istraživanje i razvoj obrazovanja"]
["23962","Agencija za odgoj i obrazovanje","3701","RAZVOJ ODGOJNO OBRAZOVNOG SUSTAVA","A767022","STRUČNO USAVRŠAVANJE ODGOJNO-OBRAZOVNIH DJELATNIKA U SUSTAVU OSNOVNOG I SREDNJEG ŠKOLSTVA","0970","Istraživanje i razvoj obrazovanja"]
["23962","Agencija za odgoj i obrazovanje","3701","RAZVOJ ODGOJNO OBRAZOVNOG SUSTAVA","K579074","PROGRAM UČINKOVITI LJUDSKI POTENCIJALI 2021.-2027.","0970","Istraživanje i razvoj obrazovanja"]
["23962","Agencija za odgoj i obrazovanje","3701","RAZVOJ ODGOJNO OBRAZOVNOG SUSTAVA","K767054","OP UČINKOVITI LJUDSKI POTENCIJALI 2014.-2020., PRIORITET 3","0970","Istraživanje i razvoj obrazovanja"]
["38487","Agencija za znanost i visoko obrazovanje","3705","VISOKO OBRAZOVANJE","A621155","ADMINISTRACIJA I UPRAVLJANJE AGENCIJE ZA ZNANOST I VISOKO OBRAZOVANJE","0942","Drugi stupanj visoke naobrazbe"]
["38487","Agencija za znanost i visoko obrazovanje","3705","VISOKO OBRAZOVANJE","A621182","ZBOR VELEUČILIŠTA","0942","Drugi stupanj visoke naobrazbe"]
["38487","Agencija za znanost i visoko obrazovanje","3705","VISOKO OBRAZOVANJE","A621186","VREDNOVANJE ZNANSTVENIH ORGANIZACIJA","0942","Drugi stupanj visoke naobrazbe"]
["38487","Agencija za znanost i visoko obrazovanje","3705","VISOKO OBRAZOVANJE","A621187","VREDNOVANJE VISOKIH UČILIŠTA","0942","Drugi stupanj visoke naobrazbe"]
["38487","Agencija za znanost i visoko obrazovanje","3705","VISOKO OBRAZOVANJE","A621190","VANJSKA PROSUDBA SUSTAVA OSIGURANJA KVALITETE VISOKIH UČILIŠTA I ZNANSTVENIH ORGANIZACIJA (VP)","0942","Drugi stupanj visoke naobrazbe"]
["38487","Agencija za znanost i visoko obrazovanje","3705","VISOKO OBRAZOVANJE","A621191","PRAĆENJE ZAPOŠLJAVANJA DIPLOMIRANIH STUDENATA","0942","Drugi stupanj visoke naobrazbe"]
["38487","Agencija za znanost i visoko obrazovanje","3705","VISOKO OBRAZOVANJE","A621192","TROŠKOVI SREDIŠNJEG PRIJAVNOG UREDA","0942","Drugi stupanj visoke naobrazbe"]
["38487","Agencija za znanost i visoko obrazovanje","3705","VISOKO OBRAZOVANJE","A867004","ODBOR ZA ETIKU U ZNANOSTI I VISOKOM OBRAZOVANJU","0942","Drugi stupanj visoke naobrazbe"]
["38487","Agencija za znanost i visoko obrazovanje","3705","VISOKO OBRAZOVANJE","A867009","ERASMUS PLUS - MODERNIZACIJA VISOKIH UČILIŠTA PUTEM UNAPRJEĐENJA FUNKCIJE UPRAVLJANJA LJUDSKIM POTENCIJALIMA","0942","Drugi stupanj visoke naobrazbe"]
["38487","Agencija za znanost i visoko obrazovanje","3705","VISOKO OBRAZOVANJE","A867010","MODERNIZACIJA, OBRAZOVANJE I LJUDSKA PRAVA (MEHR)","0942","Drugi stupanj visoke naobrazbe"]
["38487","Agencija za znanost i visoko obrazovanje","3705","VISOKO OBRAZOVANJE","A867013","ERASMUS PLUS - BAZA PODATAKA REZULTATA VANJSKIH VREDNOVANJA","0942","Drugi stupanj visoke naobrazbe"]
["38487","Agencija za znanost i visoko obrazovanje","3705","VISOKO OBRAZOVANJE","A867014","ERASMUS - JAČANJE MULTIPARTNERSKE SURADNJE U PRUŽANJU USLUGA CJELOŽIVOTNOG PROFESIONALNOG USMJERAVANJA - KEEP IN PACT","0942","Drugi stupanj visoke naobrazbe"]
["38487","Agencija za znanost i visoko obrazovanje","3705","VISOKO OBRAZOVANJE","A867015","ERASMUS PLUS - ALOCIRANJE KREDITNIH BODOVA U EUROPSKIM STRUČNIM PROGRAMIMA - ACEPT","0942","Drugi stupanj visoke naobrazbe"]
["38487","Agencija za znanost i visoko obrazovanje","3705","VISOKO OBRAZOVANJE","A867016","ERASMUS PLUS - KATALOG ONLINE PROGRAMA I BAZE PODATAKA ZA VIDLJIVOST I PRIZNAVANJE -OCTRA","0942","Drugi stupanj visoke naobrazbe"]
["38487","Agencija za znanost i visoko obrazovanje","3705","VISOKO OBRAZOVANJE","A867018","PRIMJENA HRVATSKOG KVALIFIKACIJSKOG OKVIRA U VISOKOM OBRAZOVANJU","0942","Drugi stupanj visoke naobrazbe"]
["38487","Agencija za znanost i visoko obrazovanje","3705","VISOKO OBRAZOVANJE","A867019","DIGITALNA PREOBRAZBA VISOKOG OBRAZOVANJA – e-SVEUČILIŠTA - NPOO (C3.1.R2)","0942","Drugi stupanj visoke naobrazbe"]
["38487","Agencija za znanost i visoko obrazovanje","3705","VISOKO OBRAZOVANJE","A867021","ERASMUS PLUS - PROJEKTI","0942","Drugi stupanj visoke naobrazbe"]
["38487","Agencija za znanost i visoko obrazovanje","3705","VISOKO OBRAZOVANJE","A867023","USPOSTAVA SREDIŠNJEG SUSTAVA INTEROPERABILNOSTI - NPOO (C2.3.R2-I1)","0942","Drugi stupanj visoke naobrazbe"]
["38487","Agencija za znanost i visoko obrazovanje","3705","VISOKO OBRAZOVANJE","K621178","OPREMANJE I UREĐENJE AGENCIJE ZA ZNANOST I VISOKO OBRAZOVANJE","0942","Drugi stupanj visoke naobrazbe"]
["38487","Agencija za znanost i visoko obrazovanje","3705","VISOKO OBRAZOVANJE","K621194","NACIONALNI INFORMACIJSKI SUSTAV PRIJAVA NA VISOKA UČILIŠTA - NISpVU","0942","Drugi stupanj visoke naobrazbe"]
["38487","Agencija za znanost i visoko obrazovanje","3705","VISOKO OBRAZOVANJE","K867008","OP UČINKOVITI LJUDSKI POTENCIJALI 2014.-2020., PRIORITET 3","0942","Drugi stupanj visoke naobrazbe"]
["38487","Agencija za znanost i visoko obrazovanje","3705","VISOKO OBRAZOVANJE","K867020","PROGRAM UČINKOVITI LJUDSKI POTENCIJALI 2021.-2027.., PRIORITET 2 - OSIGURAVANJE KVALITETE U VISOKOM OBRAZOVANJU","0942","Drugi stupanj visoke naobrazbe"]
["38487","Agencija za znanost i visoko obrazovanje","3705","VISOKO OBRAZOVANJE","K867022","PROGRAM UČINKOVITI LJUDSKI POTENCIJALI 2021.-2027., PRIORITET 2 - OBRAZOVANJE I CJELOŽIVOTNO UČENJE","0942","Drugi stupanj visoke naobrazbe"]
["38487","Agencija za znanost i visoko obrazovanje","3801","ULAGANJE U ZNANSTVENO ISTRAŽIVAČKU DJELATNOST","A621179","TROŠKOVI NACIONALNOG VIJEĆA ZA VISOKO OBRAZOVANJE, ZNANOST I TEHNOLOŠKI RAZVOJ","0150","Istraživanje i razvoj: Opće javne usluge"]
["40883","Nacionalni centar za vanjsko vrednovanje obrazovanja","3701","RAZVOJ ODGOJNO OBRAZOVNOG SUSTAVA","A580046","ADMINISTRACIJA I UPRAVLJANJE NACIONALNOG CENTRA ZA VANJSKO VREDNOVANJE OBRAZOVANJA","0970","Istraživanje i razvoj obrazovanja"]
["40883","Nacionalni centar za vanjsko vrednovanje obrazovanja","3701","RAZVOJ ODGOJNO OBRAZOVNOG SUSTAVA","A814000","MEĐUNARODNI PROJEKTI VREDNOVANJA ZNANJA I VJEŠTINA (IEA: ICCS, ICILS, PIRLS, TIMSS - OECD: PISA, TALIS)","0970","Istraživanje i razvoj obrazovanja"]
["40883","Nacionalni centar za vanjsko vrednovanje obrazovanja","3701","RAZVOJ ODGOJNO OBRAZOVNOG SUSTAVA","A814001","DRŽAVNA MATURA","0970","Istraživanje i razvoj obrazovanja"]
["40883","Nacionalni centar za vanjsko vrednovanje obrazovanja","3701","RAZVOJ ODGOJNO OBRAZOVNOG SUSTAVA","A814003","NACIONALNI ISPITI","0970","Istraživanje i razvoj obrazovanja"]
["40883","Nacionalni centar za vanjsko vrednovanje obrazovanja","3701","RAZVOJ ODGOJNO OBRAZOVNOG SUSTAVA","A814007","UNAPREĐENJE KVALITETE OBRAZOVNOG SUSTAVA","0970","Istraživanje i razvoj obrazovanja"]
["40883","Nacionalni centar za vanjsko vrednovanje obrazovanja","3701","RAZVOJ ODGOJNO OBRAZOVNOG SUSTAVA","K814011","OP UČINKOVITI LJUDSKI POTENCIJALI 2014.-2020., PRIORITET 10","0970","Istraživanje i razvoj obrazovanja"]
["40883","Nacionalni centar za vanjsko vrednovanje obrazovanja","3701","RAZVOJ ODGOJNO OBRAZOVNOG SUSTAVA","K814012","OP UČNIKOVITI LJUDSKI POTENCIJALI 2014.-2020., PRIORITET 3","0970","Istraživanje i razvoj obrazovanja"]
["40883","Nacionalni centar za vanjsko vrednovanje obrazovanja","3701","RAZVOJ ODGOJNO OBRAZOVNOG SUSTAVA","K814013","PROGRAM UČINKOVITI LJUDSKI POTENCIJALI 2021.-2027.., PRIORITET 2 - OBRAZOVANJE I CJELOŽIVOTNO UČENJE","0970","Istraživanje i razvoj obrazovanja"]
["43335","Agencija za mobilnost i programe Europske unije","3701","RAZVOJ ODGOJNO OBRAZOVNOG SUSTAVA","A589088","ADMINISTRACIJA I UPRAVLJANJE AGENCIJE ZA MOBILNOST I EU PROGRAME","0970","Istraživanje i razvoj obrazovanja"]
["43335","Agencija za mobilnost i programe Europske unije","3701","RAZVOJ ODGOJNO OBRAZOVNOG SUSTAVA","A589091","PROVEDBA MREŽNIH PROJEKATA FINANCIRANIH IZ OKVIRNIH PROGRAMA EU-A","0970","Istraživanje i razvoj obrazovanja"]
["43335","Agencija za mobilnost i programe Europske unije","3701","RAZVOJ ODGOJNO OBRAZOVNOG SUSTAVA","A818017","PROVOĐENJE MREŽNIH PROJEKATA IZ OBZOR 2020.PROGRAMA","0970","Istraživanje i razvoj obrazovanja"]
["43335","Agencija za mobilnost i programe Europske unije","3701","RAZVOJ ODGOJNO OBRAZOVNOG SUSTAVA","A818023","PROVEDBA EURODESK MREŽE","0970","Istraživanje i razvoj obrazovanja"]
["43335","Agencija za mobilnost i programe Europske unije","3701","RAZVOJ ODGOJNO OBRAZOVNOG SUSTAVA","A818024","PROVEDBA E-TWINNING MREŽE","0970","Istraživanje i razvoj obrazovanja"]
["43335","Agencija za mobilnost i programe Europske unije","3701","RAZVOJ ODGOJNO OBRAZOVNOG SUSTAVA","A818033","ZNANSTVENA I VISOKOŠKOLSKA MOBILNOST","0970","Istraživanje i razvoj obrazovanja"]
["43335","Agencija za mobilnost i programe Europske unije","3701","RAZVOJ ODGOJNO OBRAZOVNOG SUSTAVA","A818042","OBZOR EUROPA I MOBILNOST ISTRAŽIVAČA","0970","Istraživanje i razvoj obrazovanja"]
["43335","Agencija za mobilnost i programe Europske unije","3701","RAZVOJ ODGOJNO OBRAZOVNOG SUSTAVA","A818043","ERASMUS PLUS PROVEDBA PROGRAMA OD 2014. DO 2020.","0970","Istraživanje i razvoj obrazovanja"]
["43335","Agencija za mobilnost i programe Europske unije","3701","RAZVOJ ODGOJNO OBRAZOVNOG SUSTAVA","A818044","ERASMUS PLUS – PROJEKTI ZA KORISNIKE OBRAZOVANJE OD 2014. DO 2020.","0970","Istraživanje i razvoj obrazovanja"]
["43335","Agencija za mobilnost i programe Europske unije","3701","RAZVOJ ODGOJNO OBRAZOVNOG SUSTAVA","A818045","ERASMUS PLUS – PROJEKTI ZA KORISNIKE MLADI OD 2014. DO 2020.","0970","Istraživanje i razvoj obrazovanja"]
["43335","Agencija za mobilnost i programe Europske unije","3701","RAZVOJ ODGOJNO OBRAZOVNOG SUSTAVA","A818055","PORTAL STUDY IN CROATIA","0970","Istraživanje i razvoj obrazovanja"]
["43335","Agencija za mobilnost i programe Europske unije","3701","RAZVOJ ODGOJNO OBRAZOVNOG SUSTAVA","A818058","EUROPSKE SNAGE SOLIDARNOSTI PROVEDBA PROGRAMA","0970","Istraživanje i razvoj obrazovanja"]
["43335","Agencija za mobilnost i programe Europske unije","3701","RAZVOJ ODGOJNO OBRAZOVNOG SUSTAVA","A818059","EUROPSKE SNAGE SOLIDARNOSTI - PROJEKTI ZA KORISNIKE OD 2018. DO 2020.","0970","Istraživanje i razvoj obrazovanja"]
["43335","Agencija za mobilnost i programe Europske unije","3701","RAZVOJ ODGOJNO OBRAZOVNOG SUSTAVA","A818060","EURYDICE EUROPSKA MREŽA ZA PODATKE I ANALIZE O SUSTAVIMA OBRAZOVANJA","0970","Istraživanje i razvoj obrazovanja"]
["43335","Agencija za mobilnost i programe Europske unije","3701","RAZVOJ ODGOJNO OBRAZOVNOG SUSTAVA","A818061","ERASMUS PLUS - SUFINANCIRANJE – DIO PROVEDBE MLADI","0970","Istraživanje i razvoj obrazovanja"]
["43335","Agencija za mobilnost i programe Europske unije","3701","RAZVOJ ODGOJNO OBRAZOVNOG SUSTAVA","A818063","EUROPSKE SNAGE SOLIDARNOSTI - PROJEKTI ZA KORISNIKE OD 2021. DO 2027.","0970","Istraživanje i razvoj obrazovanja"]
["43335","Agencija za mobilnost i programe Europske unije","3701","RAZVOJ ODGOJNO OBRAZOVNOG SUSTAVA","A818064","ERASMUS - PROJEKTI  ZA KORISNIKE OBRAZOVANJE OD 2021. DO 2027.","0970","Istraživanje i razvoj obrazovanja"]
["43335","Agencija za mobilnost i programe Europske unije","3701","RAZVOJ ODGOJNO OBRAZOVNOG SUSTAVA","A818065","ERASMUS - PROJEKTI ZA KORISNIKE MLADI OD 2021. DO 2027.","0970","Istraživanje i razvoj obrazovanja"]
["43335","Agencija za mobilnost i programe Europske unije","3701","RAZVOJ ODGOJNO OBRAZOVNOG SUSTAVA","A818070","PROVEDBA EUROPASS I EUROGUIDANCE","0970","Istraživanje i razvoj obrazovanja"]
["43335","Agencija za mobilnost i programe Europske unije","3701","RAZVOJ ODGOJNO OBRAZOVNOG SUSTAVA","A818071","VET RADNA SKUPINA","0970","Istraživanje i razvoj obrazovanja"]
["43335","Agencija za mobilnost i programe Europske unije","3701","RAZVOJ ODGOJNO OBRAZOVNOG SUSTAVA","A818073","SALTO - REFERENTNI CENTAR ZA TEMU UKLJUČIVOSTI U PODRUČJU OBRAZOVANJA NA EUROPSKOJ RAZINI","0970","Istraživanje i razvoj obrazovanja"]
["43335","Agencija za mobilnost i programe Europske unije","3701","RAZVOJ ODGOJNO OBRAZOVNOG SUSTAVA","A818075","ERASMUS - PROJEKTI ZA KORISNIKE PODRUČJA SPORT OD 2021. DO 2027.","0970","Istraživanje i razvoj obrazovanja"]
["46173","Agencija za strukovno obrazovanje i obrazovanje odraslih","3701","RAZVOJ ODGOJNO OBRAZOVNOG SUSTAVA","A848001","ADMINISTRACIJA I UPRAVLJANJE AGENCIJE ZA STRUKOVNO OBRAZOVANJE I  OBRAZOVANJE ODRASLIH","0950","Obrazovanje koje se ne može definirati po stupnju"]
["46173","Agencija za strukovno obrazovanje i obrazovanje odraslih","3701","RAZVOJ ODGOJNO OBRAZOVNOG SUSTAVA","A848001","ADMINISTRACIJA I UPRAVLJANJE AGENCIJE ZA STRUKOVNO OBRAZOVANJE I  OBRAZOVANJE ODRASLIH","0970","Istraživanje i razvoj obrazovanja"]
["46173","Agencija za strukovno obrazovanje i obrazovanje odraslih","3701","RAZVOJ ODGOJNO OBRAZOVNOG SUSTAVA","A848009","PROMICANJE KULTURE UČENJA: TJEDAN CJELOŽIVOTNOG UČENJA","0970","Istraživanje i razvoj obrazovanja"]
["46173","Agencija za strukovno obrazovanje i obrazovanje odraslih","3701","RAZVOJ ODGOJNO OBRAZOVNOG SUSTAVA","A848010","STRUČNO SAVJETODAVNA DJELATNOST","0970","Istraživanje i razvoj obrazovanja"]
["46173","Agencija za strukovno obrazovanje i obrazovanje odraslih","3701","RAZVOJ ODGOJNO OBRAZOVNOG SUSTAVA","A848014","RAZVOJ SUSTAVA STRUKOVNOG OBRAZOVANJA","0970","Istraživanje i razvoj obrazovanja"]
["46173","Agencija za strukovno obrazovanje i obrazovanje odraslih","3701","RAZVOJ ODGOJNO OBRAZOVNOG SUSTAVA","A848018","DRŽAVNA NATJECANJA","0970","Istraživanje i razvoj obrazovanja"]
["46173","Agencija za strukovno obrazovanje i obrazovanje odraslih","3701","RAZVOJ ODGOJNO OBRAZOVNOG SUSTAVA","A848020","RAZVOJ SUSTAVA OBRAZOVANJA ODRASLIH","0970","Istraživanje i razvoj obrazovanja"]
["46173","Agencija za strukovno obrazovanje i obrazovanje odraslih","3701","RAZVOJ ODGOJNO OBRAZOVNOG SUSTAVA","A848023","REFERNET U REPUBLICI HRVATSKOJ","0970","Istraživanje i razvoj obrazovanja"]
["46173","Agencija za strukovno obrazovanje i obrazovanje odraslih","3701","RAZVOJ ODGOJNO OBRAZOVNOG SUSTAVA","A848039","NACIONALNA REFERENTNA TOČKA ZA EUROPSKI SUSTAV OSIGURANJA KVALITETE U STRUKOVNOM OBRAZOVANJU I OSPOSOBLJAVANJU - EQAVET NRP","0970","Istraživanje i razvoj obrazovanja"]
["46173","Agencija za strukovno obrazovanje i obrazovanje odraslih","3701","RAZVOJ ODGOJNO OBRAZOVNOG SUSTAVA","A848041","ERASMUS PLUS - PROVEDBA ISTRAŽIVANJA KOMPETENCIJA ODRASLIH OSOBA U REPUBLICI HRVATSKOJ - PIAAC HRVATSKA","0950","Obrazovanje koje se ne može definirati po stupnju"]
["46173","Agencija za strukovno obrazovanje i obrazovanje odraslih","3701","RAZVOJ ODGOJNO OBRAZOVNOG SUSTAVA","A848041","ERASMUS PLUS - PROVEDBA ISTRAŽIVANJA KOMPETENCIJA ODRASLIH OSOBA U REPUBLICI HRVATSKOJ - PIAAC HRVATSKA","0970","Istraživanje i razvoj obrazovanja"]
["46173","Agencija za strukovno obrazovanje i obrazovanje odraslih","3701","RAZVOJ ODGOJNO OBRAZOVNOG SUSTAVA","A848042","EPALE - NACIONALNA SLUŽBA ZA PODRŠKU ZA REPUBLIKU HRVATSKU 2019.-2020. (EPALE IV)","0970","Istraživanje i razvoj obrazovanja"]
["46173","Agencija za strukovno obrazovanje i obrazovanje odraslih","3701","RAZVOJ ODGOJNO OBRAZOVNOG SUSTAVA","A848045","ERASMUS PLUS - KA2 - TRENING ZA VJEŠTINE U VIRTUALNOM OKRUŽENJU","0970","Istraživanje i razvoj obrazovanja"]
["46173","Agencija za strukovno obrazovanje i obrazovanje odraslih","3701","RAZVOJ ODGOJNO OBRAZOVNOG SUSTAVA","A848046","ERASMUS PLUS - PILOTIRANJE VIRTUALNOG PRAKTIČNOG TEČAJA ZA KUHARSTVO U STRUKOVNOM OBRAZOVANJU","0970","Istraživanje i razvoj obrazovanja"]
["46173","Agencija za strukovno obrazovanje i obrazovanje odraslih","3701","RAZVOJ ODGOJNO OBRAZOVNOG SUSTAVA","A848047","ERASMUS PLUS - KA - INKLUZIVNO DIGITALNO UČENJE U SVRHU SPREČAVANJA NAPUŠTANJA ŠKOLOVANJA U STRUKOVNOM OBRAZOVANJU I OSPOSOBLJAVANJU - 2BDIGITAL","0970","Istraživanje i razvoj obrazovanja"]
["46173","Agencija za strukovno obrazovanje i obrazovanje odraslih","3701","RAZVOJ ODGOJNO OBRAZOVNOG SUSTAVA","A848048","EPALE - NACIONALNA SLUŽBA ZA PODRŠKU ZA REPUBLIKU HRVATSKU 2022.-2024. (EPALE V)","0970","Istraživanje i razvoj obrazovanja"]
["46173","Agencija za strukovno obrazovanje i obrazovanje odraslih","3701","RAZVOJ ODGOJNO OBRAZOVNOG SUSTAVA","A848051","ERASMUS PLUS - PROJEKTI","0970","Istraživanje i razvoj obrazovanja"]
["46173","Agencija za strukovno obrazovanje i obrazovanje odraslih","3701","RAZVOJ ODGOJNO OBRAZOVNOG SUSTAVA","K848038","OP UČINKOVITI LJUDSKI POTENCIJALI 2014.-2020., PRIORITET 3","0950","Obrazovanje koje se ne može definirati po stupnju"]
["46173","Agencija za strukovno obrazovanje i obrazovanje odraslih","3701","RAZVOJ ODGOJNO OBRAZOVNOG SUSTAVA","K848049","PROGRAM UČINKOVITI LJUDSKI POTENCIJALI 2021.-2027., PRIORITET 5 - TEHNIČKA POMOĆ","0950","Obrazovanje koje se ne može definirati po stupnju"]
["46173","Agencija za strukovno obrazovanje i obrazovanje odraslih","3701","RAZVOJ ODGOJNO OBRAZOVNOG SUSTAVA","K848050","PROGRAM UČINKOVITI LJUDSKI POTENCIJALI 2021.-2027., PRIORITET 3","0950","Obrazovanje koje se ne može definirati po stupnju"]
["46173","Agencija za strukovno obrazovanje i obrazovanje odraslih","3701","RAZVOJ ODGOJNO OBRAZOVNOG SUSTAVA","T848027","OP UČINKOVITI LJUDSKI POTENCIJALI 2014. - 2020., PRIORITET 5","0950","Obrazovanje koje se ne može definirati po stupnju"]
["52209","Hrvatska zaklada za znanost","3801","ULAGANJE U ZNANSTVENO ISTRAŽIVAČKU DJELATNOST","A557042","PROGRAM DOKTORANADA I POSLIJEDOKTORANADA HRVATSKE ZAKLADE ZA ZNANOST","0150","Istraživanje i razvoj: Opće javne usluge"]
["52209","Hrvatska zaklada za znanost","3801","ULAGANJE U ZNANSTVENO ISTRAŽIVAČKU DJELATNOST","A578055","HRVATSKO-ŠVICARSKI ISTRAŽIVAČKI PROGRAM","0150","Istraživanje i razvoj: Opće javne usluge"]
["52209","Hrvatska zaklada za znanost","3801","ULAGANJE U ZNANSTVENO ISTRAŽIVAČKU DJELATNOST","A578069","ADMINISTRACIJA I UPRAVLJANJE HRVATSKE ZAKLADE ZA ZNANOST","0150","Istraživanje i razvoj: Opće javne usluge"]
["52209","Hrvatska zaklada za znanost","3801","ULAGANJE U ZNANSTVENO ISTRAŽIVAČKU DJELATNOST","A578071","OBZOR ERA-NET QUANTERA","0150","Istraživanje i razvoj: Opće javne usluge"]
["52209","Hrvatska zaklada za znanost","3801","ULAGANJE U ZNANSTVENO ISTRAŽIVAČKU DJELATNOST","A578072","OBZOR ERA-NET CHANSE","0150","Istraživanje i razvoj: Opće javne usluge"]
["52209","Hrvatska zaklada za znanost","3801","ULAGANJE U ZNANSTVENO ISTRAŽIVAČKU DJELATNOST","A578073","PROGRAM MOBILNOSTI - NPOO (C3.2. R2-I1 )","0150","Istraživanje i razvoj: Opće javne usluge"]
["52209","Hrvatska zaklada za znanost","3801","ULAGANJE U ZNANSTVENO ISTRAŽIVAČKU DJELATNOST","A578074","DRUGI ŠVICARSKI DOPRINOS - MULTILATERALNI POZIVI ZA ZAJEDNIČKE ISTRAŽIVAČKE PROJEKTE (MCJRP)","0150","Istraživanje i razvoj: Opće javne usluge"]
["52209","Hrvatska zaklada za znanost","3801","ULAGANJE U ZNANSTVENO ISTRAŽIVAČKU DJELATNOST","A621048","PROJEKTNO FINANCIRANJE ZNANSTVENE DJELATNOSTI","0150","Istraživanje i razvoj: Opće javne usluge"]
["52209","Hrvatska zaklada za znanost","3801","ULAGANJE U ZNANSTVENO ISTRAŽIVAČKU DJELATNOST","A733055","PROGRAM IZVRSNOSTI U VISOKOM OBRAZOVANJU - TENURE-TRACK","0150","Istraživanje i razvoj: Opće javne usluge"]
["52209","Hrvatska zaklada za znanost","3801","ULAGANJE U ZNANSTVENO ISTRAŽIVAČKU DJELATNOST","A733070","OBZOR ERA-NET QUANTERA II","0150","Istraživanje i razvoj: Opće javne usluge"]
["52209","Hrvatska zaklada za znanost","3801","ULAGANJE U ZNANSTVENO ISTRAŽIVAČKU DJELATNOST","A733071","OBZOR ERA-NET BLUEBIOECONOMY","0150","Istraživanje i razvoj: Opće javne usluge"]
["52209","Hrvatska zaklada za znanost","3801","ULAGANJE U ZNANSTVENO ISTRAŽIVAČKU DJELATNOST","A733073","PROGRAM RAZVOJA KARIJERA MLADIH ISTRAŽIVAČA - IZOBRAZBA NOVIH DOKTORA ZNANOSTI - NPOO (C3.2. R2-I1 )","0150","Istraživanje i razvoj: Opće javne usluge"]
["52209","Hrvatska zaklada za znanost","3801","ULAGANJE U ZNANSTVENO ISTRAŽIVAČKU DJELATNOST","K733069","OP UČINKOVITI LJUDSKI POTENCIJALI 2014.-2020., PRIORITET 3","0150","Istraživanje i razvoj: Opće javne usluge"]

{"sheet":"p4","index":11,"n_rows":1822,"n_cols":3,"rows_kept":1822}
["PODPROJEKTI (P4)"]
["NOVI PODPROJEKT"]
["080","MINISTARSTVO ZNANOSTI, OBRAZOVANJA I MLADIH"]
["08005","Ministarstvo znanosti i obrazovanja","len"]
["A676072","ERASMUS PLUS - PROJEKTI",{"$f":"LEN(A5)","v":7}]
["A676072.001","ERASMUS PLUS-PROFFORMANCE-RAZVOJ SUSTAVA OCJENJIVANJA RADA I NAGRAĐIVANJA PROFESORA NA VISOKIM UČILIŠTIMA",{"$f":"LEN(A6)","v":11}]
["A676072.002","ERASMUS PLUS-AKTIVNOSTI SURADNIČKOG UČENJA I RESURSI ZA POTPORU NAČELA I SMJERNICA ZA SOCIJALNU DIMENZIJU",11]
["A676072.003","ERASMUS PLUS-EUROPSKO ISTRAŽIVANJE PRAĆENJA OSOBA S DIPLOMOM (GT-HRVATSKA)",11]
["A676072.004","ERASMUS PLUS-HAND IN HAND-OSNAŽIVANJE NASTAVNIKA DILJEM EUROPE",11]
["A676072.005","ERASMUS PLUS-BAQUAL-BOLJE AKADEMSKE KVALIFIKACIJE KROZ OSIGURAVANJE KVALITETE",11]
["K578051","OP KONKURENTNOST I KOHEZIJA 2014.-2020., PRIORITET 1, 9 i 10",7]
["K578051.001","Znanstveno i tehnologijsko predviđanje",11]
["K578051.002","Ulaganje u znanost i inovacije (SIIF)",11]
["K578051.003","Jačanje kapaciteta za istraživanje, razvoj i inovacije (STRIP)",11]
["K578051.004","Ulaganje u organizacijsku reformu i infrastrukturu sektora istraživanja, razvoja i inovacija",11]
["K578051.005","Veliki projekt: ˝Dječji centar za translacijsku medicinu˝ Dječje bolnice Srebrnjak",11]
["K578051.008","Poziv Centri kompetencija",11]
["K578051.009","Tehnička pomoć za MZO",11]
["K676068","OP KONKURENTNOST I KOHEZIJA 2021.-2027., PRIORITET 1",7]
["K676068.001","MZO-Vrhunska istraživanja Znanstvenih centara izvrsnosti",11]
["K676068.002","MZO-HORIZON EUROPE",11]
["K676068.004","MZO-Tehnička pomoć OP ULJP 2021.-2027.",11]
["K733067","OP UČINKOVITI LJUDSKI POTENCIJALI 2021.-2027., PRIORITET 2",7]
["K733067.016","Dodjela stipendija  studentima u socio-ekonomski nepovoljnom položaju",11]
["K733067.017","Daljnja provedba CKR - izrada predmetnih kurikuluma posebnih programa za učenike s teškoćama u razvoju i studijskih programa iz sektora odgoja i obrazovanja",11]
["K733067.019","Potpora tijelima za unaprjeđenje HKO-a i promicanje jednakog pristupa kvalitetnom i uključivom obrazovanju i osposobljavanju",11]
["K733067.021","Osiguravanje pomoćnika u nastavi i stručnih komunikacijskih posrednika učenicima s teškoćama u razvoju u osnovnoškolskim i srednjoškolskim odgojno-obrazovnim ustanovama",11]
["K818050","OP UČINKOVITI LJUDSKI POTENCIJALI 2014.-2020., PRIORITET 3 i 4",7]
["K818050.008","Razvoj, unapređenje i provedba stručne prakse u visokom obrazovanju",11]
["K818050.009","Sufinanciranje troškova uključivanja djece  u socio-ekonomski nepovoljnoj situaciji u predškolske ustanove",11]
["K818050.011","Uspostava regionalnih centara kompetencija u strukovnom obrazovanju u odabranim sektorima",11]
["K818050.023","MZO Tehnička pomoć OP ULJP faza I",11]
["K818050.024","Informatizacija procesa i uspostava cjelovite elektroničke usluge upisa u odgojne i obrazovne ustanove",11]
["K818050.026","Osiguravanje pomoćnika u nastavi i stručnih komunikacijskih posrednika učenicima s teškoćama u razvoju u osnovnoškolskim i srednjoškolskim odgojno-obrazovnim ustanovama - faza IV",11]
["08006","Sveučilišta i veleučilišta u Republici Hrvatskoj",5]
["A679071","EU PROJEKTI SVEUČILIŠTA U OSIJEKU (IZ EVIDENCIJSKIH PRIHODA)",7]
["A679071.001","ERASMUS+ projekt razvijanja i certificiranja nastavnog plana obrazovnog modula logistike na diplomskim studijima Sveučilišta u Osijeku",11]
["A679071.002","ERASMUS+ projekt uvođenja novog kolegija u nastavni plan i program Ekonomskog fakulteta u Osijeku",11]
["A679071.003","ERASMUS+ projekt unaprjeđenja i promicanja telekomunikacijskog inženjeringa",11]
["A679071.004","ERASMUS + Ključna mjera 2: suradnja za inovacije i razmjena dobre prakse - e-ProfEng",11]
["A679071.005","ERASMUS+ projekt individualne mobilnosti nastavnog i nenastavnog osoblja kroz boravak na inozemnim ustanovama",11]
["A679071.006","ERASMUS+ projekt međukulturalne razmjene stručnih znanja u građevinarstvu",11]
["A679071.007","ERASMUS+ projekt razvijanja pedagoških vještina kroz boravak na inozemnim ustanovama",11]
["A679071.008","Projekt energetske obnove zgrade - Strojarski fakultet Slavonski Brod",11]
["A679071.009","IPA AGRICULTURAL WASTE projekt poboljšanja konkurentnosti regionalnih ekonomskih subjekata u prekograničnom području",11]
["A679071.010","INTERREG IPA Ozelenjivanje gradova",11]
["A679071.011","ARDENT-Unapređenje ruralnog razvoja kroz poduzetničko obrazovanje za odrasle",11]
["A679071.012","EUFams II - Olakšavanje prekograničnog obiteljskog života",11]
["A679071.013","Zaštita otmičnih majki u postupku za povratak: Raskrižje između nasilja u obitelji i roditeljskog otmica djeteta",11]
["A679071.014","INTERREG IPA CBC Hrvatska - Srbija",11]
["A679071.015","HKO-ELE- Primjena Hrvatskog kvalifikacijskog okvira za sveučilišne studijske programe u području elektrotehnike",11]
["A679071.016","INTERREG SeNs Wetlands",11]
["A679071.017","INTERREG Rescue",11]
["A679071.018","ERAMCA-Procjena ekološkog rizika i ublažavanje imovine kulturne baštine u Srednjoj Aziji",11]
["A679071.019","Znanstveni centar izvrsnosti personalizirana briga o zdravlju",11]
["A679071.020","IPA INTERREG CBC",11]
["A679071.021","Potpora za očuvanje, održivo korištenje i razvoj genetskih izvora u poljoprivredi",11]
["A679071.022","Izvrsnost i učinkovitost u visokom obrazovanju u polju ekonomije (E4)",11]
["A679071.023","Unaprjeđenje kvalitete studiranja na pravnim fakultetima u Hrvatskoj",11]
["A679071.024","Projekt razvoja karijere mladih istraživača - izobrazba novih doktora znanosti",11]
["A679071.025","IRI PROJEKT - AGROSIMPA",11]
["A679071.026","IPA INTERREG CBC ESTABLISHING DEVELOPMENT OF SUSTAINABLE CROSS BORDER CLUSTERS",11]
["A679071.027","APPLERESIST",11]
["A679071.028","BIO4FEED PARTNER",11]
["A679071.029","AGROEKOTEH HAPIH",11]
["A679071.030","ERASMUS K2 - FAKULTET AGROBIOTEHNIČKIH ZNANOSTI OSIJEK",11]
["A679071.031","TRAIN -CE-FOOD",11]
["A679071.032","HARISA",11]
["A679071.033","HKO na razini visokog obrazovanja",11]
["A679071.034","Jean Monnet Module  Language and EU Law Excellence",{"$f":"LEN(A70)","v":11}]
["A679071.035","ICT u poljoprivrednim znanostima",11]
["A679071.036","ERASMUS+GAMe based learning in MAthematics",11]
["A679071.037","EU Contemporary Puppetry Critical Platform",11]
["A679071.038","Istraživanje i razvoj inovativne funkcionalne hrane za pčele radi povećanja efikasnosti globalne pčelarske proizvodnje.",11]
["A679071.039","Bioproscpecting Jadranskog mora",11]
["A679071.040","Internacionalizacija visokog obrazovanja - razvoj studijskih programa na stranim jezicima u prioritetnim područjima i združenih studija",11]
["A679071.041","Generation Peace: Children, Conflict and Competing Identities in Europe",11]
["A679071.042","Interpreting Child-Centredness to support Quality and Diversity in Early Childhood Education and Care",11]
["A679071.043","Helping Kids! Promoting Positive Intergroup Relations and Peacebuilding in Divided Societies",11]
["A679071.044","Mobility and Inclusion in Multilingual Europe",11]
["A679071.045","Kompetencijski standardi nastavnika, pedagoga i mentora",11]
["A679071.046","Kompetencijski standardi nastavnika, pedagoga i mentora",11]
["A679071.047","ERASMUS+ STRATEŠKO PARTNERSTVO INSPIRED -  Innovative Solutions for Practicallity and Impact in Refugee and Migration Oriented Education (agreement no. 2017-1-HR01-KA203-035359)",11]
["A679071.048","Treasure- OBZOR 2020 (Obzor 2020- horizon projket TreasureDiversity of local pig breeds and production systems for high quality traditional products and sustainable pork chains\"Ugovaratelj Kmetijski institut Slovenije)",11]
["A679071.049","Digital Education for Crisis Situations: Times when there is no alternative (DECriS)",11]
["A679071.050","HRZZ Vlakna i proteini kao osnova za razvoj novih bioaktivnih dodataka hrani (ESF)",11]
["A679071.051","CUVid – Curriculum Video Erasmus +",11]
["A679071.052","Modern logistics learning: Certified module on master study level",11]
["A679071.053","VIRTUALS - VIRTUAL VISITING PROFESSORS ERASMUS +",11]
["A679071.054","CroViZone  - Prilagodba vinogradarskih zona RH klimatskim promjenama Operativni program Konkurentnost i kohezija",11]
["A679071.055","Istraživanje i razvoj samoizbijajućeg betona za 3D printer s dodatkom pepela",11]
["A679071.056","Erasmus + 'Time to Become Digital in Law - DIGinLAW",11]
["A679071.057","EU PLATFORMA SUVREMENOG LUTKARSTVA",11]
["A679071.058","CSI: CustomDigiTeach-društveni utjecaj prilagođenim formatima poučavanja",11]
["A679071.059","VirtuOS-uspostava regionalnog centra kompetentnosti u sektoru turizma i ugostiteljstva",11]
["A679071.060","HRZZ PROJEKT -DOKTORANDI BIOTEHNIČKIH ZNANOSTI",11]
["A679071.061","DATACROSS–Napredne metode i tehnologije u znanosti o podacima i kooperativnim sustavima",11]
["A679071.062","EUROCC - konzorcijski sporazum o suradnji (EuroHPC) na projektu stvaranja nacionalnih centara kompetencije",11]
["A679071.063","Erasmus+DECriS European Summer School on Information Science 2021",11]
["A679071.064","RCK VirtuOS-regionalni centri kompetentnosti (RCK) u sektoru turizma i ugostiteljstva",11]
["A679071.065","Prilagodba mjera kontrole populacije komaraca zbog klimatskih promjena u RH",11]
["A679071.066","Ulaganje u znanost i inovacije (SIIF)",11]
["A679071.067","APPLERESIST-Genetska otpornost jabuke",11]
["A679071.068","TANDEM+ EIT HEI",11]
["A679071.069","EUFORIA-EIT Urban Mobility BP2021",11]
["A679071.070","ERASMUS K2",11]
["A679071.071","Istraživanje i razvoj inovativnih drvnih zidnih obloga, pregradnih i nosivih zidova za održivu gradnju u poduzeću Spačva d.d. KK.01.2.1.0244",11]
["A679071.072","Istraživanje i razvoj samozbijajućeg betona i betona za 3D printer sa dodatkom biopepela, šifra KK.01.2.1.02.0055.",11]
["A679071.073","Partnership for Virtual Laboratories in Civil Engineering - PARFORCE (pr. broj: 2020-1-DE01-KA226-HE-005783)",11]
["A679071.074","IRI PROJEKT - AGROSIMPA",11]
["A679071.075","Znanstveni centar izvrsnosti personalizirana briga o zdravlju",11]
["A679071.076","HEAL-IN-ONE",11]
["A679071.077","TANDEM+ (Transformation, Acceleration, Networking, Development, Entrepreneurial education and Mentoring+)",11]
["A679071.078","EUFORIA - Education Framework for Urban Resilience Innovation Activities",11]
["A679071.079","South and East European Competition Law Center of Excellence - Jean Monnet Competition Law COE - prof. Akšamović",11]
["A679071.080","Umrežani stacionarni baterijski spremnici energija USBSE",11]
["A679071.081","„ REsearch-based teaching for life-long LEARNing“ (RELEARN)",11]
["A679071.082","DATACROSS – Napredne metode i tehnologije u znanosti o podacima i kooperativnim sustavima",11]
["A679071.083","Istraživanje utjecaja metalnih promotora rijetkih zemalja i stupnja uređenja na redoks svojstva sustava CeO2-ZrO2",11]
["A679071.084","Umrežani stacionarni baterijski spremnici energija USBSE",11]
["A679071.085","EYES HEARTS HANDS Urban Revolution",11]
["A679071.086","Documenting chardak house for preserving endangered wooden structure along Drava and Danube rivers in Croatia EWAP2010LG",11]
["A679071.087","Intelligent Methods for Structures, Elements and Materials",11]
["A679071.088","ERASMUS + 2022-1-RO01-KA220-HED-000088958",11]
["A679071.089","ERASMUS +  KA220-HED 000089900",11]
["A679071.090","Erasmus + 2021-1- RS01-KA220-HED 000032054 HEAL-IN-ONE",11]
["A679071.091","ERAMUS EDU-2022-CBHE 101082564",11]
["A679071.092","BeeGuards HORIZON -CL6-2022- BIODIV-02",11]
["A679071.093","PARTNERSTVO NA PRIMA PROJEKTU SAFEGUARDING AGROECOSYSTEM RESILIENCE UNDER CLIMATE CHANGE THROUGH EFFICIENT POLLINATION AND SUSTAINABLE BEEKEEPING SAFE AGROBEE",11]
["A679071.094","BILATERALA HRVATSKA -NORVEŠKA",11]
["A679071.095","Life projekt (MURA-DRAVA-DUNAV)",11]
["A679071.096","European Climate Initiative EUKI",11]
["A679071.097","BAS4SC - Business Analytics Skills for the Future-proof Supply Chains",11]
["A679071.098","European support for children at risk of poverty (EU-SHINE)",{"$f":"LEN(A134)","v":11}]
["A679071.099","European Union and Gender Equality (EUGEquality)",11]
["A679071.100","REGIONALNI ZNANSTVENI CENTAR PANONSKE HRVATSKE 04-UBS-Š-0619/22-14",11]
["A679071.101","HORIZON-MISS-2022-OCEAN-01-101112736 Restore4Life",11]
["A679071.102","NEWAVES",11]
["A679072","EU PROJEKTI SVEUČILIŠTA U RIJECI (IZ EVIDENCIJSKIH PRIHODA)",7]
["A679072.001","ERASMUS+ projekt razvoja prometnih modaliteta kod trajekata i putničkih brodova",11]
["A679072.002","INTERREG DIGILOGOS projekt digitalizacije logistike multimodalnog teretnog i putničkog transporta Italije i Hrvatske",11]
["A679072.003","ERASMUS+ projekt ujednačavanja standarda kvalifikacija za zvanja u unutarnjoj plovidbi na razini EU",11]
["A679072.004","INTERREG ECOSUSTAIN projekt unaprjeđenja upravljanja zaštićenim područjima uvođenjem novih ICT tehnologija",11]
["A679072.005","ERASMUS+ACTS+ on line projekt izrade platforme za učenje COLREGS-a u pomorstvu",11]
["A679072.006","ERASMUS+ SKILLS ON BORD projekt edukacije voditelja brodica i zapovjednika jahti",11]
["A679072.007","ERASMUS+ SKILLS projekt definiranja modula zanimanja na tržištu rada na kopnu po završetku karijere na brodovima",11]
["A679072.008","INTERREG DEEPSEA projekt razvoja sustava upravljanja i inovativnih usluga za nautičare u lukama temeljenih na obnovljivim izvorima energije",11]
["A679072.009","INTERREG E-CHAIN projekt izrade modularnog softvera  za poboljšanje povezanosti i uskladu podataka Jadranske Intermodalne Mreže",11]
["A679072.010","INTERREG PROMARES projekt unaprjeđenja suradnje u logistici pomorskog i multimodalnog teretnog prometa za sve luke",11]
["A679072.011","ERASMUS+ LOGIN projekt pripreme stvaranja sustava kvalifikacija i programa za izobrazbu kadrova u logistici",11]
["A679072.012","H2020 GLYCOVAX projekt obrazovanja i interakcije s industrijom mladih znanstvenika u racionalnom dizajnu cjepiva protiv glikokonjugata",11]
["A679072.013","Post-traumatic Integration projekt razvijanja svijesti i edukacija stručnjaka za rad s izbjeglicama",11]
["A679072.014","Projekt Europskog društva za izučavanje traumatskog stresa",11]
["A679072.015","ERASMUS+ projekt jačanja kapaciteta za izučavanje medicine boli u zemljama zapadnog Balkana",11]
["A679072.016","ERASMUS projekt proučavanja socijalnog angažmana za rješavanje izazova kroničnih bolesti",11]
["A679072.017","H2020 PIXEL Učinkovito korištenje resursa, održivi razvoj i zeleni rast luka i okolnih gradova",11]
["A679072.018","Wom@rts projekt promicanja razvoja svijesti o ravnopravnosti spolova kroz transnacionalnu mrežu i platformu",11]
["A679072.019","INTERREG DANUBE Inno HPC",11]
["A679072.020","ERASMUS+ PESHES Jačanje kapaciteta u području visokog obrazovanja",11]
["A679072.021","ERASMUS+ TEFCE Prema europskom okviru za angažiranje visokog obrazovanja u zajednici",11]
["A679072.022","INTERREG BEAT Plava poboljšanja za prijenos tehnologije",11]
["A679072.023","INTERREG ADRIREEF Istraživanje potencijala grebena u Jadranskom moru s ciljem jačanja Plave ekonomije",11]
["A679072.024","ERASMUS+ Projekt Interaktivni tečaj za teoriju kontrole (ICCT) 2018-1-SI01-KA203-047081",11]
["A679072.025","HORIZON 2020-MSCA-ITN-2019 - THREAD",11]
["A679072.026","ERASMUS + SWARM PROJEKT",11]
["A679072.027","H2020 Financijski nadzor i tehnološka usklađenost",11]
["A679072.028","Transformativni turizam u europskoj prijestolnici kulture",11]
["A679072.029","ManuFacturing model upravljanja i osposobljavanja za industriju 4.0 u Jadransko-jonskoj regiji",11]
["A679072.030","ERASMUS+ TEACHING2030 -FMTU Opatija 2017.-2020.",11]
["A679072.031","INTERREG SLO-HR MITSKI PARK, FMTU-Kozina",11]
["A679072.032","INTERREG ITA-HR ADRIAAQUANET,Sv. Udine",11]
["A679072.033","ERASMUS+ Promicanje strateškog pristupa sportskoj diplomaciji EU-a(UK)",11]
["A679072.034","Personalizirano rješenje u europskom zakonu o obitelji i sukcesiji (PSEFS) (I)",11]
["A679072.035","Modernizacija master programa",11]
["A679072.036","Raznolikost izvršnih naslova u prekograničnoj naplati duga EU-EU-En4s",11]
["A679072.037","Povećavanje i proširenje odgovora T-stanica na glioblastoma",11]
["A679072.038","Podrška obiteljskog njegovatelja - strategije i alati za promicanje mentalnog i emocionalnog zdravlja njegovatelja",11]
["A679072.039","HERA - Zdravstvo kao javni prostor: Socijalna integracija i socijalna raznolikost u kontekstu pristupa zdravstvenoj skrbi u Europi",11]
["A679072.040","VALUECARE - METODOLOGIJA NA VRIJEDNOSTI ZA INTEGRIRANU NjEGU PODRUČENA IcT-om",11]
["A679072.041","ERASMUS+ SKILLSEA",11]
["A679072.042","Umjetnička i humanistička poduzetnička središta",11]
["A679072.043","ERASMUS + Coding4girls",11]
["A679072.044","ERASMUS +LANGUIDE",11]
["A679072.045","INTERREG Sigurno sidrenje i zaštita morske trave u Jadranskom moru-SASPAS",11]
["A679072.046","SPEAR - Podržavanje i implantacija planova za rodnu ravnopravnost u istraživanju",11]
["A679072.047","OBZOR 2020 -HERITAGE- Podržavanje i implantacija planova za rodnu ravnopravnost u istraživanju",11]
["A679072.048","Različitost u javnom i privatnom sektoru",11]
["A679072.049","PROMEHS",11]
["A679072.050","ERASMUS + Digitalna društvena inovacija: nove obrazovne kompetencije za socijalnu uključenost",11]
["A679072.051","HKO-Dig IT - Izrada standarda zanimanja i standarda kvalifikacija u djelatnostima računarstva",11]
["A679072.052","HKO-ELE Primjena Hrvatskog kvalifikacijskog okvira za sveučilišne studijske programe u području elektrotehnike",11]
["A679072.053","Novi koncepti vektora citomegaloviralnog cjepiva",11]
["A679072.054","Rješavanje m04 paradoksa: Izbjegavanje samo-prepoznavanja koji nedostaje i ubijanje CD8 T stanica MAT uORF",11]
["A679072.055","PROLOG   (HOK projekt)",11]
["A679072.056","GLAT-Igre za učenje algoritamskog mišljenja",11]
["A679072.057","DIP2Future: Razvoj obrazovnih programa, standarda kvalifikacije i standarda zanimanja iz područja IKT-a u skladu s HKO-om",11]
["A679072.058","Veleri- OI IoT School: Razvoj racionalnog obrazovnog programa",11]
["A679072.059","Bioprospecting Jadranskog mora",{"$f":"LEN(A198)","v":11}]
["A679072.060","SEEYW - Podržavanje obrazovanja mladih radnika",11]
["A679072.061","Turistička valorizacija reprezentativnih spomenika riječke industrijske baštine",11]
["A679072.062","ERASMUS + 2019. Mobilnost studenata i osoblja između programskih i partnerskih zemalja (KA107)",11]
["A679072.063","CEKOM Podrška razvoju centara kompetencija",11]
["A679072.064","Nova generacija visokoprotočnih gliko-servisa",11]
["A679072.065","Industrijska baština",11]
["A679072.066","DATACROSS – Napredne metode i tehnologije u znanosti o podatcima i kooperativnim sustavima)",11]
["A679072.067","DATACROSS – Napredne metode i tehnologije u znanosti o podatcima i kooperativnim sustavima",11]
["A679072.068","KLIMOD",11]
["A679072.069","Capacity Building of BLUE Economy Stakeholders to Effectively use CROWFUNDING",11]
["A679072.070","Provedba HKO-a na razini visokog obrazovanja - EFRI",11]
["A679072.071","Social and Creative - EFRI",11]
["A679072.072","MI – jučer, danas, sutra",11]
["A679072.073","RCK PECEPT - REG. CENTAR PROFESIJA U TURIZMU",11]
["A679072.074","RECEZA-REGIONALNI CENTAR ZABOK",11]
["A679072.075","ERASMUS+ CAMPMASTER, SVEUČILIŠTE U RIJECI",11]
["A679072.076","Train to enforce — Train 2 EN4CE’",11]
["A679072.077","HKO na razini visokog obrazovanja",11]
["A679072.078","Menage a trois: Neuro-endocrino-immune regulation of metabolic homeostasis",11]
["A679072.079","Razvoj inovativnog brzog testa za dijagnozu subkliničkog mastitisa u mliječnih krava",11]
["A679072.080","Rino sprej",11]
["A679072.081","ERASMUS+ COMPETING",11]
["A679072.082","INTERREG  PSAMIDES",11]
["A679072.083","OPK KONKURENTNOST I KOHEZIJA ProtectAS",11]
["A679072.084","INTERREG MIMOSA",11]
["A679072.085","INTERREG FRAMEWORK",11]
["A679072.086","Infant Theory of Mind-H2020-MSCA-IF-2017",11]
["A679072.087","MindBot",11]
["A679072.088","BEAT - Blue enhancement action for technology transfer",11]
["A679072.089","YUFE (The Young Universities for the Future of Europe)",11]
["A679072.090","DIOSI - Developing and implementing hands-on training on Open Science and Open Innovation for Early Career Researchers",11]
["A679072.091","YUFERING - YUFE Transforming Research and Innovation through Europe-wide Knowledge Transfer",11]
["A679072.092","Measuring the Social Dimension of Culture (MESOC)",11]
["A679072.093","KAFKa Kroatistika, Andragogija, Filozofija i Kulturologija - usklađivanje s HKO-om",11]
["A679072.094","INTERREG InnovaMare projekt",11]
["A679072.095","CEKOM Smart City.4DII",11]
["A679072.096","THEY LIVE Student lives revealed through context-based art practices",11]
["A679072.097","ALGOLITTLE",11]
["A679072.098","Peshes - Erazmus +",11]
["A679072.099","INNO HPC",11]
["A679072.100","ORG BIO",11]
["A679072.101","In Math",11]
["A679072.102","Roles of miRNAs in Herpes simplex virus 1 infection“ (HSVmiR-IJ)",11]
["A679072.103","ERASMUS+ CAMPMASTER, SVEUČILIŠTE U RIJECI",11]
["A679072.104","Sustainable service - FFRI",11]
["A679072.105","MEHR- Modernity, Education and Human Rights",11]
["A679072.106","Povećanje zapošljivosti studenata kroz unapređenje Centra za karijere i razvoj stručne prakse – CEZAR",11]
["A679072.107","SLIHE",11]
["A679072.108","Taec",11]
["A679072.109","AHEH",11]
["A679072.110","AThEME",11]
["A679072.111","E-confidence",11]
["A679072.112","HRMinHEI",11]
["A679072.113","ERASMUS+ ATHLETS FOOT",11]
["A679072.114","eTMS IRI projekt",11]
["A679072.115","OPK Konkurentnost i kohezija ProtectAS",11]
["A679072.116","RIVIERA 4SEASONS",11]
["A679072.117","FOST INNO EU",11]
["A679072.118","ERASMUS+ FOODBIZ",11]
["A679072.119","MORZ - Mreže Organizacije Ribara i Znanstvenika",11]
["A679072.120","Jean Monnet - centar izvrsnosti",11]
["A679072.121","IRI-2 ABsistemDCiCloud (korisnik AlarmAutomatika d.o.o.Rijeka)",11]
["A679072.122","IRI-2 Razvoj ekoloških proizvodnih procesa i novih proizvoda visoke kvalitete aktivnostima istraživanja i razvoja (korisnik Feroplast d.o.o.Buje)",11]
["A679072.123","EuroCC",{"$f":"LEN(A262)","v":11}]
["A679072.124","Arts and Humanities Entrpreneurship Hubs",11]
["A679072.125","Erasmus +Transnational Alignment of English Competences for University Lectures” (TAEC)",11]
["A679072.126","ERASMUS +  Inclusion through CrowdFunding”(\"InCrowd”)",11]
["A679072.127","ERASMUS + E-laboratory for digital education (LaDiEd)",11]
["A679072.128","INTERREG ADRION EUREKA",11]
["A679072.129","Erazmus partnerske zemlje 2019/2021 - HR01-KA107-060242",11]
["A679072.130","Erazmus partnerske zemlje 2018/2020 - HR01-KA107-046921",11]
["A679072.131","Erazmus 2020 - HR01-KA107-077121",11]
["A679072.132","Erazmus 2019/20 - HR01-KA103-060229",11]
["A679072.133","Erazmus 2020/21 - HR01-KA103-077087",11]
["A679072.134","Zdravstveni opservatorij",11]
["A679072.135","e-škole:  Razvoj sustava digitalno zrelih škola",11]
["A679072.136","ON IT - mrežno pravo u turizmu",11]
["A679072.137","INCOMPEDU - INOVATIVNO NATJECANJE U ONLINE VISOKOM OBRAZOVANJU",11]
["A679072.138","Predgotovljene zgrade gotovo nulte energije proizvedene na industrijski način",11]
["A679072.139","ZACJEL",11]
["A679072.140","PRI-MJER",11]
["A679072.141","Biologija citomegalovirusne infekcije u mozgu tijekom razvoja i u latenciji",11]
["A679072.142","Reprogramiranje IEL -a na crijevnoj epitelnoj barijeri tijekom infekcije virusom",11]
["A679072.143","E-obuka o primjeni obiteljskog zakona EU-a za prekogranične parove kroz tečajeve e-učenja",11]
["A679072.144","EMPLOYS - razumijevanje, vrednovanje i poboljšanje dobrog upravljanja u radnim odnosima sportaša u olimpijskim sportovima u Europi",11]
["A679072.145","Erazmus +  HiPowerEd",11]
["A679072.146","Erazmus 2021 - HR01-KA131-HED-000003063",11]
["A679072.147","Inno4YUFE",11]
["A679072.148","APOLD - Akademsko politehničko društvo",11]
["A679072.149","Flumen",11]
["A679072.150","EnLeMaH - Erazmus +",11]
["A679072.151","Projekt STEM(AJMO!)",11]
["A679072.152","ERASMUS + Sustrainable - Obuka za održivost",11]
["A679072.153","ERASMUS + HIPowerEd",11]
["A679072.154","IRI-2 Adria Smart Room",11]
["A679072.155","ERASMUS+ BLISS",11]
["A679072.156","ERASMUS+ TSAAI",11]
["A679072.157","Euro CC2",11]
["A679072.158","ERASMUS+ WICT",11]
["A679072.159","ERASMUS+ Girls go STEM",11]
["A679072.160","INNO2MARE",11]
["A679072.161","ERASMUS + THE CAREER GARDEN",11]
["A679072.162","UKV",11]
["A679072.163","Collaborative and transparent use of Learning Analytics in online university courses, valuing the learner role and exploiting advanced monitoring equipment (skraćeno: We-Collab)",11]
["A679072.164","The International Summer School “International Environment and European Integration\"",11]
["A679072.165","HORIZON BOLSTER",11]
["A679072.166","HYPRO4ST",11]
["A679072.167","SOCIAL GREEN DEAL",11]
["A679072.168","EU -FAMPRO  2020",11]
["A679072.169","ERASMUS+ EEARLYCARE-T",11]
["A679072.170","ERASMUS+ TIPS",11]
["A679072.171","Young Universities for the Future of Europe (YUFE) Alliance 2030",11]
["A679072.172","RAPIDE - Relevant assessment and pedagogies for inclusive digital education",11]
["A679072.173","SHEFCE - Steering Higher Education for Community Engagement",11]
["A679072.174","OPUS - Open Universal Science",11]
["A679072.175","INNO2MARE - Strengthening the capacity for excellence of Slovenian and Croatian innovation ecosystems to support the digital and green transitions of maritime regions”",11]
["A679072.176","YUFE4Postdocs - Young Universities for the Future of Europe - Postdoc programme",11]
["A679072.177","EDIH Adria - European Digital Innovation Hub Adriatic Croatia",11]
["A679072.178","SECURE - Sustainable Careers for Researcher Empowerment",11]
["A679072.179","Erasmus mobilnost - 2022-1-HR01-KA131-HED-000051706",11]
["A679072.180","Erasmus mobilnost - 2022-1-HR01-KA171-HED-000072407",11]
["A679072.181","MORZ - Mreža organizacija znanstvenika i ribara",11]
["A679072.182","RIBES - Razvoj Inovativnih Brodskih Eneregetskih Sustava",11]
["A679072.183","The Western University of Timișoara",11]
["A679072.184","INTERREG CLASS 4.0.",11]
["A679072.185","DigSea",11]
["A679072.186","INNO2MARE HORIZON2020",11]
["A679072.187","HEALTHY SAILING HORIZON2020",{"$f":"LEN(A326)","v":11}]
["A679072.188","SAFENAV HORIZON2020",11]
["A679072.189","UPSKILLS",11]
["A679072.190","TEAM",11]
["A679072.191","REVENANT",11]
["A679072.192","REMCO  \"Upskilling (digital skills) workers in the counselling sector for remote services provision",11]
["A679072.193","The Western University of Timișoara",11]
["A679072.194","Noć istraživača",11]
["A679072.195","ERASMUS + OPEN GLASS ROOM",11]
["A679072.196","GDHRNet - Global Digital Human Rights Network",11]
["A679072.197","LAW IN EVERYDAY LIFE - THE LAW PROJECT",11]
["A679072.198","(Horizon Europe) ATLANTIS – Improved Resilience of Critical Infrastructures Against Large Scale Transnational and Systemic Risks",11]
["A679072.199","EMFAF-2023-BlueCareers Next Blue Generation",11]
["A679072.200","– The Usage of Multipurpose Tasks in Maritime Simulation",11]
["A679072.201","Erasmus+ MASK - Marine Robots for Better Sea Knowledge Awareness",11]
["A679072.202","(Horizon Europe) ZEAS - Ferry demonstrator for the switch to safe use of sustainable climate neutral fuels in Adriatic – Zero Emission Adriatic Ships.",11]
["A679072.203","REVENANT",11]
["A679072.204","Leveraging Individual SDG Contributions by University Staff (SDG i-Level)",11]
["A679072.205","UPSKILLS",11]
["A679072.206","Erasmus+ projekt „DiToM: Diagnostic Tool in Mathematics“",11]
["A679072.207","INTERREG BLUE RECHARGE",11]
["A679072.208","ECOMONITOR",11]
["A679072.209","Virtual EDU - 2022-1-RO01-KA220-HED-000086331",11]
["A679072.210","FOCI - Future-proof Criteria for Innovative European Education",11]
["A679072.211","CO-PLANET - Community Placemaking Network for SE Europe",11]
["A679072.212","ICONIC",11]
["A679072.213","FASIH",11]
["A679072.214","NAHV - North Adriatic Hydrogen Valley",11]
["A679072.215","space - Supporting Professionals and Academics for Community Engagement in Higher Education",11]
["A679072.216","Erasmus projekt 2023-1-HR01-KA131-HED-000113440",11]
["A679072.217","\"Erasmus+KA220-VET - Cooperation partnerships in vocationaleducation and training\"",11]
["A679072.218","FASIH -Future Art and Science Industrial Heritage",11]
["A679072.219","GREENCODE - Building an Eco-Friendly Future  with Robots",11]
["A679072.220","Eduskills+SEL",11]
["A679072.221","Mental health Ambassadors in VET",11]
["A679073","EU PROJEKTI SVEUČILIŠTA U DUBROVNIKU (IZ EVIDENCIJSKIH PRIHODA)",7]
["A679073.001","ERASMUS+projekt organizacije studijskog boravka, stručnog osposobljavanja i mobilnosti studenata i zaposlenika Sveučilišta u Dubrovniku",11]
["A679073.002","ERASMUS+ Mobilnost studenata i osoblja unutar programskih zemalja-KA103",11]
["A679073.003","ERASMUS+ mobilnost studenata i osoblja unutar programskih zemalja",11]
["A679073.004","ERASMUS+ mobilnost studenata između programskih i partnerskih zemalja",11]
["A679073.005","ELEGANT - poboljšanje podučavanja, učenja i mogućnosti diplomiranja",11]
["A679073.006","Digitalno poduzetničko obrazovanje kroz virtualni trening",11]
["A679073.007","IDEA - digitalno poduzetništvo",11]
["A679073.008","EXCHANGE - Istraživanje prekogranične vodene biološke raznolikosti",11]
["A679073.009","Razvoj sustava kontrole i obrane luka od unosa stranih vrsta ( ProtectAS)",11]
["A679073.010","FishAqu - Poboljšanje znanja u održivom upravljanju ribarstvom i akvakulturi u mediteranskoj regiji",11]
["A679073.011","DigIT - izrada standarda zanimanja i standarda kvalifikacija u djelatnostima računarstva",11]
["A679073.012","Start-up Nacija: Hrvatska Tematska mreža za razvoj poduzetništva i samozapošljavanja",11]
["A679073.013","MARLESS -prekogranične mjere podizanja svijesti o morskom otpadu",11]
["A679073.014","Cisto more, pretraživanje, identifikacija i prikupljanje morskog otpada s bespilotnim podvodnim i površinskim plovilima",11]
["A679073.015","Innovamare: Razvoj inovativnih tehnologija za održivost Jadranskog mora",11]
["A679073.016","DATACROSS- napredne metode i tehnologije u znanosti o podatcima i kooperativnim sustavima",11]
["A679073.017","HKO-ELE- primjena HKO za sveučilišne studijske programe u području elektrotehnike",11]
["A679073.018","Izvrsnost i učinkovitost u visokom obrazovanju u polju ekonomije E4",11]
["A679073.019","Agrobioraznolikost- osnova za prilagodbu i ublažavanje posljedica klimatskih promjena u poljoprivredi",11]
["A679073.020","SeaClear",11]
["A679073.021","EUCNC2020",11]
["A679073.022","CERGE",11]
["A679073.023","ESSENCE - usavršavanje vještina za njegovanje konkurentnosti i zapošljavanja",11]
["A679073.024","VIBES -Osnaživanje virtualnih poslovnih vještina",11]
["A679073.025","ESMERALD - Pojačavanje otpornosti malih i srednjih poduzeća nakon zaključavanja",11]
["A679073.026","Uspostava Regionalnog centra kompetentnosti u turizmu i ugostiteljstvu Dubrovnik-RCK",11]
["A679073.027","Reconnect science with the blue society (Blue-connect)",11]
["A679073.028","MARIPET -Innovative Curiculum to evaluate Marine Fishery Discard as raw pet food for sustainable Europe",11]
["A679073.029","Gamification  Education to Nurture Intraprenership at Enterprise (GENIE)",{"$f":"LEN(A390)","v":11}]
["A679073.030","Booming digital literacy skills among education",11]
["A679073.031","Erasmus KA131 2021",11]
["A679073.032","Erasmus KA1312022",11]
["A679073.033","Erasmus+ KA171 2022.g",11]
["A679073.034","2023-1-HR01-KA131-HED-000122003",11]
["A679073.035","2023-1-HR01-KA171-HED-000136027",11]
["A679073.036","AFISHE-Development of Aquaculture and Fisheries Education for Green Deal in Armenia and Ukraine: from education to ecology.",11]
["A679073.037","PLAY2GREEN:Serious Gaming for Universal Access to Green Education",11]
["A679073.038","SEACLEAR 2.0",11]
["A679073.039","Adriatic Digital Media Observatory (ADMO)",11]
["A679073.040","Uspostava Centra za provjeru informacija i građansku otpornost DU-CHECK",11]
["A679074","EU PROJEKTI SVEUČILIŠTA U ZADRU (IZ EVIDENCIJSKIH PRIHODA)",7]
["A679074.001","INTERREG MELAdetect projekt prekogranične suradnje u liječenju različitih vrsta melanoma",11]
["A679074.002","INTERREG STRONGER projekt osnivanja prekograničnog klastera i e-platforme iz područja prerađivačke industrije ljekovitog i začinskog bilja",11]
["A679074.003","INTERREG APPRODI projekt izrade strateškog plana za poticanje ekoturizma kroz istraživanja o povijesnim utjecajima pomorskog prometa",11]
["A679074.004","Zadar Baštini projekt stvaranja kulturno-turističkog proizvoda grada Zadra s ciljem povećanja turističke posjećenosti",11]
["A679074.005","MADE IN-LAND projekt očuvanja prirodnih i kulturnih resursa u unutrašnjosti Italije i Hrvatske",11]
["A679074.006","INTERREG DISCOVER projekt pozicioniranja slabije poznatih mjesta Italije i  Hrvatske na turističku kartu ponude",11]
["A679074.007","INTERREG REPLICATE projekt revitalizacije zabačenih područja i izgubljene baštine",11]
["A679074.008","INTERREG GUTTA projekt pilot akcije pronalaska eko-rute s naglaskom na zaštitu okoliša",11]
["A679074.009","INTERREG AADRIREEF -Inovativno iskorištavanje jadranskih grebena radi jačanja plave ekonomije",11]
["A679074.010","ERASMUS + LA GUIDE",11]
["A679074.011","ERASMUS + EU-CONEXUXS",11]
["A679074.012","SAN -Pametna poljoprivredna mreža",11]
["A679074.013","ERASMUS+ KA1- mobilnost u visokom obrazovanju",11]
["A679074.014","OPERAS- P H2020-INFRADEV-2018-2020",11]
["A679074.015","BUDI SPREMAN I KOMPETENTAN",11]
["A679074.016","STREAM Interreg Italija Hrvatska",11]
["A679074.017","Interreg Italija Hrvatska ERDF",11]
["A679074.018","VODI ME  Vode Imotske krajine",11]
["A679074.019","TRIPLE  H2020-INFRAEOSC-2018-2020",11]
["A679074.020","SHEMA  Proizvodnja hrane u kružnom biog",11]
["A679074.021","2CODE Intrr.  CBC Hrvatska -BIH i  - Crna gora",11]
["A679074.022","ERASMUS+ EU-CONEXUS Plus",11]
["A679074.023","Poboljšanje učinkovitosti brodske propulzije optimizacijom propelera",11]
["A679074.024","SCEE - Students Civic Engagement European Project",11]
["A679074.025","DIGITClue - Digital Inclusion",11]
["A679074.026","TEAPOT - Alati za obrazovanje s umjetničkom percepcijom za otvorenu transmisiju",11]
["A679074.027","BLUE-CONNECT - RECONNECT SCIENCE WITH THE BLUE SOCIETY",11]
["A679074.028","SHIE - Sports Disability Inclusive Experience",11]
["A679074.029","PODUZMI - Učinkovito aktivno PODUčavanje i učenje o PODUzetništvu u gospodarski nerazvijenim i ruralnim PODručjima ",11]
["A679074.030","STEM COUNTY - Jačanje STEM vještina u osnovnim školama u Zadarskoj županiji",11]
["A679074.031","LIFE21-ENV-IT-LIFE MICROFIGHTER",11]
["A679074.032","OPERAS-PLUS",11]
["A679074.033","DIAMAS",11]
["A679074.034","CRAFT-OA",11]
["A679074.035","I-MORE - Inovacije za razvoj održive marikulture",11]
["A679074.036","EU-CONEXUS RFS",11]
["A679074.037","IDEA-net",11]
["A679074.038","BREATH",11]
["A679074.039","2023-1-HR01-KA220-HED-000164970",11]
["A679075","EU PROJEKTI SVEUČILIŠTA U PULI (IZ EVIDENCIJSKIH PRIHODA)",7]
["A679075.001","INTERREG DA SPACE projekt interdisciplinarne i međunarodne suradnja povezivanja akademskog, gospodarskog, istraživačkog i javnog sektora",11]
["A679075.002","INTERREG RE-WIND projekt prekogranične suradnje Italije i Hrvatske kroz neiskorišteni potencijal prirodne i kulturne baštine",11]
["A679075.003","INTERREG ADRIATIC ATLAS projekt prekogranične suradnje Italije i Hrvatske kroz neiskorišteni potencijal prirodne i kulturne baštine i poticanje pokretanja ICT tvrtki",11]
["A679075.004","INTERREG ALTEROUTES projekt krajobraznog upravljanja s ciljem smanjenja pritiska masovnog turizma na dragocjenu povijesnu baštinu",11]
["A679075.005","INTERREG RIVERS projekt poticanja kulturne industrije Italije i Hrvatske kroz praćenje podrijetla krajolika rijeka i njihovih ušća duž jadranske obale",11]
["A679075.006","INTERREG ARTHUR projekt praćenja i mjerenja kapaciteta noćenja u turističkim destinacijama radi usmjeravanja na manje opterećena turistička područja",11]
["A679075.007","ERASMUS KA103 Mobilnost studenata i osoblja Sveučilišta u Puli",11]
["A679075.008","ERASMUS KA107 Odlazne i dolazne mobilnosti studenata i osoblja Sveučilišta u Puli",11]
["A679075.009","ERASMUS+ KA2 - razvoj kapaciteta WILLIAM",11]
["A679075.010","ERASMUS KA2 - DYNAMIC",11]
["A679075.011","ERASMUS + KA103 Broj: 2020-1-HR01-KA103-077157 - Mobilnost studenata i osoblja Sveučilišta u Puli",11]
["A679075.012","ERASMUS + KA107 Broj: 2020-1-HR01-KA107-077587 - Odlazne i dolazne mobilnosti studenata i osoblja Sveučilišta u Puli",{"$f":"LEN(A454)","v":11}]
["A679075.013","ERASMUS + KA202 broj: 2019-1-HR01-KA202-061006 - strukovno obrazovanje i osposobljavanje",11]
["A679075.014","Projekt \"IN DIV EU\"",11]
["A679075.015","HKO FET",11]
["A679075.016","Partnerstvo između znanstvenika I ribara",11]
["A679075.017","EU projekt - DA SPACE",11]
["A679075.018","Projekt IN DIV E",11]
["A679075.019","HKO FET",11]
["A679075.020","Partnerstvo između znanstvenika I ribara",11]
["A679075.021","EU projekt  DA SPACE",11]
["A679075.022","HKO-izvrsnost i učinkovitost na razini visokog obrazovanja",11]
["A679075.023","Integrirani sustav uzgoja alternativnih vrsta školjkaša u uvjetima klimatskih promjena",11]
["A679075.024","KLIK Pula-centar za kompetentno cjeloživotno razvijanje inovativnih znanja i vještina u sektoru ugostiteljstva i turizma",11]
["A679075.025","BRIGHT PROJEKT ERASMUS",11]
["A679075.026","ACTIVE AND INCLUSIVE TEACHING OF LITERACY",11]
["A679075.027","PROJEKT SUSTAINABILITY",11]
["A679075.028","JEAN MOUNET MODULE \"HEVET\"",11]
["A679075.029","BLUE CONNECT (OBZOR EUROPA, ISTRAŽIVAČKI PROJEKTI)",11]
["A679075.030","ERASMUS 2021-1-HR01-KA131-HED-000004325",11]
["A679075.031","ADRIPROTOUR",11]
["A679075.032","ERASMUS+ \"DESIGNCARE\"",11]
["A679075.033","CACAO 2021-1-HR01-KA220-SCH-000027781",11]
["A679075.034","2022-1-HR01-KA131-HED-000057180",11]
["A679075.035","EUROPEAN DIGITAL INNOVATION HUB ADRIATIC CROATIA (EDIH ADRIA)",11]
["A679075.036","2023-1-HR01-KA131-HED-000126399",11]
["A679075.037","PROJEKT AQUAMON",11]
["A679075.038","PROJEKT DMC KLASTER",11]
["A679075.039","PROJEKT CARDEA",11]
["A679076","EU PROJEKTI VELEUČILIŠTA I VISOKIH ŠKOLA (IZ EVIDENCIJSKIH PRIHODA)",7]
["A679076.001","INTERREG SLO-HR Živi dvorci - projekt očuvanja kulturnog nasljeđa",11]
["A679076.002","ERASMUS+ KA103 Mobilnost studenata i osoblja Veleučilišta u Vukovaru",11]
["A679076.003","ERASMUS+ KA107",11]
["A679076.004","LIFE LYNX 16/NAT/SI/000634",11]
["A679076.005","Erasmus+",11]
["A679076.006","Milk-ed",11]
["A679076.007","EDUAGRNTERREG V-A HUNGARYI, I",11]
["A679076.008","Odčepljivanje ruralnog naslijeđa: autohtona proizvodnja fermentiranih pića za lokalnu kulturnu i okolišnu održivost, 2018-1-0682",11]
["A679076.009","Moderno obrazovanje prvostupnika mehatronike",11]
["A679076.010","Snaga vještina",11]
["A679076.011","Snaga vještina",11]
["A679076.012","Bespilotne letjelice",11]
["A679076.013","Stipendiranje studenata visokih učilišta iz područja biotehničkih znanosti na području Slavonije, Baranje i Srijema",11]
["A679076.014","Measures",11]
["A679076.015","Izgradnja studentskog doma u Požegi",11]
["A679076.016","Projekt Horizon 2020-Nextgen Microfluidics    \"Next generation test bed for upscaling of microfluidic devices based on nano-enabled surfaces and membranes\"",11]
["A679076.017","Razvoj uređaja sa potopljenim isparivačem",11]
["A679076.018","Internacionalizacija stručnog diplomskog spec.studija Informacijska sigurnost i digitalna forenzika TVZ-a",11]
["A679076.019","PROJEKT CODEIN 2020-1-HR01-KA226-HE094713",11]
["A679076.020","PROJEKT KA107-077451 (2020-2022) ( ERASMUS+)",11]
["A679076.021","PROJEKT KA103-077131 (2020-2022) ( ERASMUS+)",11]
["A679076.022","INTERREG ITALY-CROATIA RECOLOR",11]
["A679076.023","PROJEKT KA103-060319 (2019-2020) ( ERASMUS+)",11]
["A679076.024","Rekonstrukcija zgrade oružane za centar kompetencija",11]
["A679076.025","Uncorking rural heritahege - autohtona proizvodnja fermentiranih pića radi lokalne kulturne i ekološke održivosti",11]
["A679076.026","ERASMUS+ KA2 - Digital Education in Nursing",11]
["A679076.027","Razvoj, unapređenje i provedba stručne prakse u visokom obrazovanju",11]
["A679076.028","Drvoproizvod",11]
["A679076.029","Karijera i ja",11]
["A679076.030","Pročišćavanje vode",11]
["A679076.031","Atrij znanja",11]
["A679076.032","Drvoproizvod- Divine Parquet",11]
["A679076.033","Struka i ti",11]
["A679076.034","Karijera i ja",11]
["A679076.035","Pročišćavanje voda",11]
["A679076.036","Modifikacija procesa zrenja sira",{"$f":"LEN(A518)","v":11}]
["A679076.037","EUKI Europenan Climate Initiative 2022",11]
["A679076.038","Podmjera 10.2.",11]
["A679076.039","PODMJERA 16.1.2 OPERATIVNE SKUPINE",11]
["A679076.040","BeEmTel KA220",11]
["A679076.041","UPPSCAP KA220",11]
["A679076.042","DEN KA226",11]
["A679076.043","Mjera 1.1.2. APPRRR",11]
["A679076.044","SIMBA- Simulation based learining",11]
["A679076.045","REGIONALNI ZNANSTVENI CENTAR LORI",11]
["A679076.046","Vraćanje dijela objekta \"Oružane\" u stanje prije potresa",11]
["A679076.047","AgriNext - Inkubator poljoprivredne i ruralne izvrsnosti i platforma za razmjenu kompetencija",11]
["A679076.048","SMARTER",11]
["A679076.049","Seed2STEM: Planting the Future of Education",11]
["A679076.050","AgriNext - Inkubator poljoprivredne i ruralne izvrsnosti i platforma za razmjenu kompetencija",11]
["A679076.051","Alati za iskustveno učenje za stjecanje kompetencija SMART opskrbnog lanca - SMARTER",11]
["A679076.052","Seed2STEM: Planting the Future of Education",11]
["A679077","EU PROJEKTI SVEUČILIŠTA U SPLITU (IZ EVIDENCIJSKIH PRIHODA)",7]
["A679077.001","BLUTOURSYSTEM projekt unaprjeđenja okvira za održivi rast Plavog turizma",11]
["A679077.002","ERASMUS+ Inovativna poslovna suradnja - model inovativnog učenja u području turizma",11]
["A679077.003","INTERREG MEDITERAN projekt unaprjeđenja turističkog znanja za oblikovanje i vođenje održivog turizma",11]
["A679077.004","ERASMUS+ Novi sveučilišni kurikul Cultural Studies in Business",11]
["A679077.005","WIRE 2020 Inovacije ekosustava i razvoj regija Europe",11]
["A679077.006","GIANTLEAP Nezagađivački promet autobusa s Pem gorivim stanicama",11]
["A679077.007","HYDRIDE4MOBILITY Razvoj komunalnih vozila pomoću MH spremnika vodika i PEM gorivnih ćelija",11]
["A679077.008","SAVE Sport Against Violence and Exclusion - Sportom protiv nasilja i isključenosti",11]
["A679077.009","ESA Program sportskih aktivnosti za djecu s tipičnim razvojem i potrebama",11]
["A679077.010","ENTIRE Mapiranje normativnog okvira za etiku provođenja istraživanja",11]
["A679077.011","VIR2UE Etika utemeljena na istraživačkoj čestitosti",11]
["A679077.012","SOPs4RI Europski kodeks ponašanja za istraživačku čestitost",11]
["A679077.013","INTERREG IPA CBC HR-BA-ME Unaprjeđenje dijagnostičkih i terapijskih usluga medicine spavanja u prekograničnom području južne Hrvatske i zapadne Bosne i Hercegovine",11]
["A679077.014","COSME COS Europska poduzetnička mreža za potporu i savjet gospodarstvenicima diljem Europe",11]
["A679077.015","OBZOR 2020 MIROR Europski program združenog doktorata radi integrirane obuke na doktorskoj razini",11]
["A679077.016","OBZOR 2020 TPTF_ERN Promocija znanosti u društvu",11]
["A679077.017","FP7 PREPARE Usklađene velike kliničke studije o zaraznim bolestima u 27 država članica EU",11]
["A679077.018","ERASMUS+ EUNIT Internacionalizacija visokoobrazovnih institucija u zemljama regije južnog Mediterana",11]
["A679077.019","ERASMUS+ BESTSDI Izrada kurikula na temu infrastrukture prostornih podataka u zemljama Zapadnog Balkana",11]
["A679077.020","ERASMUS+ InCounselling50+ Razvoj holističkog i znanstveno utemeljenog koncepta za inovativno savjetovanje i usmjeravanje kroz karijeru",11]
["A679077.021","ERASMUS+ FINAC Razvoj novih postdiplomskih studija u Republici Srbiji i Albaniji iz financijskog upravljanja, računovodstva i kontrolinga",11]
["A679077.022","ERASMUS+ CAPUS Očuvanje umjetnosti u javnim prostorima",11]
["A679077.023","ERASMUS+ FOODQA Poticanje suradnje akademije i industrije u sigurnosti i kvaliteti hrane",11]
["A679077.024","ERASMUS+ CABUFAL Izgradnja kapaciteta Pravnog fakulteta Crne Gore u procesu pristupanja EU",11]
["A679077.025","ERASMUS+ MEMUD MA studij u području urbanog dizajna za područje centralne i jugoistočne Europe",11]
["A679077.026","EUROPEAID: INTERCAP projekt mijenjanja javne percepcije o migracijama, sigurnosti i održivom razvoju u međuzavisnom svijetu",11]
["A679077.027","ERASMUS+ SpeculativeEDU projekt obrazovanja i stjecanja iskustva u području dizajna u nastajanju",11]
["A679077.028","ERASMUS+ dodjela bespovratnih sredstava studiranja i prakse kod mobilnosti nastavnog i nenastavnog osoblja Sveučilišta u Splitu",11]
["A679077.029","ERASMUS+ Programske zemlje KA103 Mobilnost studenata i osoblja Sveučilišta u Splitu",11]
["A679077.030","ERASMUS+ Programske zemlje KA103 Mobilnost studenata i osoblja Sveučilišta u Splitu",11]
["A679077.031","ERASMUS+ Programske zemlje KA103 Mobilnost studenata i osoblja Sveučilišta u Splitu",11]
["A679077.032","ERASMUS+ Programske zemlje KA103 Mobilnost studenata i osoblja Sveučilišta u Splitu",11]
["A679077.033","ERASMUS+  Partnerske zemlje KA107 Odlazne i dolazne mobilnosti studenata i osoblja Sveučilišta u Splitu",11]
["A679077.034","ERASMUS KA107 Odlazne i dolazne mobilnosti studenata i osoblja Sveučilišta u Splitu",11]
["A679077.035","ERASMUS+  Partnerske zemlje KA107 Odlazne i dolazne mobilnosti studenata i osoblja Sveučilišta u Splitu",11]
["A679077.036","ERASMUS+  Partnerske zemlje KA107 Odlazne i dolazne mobilnosti studenata i osoblja Sveučilišta u Splitu",11]
["A679077.037","INTERREG-NET4mPLASTIC- Nove tehnologije za detekciju i analizu marko i mirkoplastike u Jadranskom bazenu",11]
["A679077.038","INTERREG PMO-GATE - sprječavanje, upravljanje i prevladavanje rizika od prirodnih katastrofa radi ublažavanja njihova utjecaja na gospodarstvo i društvo",11]
["A679077.039","INTERREG DEEP-SEA – Razvoj planiranja energetske učinkovitosti i mobilnih usluga marina na Jadranskoj obali",11]
["A679077.040","INTERREG E-CITIJENS - Sustav za podršku odlučivanju (SPO) u upravljanju hitnim situacijama za potrebe civilne zaštite zasnovan na građanskom novinarstvu, a za poboljšanje sigurnosti na području Jadrana",11]
["A679077.041","INTERREG MoST - Monitoring prodora slane vode u obalne vodonosnike i testiranje pilot projekata za smanjenje štetnog utjecaja od zaslanjivanja",11]
["A679077.042","INTERREG AdSWiM - Upravljano korištenje pročišćenih komunalnih otpadnih voda radi kvalitete Jadranskog mora",11]
["A679077.043","INTERREG Plastic Busters MPA: Očuvanje biološke raznolikosti od plastike u zaštićenim morskim područjima na Mediteranu",11]
["A679077.044","SHExtreme",11]
["A679077.045","ERASMUS + Izgradnja kapaciteta za plavi rast i razvoj kurikuluma morskog ribarstva u Albaniji",11]
["A679077.046","INTERREG MED ARISTOIL",11]
["A679077.047","INTERREG FAIRSEA- Ribolov u jadranskoj regiji zajednički pristup ekosustavu",{"$f":"LEN(A582)","v":11}]
["A679077.048","INTERREG  WATERCARE",11]
["A679077.049","IP-ojačani, suzbijanje štetočina i izvan sezone IPM usmjeren protiv novih i novih voćnih muha",11]
["A679077.050","Društvene znanosti i humanističke znanosti u međusektorskoj suradnji za bolje obrazovanje i održive inovacije",11]
["A679077.051","BLUEWBC - Održivi razvoj BLUE ekonomija putem visokog obrazovanja i inovacija u zemljama zapadnog Balkana",11]
["A679077.052","SEA EU - Europsko sveučilište mora",11]
["A679077.053","RMPPI - HR-BA-ME262- Održiva prekogranična inicijativa za obnovljive mikroelektrane",11]
["A679077.054","DATACROSS – Napredne metode i tehnologije u znanosti o podacima i kooperativnim sustavima",11]
["A679077.055","STIM-REI",11]
["A679077.056","Primjena HKO za sveučilišne studijske programe u području elektrotehnike",11]
["A679077.057","EUROfusion",11]
["A679077.058","FizKO - Razvoj studija fizike uz primjernu HKO",11]
["A679077.059","Razvoj tehnologije za procjenu autopurifikacijskih sposobnosti priobalnih voda",11]
["A679077.060","GEOBIZ",11]
["A679077.061","PROMISE -Personalizirana medicina- osnovna edukacija",11]
["A679077.062","mathSTEM - Podučavanje matematike i izrada smjernica za mathSTEM metodologiju",11]
["A679077.063","ERASMUS+ KA104 Obrazovanje odraslih",11]
["A679077.064","Provedba HKO u stručnim studijima računarstva",11]
["A679077.065","ASPEMS - Aktivni sustav za pohranu električne energije i stabilizaciju elektroenergetske mreže",11]
["A679077.066","ISPIS – Razvoj funkcionalnog prototipa sustava za potrage i spašavanja ljudi pomoću bespilotnih letjelica",11]
["A679077.067","Razvoj karijera mladih istraživača",11]
["A679077.068","Pametni kulturni turizam kao pokretač održivog razvoja europskih regija",11]
["A679077.069","CAAT",11]
["A679077.070","EUROCC -Nacionalni centri za kompetencije u okviru, Obzor 2020",11]
["A679077.071","RCK",11]
["A679077.072","IRA1 - CEKOM: Razvoj inovativnih kompozitnih struktura za zvučnu izolaciju",11]
["A679077.073","IRA2-CEKOM: Razvoj napredne integralne numeričke procedure",11]
["A679077.074","IRA 3-CEKOM: Inovativno rješenje vodomlaznog propulzora ",11]
["A679077.075","IRA5 CEKOM : Razvoj LNG sustava za brodove pogonjene motorima na dvojno gorivo (FO/LNG) ",11]
["A679077.076","IRA 7-CEKOM: Razvoj LNG spremnika za plovne objekte za skladištenje i regasifikaciju LNG-a ",11]
["A679077.077","IRA 8-CEKOM: Razvoj novih konstrukcijskih i tehnoloških rješenja natpalubnih konstrukcija i elemenata od aluminijevih legura ",11]
["A679077.078","IRA 10-CEKOM: Razvoj inovativnog pristupa u procesu opremanja broda putem proširene stvarnosti ",11]
["A679077.079","IRA 11-CEKOM: Razvoj uređaja za praćenje rada brodskog motora analizom akustičnog signala ",11]
["A679077.080","IRA 12-CEKOM: Razvoj plutajuće platforme od umjetno zamrznute vode na zračnim komorama ",11]
["A679077.081","IRA 15-CEKOM: Razvoj paketa palubne opreme specijalnih brodova različitih namjena za uzgajališta ribe ",11]
["A679077.082","IRA 16-CEKOM: Brodski pritezni sustavi namijenjeni pozicioniranju plovnih objekata",11]
["A679077.083","VODIME - Vode Imotske krajine",11]
["A679077.084","CEKOM, Razvoj centara kompetencija",11]
["A679077.085","WRECKS4ALL: jačanje i diverzifikacija turističke ponude na Jadranu",11]
["A679077.086","Europska akademija za poslovno i financijsko pravo",11]
["A679077.087","Usluge podrške poslovanju i inovacijama u Hrvatskoj - upravljanje ključnim računima - SSBI-CRO-KAM5",11]
["A679077.088","Ispitni sloj sljedeće generacije za nadogradnju mikrofluidnih uređaja na bazi nano omogućenih površina i membrana",11]
["A679077.089","MareMathics- Inovativni pristup u matematičkom obrazovanju za studente pomorstva",11]
["A679077.090","Bio zaštitne kulture i bioaktivni ekstrakti kao održive kombinirane strategije za poboljšanje roka trajanja kvarljive mediteranske hrane (BioProMedFood)",11]
["A679077.091","Jačanje održivih akcija, otpornosti, suradnje i usklađivanja širom i od strane Saveza SEA-EU",11]
["A679077.092","Dalje od akademske zajednice: širenje horizonta karijere doktoranda u pomorskim i pomorskim znanostima u Europi",11]
["A679077.093","Korištenje energije i zeleni javni prijevoz u budućim pametnim gradovima: Inovativni program podučavanja za studente, dionike i poduzetnike",11]
["A679077.094","ITSHEC- Integracija transverzalnih vještina u visoko obrazovanje i kurikulum zdravstvene i socijalne skrbi",11]
["A679077.095","INQUAPH- Inovativni alati za ocjenu kvalitete za studije farmacije u Bosni i Hercegovini",11]
["A679077.096","EPISECC- Uspostaviti paneuropski informacijski prostor za poboljšanje sigurnosti građana",11]
["A679077.097","Metode u istraživanju istraživanja MiRoR",11]
["A679077.098","Provedba HKO-a na razini visokog obrazovanja",11]
["A679077.099","Uspostava regionalnih centara kompetencija u strukovnom obrazovanju u odabranim sektorima",11]
["A679077.100","SAPPHIRE - Projekt „System Automation of PEMFCs with Prognostics and Health management for Improved Reliability and Economy“",11]
["A679077.101","AUTORE - Automotive derivative energy system",11]
["A679077.102","REFUNDACIJE DJELATNICIMA KOJI SUDJELUJU NA EU PROJEKTIMA",11]
["A679077.103","Erasmus+ mobilnost nastavnog i nenastavnog osblja u natječajnoj godini 2019",11]
["A679077.104","EPISECC",11]
["A679077.105","COST - NEW FRONTIERS OF PEER REVIEW",11]
["A679077.106","MLE - EUROPSKA KOMISIJA - GOVERMENTAL EXPERTS",11]
["A679077.107","Projekt Horizon 2020-FF IPM \"In-silico boosted, pest prevention and off-season focused IPM against new and emerging fruit flies ('OFF-Season' FF- IPM)\"",11]
["A679077.108","Projekt Potential for Using SIT, Mating Disruption and Other IPM Tools to Eradicate Box Tree Moth Incursions in the U.S.",11]
["A679077.109","Erasmus Plus Ka103 2020",11]
["A679077.110","Erasmus Mundus SUNBEAM -  Structured UNiversity mobility between the Balkans and Europe for the Adriatic-ionian Macro-region",11]
["A679077.111","Projekt Horizon 2020-Nextgen Microfluidics    \"Next generation test bed for upscaling of microfluidic devices based on nano-enabled surfaces and membranes\"",{"$f":"LEN(A646)","v":11}]
["A679077.112","SI4CARE-  Socijalne inovacije za integriranu zdravstvenu njegu starijeg stanovništva u ADRION regijama",11]
["A679077.113","FirEURisk-holistička strategija za upravljenje požarima raslinja na području Europe",11]
["A679077.114","COST Action TU1208-znanstveno-tehnološka primjena radara za prodiranje u tlo u građevinarstvu",11]
["A679077.115","Razvoj putničkog jedrenjaka s nultom emisijom ispušnih plinova",11]
["A679077.116","Sustav za uspostavu stabilne elektro-distribucijske mreže (GRIDS)",11]
["A679077.117","CHIC",11]
["A679077.118","FAIR - automatsko institucionalno priznavanje",11]
["A679077.119","IRI - povećanje razvoja novih proizvoda i usluga (lijepljeni lamelirani nosači od tvrdog drveta)",11]
["A679077.120","PINNA NOBILIS SSMA",11]
["A679077.121","Erasmus+ KA131 2021",11]
["A679077.122","IRI Perm Beton-sustav odvodnje na horizontalnim površinama od propusnog betona",11]
["A679077.123","BEAGLE - bioetičko i vrijednosno obrazovanje",11]
["A679077.124","Commix - jačanje pismenosti kod adolescenata kroz kreativno korištenje stripova",11]
["A679077.125","TaSDi-PBS - rješavanje pitanja vladanja u školi kroz podršku poželjnim oblicima ponašanja",11]
["A679077.126","MiRoR - metode istraživanja o istraživanju",11]
["A679077.127","INTERIV - internacionalizacija studijskih programa morskog ribarstva i vojnog pomorstva",11]
["A679077.128","EICP (Evidence Implemantation in Clinical Practice) - medicina temeljena na dokazima",11]
["A679077.129","ZCIPM - Znanstveni centar izvrsnosti za personaliziranu medicinu",11]
["A679077.130","CEKOM - centar kompetencija u molekularnoj dijagnostici",11]
["A679077.131","SI4CARE - Socijalna inovacija za sveobuhvatnu zdravstvenu zaštitu starije populacije u regiji",11]
["A679077.132","MADE - Mobile Access Dental Clinic",11]
["A679077.133","FIZIODENT",11]
["A679077.134","KOSIR OBO - primjenjivost novih tehnologija za oporabu biljnog otpada",11]
["A679077.135","Unaprjeđenje kvalitete studiranja na pravnim fakultetima u RH",11]
["A679077.136","BOWI - poticanje digitalnih inovacija",11]
["A679077.137","Forenzička identifikacija ljudskih ostataka analizom MSCT snimaka CTforID",11]
["A679077.138","Uncorking rural heritahege - autohtona proizvodnja fermentiranih pića radi lokalne kulturne i ekološke održivosti",11]
["A679077.139","MSEVP - Istraživanje i razvoj smart-grid punionice za električna vozila unutar konstrukcije rotacionog parking sustava",11]
["A679077.140","COST Action BM1309: European network for innovative uses of electromagnetic fields (EMFs) in biomedical applications",11]
["A679077.141","STIM-REI",11]
["A679077.142","FLUPSY - platforma za školjke",11]
["A679077.143","DATACROSS -Napredne metode i tehnologije u znanosti o podatcima i kooperativnim sustavima",11]
["A679077.144","SECURE",11]
["A679077.145","Network of Eurofound Correspondents",11]
["A679077.146","PPOI Partnership for prevention of over indebtedness",11]
["A679077.147","PRESILIENT",11]
["A679077.148","ZCIPM",11]
["A679077.149","FIZIODENT",11]
["A679077.150","SI4CARE",11]
["A679077.151","IRECS",11]
["A679077.152","YOUTH GEMS",11]
["A679077.153","ERASMUS+60-Razvoj aktivnosti visokog obrazovanja kod europskih građana od 60 i više godina",11]
["A679077.154","Blue-connect-Reconnect Science with the Blue Society",11]
["A679077.155","DesignCARE-Komunikacijske vještine za učenike strukovnih škola za medicinska zanimanja",11]
["A679077.156","Erasmus KA131 2022-Mobilnost studenata i osoblja u visokom obrazovanju",11]
["A679077.157","Erasmus KA171 2022-Projekt mobilnosti studenata i osoblja u visokom obrazovanju između programskih i partnerskih zemalja",11]
["A679077.158","Erasmus+ mobilnost KA171 2023",11]
["A679077.159","MiRoR",11]
["A679077.160","AI4HEALTH.Cro",11]
["A679077.161","Fact Check",11]
["A679077.162","CURE4Aqua",11]
["A679077.163","IRISE",11]
["A679077.164","CroRIN",11]
["A679077.165","RaSTEMo",11]
["A679077.166","Roche",11]
["A679077.167","SEAEU 2.0",11]
["A679077.168","Erasmus + KA171 2023",11]
["A679077.169","ERASMUS+ SURF",11]
["A679077.170","NAHV - Dolina vodika Sjeverni Jadran",11]
["A679077.171","Provedba HKO-a na razini visokog obrazovanja",11]
["A679077.172","Uz zdrav životni stil raSTEMo",11]
["A679077.173","Primjena HKO za sveučilišne studijske programe u području elektrotehnike -",11]
["A679077.174","National Competence Centres in the framework of EuroHPC Phase 2 – EuroCC 2",11]
["A679077.175","Provjera točnosti informacija u području energije i računarstva",{"$f":"LEN(A710)","v":11}]
["A679077.176","RESCOP-Monitoring morskih ekosustava korištenjem daljinske detekcije",11]
["A679077.177","PMO GATE",11]
["A679077.178","Capacity2Transform",11]
["A679077.179","Obzor Europa - ERA SHUTTLE",11]
["A679077.180","Life - EU Sharks",11]
["A679077.181","Obzor Europa - ERA FABRIC",11]
["A679077.182","INNOSOL4MED",11]
["A679077.183","VALMEDALM",11]
["A679077.184","SEA FENNEL4MED",11]
["A679077.185","Innovation Norway - OTIMEDT",11]
["A679077.186","HRZZ - CTforID",11]
["A679077.187","Erasmus+KA2 2023",11]
["A679078","EU PROJEKTI SVEUČILIŠTA U ZAGREBU (IZ EVIDENCIJSKIH PRIHODA)",7]
["A679078.001","CoSMass Projekt proučavanja razvoja rasta zvjezdane mase središnjih supermasivnih crnih rupa kroz kozmičko vrijeme",11]
["A679078.002","AeRoTwin - Twinning koordinacijska akcija za širenje izvrsnosti i sudjelovanja u zračnoj robotici",11]
["A679078.003","ENDORSE Efikasno brusenje  robotskim sustavom potpomognuto HORSE okruženjem",11]
["A679078.004","Ostvarivanje sljedivosti za mjerenje kakvoće električne energije",11]
["A679078.005","ADRIATIC  Unaprjeđenje sposobnosti interakcije ronilac-robot",11]
["A679078.006","Napredni ručni detektori metala s mogućnošću diskriminacije oblika mete za uporabu u humanitarnom razminiranju",11]
["A679078.007","PRE-EST Pripremanje plana izgradnje velikog europskog solarnog teleskopa",11]
["A679078.008","SOLARNET",11]
["A679078.009","DESTination RAIL - FACT (Find, Analyse, Classify, Treat) alat za upravljanje željezničkom infrastrukturom",11]
["A679078.010","H2020  SAFE 10-T Razvoj sigurnosnog okvira za transportnu infrastrukturu",11]
["A679078.011","Regional Center Adria Umrežavanje dionika sektora mineralnih neenergetskih sirovina",11]
["A679078.012","HORIZON 2020 BBI - Razvijanje funkcionalnih molekula za biološke premaze",11]
["A679078.013","FITNESS Platforma za e-učenje svih aspekata pakiranja hrane",11]
["A679078.014","ASKFOOD Savez za vještine i znanje vezano za prehrambeni sektor",11]
["A679078.015","STRENGTH2FOOD  Istraživanje u cilju poboljšanja učinkovitosti programa EU o kvaliteti hrane",11]
["A679078.016","e-Škole A projekt - Uspostava sustava razvoja digitalno zrelih škola",11]
["A679078.017","IRI IDG - Razvoj inovativne platforme za digitalnu transformaciju poduzeća",11]
["A679078.018","IRI HYPER - Razvoj inovativne platforme za digitalnu transformaciju poduzeća",11]
["A679078.019","DIGITRANS - digitalna transformacija dunavske regije",11]
["A679078.020","ABCitiEs Razvoj novih vrsta poduzetničkih zajednica koje stvaraju atraktivnije lokalno poslovno okruženje",11]
["A679078.021","ERASMUS+ Potpora za nastavno i nenastavno osoblje",11]
["A679078.022","Obzor 2020  CEF - Poticanje istraživanja Connecting Europe Facilites i Norveške zaklade za znanost",11]
["A679078.023","Europska noć istraživača",11]
["A679078.024","ERASMUS+ projekt mobilnosti i aktivnosti studenata kroz istraživanja u inozemstvu",11]
["A679078.025","MANGO Ekstremna učinkovitost korištenih resursa u budućim računalima visokih performansi",11]
["A679078.026","CROSS BOrder Prekogranično upravljanje obnovljivim izvorima energije i skladišnim jedinicama",11]
["A679078.027","OBZOR2020 MEET Kapitaliziranje iskorištavanja naprednih geotermalnih sustava i potencijala",11]
["A679078.028","MicroGRId Rješenja za sudjelovanje mikromreža na tržištu električne energije",11]
["A679078.029","RoboCom ++ Promišljati robotiku za robota Suradnik budućnosti",11]
["A679078.030","TEchnology TRAnsfer putem višenacionalnih aplikacija eXperiments",11]
["A679078.031","Immersive Visual Technologies (IVT) Vizualne tehnologije za sigurnosne aplikacije",11]
["A679078.032","subCULTron Učenje, samoregulacija i samoodrživost podvodnog društva/kulture robota u okruženju s visokim učinkom",11]
["A679078.033","AWAKE Sušilice ultra malih napajanja za autonomne mreže robotskih senzora u moru / podmorju",11]
["A679078.034","OBZOR 2020 PentaHelix Inovativna metoda u provedbi održivog razvoja i klime",11]
["A679078.035","OBZOR 2020 PROSEU  PROSumers FOR THE Energy Union: integriranje aktivnog sudjelovanja građana u tranziciju energije",11]
["A679078.036","OBZOR 2020 UPGRADE DH Unaprjeđenje performansi daljinskog grijanja u Europi",11]
["A679078.037","GoSAFE RAIL Globalni okvir upravljanja sigurnošću za željeznice",11]
["A679078.038","Dubrovnik International ESEE Mining school Škola rudarstva za istočnu i jugoistočnu Europu",11]
["A679078.039","InvestRM Multifaktorski model za ulaganja u sektor sirovina",11]
["A679078.040","rESEErve Mineralni potencijal istočne i jugoistočne Europe (ESEE produčje)",11]
["A679078.041","REEBAUX Potencijali ležišta boksita i boksitnih ostataka u istočnoj i jugoistočnoj Europi",11]
["A679078.042","MINERS -  Edukacijski program za spašavanje iz rudnika",11]
["A679078.043","ENOS Omogućavanje dekarbonizacije energetskih djelatnosti na bazi fosilnih goriva i energetski intenzivne industrije",11]
["A679078.044","EXERTER Mreža pan-europskih stručnjaka za sigurnost eksploziva",11]
["A679078.045","CRISS Demonstracija skalabilne i ekonomične infrastrukture za digitalno učenje temeljeno na oblaku",11]
["A679078.046","ERASMUS+ MERIA Matematičko obrazovanje - relevantno, zanimljivo i primjenjivo",11]
["A679078.047","ERASMUS+ Jean Monnet Network, Navigating the storm: Izazovi malih država u Europi",11]
["A679078.048","ERASMUS+  Razvijanje pismenosti i usvajanje jezika obrazovanja kod djece u nepovoljnom položaju (manjine, migranti i ostale skupine)",11]
["A679078.049","H2020 Uspostava Living Labs (životni laboratoriji) u urbanim područjima koja se suočavaju s izazovom postindustrijske regeneracije",11]
["A679078.050","H2020 DOIT Poduzetničke vještine mladih socijalnih inovatora u otvorenom digitalnom svijetu",11]
["A679078.051","Napredne fizičko-akustičke i psihoakustične dijagnostičke metode za ocjenu buke u građevini",{"$f":"LEN(A774)","v":11}]
["A679078.052","Digital Traceablity Chain for AC Voltage and Current omogućit će dinamičko mjerenje strujnih i naponskih valnih oblika",11]
["A679078.053","SafeLog Sigurna interakcija čovjeka i robota u logističkim aplikacijama za vrlo fleksibilna skladišta",11]
["A679078.054","Univerzalni preventivni kurikulum (UPC) u Europi za sprječavanje uporabe droga",11]
["A679078.055","Jačanje maloljetničkog pravosuđa u rješavanju jedinstvene situacije maloljetnika i njihovu zaštitu prema međunarodnom i europskom pravu u kontekstu protuterorizma",11]
["A679078.056","Building bridges: promicanje socijalne uključenosti, ravnopravnosti i dobrobiti za rizične obitelji u Europi",11]
["A679078.057","ABC Assisting Better Communication Potpora boljem komuniciranju",11]
["A679078.058","Inovativni akademski tečaj o integrativnim intervencijama za djecu s poremećajima spektra autizma IACIIC_ASD",11]
["A679078.059","HORIZON 2020 VetMed Jačanje kapaciteta u molekularnoj veterini",11]
["A679078.060","H2020 - NMBP ENCORE - BIM platforma u oblaku za energetski učinkovito i cjenovno efikasno renoviranje zgrada",11]
["A679078.061","H2020 - SGA EPI SGA1 - Inicijativa za Europski procesor",11]
["A679078.062","H2020 –WIDESPREAD –Twinning koordinacijska akcija u području otvorenih podataka",11]
["A679078.063","The Janus-lice lokaliziranog nosača u kupratima-generiranje",11]
["A679078.064","STRONG - 2020",11]
["A679078.065","H2020 Inovativni trening za metode u budućnosti (IMforFuture)",11]
["A679078.066","H2020 Pristup sistemske medicine za kronični infl.dis. (SYSCID)",11]
["A679078.067","H2020 Usporedna genomika beskralježnjaka koji nisu modelirani (IGNITE)",11]
["A679078.068","ERASMUS+ K2  KAAT Savez znanja u zračnom prometu",11]
["A679078.069","RADAR (Procjena rizika na cestama područja Dunava)",11]
["A679078.070","ERASMUS+  LOG-IN",11]
["A679078.071","ATCOSIMA",11]
["A679078.072","OBZOR 2020 CEN CE - Certificirani stručnjaci za CEN standard- Shema kvalifikacija i osposobljavanja za cijelu EU zasnovanu na CEN standardima s EPBD",11]
["A679078.073","OBZOR 2020 KeepWarm - Poboljšanje performansi sustava daljinskog grijanja u srednjoj i istočnoj Europi",11]
["A679078.074","OBZOR 2020 INEX ADAM - veća izvrsnost u proizvodnji naprednih aditiva",11]
["A679078.075","OBZOR 2020 QUIET - Kvalificiranje i primjena korisničkog dizajniranog i EfficienT električnog vozila",11]
["A679078.076","OBZOR 2020 INSULAE - Maksimiziranje utjecaja inovativnih energetskih pristupa na otocima EU-a",11]
["A679078.077","OBZOR 2020 NOWELTIES - Zajednički doktorski laboratorij za nove materijale i inovativne tehnologije pročišćavanja vode",11]
["A679078.078","ERASMUS+ CASPROD -Prijestolnice razvoja pametnih proizvoda",11]
["A679078.079","ERASMUS+ TRAILs LSP Ljetna škola za učitelje",11]
["A679078.080","EMPIR ADVANCT - Računalna tomografija AdvancE za dimenzionalna mjerenja površina u industriji",11]
["A679078.081","NET-UBIEP",11]
["A679078.082","BIMzeED",11]
["A679078.083","HORIZON 2020 SOLARNET",11]
["A679078.084","HORIZON 2020 PRE-EST",11]
["A679078.085","INTERREG CHANGE WE CARE ITALIJA-HRVATSKA",11]
["A679078.086","OBZOR 2020 Alliance4life, Savez za nauke o životu: Završne podjele u istraživanju i inovacijama u Europskoj uniji",11]
["A679078.087","OBZOR 2020-OSTEOproSPINE - Novostenski lijek za regeneraciju kostiju",11]
["A679078.088","Erasmus+ KA2 CBHE - ODISsEA - Inovativne strategije darivanja organa za jugoistočnu Aziju",11]
["A679078.089","OBZOR 2020 FAPIC - Brzi test za identifikaciju i karakterizaciju patogena",11]
["A679078.090","OBZOR 2020 - Biochip BIO inženjerski grafti za liječenje hrskavice u pacijenata",11]
["A679078.091","ERASMUS+ HEDU -LEARN-IT Harmonizirani europski dermato-venerološki dodiplomski",11]
["A679078.092","GLOBAL INITIATIVE",11]
["A679078.093","CEPIL",11]
["A679078.094","CROSSJUSTICE",11]
["A679078.095","CLEOPATRA - Otvorena jezična akademija Open Analytics orijentirana na događaj",11]
["A679078.096","ERASMUS + ASD-EAST",11]
["A679078.097","ASAP Training",11]
["A679078.098","IA_CHILD",11]
["A679078.099","OBZOR 2020-ISTRAŽIVANJE I INOVACIJE - H2020-MCCA-ITN-2017-EJD: 785423 MANNA",11]
["A679078.100","LIFE 16 NAT/SI/000634 PROJECT LIFE LYNX",11]
["A679078.101","EKHAGA",11]
["A679078.102","INTERREG CARNIVORA DINARICA - Prekogranična suradnja za dugoroočno očuvanje velikih zvijeri",11]
["A679078.103","TrainESSE v.2",11]
["A679078.104","MineHeritage",11]
["A679078.105","iTARG3T.Innovative targeting procesing of W-Sn-Ta-Li ores",11]
["A679078.106","ENGIE.Poticanje djevojčica da studiraju geoznanosti i inženjerstvo",11]
["A679078.107","STRATEGY CCUS",11]
["A679078.108","AMED",11]
["A679078.109","ERASMUS+ EDUBOTS,E-DIGILIT,KEEP IN P.",11]
["A679078.110","IGT TESTING SYSTEMS",11]
["A679078.111","EIT HEALTH - Local activities in Regional Innovation Scheme regions",11]
["A679078.112","EKO SANDWICH",11]
["A679078.113","CROSKILLS",11]
["A679078.114","BRIDGE SMS",11]
["A679078.115","ANAGENNISI",{"$f":"LEN(A838)","v":11}]
["A679078.116","HORIZON 2020 FIT-TO-Nzeb",11]
["A679078.117","AMIGA",11]
["A679078.118","H 2020 RISE OpenInnoTrain",11]
["A679078.119","A Game-Changing Year:  Czechoslovakia in 1968 and Europe",11]
["A679078.120","FOCUS -Prisilna raseljavanja i solidarnost zajednice domaćina prema izbjeglica",11]
["A679078.121","MARDS",11]
["A679078.122","SMART",11]
["A679078.123","IncEdu",11]
["A679078.124","H2020-SC1-2016-2017-RIA PROJECT OSTEOPROSPINE",11]
["A679078.125","ERASMUS+ PROGRAM PROJECT SOFTVETS 2018-1-HR01-KA203-047494",11]
["A679078.126","e-Škole B",11]
["A679078.127","EDU4GAMES - HKO",11]
["A679078.128","ERASMUS+ISSES",11]
["A679078.129","OBZOR 2020 - TO DO",11]
["A679078.130","ERASMUS + 2020-HR01-KA103",11]
["A679078.131","EFRR - IRI Agrivi Smart - Agrivi Smart",11]
["A679078.132","EFRR - IRI ARIEN - Upravljanje energetskom infrastrukturom kroz kolaboraciju u proširenoj stvarnosti",11]
["A679078.133","EFRR - IRI bigEVdata - IT rješenje analitike velikih skupova podataka emobilnosti",11]
["A679078.134","EFRR - IRI CCS - Cyber Conflict Simulator",11]
["A679078.135","EFRR - IRI CloudSec - Sigurnost računarstva u oblaku prilikom korištenja mobilnih aplikacija",11]
["A679078.136","EFRR - IRI ComEnergy - Poboljšanje efikasnosti prerađivačke industrije kroz istraživanje i razvoj inovativnih ICT usluga",11]
["A679078.137","EFRR - IRI DFDM - Istraživanje i razvoj sustava za prepoznavanje umora i distrakcije vozača",11]
["A679078.138","EFRR - IRI EKORAS24 - Ekološki prihvatljiva rastavna sklopka 24 kV za napredne mreže",11]
["A679078.139","EFRR - IRI HSG - Helm Smart Grid",11]
["A679078.140","EFRR - IRI KONPRO 2 - Konpro 2 - Razvoj nove generacije uređaja numeričke zaštite",11]
["A679078.141","EFRR - IRI KONTRAC - KONTRAC GP170DC_SK - Razvoj pretvarača glavnog pogona tramvaja sa superkondenzatorskim modulom",11]
["A679078.142","EFRR - IRI Mareton - Razvoj nove generacije sustava neprekidnog napajanja",11]
["A679078.143","EFRR - IRI MAS - Razvoj multifunkcionalnog antiterorističkog sustava (MAS)",11]
["A679078.144","EFRR - IRI Omega GS - Razvoj  LED rasvjete",11]
["A679078.145","EFRR - IRI OperOSS - Istraživanje i razvoj naprednog sustava za upravljanje pametnim elektroenergetskim i komunikacijskim mrežama",11]
["A679078.146","EFRR - IRI PC-ATE-Buildings - Razvoj sustava upravljanja i trgovanja energijom u zgradi",11]
["A679078.147","EFRR - IRI SafeTRAM - SafeTRAM - Sustav za povećanje sigurnosti vožnje tračničkog prometa",11]
["A679078.148","EFRR - IRI SMART UTX - SMART UTX:  Sustav za ultrazvučnu dijagnostiku u ekstremnim uvjetima",11]
["A679078.149","RURASL Rural 3.0: Uslužno učenje za ruralni razvoj",11]
["A679078.150","IRCiS Integracija djece izbjeglica u škole: izgradnja pozitivnih odnosa između djece izbjeglica i djece lokalnog stanovništva",11]
["A679078.151","CEKOM Centar kompetencija u molekularnoj dijagnostici",11]
["A679078.152","POP-UP",11]
["A679078.153","EFRR - IRI RASCO-FER-SMART-EV - Kompaktna gradska vakuumska čistilica",11]
["A679078.154","ERASMUS + ICT TEX- 612248-EPP-1-2019-1-BG-EPPKA2-KA (ICT IN TEXTILE AND CLOTHING HIGHER EDUCATION AND BUSINESS",11]
["A679078.155","CEKOM-Centar kompetencija za digitalnu transformaciju prehrambene industrije na ruralnim područjima",11]
["A679078.156","STEM revolucija u zajednici",11]
["A679078.157","ORKAN-Okvir za kontrolu i nadzor bespilotnih letjelica-HRZZ",11]
["A679078.158","ERASMUS+Higher education-International Capacity Building",11]
["A679078.159","Erasmus+AAMSIAQ",11]
["A679078.160","OBZOR 2020 Science and tehnology in childhood obesity policy-STOP",11]
["A679078.161","ERASMUS+SPORT projekt SCforH",11]
["A679078.162","ERASMUS+SPORT projekt WE_CARE",11]
["A679078.163","ERASMUS+projekt FitBack",11]
["A679078.164","ERASMUS+projekt Sporth4HelthNet",11]
["A679078.165","Innovative SKILLS",11]
["A679078.166","Jačanje kapaciteta CerVirVac-a za istraživanja u virusnoj imunologiji i vakcinologiji",11]
["A679078.167","Erasmus+ Dialogue in Adult Education (DIA)",11]
["A679078.168","INTERREG ADRION NEORION Promotion of green maritime technologies and new materials to enhance sustainable shipbuilding in Adriatic Ionian Region",11]
["A679078.169","INTERREG ADRION SEADRION Fostering diffusion  of Heating  Cooling technologies using the seawater pump in the Adriatic- Ionian Region",11]
["A679078.170","INTERREG ADRION ECO-NAUTINET Network's support for SME sin the Nautical sector of the Adriatic-Ionian Region",11]
["A679078.171","INTERREG MED BLUE DEAL Blue Energy Deployment Alliance",11]
["A679078.172","INTERREG SOLEZ Smart Solutions supporting Low Emission Zones and other low-carbon mobility policies in EU cities",11]
["A679078.173","INTERREG DANUBE DHswitch Switching to district heating systems for diversification of supply, reducing gas dependency and increasing the use of locally available renewable sources",11]
["A679078.174","INTERREG MED PELAGOS Promoting Innovative nEtworks and cLusters for mArine renewable energy synerGies in mediterranean cOasts and iSlands",11]
["A679078.175","INTERREG MED PRISMI Promoting RES Integration for Smart Mediterranean Islands",11]
["A679078.176","H2020-FETOPEN IDEAS-Uključiv nadzor i istraživanje podatkovnih centara",11]
["A679078.177","H2020-FLAG-ERA RoboCom++-Ponovno promišljanje robotike za robotskog kompanjona budućnosti",11]
["A679078.178","H2020-LCE-SGS CROSSBOW-CROSS BOrder management of variable renewable energies and storage units enabling a transnational Wholesale market",11]
["A679078.179","H2020-LCE MEET-Multidisciplinarna i višekontekstna demonstracija tehnika istraživanja i iskorištavanja naprednih geotermalnih sustava i potencijala",{"$f":"LEN(A902)","v":11}]
["A679078.180","H2020-LC-SC3 FLEXIGRID-Interoperabilna rješenja za holističku implementaciju usluga fleksibilnosti u distribucijskoj mreži",11]
["A679078.181","H2020-MSCA-ITN ImmerSAFE-Uronjene vizualne tehnologije za sigurnosno kritične aplikacije",11]
["A679078.182","EFRR-UZI-Ekosustav umreženih uređaja i usluga za Internet stvari s primjenom u poljoprivredi",11]
["A679078.183","EFRR-Klimatske promjene-Rješenja prilagodbe elektroenergetskog sustava klimatskim promjenama temeljena na velikim količinama podataka",11]
["A679078.184","ERASMUS+KA2-Udruženja znanja-Udruženje znanja iz akustike",11]
["A679078.185","H2020-SwafS-Projekt CALIPER:Povezivanje istraživanja i inovacija za ravnopravnost spolova",11]
["A679078.186","IRI CEKOM",11]
["A679078.187","ORKAN",11]
["A679078.188","ERASMUS + EDUBOTS",11]
["A679078.189","ERASMUS + E-DigiLit",11]
["A679078.190","ERASMUS +",11]
["A679078.191","RAST",11]
["A679078.192","LOMI",11]
["A679078.193","IC4HEDS",11]
["A679078.194","Hibridne metoda umjetne inteligencije za računalne igre",11]
["A679078.195","ERASMUS + TEACH4EDU4",11]
["A679078.196","ERASMUS + Vrijeme",11]
["A679078.197","ERASMUS+ WeRln - Žene poduzetetnice u regionalnim uključivim ekosustavima",11]
["A679078.198","LIFE 18 NAT/HR/00847- Dinara povratak životu",11]
["A679078.199","H2020-Swafs",11]
["A679078.200","H2020- upravljanje poljoprivrednom hranom",11]
["A679078.201","Arhitektonski zagrobni život: Višesektorski utjecaj arhitektonske kvalifikacije",11]
["A679078.202","Zdravo urbano okruženje: Razvoj višeg obrazovanja iz arhitekture i građevine u Bosni i Hercegovini",11]
["A679078.203","Centar pametnih urbanih i ruralnih prostora - Inovativna urbanistička i arhitektonska rješenja za povećanje energetske učinkovitosti u tradicijskim i zaštičenim cjelinama",11]
["A679078.204","Razvoj dvostruke fasade s hermetički zatvorenom šupljinom (H-CCF)",11]
["A679078.205","MARDS - Reforma doktorskog studija u Crnoj Gori i Albaniji",11]
["A679078.206","ERASMUS+KA2 Startup obrazovanje i podrška studentima doktorskih studija, istraživačima i znanstvenicima",11]
["A679078.207","ERASMUS+KA2 - Strateška partnerstva Geo3N",11]
["A679078.208","ERASMUS+KA2 - Strateška partnerstva SmartSoc",11]
["A679078.209","ERASMUS+KA2 - Strateška partnerstva ASKNOW",11]
["A679078.210","ERASMUS+KA2 - Strateška partnerstva INNOSID",11]
["A679078.211","ERASMUS+KA2 - Strateška partnerstva IMPACT - Inteligentni Pomorski Sustavi - put prema održivom obrazovanju, znanju i osnaživanju",11]
["A679078.212","ERASMUS + KA2 - Strateška partnerstva RoboGirls Osnaživanje djevojaka u STEAM-u kroz robotiku i kodiranje",11]
["A679078.213","H2020-WIDESPREAD-2018-2020  Katedra za umjetnu inteligenciju za robotiku",11]
["A679078.214","H2020 - ICT AERIAL-CORE - Kognitivni integrirani višenamjenski robotski sustav s proširenim opsegom rada i sigurnošću",11]
["A679078.215","H2020 - NMBP - ENCORE - BIM Cloud platforma svjesna energije, u ekonomičnom kontekstu renoviranja zgrada",11]
["A679078.216","H2020 - JTI-EuroHPC - MEEP - Eksperimentalna platforma",11]
["A679078.217","H2020 - LC-SC3 FLEXIGRID - Interoperabilna rješenja za holističku implementaciju usluga fleksibilnosti u distribucijskoj mreži",11]
["A679078.218","H2020 - SC5 REWAISE Elastična inovacija vode za pametnu ekonomiju",11]
["A679078.219","H2020 - SGA EPI SGA1 - Inicijativa za Europski procesor",11]
["A679078.220","H2020 – WIDESPREAD – Twinning AeRoTwin - Twinning koordinacijska akcija za širenje izvrsnosti i sudjelovanja u zračnoj robotici – AeRoTwin",11]
["A679078.221","H2020 - LCE - SGS CROSSBOW - CROSS BOARD Upravljanje promjenjivim obnovljivim izvorima energije i jedinicama za skladištenje omogućujući transnacionalno veletržnicu",11]
["A679078.222","H2020 - INFRAIA EUMarineRobots - Istraživačka infrastrukturna mreža u području pomorske robotike",11]
["A679078.223","H2020 - LC-SC3 FARCROSS Omogućavanje regionalne trgovine/razmjene električne energije kroz inovacije",11]
["A679078.224","ANETREC (611487-EPP-1-2019-1-SI-EPPJMO-NETWORK)",11]
["A679078.225","DEBATING EUROPE (620428-EPP-1-2020-1-DE-EPPJMO-NETWORK)",11]
["A679078.226","MEDIADELCOM",11]
["A679078.227","SESAR AISA - automatizaciju u upravljanju zračnim prometom",11]
["A679078.228","SESAR FMP MET - sektorska aplikacija s konvektivnim vremenskim informacijama za više izvora za položaj upravljanja protokom",11]
["A679078.229","SumBoost 2020 RIS Inovacija",11]
["A679078.230","MetForTC - Sljedive mjerne mogućnosti za praćenje rada termoparova",11]
["A679078.231","SEADRION - Poticanje širenja tehnologija grijanja i hlađenja pomoću pumpe morske vode u jadransko-jonskoj regiji",11]
["A679078.232","BLUE DEAL -  plava energija u mediteranskim obalnim područjima",11]
["A679078.233","REWARDHEAT- Uporaba topline iz obnovljivih izvora i otpada za konkurentne mreže daljinskog grijanja i hlađenja",11]
["A679078.234","SEEETD-Dijalog o tranziciji energije u jugoistočnoj Europi",11]
["A679078.235","SEAVIEWS- Sektorski prilagodljivi virtualni sustav ranog upozoravanja na zagađenje mora",11]
["A679078.236","ProbeTrace - Sljedivost za mjerenje kontaktnih sondi i olovnih instrumenata",11]
["A679078.237","Osiguranje električne energije u slučaju klimatskih ekstrema i prirodnih katastrofa",11]
["A679078.238","NRLE - Nacionalni referentni laboratorij za emisije iz motora s unutarnjim izgaranjem za necestovne pokretne strojeve",11]
["A679078.239","Regionalni centar kompetentnosti u strukovnom obrazovanju u strojarstvu-Industrija 4.0",11]
["A679078.240","ARS MECHANICA za nove kompetencije",11]
["A679078.241","RCK Ruđera Boškovića",11]
["A679078.242","ELPID - platforma za e-učenje za inovativni razvoj proizvoda",11]
["A679078.243","OPORTO -Optimizacija održavanja sustava antikorozivne zaštite i zaštite protiv obraštanja ribarskih brodova",{"$f":"LEN(A966)","v":11}]
["A679078.244","MORZ - Mreža organizacija ribara i znanstvenika",11]
["A679078.245","IN AQUA - Integracija visokog stupnja obnovljivih izvora energije u akvakulturna uzgajališta",11]
["A679078.246","APROPO- Autonomno Pomoćno RibarskO PlovilO",11]
["A679078.247","DATACROSS -Napredne metode i tehnologije u znanosti o podatcima i kooperativnim sustavima",11]
["A679078.248","Edukacijom o strukturnim i investicijskim fondovima do inovacija u poduzetništvu",11]
["A679078.249","ASAP-Autonomni sustav za pregled i predviđanje integriteta prometne infrastrukture",11]
["A679078.250","LoMI- internacionalizacijom preskačemo granice",11]
["A679078.251","Istraživanje i razvoj specijaliziranih multirotornih bespilotnih letjelica SPECDRON",11]
["A679078.252","Razvoj hibridnog skidera - HISKID",11]
["A679078.253","Primjena Hrvatskog kvalifikacijskog okvira u području biomedicinskog inženjerstva - HKO-BI",11]
["A679078.254","RURASL Rural 3.0: Uslužno učenje za ruralni razvoj",11]
["A679078.255","Godina koja mijenja igre: Čehoslovačka 1968. i Europa",11]
["A679078.256","FOKUS - Prisilno raseljavanje i solidarnost zajednice domaćina izbjeglica",11]
["A679078.257","CLEOPATRA - Višejezična istraživačka akademija Open Analytics usmjerena na događaje",11]
["A679078.258","IRCiS Integriranje izbjegličke djece u škole: mješovita studija o učinkovitosti kontakt-u-škole za izgradnju pozitivnih međugrupnih odnosa između djece izbjeglica i domaćina",11]
["A679078.259","HILAR",11]
["A679078.260","DuRSAAM",11]
["A679078.261","ERASMUS PLUS CSETIR",11]
["A679078.262","OVERFLOW  EU mehanizmi civilne zaštite",11]
["A679078.263","TRANSBOT -H2020",11]
["A679078.264","Potrošački angažman u obnovi zgrada i obnovi za klimatske akcije na terenu",11]
["A679078.265","BUS - GoCircular-H2020",11]
["A679078.266","BUILDUP -SKILLSBANK-H2020",11]
["A679078.267","OBZOR 2020 Znanost i tehnologija u politici pretilosti djece- STOP",11]
["A679078.268","WE-CARE Projekt: Uspostavljanjem nacionalne skrbi i razvojnim centrima podržavamo elitne sportaše u uravnoteženju rezultata sporta i obrazovanja / zapošljavanja",11]
["A679078.269","Projekt: Stvaranje mehanizama za kontinuiranu provedba sportskog kluba za zdravlje u Europskoj uniji",11]
["A679078.270","Erasmus + EPL Europska licenca za propisivanje",11]
["A679078.271","Obzor 2020 LiverScreen - Probir na fibrozu jetre - populacijsko istraživanje u europskim zemljama",11]
["A679078.272","HKO projekt Unapređenje postojećeg integriranog preddiplomskog i diplomskog studijskog programa Medicina",11]
["A679078.273","HKO projekt Promjena hrvatskog kvalifikacijskog okvira u području biomedicinskog inženjerstva HKO-BI",11]
["A679078.274","ESF CasMouse - Genomsko inženjerstvo i genska regulacija u staničnim linijama i modelnim organizmima tehnologijom CRISPR/Cas9",11]
["A679078.275","Razvoj sustava za ispitivanje višefaznih strujanja i izgaranja s ciljem povećanja istraživačkih aktivnosti znanstvenog i poslovnog sektora",11]
["A679078.276","TODO-HORIZON 2020.",11]
["A679078.277","CEPIL- Europska komisija",11]
["A679078.278","CROSSJUSTICE- Europska komisja",11]
["A679078.279","JEAN MONNET",11]
["A679078.280","ANEUPLOIDIJA - Molekularno podrijetlo aneuploidija u zdravih i bolesnih ljudskih tkiva",11]
["A679078.281","ERASMUS+  KA2 TIME",11]
["A679078.282","MEMORIE Mjere prilagodbe klimatskim promjenama za održivo upravljanje prirodnim resursima",11]
["A679078.283","IRI- IMforFUTURE - aktivnosti istraživanja i razvoja",11]
["A679078.284","RESTORE - Procjena ostataka crvenog blata u regiji",11]
["A679078.285","MARILIA - testovi za detekciju patogena u uzorcima vode",11]
["A679078.286","The ONE - mehanizam sparivanja i stvaranja bozonskih kvazičestica",11]
["A679078.287","CroViZone - Prilagodba vinogradarskih zona RH klimatskim promjenama",11]
["A679078.288","ECOBIAS -  ekološko praćenje i procjenu vodenih bioloških ustanova",11]
["A679078.289","IRI- REMAKE - Razvoj efikasne metodologije za analizu konstrukcije plovnih objekata metodom konačnih elemenata",11]
["A679078.290","KLIMOD - Računalni model strujanja, poplavljivanja i širenja onečišćenja u rijekama i obalnim morskim područjima",11]
["A679078.291","ERASMUS + KA2 PROMISE - Obrazovanje zasnovano na upitima za personaliziranu medicinu",11]
["A679078.292","MOBI-US - Prijevod programa na engleski za suradnju s drugim fakultetima u Europi s istim programima",11]
["A679078.293","RM@Schools-ESEE - Povezivanje obrazovnih ustanova u ESEE regiji s industrijom",11]
["A679078.294","RIS obrazovanje i poduzetništvo",11]
["A679078.295","PRI-MJER",11]
["A679078.296","ERASMUS+ CCC4ECEC - Kompetencija za obrazovanje i njegu u ranom djetinjstvu usmjerena na dijete",11]
["A679078.297","UNICEF - Poboljšanje inkluzivnosti početnog obrazovanja učitelja za obrazovanje i njegu u ranom djetinjstvu",11]
["A679078.298","Dijagnostički značaj kalprotektina u ranom prepoznavanju upalnih stanja",11]
["A679078.299","Potencijal mikroinkapsulacije u proizvodnji sireva",11]
["A679078.300","Erasmus + dijalog u obrazovanju odraslih (DIA)",11]
["A679078.301","INTERREG Central Europe Store4HUC- Integracija i napredno gospodarenje sustavima za pohranu energije na povijesnim lokalitetima u gradovima",11]
["A679078.302","EERR-IRI-II RI2MOFA - Razvoj inteligentne interaktivne modularne fasade",11]
["A679078.303","INTERREG-DUNAV DanuP-2-Gas-DanuP-2-Gas: Inovativni model za potporu sigurnosti i diversifikaciju u dunavskoj regiji kombiniranjem energije iz biomase s viskovima obnovljive energije",11]
["A679078.304","INTERREG-IT-HR InnovaMare- Plava tehnologija - razvijanje inovativnih tehnologija za održivosti Jadranskog mora",11]
["A679078.305","EFRR-IR-II AACES- Odlučivanje u upravljanju elektroenergetskim sustavom u uvjetima nesigurnosti uvjetovanih klimatskim promjenama - AACES",11]
["A679078.306","EFRR - Klimatske promjene AgroSPARC- Napredna i prediktivna poljoprivreda za otpornost klimatskim promjenama",11]
["A679078.307","EFRR-IR-II Al Defender- Sustav umjetne inteligencije za automatski nadzor i upravljanje sigurnosti cloud okruženja - AL DEFENDER",{"$f":"LEN(A1030)","v":11}]
["A679078.308","EFRR-IR-II AIPD2- Digitalna platforma za zaštitu privatnosti i sprječavanje zloupotreba životnim ciklusom osobnih podataka- AIPD3",11]
["A679078.309","EFRR-IR-II A-UNIT- Istraživanje i razvoj napredne jedinice za autonomno upravljanje mobilnim vozilima u logistici",11]
["A679078.310","EFRR-IR-II BatEVCharg - Punionica električnih vozila s integriranim baterijskim spremnikom",11]
["A679078.311","EFRR-IR-II CEGlog- Istraživanje i razvoj jedinstvenog sustava za logističku i transportnu optimizaciju",11]
["A679078.312","EFFRR-CEKOM-SUS- Centar kompetencija za kibernetičku sigurnost upravljačkih sustava",11]
["A679078.313","EFRR-IR-II cyberAUT- Inovativno rješenje za upravljanje kibernetickom sigurnosti industrijskih sustava automatizacije postrojenja i procesa",11]
["A679078.314","EFRR-IR-II DRUNE- Razvoj uređaja za prijenos video signala ultra niske latencije",11]
["A679078.315","EFRR-IR-II ENEDAT- Razvoj sustava za optimalizaciju potrošnje električne energije u podatkovnim centrima",11]
["A679078.316","EFRR-IR-II ENEDAT- Razvoj pametnog modularnog sustava upravljanja pogonom dizala za povećanje energetske učinkovitosti zgrade",11]
["A679078.317","EFRR-IR-II GMP- Razvoj Greyp platforme za mikromobilnost GMP",11]
["A679078.318","EFRR-IR-II IRI2-OIE- Integrirano rješenje za upravljanje imovinom i podršku investicijskim procesima projektiranja, planiranja i provedbe izgradnje obnovljivih izvora energije",11]
["A679078.319","EFRR-IR-II LAMCAB- Razvoj tehnologije povezivanja komponenti upravljačkih električnih ormara upotrebom laminiranih vodica",11]
["A679078.320","EFRR-IR-II PCC- Sustav za nadzor i kontrolu usklađenosti distribuiranih procesa u realnom vremenu, otkrivanje anomalija, rano upozoravanje i forenzičku analizu transakcije",11]
["A679078.321","EFRR-IR-II PEP- Razvoj inovativnog polifaznog elektromotornog pogona",11]
["A679078.322","EFRR-IR-II Pinova- Razvoj agrometeorološke platforme i mreže IoT uređaja tvrtke Pinova d.o.o.",11]
["A679078.323","EFRR- UZI RESIN- Razvoj sustava za ispitivanje visefaznih strujanja i izgaranja s ciljem povećanja istraživačkih aktivnosti znanstvenog i poslovnog spektra",11]
["A679078.324","EFRR-IR-II RPA-NPV- Razvoj potopljenog agregata za male hidroelektrane s niskim padom vode",11]
["A679078.325","EFRR-IR-II SARI- Sustava za automatsko raspoznavanje, identifikaciju te precizno mjerenje duljine plovila",11]
["A679078.326","EFRR-IR-II SMAGRILOS- Sustav za optimizaciju gubitaka u naprednim mrežama",11]
["A679078.327","EFRR-IR-II SOC4- Platforma za nadzor ugroza u heterogenim mrežnim okruženjima",11]
["A679078.328","EFRR-IR-II SUPELEK- Sustav za upravljanje potrošnjom električne energije u kućanstvima",11]
["A679078.329","EFRR-IR-II Agrivi Smart- povećanje produktivnosti uzgoja krumpira uz pomoć algoritma strojnog učenja",11]
["A679078.330","EFRR-IR-II bigEVdata- IT rješenja analitike velikih skupova podataka emobilnosti",11]
["A679078.331","EFRR-IR-II CCS- Simulator sukoba",11]
["A679078.332","EFRR-IR-II CloudSec- Sigurnost računarstva u oblaku prilikom korištenja mobilnih aplikacija",11]
["A679078.333","EFRR-IR-II DFDM- Istraživanje i razvoj sustava za prepoznavanje umora i distrakcije vozača",11]
["A679078.334","EFRR-IR EKORAS24- Ekološki prihvatljiva rastavna sklopka 24kV za napredne mreže",11]
["A679078.335","EFRR-IRI Geolux- 4D akustična kamera",11]
["A679078.336","EFRR-IRI HSG - Helm Smart Grid",11]
["A679078.337","EFRR-IRI KONPRO 2 - Razvoj nove generacije uređaja numeričke zaštite",11]
["A679078.338","EFRR- IRI KONTRAC - Razvoj pretvarača glavnog pogona tramvaja sa superkondezatorskim modulom",11]
["A679078.339","EFRR- IRI Mareton - Razvoj nove generacije industrijskih modularnih, redundantnih, višeizlaznih sustava neprekidnog napajanja istosmjernim i izmjeničnim naponima",11]
["A679078.340","EFRR- IRI MAS- Razvoj multifunkcionalnog antiterorističkog sustava",11]
["A679078.341","EFRR- IRI Omega GS- Razvoj otvorene pametne mreže energetski učinkovite javne LED rasvjete",11]
["A679078.342","EFRR- IRI OperOSS- Istraživanja i razvoj naprednog sustava za upravljanje pametnim elektroenergetskim i komunikacijskim mrežama",11]
["A679078.343","EFRR- IRI PC-ATE-Buildings- Razvoj sustava prediktivnog upravljanja i automatskog trovanja energijom u zgradi",11]
["A679078.344","EFRR- IRI SMART UTX: Pametni modularni sustav za ultrazvučnu dijagnostiku u ekstremnim uvjetima",11]
["A679078.345","ERASMUS + Projekt: SC4H Creating mehanisam for continous implementation of  the sports club for health guidelines in EU",11]
["A679078.346","ERASMUS + Projekt: SC4H Network",11]
["A679078.347","ERASMUS+mobilnost osoblja zmeđu programskih i partnerskih zemalja u svrhu podučavanja KA 107",11]
["A679078.348","SESAR-FPM",11]
["A679078.349","SABRINA",11]
["A679078.350","SLAIN",11]
["A679078.351","SumBoost",11]
["A679078.352","CA16227-2 INVESTIGATION AND MATEMATICAL ANALYSIS OF AVANT-GARED DISEASE CONTROL VIA MOSQUITO NANO TECH REPELLENTS",11]
["A679078.353","Modernizacija infrastrukture Znanstveno-istraživačkog centra za tekstil (MI-TSRC) KK.01.1.1.02.0024",11]
["A679078.354","ERASMUS + K2, 1.1.2020.-31.12.2022., 612248-EPP-1-2019-BG-EPPKA2-KA, ICT IN TEXTILE AND CLOTHING HIGHER EDUCATION I BUSINESS",11]
["A679078.355","ERASMUS+ Education Curricula Development on the Collaborative Economy in Europe COLECO (2019-1-UK01-KA201-062118)",11]
["A679078.356","ERASMUS+ Challenges and practices of teaching economic disciplines in era of digitalization 2020-1-HR01-KA202-0777771",11]
["A679078.357","ERASMUS+ Challenges and practices of teaching economic disciplines in era of digitalization 2020-1-HR01-KA202-0777771",11]
["A679078.358","Umreženi stacionarni baterijski spremnici energije KK.01.1.1.04.0034",11]
["A679078.359","KALPROTEKTIN (SVETI DUH)",11]
["A679078.360","SIR JE IN (AGRONOMSKI FAKULTET)",11]
["A679078.361","HKO akademija u hodu",11]
["A679078.362","HKO FIZKO- Sveučilište u Rijeci",11]
["A679078.363","HORIZON 2020- DRYVER",11]
["A679078.364","IBD-BIOM - Diagnostic and prognostic biomarkers for inflammatory bowel disease - orig br ug: GA-305479",11]
["A679078.365","Tenure Track Pilot Programe - Exotic Nuclear Structure and Dynamics",11]
["A679078.366","KLIMA-4HR",11]
["A679078.367","COST CA 18232- potpora",11]
["A679078.368","Flora Croatica",11]
["A679078.369","Obzor 2020. ERASE_GBV Education and Raising Awareness in Schools to Prevent and Encounter Gender-Based Violence: Developing and implementing a training programme for teachers and other professionals at school",11]
["A679078.370","CEF MARCELL Multilingual Resources for CEF.AT in the legal domain",11]
["A679078.371","CEF PRINCIPLE Providing Resources in Irish, Norwegian, Croatian and Icelandic for Purposes of Language Engineering",{"$f":"LEN(A1094)","v":11}]
["A679078.372","CEF Translation Automation Services for EU ouncil Presidency",11]
["A679078.373","Erasmus+ Development of innovative approach for training for university professors to work in the modern diverse and intercultural environment, UniCulture",11]
["A679078.374","Erasmus+, aktivnost Strateško partnerstvo HERISTEM - STEM in Heritage Sciences",11]
["A679078.375","Erasmus + Reforming Foreigne Languages in Academia in Montenegro - ReFALME",11]
["A679078.376","12-HERA-JRP-CE-FP-091 projekt ENTRAS Encounters and Transformationa in Iron Age Europe",11]
["A679078.377","Obzor 2020 Accelerate co-creation by setting up a multi -actor platform for impact from Social Sciences and Humanities ACCOMPLISSH",11]
["A679078.378","HRZZ Golobalni humanizmi:Novi pogledi na Srednji Vijek",11]
["A679078.379","E-rudito: Napredni online obrazovni sustav za pametnu specijalizaciju i poslove budućnosti",11]
["A679078.380","Cost 2020 Kišiček",11]
["A679078.381","SHARED Čorkalo Biruški Dinka",11]
["A679078.382","HKO Zadar",11]
["A679078.383","TODO-TWINING OPEN DANA",11]
["A679078.384","SPIDER ERASMUS+STRATEGIC PARTNERSHIP",11]
["A679078.385","ERASMUS+SDI AND EO EDUCATION AND TRAINING FOR NORTH AFRICA(SEED4NA)",11]
["A679078.386","GEOBIZ-ERASMUS+Ka2 IZGRADNJA KAPACITETA U PODRUČJU VISOKOG OBRAZOVANJA",11]
["A679078.387","LIDAR",11]
["A679078.388","LIDAR",11]
["A679078.389","HIDROLAB",11]
["A679078.390","3SMART-\tPametna zgrada -- pametna mreža -- pametni grad\"",11]
["A679078.391","ADRIATIC - Unaprjeđenje sposobnosti interakcije ronilac-robot",11]
["A679078.392","AEROWIND-Autonomna inspekcija vjetroelektrana primjenom bespilotnih letjelica",11]
["A679078.393","AIDEFEND-Sustav umjetne inteligencije za autonomni nadzor i upravljanje sigurnosti cloud okruženja - AI DFENDER",11]
["A679078.394","AIPD2 - Digitalna platforma za zaštitu privatnosti i sprječavanje zlouporaba upravljanjem životnim ciklusom osobnih podataka",11]
["A679078.395","ASAP - Autonomni sustav za pregled i predviđanje integriteta prometne infrastrukture\"",11]
["A679078.396","A-UNIT - Istraživanje i razvoj napredne jedinice za autonomno upravljanje mobilnim vozilima u logistici",11]
["A679078.397","AWAKE - Ultra low power wake-up interfaces for autonomous robotic sensor networks in sea/subsea environments",11]
["A679078.398","CADDY-Cognitive autonomous diving buddy",11]
["A679078.399","CALIPER-\tProjekt CALIPER: Povezivanje istraživanja i inovacija za ravnopravnost spolova\"",11]
["A679078.400","CASHPRED-Predviđanje vremena i obrazaca ponašanja novčanih tokova u međunarodnim bankovnim računima",11]
["A679078.401","CEGLOG - Istraživanje i razvoj jedinstvenog sustava za logističku i transportnu optimizaciju - Collaborative Elastic and Green Logistics - CEGLog",11]
["A679078.402","CEKOMSUS -Centar kompetencija za kibernetičku sigurnost upravljačkih sustava",11]
["A679078.403","CE-PEP-Razvoj inovativnog polifaznog elektromotornog pogona - PEP",11]
["A679078.404","CMETA-Analysis and design of curved metamaterial structures\"",11]
["A679078.405","COGSTEPS - Crossing the Gap: Startup edukacija i potpora doktorandima, istraživačima i znanstvenicima",11]
["A679078.406","COST11-04-Slučajno mrežno kodiranje i dizajni nad GF(q)\"",11]
["A679078.407","CUVME2 - Kooperativna bespilotna vozila u pomorskom okruženju: Eksperimenti na moru 2",11]
["A679078.408","CYBERAUT - Inovativno rješenje za upravljanje kibernetičkom sigurnosti industrijskih sustava automatizacije postrojenja i procesa",11]
["A679078.409","DIG-Digitalni mjeriteljski lanac sljedivosti za izmjenični napon i struju",11]
["A679078.410","DIGIT- Dig IT - Izrada standarda zanimanja i standarda kvalifikacija u djelatnostima računarstva",11]
["A679078.411","DJUREK-IRI2018-Povećanje razvoja novih proizvoda i usluga koji proizilaze iz aktivnosti istraživanja i razvoja",11]
["A679078.412","DRUNE - Razvoj uređaja za prijenos video signala ultra niske latencije",11]
["A679078.413","DUV-NRKBE - Razvoj daljinski upravljanog vozila za djelovanje u ekstremnim NRKBE uvjetima",11]
["A679078.414","EKO-KOMVOZ - Ekološki prihvatljivo vozilo za čišćenje javnih površina sa sustavima autonomnog upravljanja zasnovanim na umjetnoj inteligenciji",11]
["A679078.415","ENDORSE-Efikasno brusenje robotskim sustavom potpomognuto HORSE okruženjem",11]
["A679078.416","ENEDAT - Razvoj sustava za optimizaciju potrošnje električne energije u podatkovnim centrima",11]
["A679078.417","EULIFT - Razvoj pametnog modularnog sustava upravljanja pogonom dizala za povećanje energetske učinkovitosti zgrade",11]
["A679078.418","EUMR-Istraživačka infrastrukturna mreža u području pomorske robotike",11]
["A679078.419","FARCROSS-Omogućavanje regionalne trgovine/razmjene električne energije kroz inovacije",11]
["A679078.420","FERRZBZ - FER rješenja za bolju zajednicu",11]
["A679078.421","FERRZBZ - FER rješenja za bolju zajednicu",11]
["A679078.422","FLEXIGRID-Interoperabilna rješenja za holističku implementaciju usluga fleksibilnosti u distribucijskoj mreži",11]
["A679078.423","GEO3EN-\tEuropska obrazovna mreža za geotermalnu energiju",11]
["A679078.424","GRCI-H2020 - ICCS Grčka",11]
["A679078.425","GREYP-IRI-Rzvoj Greyp platforme za mikromobilnost - GMP",11]
["A679078.426","GY30-OH - Pretkomercijalni razvoj inovativnog nagibno-sklopivog vozila na električni pogon",11]
["A679078.427","H2020-MZO-Poticanje prijava na EU projekte za znanstvenika čije su prijave EU projekata prošle prag, ali nisu financirane",11]
["A679078.428","HELB-Sustav za optimizaciju gubitaka u naprednim mrežama",11]
["A679078.429","HKO-ELE - Primjena Hrvatskog kvalifikacijskog okvira za sveučilišne studijske programe u području elektrotehnike",11]
["A679078.430","IAC-Tečaj industrijske akustike o buci, utjecaju buke na ljude i buci okoliša",11]
["A679078.431","IAFS - Razvoj integriranog sustava za zaštitu od kibernetičkih prijevara",11]
["A679078.432","IDEAS-Uključiv nadzor i istraživanje podatkovnih centara",11]
["A679078.433","IMMERSAFE-Uronjene vizualne tehnologije za sigurnosno kritične aplikacije",11]
["A679078.434","INNOSOC-Innovative ICT Solutions for the Societal Challenges",11]
["A679078.435","INTIS-Punionica električnih vozila s integriranim baterijskim spremnikom",{"$f":"LEN(A1158)","v":11}]
["A679078.436","IRES-8-Omogućavanje znanstvenih i inovacijskih partnerstava u području obnovljivih izvora energije, energetske učinkovitosti i održivih energetskih rješenja za gradove",11]
["A679078.437","IRI2-OIE - Integrirano rješenje za upravljanje imovinom i podršku investicijskim procesima projektiranja, planiranja i provedbe izgradnje obnovljivih izvora energije",11]
["A679078.438","IRI-RPA-Razvoj potopljenog agregata za male hidroelektrane s niskim padom vode",11]
["A679078.439","JUMPER-Bio-inspired Synchronous Jumping Marine Sensor Networks",11]
["A679078.440","KINACIF13-Prijenos signala ljudskim tijelom kao ključna tehnologija za internet stvari u zdravstvenim aplikacijama",11]
["A679078.441","LAMCAB - Razvoj tehnologije povezivanja komponenti upravljačkih električnih ormara upotrebom laminiranih vodiča",11]
["A679078.442","MAGEF-Tehnologija električnih strojeva s trajnim magnetima za povećanje energetske učinkovitosti u električnoj vuči i brodskoj propulziji",11]
["A679078.443","MARI-SENSE-Pomorski kognitivni sustav za potporu odlučivanju",11]
["A679078.444","MBZIRC - The Mohamed Bin Zayed medjunarodno natjecanje iz robotike",11]
["A679078.445","MERIA - Matematičko obrazovanje - značajno, zanimljivo i primjenjivo",11]
["A679078.446","METASHAPE-Napredni ručni detektori metala s mogućnošću diskriminacije oblika mete za uporabu u humanitarnom razminiranju",11]
["A679078.447","MHMP - Višenamjenske platforme za praćenje zdravlja",11]
["A679078.448","MISW-Mitigation of space weather threats to GNSS services",11]
["A679078.449","MORUS-Unmanned system for maritime security and environmental monitoring",11]
["A679078.450","MUNIVO - Razvoj MUltifunkcionalnog NIskopodnog VOzila",11]
["A679078.451","NOFSLON-\tNon-Foster Source-load Networks and Metasurfaces",11]
["A679078.452","NOFTUNE - Nefosterovske mreže za podesive i šrokopojasne radiofrekvencjske uređaje",11]
["A679078.453","OKTUKOM-Osiguravanje kvalitete telekomunikacijskih usluga korištenjem mehanizma kibernetičke sigurnosti",11]
["A679078.454","OPENLOT-Open Source blueprint for large scale self-organizing cloud environments for IoT applications",11]
["A679078.455","PAPABUILD-Napredne akustičke i psihoakustičke dijagnostičke metode kao temelj inovativnog dizajna u građevinskoj akustici",11]
["A679078.456","PCC - Sustav za nadzor i kontrolu usklađenosti distribuiranih procesa u realnom vremenu, otkrivanje anomalija, rano upozoravanje i forenzičku analizu transakcija",11]
["A679078.457","PINOVA - Razvoj agrometeorološke platforme i mreže IoT uređaja tvrtke Pinova d.o.o.",11]
["A679078.458","RESDATA - Rješenja prilagodbe elektroenergetskog sustava klimatskim promjenama temeljena na velikim količinama podataka",11]
["A679078.459","REWAISE-Prilagodljive inovacije u ciklusu kruženja vode za pametnu ekonomiju",11]
["A679078.460","ROBOCOM-Ponovno promišljanje robotike za robotskog kompanjona budućnosti",11]
["A679078.461","ROBOGIRLS - Osnaživanje djevojaka u STEAM-u kroz robotiku i kodiranje",11]
["A679078.462","ROB-ROBUst mixed signal design methodologies for Smart Power ICs - ROBUSPIC",11]
["A679078.463","ROTOTEMP - Nova generacija telemetrijske tehnologije za mjerenje na rotacijskim komponentama spojke",11]
["A679078.464","SAFELOG-Sigurna interakcija ljudi i robota u logističkim primjenama za visoko fleksibilna skladišta",11]
["A679078.465","SARI - Sustav za automatsko raspoznavanje, identifikaciju te precizno mjerenje duljine plovila",11]
["A679078.466","SENFUS-Fuzija senzora",11]
["A679078.467","SHVET-Pametni pristup razvoju strukovnih vještina za visokoobrazovanu i mobilnu radnu snagu",11]
["A679078.468","SMARTSOC-Edukacija budućih IKT stručnjaka na temelju potreba pametnog društva (SmartSoc)",11]
["A679078.469","SPRAY-Razvoj sustava za ispitivanje višefaznih strujanja i izgaranja s ciljem povećanja istraživačkih aktivnosti znanstvenog i poslovnog sektora",11]
["A679078.470","STRIDE-Energetsko planiranje integracijom koncepata pametne mreže u Dunavskoj regiji",11]
["A679078.471","TEAMSOC21 - The ICT Engineer of the 21st Century: Mastering Technical Competencies, Management Skills, and Societal Responsibilities",11]
["A679078.472","TETRAMAX-TEchnology TRAnsfer via Multinational Application eXperiments",11]
["A679078.473","UGRIP - microGRId Positioning",11]
["A679078.474","V3M - Varijacijske metode u modeliranju materijala",11]
["A679078.475","VERIFY-New methods for verification of security and privacy mechanisms in e-commerce and e-government systems",11]
["A679078.476","VERIFY-New methods for verification of security and privacy mechanisms in e-commerce and e-government systems",11]
["A679078.477","VHEASTR-Znanstvenoistraživačka aktivnost hrvatske grupe u kolaboracijama MAGIC I CTA",11]
["A679078.478","VODIME - Vode Imotske krajine",11]
["A679078.479","WALL-eWall for Active Long Living",11]
["A679078.480","PHOENIX People for tHe eurOpean bioENergy Mix",11]
["A679078.481","ERASMUS+ HEDU -LEARN-IT Harmonizirani europski dermato-venerološki dodiplomski",11]
["A679078.482","Better future of healthy ageing 2020.",11]
["A679078.483","Nova generacija Eurocod 5",11]
["A679078.484","SBRIPLUS",11]
["A679078.485","NZEB ROADSHOW-H2020",11]
["A679078.486","H2020 INCEPTION",11]
["A679078.487","Erasmus+ Programme 2014-2020, Agreement no.2016-1-TR01-KA203-034710",11]
["A679078.488","H2020 Productive Green Infrastructure for post-industrial urban regeneration",11]
["A679078.489","Erasmus+: Healthy Urban Environment: Developing higer education in Architecture and Construction in Bosnia and Herzegovina (2018-2480/001-001)",11]
["A679078.490","Erasmus+: Architecture's afterlife: The multi-sector impact of an architectural qualification 2019-1-UK01-KA203-062062",11]
["A679078.491","Znanost spaja ljude (SCOPE - Science Connecting people)",11]
["A679078.492","ERASMUS+ KA2 Strateška partnerstva -projekt: CURTING IN CONTEKST  (2019-1-SE01-KA203-060500)",11]
["A679078.493","FIGHTER",11]
["A679078.494","TODO",11]
["A679078.495","EIO-LAPD",11]
["A679078.496","JEAN MONNET ACTIVITIES",11]
["A679078.497","EFFORTS",11]
["A679078.498","EUROGRADUATE",11]
["A679078.499","ENEMLOS",{"$f":"LEN(A1222)","v":11}]
["A679078.500","JEAN MONNET MODULE",11]
["A679078.501","THIRD SEKTOR IMPACT",11]
["A679078.502","BALKAN HOMICIDE STUDY",11]
["A679078.503","RCT-ESF",11]
["A679078.504","Jačanje znanstveno-istraživačkih I inovacijskih kapaciteta Farmaceutsko-biokemijskog fakulteta Sveučilišta u Zagrebu (FarmInova)",11]
["A679078.505","Primjena HKO-a u unaprjeđenju studijskih programa u području farmacije i medicinske biokemije (PharmaMedQ)",11]
["A679078.506","Razvoj integriranog preddiplomskog i diplomskog studija Farmacije na engleskom jeziku (Pharma5.0)",11]
["A679078.507","Personalized Medicine Inquiry-Based Education (PROMISE) Grant agreement: br. 2019-1-HR01-KA203-061010- ",11]
["A679078.508","IRI projekt Povećanje razvoja novih proizvoda i usluga koji proizlaze iz aktivnosti istraživanja i razvoja",11]
["A679078.509","Utjecaj glikozilacije transferina na vezivanje željeza - GlyTransFer",11]
["A679078.510","EIT MANUFACTURING RIS HUB",11]
["A679078.511","RAPTOVAX - Robusne i adaptabilne biološke platforme za nova cjepiva",11]
["A679078.512","Jačanje kapaciteta CerVirVac-a za istraživanja u virusnoj imunologiji i vakcinologiji",11]
["A679078.513","OBZOR2020- Legumes in biodiversity based farming systems in Mediterranean basin",11]
["A679078.514","ERASMUS Transnational Quality Education for Organic Food Saftey- SAFE Orgfood",11]
["A679078.515","Napredni sustav motrenja agroekosustava u riziku od zaslanjivanja i onečišćenja",11]
["A679078.516","Agrobioraznolikost- osnova za prilagodbu i ublažavanje promjena klimatskih promjena u poljoprivredi",11]
["A679078.517","Dizajn naprednih biokompozita iz energetski održivih izvora- BIOKOMPOZITI",11]
["A679078.518","Proizvodnja, hrane, biokompozita i biogoriva iz žitarica u kružnom biogospodarstvu",11]
["A679078.519","ERASMUS Trainers for plant protection in organic farming- TOPPlant",11]
["A679078.520","Potencijal rizosfernog mikrobioma u prilagodbi poljoprivrede klimatskim promjenama - PERSPIRE",11]
["A679078.521","ERASMUS Learning Landscapes- LELA",11]
["A679078.522","ERASMUS Capacity building in higher education",11]
["A679078.523","Erasmus+ Programme 2014-2020, Agreement no.2016-1-TR01-KA203-034710",11]
["A679078.524","H2020 Productive Green Infrastructure for post-industrial urban regeneration",11]
["A679078.525","Znanost spaja ljude (SCOPE - Science Connecting people)",11]
["A679078.526","Unaprjeđenje oporavlišta za divlje životinje na Veterinarskom fakultetu - WildRescouVEF, KK.06.5.2.04.0007.",11]
["A679078.527","Upravljanje krškim priobalnim vodonosnicima (UKV)",11]
["A679078.528","ICSI Interreg",11]
["A679078.529","SABRINA",11]
["A679078.530","SLAIN",11]
["A679078.531","DRYvER- Securing biodiversity- HORIZON 2020",11]
["A679078.532","\"OPSVIO- Ortho-positronium decay and the search for CP and CPT violation in leptonic secto\"",11]
["A679078.533","Klima- 4HR- Klimatska ranjivost Hrvatske i mogućnosti prilagodbe urbanih i prirodnih okoliša",11]
["A679078.534","CSRP- Hrvatsko-švicarski program- Probabilistic and analytical aspects of generalised regular variation",11]
["A679078.535","CSRP- Hrvatsko-Švicarski program- Dynamics of virus infection in mycovirus-mediated biological control of fungal pathogen",11]
["A679078.536","CSRP- Hrvatsko-Švicarski program- Investigation of substrate and editing specificity in tRNA synthetases and the mechanism of antibiotic action",11]
["A679078.537","Klimatske promjene  - Agrobioraznolikost",11]
["A679078.538","Jednoslojni polarimetar gama zračenja za primjene u medicinskom oslikavanju i za temeljna istraživanja u fizici",11]
["A679078.539","HKO: Inoviranje programa učiteljskih i odgojiteljskih studija primjenom HKO-a",11]
["A679078.540","ERASMUS Coherence in European Teacher Education: Creating transnational communities of practice through virtual scenarios",11]
["A679078.541","HRZZ IP-2019-04 MORENEC",11]
["A679078.542","Erasmus+ Projekt:SKY EASY",11]
["A679078.543","Erasmus FIT BACK",11]
["A679078.544","ZACJEL - Zaštita cjelovitosti konstrukcija u energetici i transportu",11]
["A679078.545","PERUN - Enabling Inductive Metal Characterisation in Non Cooperative Soils",11]
["A679078.546","AGROEKO - Napredni sustav motrenja agroekosustava u riziku od zaslanjivanja i onečišćenja",11]
["A679078.547","AIFORS - ERA istraživačka grupa za umjetnu inteligenciju za robotiku",11]
["A679078.548","ALTII - Aktivno učenje kroz poboljšanu interaktivnost",11]
["A679078.549","ASSISI - Zajednice životinja i robota koje se samo-organiziraju i integriraju putem socijalne interakcije",11]
["A679078.550","DIGIPHY - Razvoj digitalnih laboratorijskih vježbi iz fizike za učenje na daljinu",11]
["A679078.551","DIGIPHY - Razvoj digitalnih laboratorijskih vježbi iz fizike za učenje na daljinu",11]
["A679078.552","DINARO - Diver navigation using range-only measurements from an autonomous surface vehicle",11]
["A679078.553","E2LP- Embedded Computer Engineering Learning Platform",11]
["A679078.554","ESOAFER - Evropska škola iz antena",11]
["A679078.555","EUMarineRobots - Istraživačka infrastrukturna mreža u području pomorske robotike",11]
["A679078.556","EVERBEST - Pretraživanje događaja na temelju semantički obogaćenih struktura za interaktivne korisničke zadatke",11]
["A679078.557","GRCI - Nova arhitektura naprednih energetskih mreža koja omogućuje visoki udio obnovljivih izvora energije kroz inovativna tržišta i interakciju",11]
["A679078.558","IRMEET - Multidisciplinary and multi-context demonstaration of EGS exploration and Exploration Techniques and potentials",11]
["A679078.559","LAPOST - Laboratorij za podvodne sustave",11]
["A679078.560","PAPABUILD - Napredne akustičke i psihoakustičke dijagnostičke metode kao temelj inovativnog dizajna u građevinskoj akustici",11]
["A679078.561","SIMBLOLTE - Simbioza pametnih objekata u okruženjima Interneta stvari",11]
["A679078.562","STEM u akciji : Otvoreni obrazovni resursi za nastavnike",11]
["A679078.563","WATCHPLANT - Pametan bio-hibridni sustav za nadzor okoliša",{"$f":"LEN(A1286)","v":11}]
["A679078.564","WATER - Intelligent Urban Water Management System",11]
["A679078.565","4VENT - Razvoj niza četverousisnih ventilatora za industrijska postrojenja",11]
["A679078.566","INUKING - Razvoj inovativnog programskog rješenja za centralizirani nadzor i upravljanje kritičnom infrastukturom",11]
["A679078.567","NGLI - povećanje razvoja novih proizvoda i usluga koji proizilaze iz aktivnosti istraživanja i razvoja",11]
["A679078.568","PBM-PLIN - Iskorištenje manje kvalitetnih i nestalnih plinova za proizvodnju električne energije, uporabom Umjetne Inteligencije za miješanje plinova",11]
["A679078.569","PBM-PLIN - Iskorištenje manje kvalitetnih i nestalnih plinova za proizvodnju električne energije, uporabom Umjetne Inteligencije za miješanje plinova",11]
["A679078.570","PINIOT - Platforma za inteligentno i energetski efikasno upravljanje industrijskim Iot uređajima",11]
["A679078.571","SUZE - Sustav za otkrivanje zlonamjernih elektroničkih transakcija zasnovan na strojnom učenju",11]
["A679078.572","T-LOGIC - Uspostava sustava za automatizaciju rada i autonomno odlučivanje u logistici samoposlužnih aparata",11]
["A679078.573","HRZZ projekti",11]
["A679078.574","Modeliranje procesa farmaceutskog sušenja raspršivanjem emulzije u laboratorijskom I pilotnom mjerilu",11]
["A679078.575","COLECO- ERASMUS + 2019-1-UK01-KA201-062118",11]
["A679078.576","FOReSiGHT",11]
["A679078.577","ERASMUS + 2020-1-PL01-KA203-081980 - SUSTA",11]
["A679078.578","ERASMUS + 2020-1-PL01-KA203-081980 - SUSTA",11]
["A679078.579","PROSPER",11]
["A679078.580","BUFSIE",11]
["A679078.581","DIGI4TEACH",11]
["A679078.582","TERRAGOV",11]
["A679078.583","HORIZON 2020 - SHARE-COVID 19",11]
["A679078.584","Learning how to Teach, Teaching how to Learn. Facing Challenges of Global Change in Higher Education Using Digital Tools for Reflective, Critical and Inclusive Learning on European Historical Landscapes – EDiToR",11]
["A679078.585","HKO Zadar Kompetecijski standardi nastavnika, pedagoga i mentora",11]
["A679078.586","P-S-I Podrška Studenata u Integraciji marginaliziranih skupina na tržište rada",11]
["A679078.587","COORDINATE„COhort cOmmunity Research and Development Infrastructure Network for Access Throughout",11]
["A679078.588","RURASL Rural 3.0: Service Learning for the Rural Development",11]
["A679078.589","Erasmus + Reforming Foreigne Languages in Academia in Montenegro - ReFALME",11]
["A679078.590","Erasmus + Developing a new curriculum in Global Migration, Diaspora and Border Studies in East-Central Europe (GLocalEAst)”",11]
["A679078.591","Erasmus + „Introducing Intellectual Property Education for Lifelong Learning and the Knowledge Economy-IPEDU”",11]
["A679078.592","Encounters and Transformations in Iron Age Europe (ENTRANS",11]
["A679078.593","Rhetoric for Innovative Education  RHEFINE",11]
["A679078.594","DigiLING: Trans-European e-Learning Hub for Digital Linguistics",11]
["A679078.595","Curated Multilingual Language Resources for CEF AT (CURLICAT)",11]
["A679078.596","HORIZON 2020: Children Online: Research and Evidence (CO:RE)",11]
["A679078.597","Third sector impact",11]
["A679078.598","Jean Monnet 57510-EPP-1-2016-1-HR-EPPJMO-PROJECT",11]
["A679078.599","SUSTINEO ESF",11]
["A679078.600","RE-DWELL",11]
["A679078.601","Erasmus + ENEMLOS",11]
["A679078.602","Fighter",11]
["A679078.603","UNIC",11]
["A679078.604","Novel Bone Morphogenetic Protein-6 Biocompatible Carrier Device for Bone Regeneration - OSTEOGROW",11]
["A679078.605","Selection modulation of hepcidin for treating iron associated diseases - SEMOHEPI",11]
["A679078.606","Laboratorij za regenerativnu neuroznanost - GLOWBRAIN",11]
["A679078.607","FP7 - MAGISTER",11]
["A679078.608","Istraživanje neuropatologije poremećaja iz spektra autizma i shizofrenije",11]
["A679078.609","EUROPEAN INFRASTRUCTURE FOR TRANSLATIONAL MEDICINE (EATRIS PLUS) - H2020",11]
["A679078.610","ERASMUS + MEĐUNARODNA SURADNJA",11]
["A679078.611","A ROADMAP OUT OF MEDICAL DESERTS INTO SUPPORTIVE HEALTH WORK FORCE INITIATIVES AND POLICIES - ROUTE-HWF",11]
["A679078.612","IRI CSTI - platforma za dohvat i analizu strukturiranih i nestrukturiranih podataka",11]
["A679078.613","UNIC4ER - Europsko sveučilište postindustrijskih gradova Ka suradničkom pristupu i strukturi prema angažiranom istraživanju",11]
["A679078.614","UNIC -Europsko sveučilište za postindustrijske gradove",11]
["A679078.615","ERASMUS+  DE01-KA203-005728 CONNECTED",11]
["A679078.616","SIMON - inteligentni sustav za automatski odabir algoritma strojnog učenja",11]
["A679078.617","MODERNE MISLEĆE ŽENE-HRZZ IP-01-2018",11]
["A679078.618","HELA",11]
["A679078.619","FORMALS-HRZZ UIP-2017-05-2019",11]
["A679078.620","Digitalna.hr",11]
["A679078.621","e-DESK - Digitalne i poduzetničke vještine europskih učitelja u svijetu COVID-19",11]
["A679078.622","Erasmus+ Oralno potencijalno maligni poremećaji: izobrazba zdravstvenih djelatnika",11]
["A679078.623","WAI4PwD - Web pristupačnost i ostale inicijative za osobe s invaliditetom u EU tijekom pandemije",11]
["A679078.624","ERASMUS+RAPIDE - inovativna pedagogija",11]
["A679078.625","HYSTORIES- podzemno skladištenja vodika u Europi",11]
["A679078.626","RiskMan - Jačanje obrazovnih kapaciteta za upravljanje rizicima",11]
["A679078.627","Obrazovana potraga za visokotemperaturnom supravodljivošću u novim elektroničkim materijalima",{"$f":"LEN(A1350)","v":11}]
["A679078.628","Razvoj naprednog IT sustava za precizno određivanje broja ljudi u otvorenim i zatvorenim prostorima (IRI)",11]
["A679078.629","Napredni sustav motrenja agroekosustava u riziku od zaslanjivanja i onečišćenja",11]
["A679078.630","Integrirani sustav uzgoja alternativnih vrsta školjkaša u uvjetima klimatskih promjena",11]
["A679078.631","Interreg D-Care Labs",11]
["A679078.632","ERASMUS+ KA2 Krajolici za učenje",11]
["A679078.633","EULAW - projekti obuke pravosudnih stručnjaka",11]
["A679078.634","Erasmus+ MELLE - Modernizacija pravnog obrazovanja u europskom pravu",11]
["A679078.635","ERASMUS Jačanje kapaciteta u visokom obrazovanju",11]
["A679078.636","CENTRINNO - rješenja za regeneraciju industrijskih povijesnih mjesta",11]
["A679078.637","ESF CasMouse - Genomsko inženjerstvo i genska regulacija u staničnim linijama i modelnim organizmima tehnologijom CRISPR/Cas9",11]
["A679078.638","Platforma 50+ za unaprjeđivanje uvjeta rada",11]
["A679078.639","Obzor 2020 MEDICTA - Razvoj sustava za diktiranje medicinskih nalaza na bosanskom / hrvatskom / srpskom jeziku uključujući latinske izraze",11]
["A679078.640","FENIQS-EU - jačanje provedbe standarda kvalitete u smanjenju potražnje za drogama u cijeloj Europi",11]
["A679078.641","PROBITECT - Sinergijska inovativna kombinacija sastavnica mikrobiote kao osnova za razvoj inovativnih topikalnih proizvoda za tretiranje i prevenciju upalnih stanja humane kože",11]
["A679078.642","Interreg Adrion: Vuna kao izvanredna prilika za polugu - VUNA",11]
["A679078.643","ERASMUS + KA2 - Strateško partnerstvo COGSTEPS Startup obrazovanje i podrška studentima doktorskih studija, istraživačima i znanstvenicima",11]
["A679078.644","Zaštita cjelovitosti konstrukcija u energetici i transportu",11]
["A679078.645","AgroEko - Napredna i prediktivna poljoprivreda za otpornost klimatskim promjenama",11]
["A679078.646","Izazovi za društvene i humanističke znanosti: novi studiji i sustav kvalitete Filozofskog fakulteta u Zagrebu",11]
["A679078.647","RISE DORNA - Razvoj motornih pogona visoke pouzdanosti za pogonske aplikacije sljedeće generacije",11]
["A679078.648","FunTomP - Funkcionalizirani proizvodi od rajčice",11]
["A679078.649","ROUTE ( HORIZON )- Putokaz iz medicinskih pustinja u inicijative i politike zdravstvene radne snage koje podržavaju",11]
["A679078.650","EUROP2E (Erasmus+) - Europska otvorena platforma za propisivanje obrazovanja",11]
["A679078.651","WATCHPLANT - Pametni biohibridni fito-organizmi za okoliš",11]
["A679078.652","Eatris Plus - H2020 Konsolidacija kapaciteta EATRIS -ERIC -a za personaliziranu medicinu",11]
["A679078.653","ERASMUS+projekt Sky Easy",11]
["A679078.654","ERASMUS+projekt Fit Old",11]
["A679078.655","CARNET21 -Ostali -EEA and Norw. Gran.Fund Reg.",11]
["A679078.656","IGT",11]
["A679078.657","ERASMUS + KA2 - Aktivno učenje kroz poboljšanu interaktivnost",11]
["A679078.658","IRI-II SOVA - Sustav za vizualno prepoznavanje proizvoda na policama",11]
["A679078.659","IRI-II Besposadni brod - Razvoj autonomnog besposadnog višenamjenskog broda",11]
["A679078.660","IRI-II Mareton-2 -Robusni sustav neprekinutog napajanja za uređaje željezničke i industrijske infrastrukture",11]
["A679078.661","IRI-II CYBERBUS-INREBUS -Model za analizu podataka iz nestrukturiranih izvora informacija s ciljem povećanja kibernetičke sigurnosti u složenim poslovnim sustavima",11]
["A679078.662","UN4DRR",11]
["A679078.663","ESA",11]
["A679078.664","IRI-II VIRT-UAV - Sustav autonomnih bespilotnih letjelica treniranih u virtualnim okruženjima",11]
["A679078.665","NLTP - Platforma nacionalnih jezičnih tehnologija",11]
["A679078.666","IRI-II AIDWAS  - Sustav za nadzor kibernetičkog prostora i informiranje o katastrofama i prijetnjama u stvarnom vremenu na bazi umjetne inteligencije",11]
["A679078.667","IRI-II PBM-PLIN - Iskorištenje manje kvalitetnih i nestalnih plinova za proizvodnju električne energije",11]
["A679078.668","IRI-II SmartEC - Smart EC - dijagnostički sustav za ispitivanje metodom vrtložnih struja",11]
["A679078.669","DIGITOOLS - Inovativni alati za poboljšanje rješenja e-učenja na sveučilištima",11]
["A679078.670","IRI-II 4VENT - Razvoj niza četverousisnih ventilatora za industrijska postrojenja",11]
["A679078.671","IRI-II CIP4SI - Razvoj digitalne platforme za izgradnju sustava zaštite kritičnih infrastruktura u pametnim industrijama",11]
["A679078.672","DERIN ERASMUS + Razvoj digitalne platforme za izgradnju sustava zaštite kritičnih infrastruktura u pametnim industrijama",11]
["A679078.673","NAUTICA CBC prekogranična nautička turistička ponuda",11]
["A679078.674","ELP Transport stručnjak za lokalni transport",11]
["A679078.675","INTERREG OJP4DANUBE",11]
["A679078.676","ReNewEurope - Ponovno otkrivanje „Nove Europe“ - Ljetna škola na kotačima za prekograničnu povijest i politiku Balkana / Srednje i Istočne Europe",11]
["A679078.677","PRISMI PLUS - Prijenos alata za integraciju OIE na pametnim mediteranskim otocima i ruralnim područjima",11]
["A679078.678","LSP Internetski tečaj za stručno usavršavanje nastavnika",11]
["A679078.679","RHEFINE - Retorika za inovativno obrazovanje",11]
["A679078.680","EXAFOAM - Iskorištavanje sustava Exascale",11]
["A679078.681","GLocalEAst - Razvoj novog kurikuluma o studijama globalne migracije, dijaspore i granica u istočnoj i središnjoj Europi",11]
["A679078.682","SEAS 4.0 ODRŽIVI BROD I DOSTAVA 4.0",11]
["A679078.683","CResDET - Digitalno obrazovanje i osposobljavanje otporno na krize",11]
["A679078.684","EDiToR - Učiti kako poučavati, poučavati kako učiti. Suočavanje s izazovima globalnih promjena u visokom obrazovanju pomoću digitalnih alata za reflektirajuće, kritičko i inkluzivno učenje o europskim povijesnim krajolicima",11]
["A679078.685","CESSDA ERIC Agenda 21-22",11]
["A679078.686","SHIPMARTECH - Nadogradnja i usklađivanje magistarskih tečajeva pomorskog inženjerstva",11]
["A679078.687","STAND - Jačanje autonomije sveučilišta i povećanje odgovornosti i transparentnosti sveučilišta Zapadnog Balkana",11]
["A679078.688","Mreža infrastrukture za istraživanje i razvoj kohortne zajednice za pristup diljem Europe",11]
["A679078.689","OLGA - OLympics  Green Airport",11]
["A679078.690","Uvođenje obrazovanja o intelektualnom vlasništvu za cjeloživotno učenje i ekonomiju znanja",11]
["A679078.691","Kako obični ljudi shvaćaju anti-gender poruke",{"$f":"LEN(A1414)","v":11}]
["A679078.692","Reforma stranih jezika u akademskim krugovima u Crnoj Gori",11]
["A679078.693","HRZZ Program suradnje s hrvatskim znanstvenicima u dijaspori ''ZNANSTVENA SURADNJA''",11]
["A679078.694","HORIZON 2020-MSCA-ITN-2019 - THREAD",11]
["A679078.695","Bioproscpecting Jadranskog mora",11]
["A679078.696","IRI Comparative genomics of non-model invertebrates (IGNITE)",11]
["A679078.697","STRIP Jačanje kapaciteta za istraživanje, razvoj i inovacije",11]
["A679078.698","Znanstveno i tehnologijsko predviđanje",11]
["A679078.699","Znanstveni centar izvrsnosti personalizirana briga o zdravlju",11]
["A679078.700","Formiranje C-C veze pomoću vrhunskih enzima",11]
["A679078.701","RADICALZ — H2020-FNR-2020",11]
["A679078.702","Geofizičko-seizmološka istraživanja potresom ugroženih područja u RH i razvoj atenuacijskih relacija predviđanja seizmičkog gibanja tla",11]
["A679078.703","Sinekološka STEM EDUKAcija u Klinči",11]
["A679078.704","Adaptation-oriented Seamless Predictions of European ClimaTe ASPECT",11]
["A679078.705","PROJECT 101073065 - BiodeCCodiNNg - HORIZON-MSCA-2021-DN-01",11]
["A679078.706","NAUTICA CBC",11]
["A679078.707","ELP Transport EXPERT ON LOCAL PUBLIC TRANSPORT",11]
["A679078.708","INTERREG OJP4DANUBE",11]
["A679078.709","Industrial Mobile Manipulator Challenge IMMC",11]
["A679078.710","Zaštita cjelovitosti konstrukcija u energetici i  transportu - ZaCjel",11]
["A679078.711","Autonomni robotski sustav za brušenje i karakterizaciju površina tankostijenih kompozitnih proizvoda - ARCOPS",11]
["A679078.712","Inovativni Ti-Mg dentalni implantati za svjetsko tržište - IDENTIST",11]
["A679078.713","Unaprjeđenje tehnologije visokoučinskog zavarivanja - ImproWE",11]
["A679078.714","Prognozirano održavanje industrijske rotacijske opreme temeljno na strojnom učenju i IoT tehnologiji u interakciji s informacijskim sustavima - POIROT-IoT",11]
["A679078.715","Razvoj sustava antikorozivne zaštite za višenamjensku uporabu cijevi - RSAZ",11]
["A679078.716","ECOsystem-based governance with DAnube lighthouse Living Lab for sustainable Innovation processes - EcoDaLLi",11]
["A679078.717","EYES HEARTS HANDS Urban Revolution - EHHUR",11]
["A679078.718","Razvoj modularnog ekspertnog sustava za upravljanje diskretnim proizvodnim procesima temeljenog na primjeni SMART FACTORY načela – SMART FACTORY",11]
["A679078.719","HYBRID TANDEM CATALYTIC PRODUCTION OF HIGHER-OXYGENATE E-FUELS - E-TANDEM",11]
["A679078.720","Connect SEE",11]
["A679078.721","Strengthening Research and Innovation Excellence in Autonomous Aerial Systems - AeroSTREAM",11]
["A679078.722","Zaštita cjelovitosti konstrukcija u energetici i  transportu - ZaCjel",11]
["A679078.723","Mehanizam civilne zaštite Europske Unije (EU UCPM)",11]
["A679078.724","HORIZON 2020 - European Health and Digital Executive Agency (HADEA)",11]
["A679078.725","CONGREGATE",11]
["A679078.726","Flat Bread of Mediterranean area INnovation  Emerging process  technology (FLAT BREAD MINE)",11]
["A679078.727","European Qualifications  Competences for the Vegan Food Industry",11]
["A679078.728","Food PackagIng open courseware for higher Education and Staff of companie",11]
["A679078.729","Girls go STEM",11]
["A679078.730","Teaching mathematics in STEM context for STEM students",11]
["A679078.731","Ublažavanje negativnih utjecaja klimatskih promjena na obradu voda površinskih akumulacija pri dobivanju vode na ljudsku potrošnju flokulacijom i ozoniranjem",11]
["A679078.732","ESA RS4EST",11]
["A679078.733","ESA-Eonatura",11]
["A679078.734","ESA-CARBON",11]
["A679078.735","ESA-URBAN",11]
["A679078.736","ESA-AGRI",11]
["A679078.737","LIDAR",11]
["A679078.738","incept",11]
["A679078.739","ESF BIMIS - Biomedicinsko istraživačko središte Šalata",11]
["A679078.740","COST Harmonisation - Usklađivanje kliničke skrbi i istraživanja tumora nadbubrežne žlijezde u europskim zemljama",11]
["A679078.741","Obzor Europe RadioVal - International Clinical Validation of Radiomics Artificial Intelligence for Breast Cancer Treatment Planning -",11]
["A679078.742","ERA PerMed ArtiPro Artificial intelligence for personalised medicine in depression",11]
["A679078.743","(Erasmus +) SCALPEL",11]
["A679078.744","(Erasmus+) LEANBODY",11]
["A679078.745","(Erasmus +) CP4T",11]
["A679078.746","(Erasmus ) NEURODATA",11]
["A679078.747","(Erasmus +) TranssMed",11]
["A679078.748","(Erasmus+) RAPIDE - Relevant Assesment and Pedagogies for Inclusive Digital Education",11]
["A679078.749","EDUMAKE, CREATIVE EUROPE INNOVATIVE LAB (EU)",11]
["A679078.750","LEGITIMULT, HORIZON-CL2-2021-DEMOCRACY-01 (EU)",11]
["A679078.751","EurOMo12, DG CONNECT (EU)",11]
["A679078.752","PATRAPO, Jean Monnet, Erasmus+ (EU)",11]
["A679078.753","Algorithmic Fairness for Asylum-Seekers and Refugees (AFAR)",11]
["A679078.754","Protecting Irregular Migrants in Europe: Institutions, Interests and Policies (PRIME)",11]
["A679078.755","EFFORTS",{"$f":"LEN(A1478)","v":11}]
["A679078.756","Outreach: Inclusive and transformative Frameworks for All (Youthreach) ",11]
["A679078.757","DG Just \"DigiRights\"",11]
["A679078.758","rEUsilience - Risks, Resources and Inequalities: Increasing Resilience in European Families",11]
["A679078.759","SCAN II",11]
["A679078.760","CREA2",11]
["A679078.761","Educational Capacity Strengthening for Risk Managment-RiskMan",11]
["A679078.762","Napredni sustav motrenja agroekosustava i riziku od zasplanjivanja i onečišćenja",11]
["A679078.763","ERASMUM Capacity buliding in higer education",11]
["A679078.764","Erasmus+ \"BOOMER\"",11]
["A679078.765","Erasmus+ \"LIGHT CODE\"",11]
["A679078.766","Erasmus+ SEgoesGREEN",11]
["A679078.767","Erasmus+ \"VOIS - Virtual Open  Innnovation Environment for SMEs\"",11]
["A679078.768","Erasmus+ \"Building the Universities of the Future through Social Innovation Education - BUFSIE\"",11]
["A679078.769","Erasmus+ \"Promoting social entrepreneurship in higher education for a prosperous society - PROSPER\"",11]
["A679078.770","Erasmus+ \"Sustainble Development Goals in education and in action! (ESDGs!)",11]
["A679078.771","ERASMUS+ KA220-HED-902E85CF-EDUCATORE",11]
["A679078.772","ERASMUS+ KA220-SCH-000024606-TAT",11]
["A679078.773","ERASMUS+ KA220-SCH-000034443–CARE2LEARN",11]
["A679078.774","ERASMUS+ KA220-SCH-000024512-GIFTED",11]
["A679078.775","DIAMAS-Developing Institutional open Acess oublishing Modeels to Advance Scholary communication",11]
["A679078.776","SLIDE- service-Learning as a pedagogyy to promote Inciusion",11]
["A679078.777","e-SL4EU-e-Service Learning for more digital and inclusive EU Higher Eduucation system",11]
["A679078.778","Research into representations of intercultural contacts in Czech travelogue texts from the Mediterranean up to 1918, using digital humanities",11]
["A679078.779","CultHera",11]
["A679078.780","CRODO-EDMO (Croatian Digital Observatory",11]
["A679078.781","CAPONEU - The Cartography of Political Novel in Europe",11]
["A679078.782","FRONTLINE POLITEA",11]
["A679078.783","FRONTLINE POLITEA",11]
["A679078.784","Erasmus+ INTERDISCIPLINARY DIALOGUE",11]
["A679078.785","Centar za međumolekularne interakcije u farmaciji",11]
["A679078.786","Bikrobiocentar",11]
["A679078.787","Actions for appropriate management of wolves in human dominated landscapes of Europe-LIFE BOLD WOLF",11]
["A679078.788","Best practices and inovations for a sustainable beekeeping in Europe B-THENET Thematic networ",11]
["A679078.789","RIS Internship",11]
["A679078.790","RECO2MAG - Grain boundaries engineered Nd-Fe-B permanent magnets",11]
["A679078.791","EMERALDINHO - Stimulating Innovation and Entrepreneurship in Resources Engineering",11]
["A679078.792","TIMREX T-Shaped Master Programme for Innovative Mineral Resource Exploration",11]
["A679078.793","Agile Exploration and Geo-modelling for European Critical Raw materials (AGEMERA)",11]
["A679078.794","Circular Economy Lab  Observatory (CiELO)",11]
["A679078.795","Geothermal Energy Capacity Building in Egypt (GEB)",11]
["A679078.796","Erasmus Mundus Joint Master in Sustainable Mineral and Metal Processing Engineering (EMJM PROMISE)",11]
["A679078.797","Partnership for european research in radiation protection and detection of ionising radiation : towards a safer use and improved protection of the environment and human health (PIANOFORTE)",11]
["A679078.798","ERASMUS+ RAPIDE",11]
["A679078.799","ERASMUS+ BEE WITH APEX",11]
["A679078.800","ERASMUS+ DEMO DIGITAL PLATFORM ENTERPRISE",11]
["A679078.801","Digital Missions for Care Social Economy's Resilience - DIMCARE",11]
["A679078.802","OOP4FUN Erasmus",11]
["A679078.803","RAISING AWARENESS CAMPAIGN FOR SMES II - ARC II",11]
["A679078.804","FULL STEAM AHEAD",11]
["A679078.805","ERASMUS+ iLed",11]
["A679078.806","Systems",11]
["A679078.807","ERASMUS+ RAPIDE 2020-1-HR01-KA226-HE-094677",11]
["A679078.808","ERASMUS+ ZEEWASTE4EU 2021-1-HR01-KA220-HED-000023012",11]
["A679078.809","ERAMUS+ DG FARMER 2021-1-HR01-KA220-VET-000033253",11]
["A679078.810","ERASMUS+2022-1-HR01-KA171-HED-000075002",11]
["A679078.811","H2020-The European PILOT-Pilot koji koristi neovisne lokalne i otvorene tehnologije",11]
["A679078.812","H2020-EUPEX-Europski pilot za egzaskalarno doba",11]
["A679078.813","Ostali-RailTwin-Pametni dizajn i proizvodnja u željezničkoj industriji zasnovana na konceptu digitalnog blizanca",11]
["A679078.814","Ostali-LowBackPain-Impedancijska spektroskopija lumbalnih mišića temeljena na višefrekvencijskoj pobudi",11]
["A679078.815","Ostali-METEOR-Brza dijagnostika pomoću mikrovalnog grijanja epruveta",11]
["A679078.816","Ostali-MARI-Sense-Pomorski kognitivni sustav za potporu odlučivanju",11]
["A679078.817","Ostali-SOLAR FER-Fotonaponski sustav za proizvodnju električne energije za vlastite potrebe u mrežnom radu SE-FER-005 – Faza 1",11]
["A679078.818","Erasmus+ IFRoS-Inteligentni terenski robotski sustavi",11]
["A679078.819","H2020-EPI SGA2-Inicijativa za europski procesor (faza 2)",{"$f":"LEN(A1542)","v":11}]
["A679078.820","HORIZON-MONUSEN-Crnogorski centar za podvodne senzorske mreže",11]
["A679078.821","ESF - ARS-MECH - ARS MECHANICA za nove kompetencije",11]
["A679078.822","ESF - MOV - Medijsko obrazovanje je važno",11]
["A679078.823","ESF - METAR - METAR do bolje klime (Mreža za edukaciju, tranziciju, adaptaciju i razvoj)",11]
["A679078.824","ESF - DodTeh - Dodir tehnologije",11]
["A679078.825","ESF - RuZ - Rasti uz znanost",11]
["A679078.826","ESF - IDZ -Istraživanjem do znanja",11]
["A679078.827","ESF - STEM_COMM - STEM u zajednici",11]
["A679078.828","ESF - SPARK - Sinergija prirodoslovaca, astronoma, računaraca Križevaca",11]
["A679078.829","EFRR - HEKTOR-Heterogeni autonomni robotski sustav u vinogradarstvu i marikulturi",11]
["A679078.830","EFRR - IoT-polje-Ekosustav umreženih uređaja i usluga za Internet stvari s primjenom u poljoprivredi",11]
["A679078.831","EFRR-USBSE-Umreženi stacionarni baterijski spremnici energije",11]
["A679078.832","EFRR - ZaCjel-Zaštita cjelovitosti konstrukcija u energetici i transportu",11]
["A679078.833","EFRR - MUNIVO  - Razvoj MUltifunkcionalnog NIskopodnog Vozila",11]
["A679078.834","EFRR - IOTSIEMENS-Primjena umjetne inteligencije u naprednim prediktivnim tehnologijama on-line nadzora kvalitete vode",11]
["A679078.835","KARTIRANJE PRIOBALNOG POJASA RH",11]
["A679078.836","IGT",11]
["A679078.837","ERASMUS+ SUSTAIN4VET 2021-1-HR01-KA220-VET-000025498",11]
["A679078.838","ERASMUS+ INNOVATING LEARNING DESIGN 2022-1-HR01-KA220-HED-000085818",11]
["A679078.839","H2020-AIFORS-ERA istraživačka grupa za umjetnu inteligenciju za robotiku",11]
["A679078.840","H2020-AIFORS-ERA istraživačka grupa za umjetnu inteligenciju za robotiku",11]
["A679078.841","H2020 AIFORS ERA istraživačka grupa za umjetnu inteligenciju za robotiku",11]
["A679078.842","H2020-FunTomp-Funcionalni proizvodi od rajčice",11]
["A679078.843","H2020 The European PILOT Pilot koji koristi neovisne lokalne i otvorene tehnologije",11]
["A679078.844","H2020 EUPEX Europski pilot za egzaskalarno doba",11]
["A679078.845","RailTwin Pametni dizajn i proizvodnja u željezničkoj industriji zasnovana na konceptu digitalnog blizanca",11]
["A679078.846","LowBackPain Impedancijska spektroskopija lumbalnih mišića temeljena na višefrekvencijskoj pobudi",11]
["A679078.847","METEOR Brza dijagnostika pomoću mikrovalnog grijanja epruveta",11]
["A679078.848","SOLAR FER Fotonaponski sustav za proizvodnju električne energije za vlastite potrebe u mrežnom radu SE FER 005 Faza 1",11]
["A679078.849","H2020 EPI SGA2 Inicijativa za europski procesor (faza 2)",11]
["A679078.850","HORIZON MONUSEN Crnogorski centar za podvodne senzorske mreže",11]
["A679078.851","ERASMUS+ - INA-CODE - Inovativni pristup kodiranju u digitalnoj eri",11]
["A679078.852","RaSTEM - Regionalni znanstveni centar - RaSTEM",11]
["A679078.853","ESF - STEM - STEM za bolji svijet",11]
["A679078.854","ERASMUS+ - MASK - Pomorski roboti za bolju svijest o poznavanju mora",11]
["A679078.855","HORIZON - AeroSTREAM - Ojačavanje istraživačkih i inovativnih kapaciteta u području autonomnih bespilotnih letjelica",11]
["A679078.856","ERASMUS+ - Play2Green - Ozbiljno igranje za univerzalni pristup zelenom obrazovanju",11]
["A679078.857","HORIZON - TRANSIT - Prijelaz u održivu budućnost kroz osposobljavanje i obrazovanje",11]
["A679078.858","ERASMUS+ - edulDT - Primjena uključivog dizajnerskog razmišljanja u predmetima tehničkog usmjerenja na visokom učilištu",11]
["A679078.859","EMISArray - Napredni nizovi elektromagnetskih induktivnih senzora za brzu detekciju ukopanih eksplozivnih objekata sa sigurne udaljenosti",11]
["A679078.860","NOFSTAB - Univerzalna teorija stabilnosti nefosterovskih i vremenski promjenjivih elemenata",11]
["A679078.861","EDF - EPIIC - Napredna pilotska sučelja i interakcije za kabinu borbenog zrakoplova",11]
["A679078.862","ERASMUS+ - RoboAquaria - Roboti u vodenom okolišu za promicanje STEM-a i ekološke svijesti",11]
["A679078.863","HORIZON - AIoTwin - Twinning-akcija za širenje izvrsnosti u primjeni umjetne inteligencije za Internet stvari",11]
["A679078.864","DIGITAL - CROBOHUBplusplus - Podrška hrvatskoj industriji i društvu – Europsko inovacijsko središte (EDIH)",11]
["A679078.865","DIGITAL - ADMO -  EDMO Jadranski opservatorij digitalnih medija",11]
["A679078.866","HORIZON - AI4SoilHealth - Ubrzavanje prikupljanja i upotrebe informacija o zdravlju tla korištenjem AI tehnologije za podršku Soil Deal for Europe i EU Soil Observatory",11]
["A679078.867","HORIZON - ICSEfactory - ICSE Znanstvena tvornica",11]
["A679078.868","H2020 - True8DIGIT - Prema pravom digitalizatoru s 8 znamenki",11]
["A679078.869","EDF - EICACS - Europska inicijativa za standardizaciju kolaborativne zračne borbe",11]
["A679078.870","EDF - AGAMI_EURIGAMI - Europska inovativna integracija naprednih GaN mikrovanih komponenti",11]
["A679078.871","HORIZON - SeaTecHub - Hrvatsko-ciparsko središte izvrsnosti o eko-inovativnim tehnologijama za zdrava i produktivna mora",11]
["A679078.872","HORIZON - FoodMAPP - Lokalna opskrba hranom komunicirana putem aplikacije temeljene na karti (FoodMAPP) za promicanje kratkih lanaca opskrbe hranom sigurnost hrane razvoj poslovanja i smanjenje bacanja hrane",11]
["A679078.873","HORIZON - FITNESS - Fleksibilna inteligentna koža za mjerenje bliskog polja",11]
["A679078.874","HORIZON - UWIN-LABUST - ERA katedra za Internet podvodnih stvari u LABUST-u",11]
["A679078.875","DIGITAL - CroQCI - Hrvatska Infrastruktura za Kvantne Komunikacije",11]
["A679078.876","DATACROSS -Napredne metode tehnologije u znanosti o podacima I kooperativnim sustavima",11]
["A679078.877","Pomorski roboti za bolju svijest o poznavanju mora",11]
["A679078.878","Play2Green - Ozbiljno igranje za univerzalni pristup zelenom obrazovanju",11]
["A679078.879","Podrška hrvatskoj industriji i društvu - Europsko inovacijsko središte (EDIH)",11]
["A679078.880","DIGITAL - CroQCI - Hrvatska Infrastruktura za Kvantne Komunikacije",11]
["A679078.881","Empowering the Water-Energy-Food Nexus by incorporating biodiversity and climate awareness (WatNex)",11]
["A679078.882","2D-MBL- QPsyst",11]
["A679078.883","Improve River LIFE",{"$f":"LEN(A1606)","v":11}]
["A679078.884","ICSE Science Factory",11]
["A679078.885","Biodiversity Genomics Europe (BGE)",11]
["A679078.886","MIcrobe-synthesised DNA NAnostructures for DIsplay-controlled Storage Cartridges (MI-DNA DISC)",11]
["A679078.887","Academics4Rail",11]
["A679078.888","Rail Interlocking System Simulation (RISS)",11]
["A679078.889","Development of Vocational Training of High-Speed Train Maintenance (HST)",11]
["A679078.890","REALLOCATE - Rethinking the dEsign of streets And pubLic spaces to Leverage the mOdal shift to Climate-friendly Active Transport Everywhere",11]
["A679078.891","Last-Mile Green and Safety Skills in Urban Logistics",11]
["A679078.892","TRENDLINE",11]
["A679078.893","EurosaP II - European Road Safety Partnership - Network Wide Road Assessment",11]
["A679078.894","ELABORATOR: The European Living Lab on designing sustainable urban mobility towards climate neutral cities",11]
["A679078.895","IVORY - Ai for Vision Zero in Road Safety",11]
["A679078.896","Hrvatska kvantna komunikacijska infrastruktura - CROQCI",11]
["A679078.897","EIT Manufacturing HUB Hrvatska 2023",11]
["A679078.898","Infrastrukturno jačanje IRI kapaciteta u području energetike i transporta",11]
["A679078.899","Advanced Composites under HIgh STRAin raTEs loading: a route to certification-by-analysis (HISTRATE)",11]
["A679078.900","SunSharing - supporting solar energy community and crowdfunding initiatives in SEE",11]
["A679078.901","NORTH ADRIATIC HYDROGEN VALLEY",11]
["A679078.902","Danube Wetlands and flood plains Restoration through systemic, community engaged and sustainable innovative actions",11]
["A679078.903","Strengthening Policy and Governance Capacity for Blue Energy in Central and Eastern Europe",11]
["A679078.904","Bound to accelerate the roll-out and expansion of Energy Communities and empower consumers as fully-fledged energy market players",11]
["A679078.905","Supporting Energy Transition and Decarbonisation in District Heating Sector",11]
["A679078.906","Low-grade Heat Mapping and Investment Planning for Efficient DH",11]
["A679078.907","Croatian One Stop Shop",11]
["A679078.908","H2020 ASHCYCLE",11]
["A679078.909","CROSSCADE",11]
["A679078.910","CROSKILLS RELOAD",11]
["A679078.911","CIRCUIT HORIZON EUROPE",11]
["A679078.912","GREENCO ERASMUS+ 2021.-2027.",11]
["A679078.913","CRISAFE UNION CIVIL PROTECTION MECHANISM 2021.-2027.",11]
["A679078.914","BLOOM INNOVATION NORWAY",11]
["A679078.915","BIMZEED",11]
["A679078.916","CONGREGATE",11]
["A679078.917","Razvoj inovativnih građevnih kompozita primjenom biopepela",11]
["A679078.918","Razvoj novih tehnologija i usluga u izvođenju spec.građ radova",11]
["A679078.919","KLIK PANEL kompozitni lagani panel s integrir.nosivom konst.",11]
["A679078.920","Food PackagIng open courseware for higher Education and Staff of companieS 2.0",11]
["A679078.921","MedDietMenus4Campus - Promoting stakeholder adherence to Mediterranean Diet on Campus through menu interventions and social marketing strategies",11]
["A679078.922","From Edible sprouts to hEalthy fooD (FEED)",11]
["A679078.923","Obzor Europe RadioVal - International Clinical Validation of Radiomics Artificial Intelligence for Breast Cancer Treatment Planning -",11]
["A679078.924","THE ROLE OF TRANSTHYRETIN IN SPORADIC ALZHEIMER'S DISEASE - ASSOCIATED LEPTOMEN INGEAL AND CEREBROVASCULAR AMYLOIDOSIS AND NEUROPROTECTIVE POTENTIAL OF A BRAIN DIRECTED TAFAMIDID PRODRUG - TRANSADAMIS",11]
["A679078.925","B WISE",11]
["A679078.926","FACILEX",11]
["A679078.927","JM Module Climate Change Law",11]
["A679078.928","EUROSTUDENT VIII",11]
["A679078.929","MedDietMenus4Campus",11]
["A679078.930","Horizo-PRIMA",11]
["A679078.931","Electronic Pan-European Learniing System for Sustainable Agribusiness MBA Education (e-AGRIMBA)",11]
["A679078.932","ERASMUS+ Danube AgriFood Master",11]
["A679078.933","GRASS Celing",11]
["A679078.934","SHARIng-meD",11]
["A679078.935","Al4SoilHealth",11]
["A679078.936","ERASMUS+ \"The development of the innovative educational method of ACCESSIBLE tourism in Central Europe\"",11]
["A679078.937","ERASMUS+ \"Blended Learning and Evaluation Practices for Inclusive Digital Higher Education\"",11]
["A679078.938","The generations and gender programme preparatory phase project (GGP-5D)",11]
["A679078.939","ERASMUS-EDU-2022-101104564-ACIIS",11]
["A679078.940","HORIZON-CL2-2022-101094052-AECED",11]
["A679078.941","EUROPIA - On-Wheels summer school for the socio-cultural",11]
["A679078.942","INRS - Developing Information and Research Skills for Business, Innovation, and Entrepreneurship",11]
["A679078.943","Unapređivanje norveških studija na Sveučilištu u Zagrebu",11]
["A679078.944","Unapređivanje norveških studija na Sveučilištu u Zagrebu",11]
["A679078.945","IntegratEU",11]
["A679078.946","TEHIC",11]
["A679078.947","ERASMUS+ GREEN EDUCATION IN MEDIA",{"$f":"LEN(A1670)","v":11}]
["A679078.948","ERASMUS+ VIPROS",11]
["A679078.949","NRE ElectRA",11]
["A679078.950","RIS Hub Adria",11]
["A679078.951","SEAHEAT-Sea for Heritage Energy Transition",11]
["A679078.952","PLIGES",11]
["A679078.953","TRANSGEO",11]
["A679078.954","AI2SEP - Developing Talents in Artificial Intelligence to Solve Disruptive Environmental Problems",11]
["A679078.955","Erasmus+ CUTIE  Competencies for University Teaching  Institutional Empowerment",11]
["A679078.956","Awareness Raising Campaing for SMEs- ARC II",11]
["A679078.957","Digital transformation of Central Croatia and Northern Adriatic  through JURK EDIH",11]
["A679078.958","Jačanje bilateralne suradnje s Norveškom u području zelene tranzicije",11]
["A679078.959","Interreg CE projekt",11]
["A679078.960","ERAMUS+ DG FARMER 2021-1-HR01-KA220-VET-000033253",11]
["A679078.961","ERASMUS+ PLAY TO GREEN 2022-1-HR01-KA220-HED-000088675",11]
["A679078.962","ERASMUS + 2022-1-HR01-KA210-SCH-000082831",11]
["A679078.963","ERASMUS + 2023-1-HR01-KA220-HED-000158143",11]
["A679078.964","ERASMUS+ 2023-1-HR01-KA131-HED-000129986",11]
["A679078.965","BiodeCCodiNNg - HORIZON-MSCA-2021-DN-01",11]
["A679078.966","ADMO, DG CONNECT (EU)",11]
["A679078.967","ACTIVECITIZENS4EU, EACEA (EU)",11]
["A679078.968","ValEUs, EACEA (EU)",11]
["A679078.969","CO3, HORIZON",11]
["A679078.970","PROJECT 101073065 - BiodeCCodiNNg - HORIZON-MSCA-2021-DN-01",11]
["A679078.971","ADMO, DG CONNECT (EU)",11]
["A679078.972","ACTIVECITIZENS4EU, EACEA (EU)",11]
["A679078.973","ValEUs, EACEA (EU)",11]
["A679078.974","CO3, HORIZON",11]
["A679081","EU PROJEKTI SVEUČILIŠTA SJEVER (IZ EVIDENCIJSKIH PRIHODA)",7]
["A679081.001","INTERREG Projekt LOW-CARB Integrirano planiranje pokretljivosti s niskom razinom ugljika za urbana područja",11]
["A679081.002","ERASMUS+ JEAN MONNET Razvoj i implementacija CQAF modela osiguranja kvalitete na visokoškolskim ustanovama",11]
["A679081.003","ERASMUS+ JEAN MONNET MODULES - Interdisciplinarni pristup političkim i pravnim dimenzijama regionalnih integracija",11]
["A679081.004","ERASMUS+  Poticanje mobilnosti studenata i znanstveno-nastavnog osoblja",11]
["A679081.005","INTERREG e-MOB",11]
["A679081.006","zakOČI",11]
["A679081.007","Povećanje razvoja novih proizvoda i usluga koji proizlaze iz aktivnosti istraživanja i razvoj",11]
["A679081.008","Uspostava RCK u strojarstvu SJEVER -TŠČ",11]
["A679081.009","Digitalna.hr",11]
["A679081.010","Ulaganje u istraživanje i razvoj BBR Adria d.o.o.",11]
["A679081.011","Istraživanje i razvoj inovativnih i pametnih tehnologija za gospodarenje otpadom, prijevoz i logistiku",11]
["A679081.012","Integracija (bivših) Jugoslavena u Švicarskoj",11]
["A679081.013","Unapređenje rada Medicinske škole AK Zadar- regionalnog centra kompetentnosti u sektoru zdravstva",11]
["A679081.014","Obuka o izgradnji informacijskih modela integriranih s geografskim informacijama",11]
["A679081.015","Ocellus Information Systems AB",11]
["A679081.016","Interreg CE0100127 Rail4Regions",11]
["A679081.017","Interreg CE0100127 Rail4Regions",11]
["A679115","EU PROJEKTI SVEUČILIŠTA U SLAVONSKOM BRODU  (IZ EVIDENCIJSKIH PRIHODA)",7]
["A679115.001","INTERREG IPA CBC Hrvatska - Srbija, Obnovljivi izvori energije za pametne, održive, zdravstvene centre, visokoobrazovne ustanove i druge javne zgrade",11]
["A679115.002","Centar za istraživanje, razvoj i inovacije - CIRI",11]
["A679115.003","Pametna naljepnica za mjerenje i praćenje uvjeta skladištenja i transporta proizvoda",11]
["A679115.004","Pametna naljepnica za mjerenje i praćenje uvjeta skladištenja i transporta proizvoda",11]
["A679115.005","AVACS, Prilagodba povrtnih kultura novim agrometeorološkim uvjetima u Slavoniji",11]
["A679115.006","Dobra klima za turizam",11]
["A679115.007","Pametna naljepnica za mjerenje i praćenje uvjeta skladištenja i transporta proizvoda",11]
["A679115.008","EXPERIO-razvoj strojeva za kvalitetu i paletizaciju u automobilskoj industriji",11]
["A679115.009","ERASMUS",11]
["A679115.010","RESIN-razvoj sustava za ispitivanje višefaznih strujanja i izgaranja",11]
["A679115.011","Projektiranje i proizvodnja linije za  proizvodnju izolacijskih mata za toplovodne cijevi međugradskog grijanja",11]
["A679115.012","Centar kompetencija za napredno inženjerstvo Nova Gradiška",11]
["A679115.013","Poljoprivredno-poduzetnički inkubator Brodski Stupnik",11]
["A679115.014","Regionalni centar kompetentnosti Slavonika 5.1.",11]
["A679115.015","ZELENO POVRĆE ZA ZELENI PLAN",11]
["K679126","PROGRAM KONKURENTNOST I KOHEZIJA 2021.-2027., PRIORITET 1",7]
["K679126.001","Vrhunska istraživanja Znanstvenih centara izvrsnosti",11]
["K679126.002","'Modernizacija, unaprjeđenje i proširenje infrastrukture studentskog smještaja",{"$f":"LEN(A1734)","v":11}]
["K679128","POBOLJŠANJE UČINKOVITOSTI JAVNIH ULAGANJA NA PODRUČJU ISTRAŽIVANJA, RAZVOJA I INOVACIJA - NPOO (C3.2.R3)",7]
["K679128.001","Dokazivanje koncepta",11]
["K679128.002","Ciljana znanstvena istraživanja",11]
["K679128.001","Program transfera tehnologije",11]
["K679129","STVARANJE OKVIRA ZA PRIVLAČENJE STUDENATA I ISTRAŽIVAČA NA STEM I ICT PODRUČJIMA - NPOO (C3.2.R2)",7]
["K679129.001","Razvojne istraživačke potpore",11]
["K679129.002","Znanstveno-istraživački centar elektrotehnike i računarstva",11]
["K679129.003","Infrastruktura",11]
["08008","Javni instituti u Republici Hrvatskoj",5]
["A622152","PROGRAMSKO FINANCIRANJE JAVNIH INSTITUTA  - IZ STRUKTURNIH I INVESTICIJSKIH FONDOVA EU",7]
["A622152.001","Vrhunska istraživanja Znanstvenih centara izvrsnosti",11]
["A622152.002","Otvorene znanstvene infrastrukturne platforme za inovativne primjene u gospodarstvu i društvu O-ZIP FAZA II",11]
["A622152.003","'Razvojne istraživačke potpore",11]
["A622152.004","Dokazivanje koncepta ",11]
["A622152.005","Ciljana znanstvena istraživanja",11]
["A622152.006","Program transfera tehnologije",11]
["A622152.007","Programski ugovori instituti",11]
["A622152.008","Osuvremenjivanje infrastrukture Instituta za jadranske kulture i melioraciju krša kao preduvjet izvrsnosti u istraživanjima mediteranske poljoprivrede",11]
["08091","Agencije i ostale javne ustanove u znanosti i obrazovanju",5]
["21852","Hrvatska akademska i istraživačka mreža Carnet",5]
["K628080","OP KONKURENTNOST I KOHEZIJA 2014.-2020., PRIORITET 9",7]
["K628080.003","Program unaprjeđenja primjene digitalne tehnologije u obrazovnom sustavu",11]
["K628081","OP UČINKOVITI LJUDSKI POTENCIJALI 2014.-2020., PRIORITET 3 i 4",7]
["K628081.001","II. faza programa \"e-Škole: Cjelovita informatizacija procesa poslovanja škola i nastavnih procesa u svrhu stvaranja digitalno zrelih škola za 21. stoljeće\"",11]
["K628081.002","Informatizacija procesa i uspostava cjelovite elektroničke usluge upisa u odgojne i obrazovne ustanove",11]
["K628081.003","Program unaprjeđenja primjene digitalne tehnologije u obrazovnom sustavu",11]
["K628081.004","Unaprjeđenje sustava praćenja funkcioniranja odgojno-obrazovnog sustava i korištenja dostupnih podataka u oblikovanju odgojno-obrazovnih politika",11]
["K628081.005","Cjelovita informatizacija sustava visokog obrazovanja",11]
["23665","Sveučilišni računski centar SRCE",5]
["K628087","OP KONKURENTNOST I KOHEZIJA 2014.-2020., PRIORITETI 1 i 10",7]
["K628087.001","Znanstveno i tehnologijsko predviđanje - sustav CroRIS",11]
["K628087.002","Hrvatski znanstveni i obrazovni oblak (HR ZOO)",11]
["23962","Agencija za odgoj i obrazovanje",5]
["A579073","UČIMO PODUZETNIŠTVO 5.0",7]
["A579073.001","UČIMO PODUZETNIŠTVO 5.0",11]
["A580072","ERASMUS PLUS - PROJEKTI",7]
["A580072.001","Erasmus+ KA121",11]
["K767054","OP UČINKOVITI LJUDSKI POTENCIJALI 2014.-2020., PRIORITET 3",7]
["K767054.001","AZOO-E-ŠKOLE-RAZVOJ SUSTAVA DIGITALNO ZRELIH ŠKOLA",11]
["38487","Agencija za znanost i visoko obrazovanje",5]
["A867021","ERASMUS PLUS - PROJEKTI",7]
["A867021.001","ERASMUS PLUS-KEEP IN PACT-JAČANJE MULTIPARTNERSKE SURADNJE U PRUŽANJU USLUGA CJELOŽIVOTNOG PROFESIONALNOG USMJERAVANJA",11]
["A867021.002","ERASMUS PLUS-OCTRA-KATALOG ONLINE PROGRAMA I BAZA PODATAKA ZA VIDLJIVOST I PRIZNAVANJE KVALIFIKACIJA",11]
["A867021.003","ERASMUS PLUS-ADREN MREŽA-SURADNJA DIONIKA (JADRANSKO PODRUČJE, ZAPADNI BALKAN I EU) U OBVEZAMA IZ PODRUČJA VISOKOG OBRAZOVANJA",11]
["K867020","OP UČINKOVITI LJUDSKI POTENCIJALI 2021.-2027., PRIORITET 2 - OSIGURAVANJE KVALITETE U VISOKOM OBRAZOVANJU",7]
["K867020.001","AZVO-OSIGURAVANJE KVALITETE U VISOKOM OBRAZOVANJU",11]
["40883","Nacionalni centar za vanjsko vrednovanje obrazovanja",5]
["K814011","OP UČINKOVITI LJUDSKI POTENCIJALI 2014.-2020., PRIORITET 10",7]
["K814011.001","E-ŠKOLE-Istraživanje učinka primjene digitalnih tehnologija u nastavi",11]
["K814013","OP UČINKOVITI LJUDSKI POTENCIJALI 2021.-2027., PRIORITET 2 - OBRAZOVANJE I CJELOŽIVOTNO UČENJE",7]
["K814013.001","NCVVO-Vanjsko vrednovanje učeničkih postignuća u osnovnoj školi-nacionalni ispiti",11]
["46173","Agencija za strukovno obrazovanje i obrazovanje odraslih",5]
["A848051","ERASMUS PLUS - PROJEKTI",7]
["A848051.001","ERASMUS PLUS-PIAAC HRVATSKA-PROVEDBA ISTRAŽIVANJA KOMPETENCIJA ODRASLIH OSOBA U RH",11]
["A848051.002","ERASMUS PLUS-EQAVET NRP RH-NACIONALNA REFERENTNA TOČKA ZA EUROPSKI SUSTAV OSIGURANJA KVALITETE U STRUKOVNOM OBRAZOVANJU I OSPOSOBLJAVANJU",11]
["A848051.003","ERASMUS PLUS-VET AT HOME-PILOTIRANJE VIRTUALNOG PRAKTIČNOG TEČAJA ZA KUHARSTVO U STRUKOVNOM OBRAZOVANJU",11]
["A848051.004","ERASMUS PLUS-2BDIGITAL-INKLUZIVNO DIGITALNO UČENJE U SVRHU SPREČAVANJA NAPUŠTANJA ŠKOLOVANJA U STRUKOVNOM OBRAZOVANJU I OSPOSOBLJAVANJU",11]
["A848051.005","ERASMUS PLUS-EPALE V-NACIONALNA SLUŽBA ZA PODRŠKU ZA RH 2022.-2024.",11]
["A848051.006","ERASMUS PLUS-EPALE IV-NACIONALNA SLUŽBA ZA PODRŠKU ZA RH 2019.-2020.",11]
["A848051.007","ERASMUS PLUS-KA2-TRENING ZA VJEŠTINE U VIRTUALNOM OKRUŽENJU",11]
["K848038","OP UČINKOVITI LJUDSKI POTENCIJALI 2014.-2020., PRIORITET 3",7]
["K848038.002","Modernizacija sustava strukovnog obrazovanja i osposobljavanja",11]
["K848038.003","Osiguravanje kvalitete u sustavu obrazovanja odraslih",11]
["K848038.004","Promocija učeničkih kompetencija i strukovnog obrazovanja kroz strukovna natjecanja i smotre",{"$f":"LEN(A1798)","v":11}]
["K848038.005","Promocija cjeloživotnog učenja – faza II",11]
["K848038.006","E škole",11]
["K848050","OP UČINKOVITI LJUDSKI POTENCIJALI 2021.-2027., PRIORITET 3",7]
["K848050.001","ASOO-Daljnja provedba kurikularne reforme u strukovnome obrazovanju i jačanje kapaciteta nastavnika strukovnih predmeta i mentora kod poslodavaca",11]
["T848027","OP UČINKOVITI LJUDSKI POTENCIJALI 2014. - 2020., PRIORITET 5",7]
["T848027.001","ASOO-Tehnička pomoć OP ULJP",11]
["52209","Hrvatska zaklada za znanost",5]
["K733069","OP UČINKOVITI LJUDSKI POTENCIJALI 2014.-2020., PRIORITET 3",7]
["K733069.001","Projekt razvoja karijera mladih istraživača - izobrazba novih doktora znanosti",11]
["K733069.002","Program suradnje s hrvatskim znanstvenicima u dijaspori ''ZNANSTVENA SURADNJA''",11]
[null,null,0]
[null,null,0]
[null,null,0]
[null,null,0]
[null,null,0]
[null,null,0]
[null,null,0]
[null,null,0]
[null,null,0]
[null,null,0]
[null,null,0]
[null,null,0]
[null,null,0]
[null,null,0]

{"sheet":"prihodi","index":12,"n_rows":107,"n_cols":5,"rows_kept":107}
["Unos (konto)","Naziv","Dopušteni izvor"]
["671 - izvor 11","Prihodi iz nadležnog proračuna za financiranje redovne djelatnosti proračunskih korisnika",11,"Opći prihodi i primici",671]
["671 - izvor 12","Prihodi iz nadležnog proračuna za financiranje redovne djelatnosti proračunskih korisnika",12,"Sredstva učešća za pomoći",671]
[671110815,"Prihodi iz nadležnog proračuna za financiranje rashoda poslovanja - izvor 815",815,"Namjenski primitak - NPOO",671]
[671210815,"Prihodi iz nadležnog proračuna za financiranje rashoda za nabavu nefinancijske imovine - izvor 815",815,"Namjenski primitak - NPOO",671]
[641290031,"Kamate za ostale vrijednosne papire izvor 31",31,"Vlastiti prihodi",641]
[641310031,"Kamate na oročena sredstva izvor 31",31,"Vlastiti prihodi",641]
[641320031,"Kamate na depozite po viđenju izvor 31",31,"Vlastiti prihodi",641]
[641630031,"Prihod od dividendi na dionice u kreditnim i ostalim financijskim institucijama izvan javnog sektora izvor 31",31,"Vlastiti prihodi",641]
[642510031,"Prihodi od prodaje kratkotrajne nefinancijske imovine izvor 31",31,"Vlastiti prihodi",642]
[642990031,"Ostali prihodi od nefinancijske imovine izvor 31",31,"Vlastiti prihodi",642]
[6614,"Prihodi od prodanih proizvoda i robe",31,"Vlastiti prihodi",661]
[6615,"Prihodi od pruženih usluga",31,"Vlastiti prihodi",661]
[683110031,"Ostali prihodi izvor 31",31,"Vlastiti prihodi",683]
["6148","Naknade za priređivanje igara na sreću",41,"Prihodi od igara na sreću",614]
["614810041","Naknada za priređivanje lutrijskih igara, izvor 41",41,"Prihodi od igara na sreću",614]
["614820041","Naknade za priređivanje igara na sreću u casinima, izvor 41",41,"Prihodi od igara na sreću",614]
["614830041","Naknade za priređivanje klađenja, izvor 41",41,"Prihodi od igara na sreću",614]
["614840041","Naknade za priređivanje igara na sreću na automatima, izvor 41",41,"Prihodi od igara na sreću",614]
["641770041","Prihodi iz dobiti Hrvatske lutrije, izvor 41",41,"Prihodi od igara na sreću",614]
[641320043,"Kamate na depozite po viđenju izvor 43",43,"Ostali prihodi za posebne namjene",641]
[641720043,"Prihodi iz dobiti trgovačkih društava u javnom sektoru izvor 43",43,"Ostali prihodi za posebne namjene",641]
[641990043,"Ostali prihodi od financijske imovine izvor 43",43,"Ostali prihodi za posebne namjene",641]
[65148,"Ostale naknade i pristojbe za posebne namjene",43,"Ostali prihodi za posebne namjene",651]
[65218,"Ostali prihodi državne uprave za posebne namjene ",43,"Ostali prihodi za posebne namjene",652]
[65264,"Sufinanciranje cijene usluge, participacije i slično",43,"Ostali prihodi za posebne namjene",652]
[652670043,"Prihodi s naslova osiguranja, refundacije štete i totalne štete izvor 43",43,"Ostali prihodi za posebne namjene",652]
[65268,"Ostali prihodi za posebne namjene ",43,"Ostali prihodi za posebne namjene",652]
[681910043,"Ostale nespomenute kazne izvor 43",43,"Ostali prihodi za posebne namjene",681]
[683110043,"Ostali prihodi izvor 43",43,"Ostali prihodi za posebne namjene",683]
[818110043,"Primici od povr.depozita od tuz.kred.inst.-krat.43",43,"Ostali prihodi za posebne namjene",818]
[818120043,"Primici od povrata depozita od tuzemnih kreditnih i ostalih institucija - dugoročni - namjenski",43,"Ostali prihodi za posebne namjene",818]
[832120043,"Dionice i udjeli u glavnici trgovačkih društava u javnom sektoru - izvor 43",43,"Ostali prihodi za posebne namjene",832]
[833130043,"Dionice i udjeli u glavnici tuzemnih kreditnih institucija izvan javnog sektora - izvor 43",43,"Ostali prihodi za posebne namjene",833]
[632311700,"Tekuće pomoći od institucija i tijela EU - ostalo",51,"Pomoći EU ",632]
[632311800,"Tekuće pomoći od institucija i tijela EU - refundacije putnih troškova",51,"Pomoći EU ",632]
[632411700,"Kapitalne pomoći od institucija i tijela EU - ostalo",51,"Pomoći EU ",632]
[631110000,"Tekuće pomoći od inozemnih vlada u EU",52,"Ostale pomoći i darovnice ",631]
[631120000,"Tekuće pomoći od inozemnih vlada izvan EU",52,"Ostale pomoći i darovnice ",631]
[631210000,"Kapitalne pomoći od inozemnih vlada u EU",52,"Ostale pomoći i darovnice ",631]
[631220000,"Kapitalne pomoći od inozemnih vlada izvan EU",52,"Ostale pomoći i darovnice ",631]
[632112000,"Tekuće pomoći od međunarodnih organizacija",52,"Ostale pomoći i darovnice ",632]
[632212000,"Kapitalne pomoći od međunarodnih organizacija ",52,"Ostale pomoći i darovnice ",632]
[6341,"Tekuće pomoći od izvanproračunskih korisnika ",52,"Ostale pomoći i darovnice ",634]
[6342,"Kapitalne pomoći od izvanproračunskih korisnika",52,"Ostale pomoći i darovnice ",634]
[6361,"Tekuće pomoći proračunskim korisnicima iz proračuna JLP(R)S koji im nije nadležan",52,"Ostale pomoći i darovnice ",636]
[6362,"Kapitalne pomoći proračunskim korisnicima iz proračuna JLP(R)S koji im nije nadležan",52,"Ostale pomoći i darovnice ",636]
[6381,"Tekuće pomoći temeljem prijenosa EU sredstava iz proračuna JLP(R)S, korisnika JLPRS ili izvanproračunskog korisnika",52,"Ostale pomoći i darovnice ",638]
[6382,"Kapitalne pomoći temeljem prijenosa EU sredstava iz proračuna JLP(R)S, korisnika JLPRS ili izvanproračunskog korisnika",52,"Ostale pomoći i darovnice ",638]
[6391,"Tekući prijenosi između proračunskih korisnika istog proračuna",52,"Ostale pomoći i darovnice ",639]
[6392,"Kapitalni prijenosi između proračunskih korisnika istog proračuna",52,"Ostale pomoći i darovnice ",639]
[6393,"Tekući prijenosi između proračunskih korisnika istog proračuna temeljem prijenosa EU sredstava",52,"Ostale pomoći i darovnice ",639]
[6394,"Kapitalni prijenosi između proračunskih korisnika istog proračuna temeljem prijenosa EU sredstava",52,"Ostale pomoći i darovnice ",639]
[663110000,"Tekuće donacije od fizičkih osoba",61,"Donacije ",663]
[663120000,"Tekuće donacije od neprofitnih organizacija",61,"Donacije ",663]
[663130000,"Tekuće donacije od trgovačkih društava",61,"Donacije ",663]
[663140000,"Tekuće donacije od ostalih subjekata izvan općeg proračuna",61,"Donacije ",663]
[663210000,"Kapitalne donacije od fizičkih osoba",61,"Donacije ",663]
[663220000,"Kapitalne donacije od neprofitnih organizacija",61,"Donacije ",663]
[663230000,"Kapitalne donacije od trgovačkih društava",61,"Donacije ",663]
[663240000,"Kapitalne donacije od ostalih subjekata izvan općeg proračuna",61,"Donacije ",663]
[663121000,"Tekuće donacije od neprofitnih organizacija - ostale",63,"Inozemne donacija",663]
[663131000,"Tekuće donacije od trgovačkih društava - ostale",63,"Inozemne donacija",663]
[663221000,"Kapitalne donacije od neprofitnih organizacija - ostale",63,"Inozemne donacija",663]
[663231000,"Kapitalne donacije od trgovačkih društava - ostale",63,"Inozemne donacija",663]
[652670071,"Prihodi s naslova osiguranja, refundacije štete i totalne štete izvor 71",71,"Prihodi od nefin. imovine i nadoknade štete s osnova osig.",652]
[711110071,"Poljoprivredno zemljište izvor 71",71,"Prihodi od prodaje ili zamjene nefinancijske imovine i naknade s naslova osiguranja",711]
[711120071,"Građevinsko zemljište izvor 71",71,"Prihodi od prodaje ili zamjene nefinancijske imovine i naknade s naslova osiguranja",711]
[712410071,"Ulaganja na tuđoj imovini radi prava korištenja izvor 71",71,"Prihodi od prodaje ili zamjene nefinancijske imovine i naknade s naslova osiguranja",712]
[712490071,"Ostala nespomenuta prava izvor 71",71,"Prihodi od prodaje ili zamjene nefinancijske imovine i naknade s naslova osiguranja",712]
[721110071,"Stambeni objekti za zaposlene izvor 71",71,"Prihodi od prodaje ili zamjene nefinancijske imovine i naknade s naslova osiguranja",721]
[721190071,"Ostali stambeni objekti izvor 71",71,"Prihodi od prodaje ili zamjene nefinancijske imovine i naknade s naslova osiguranja",721]
[721230071,"Zgrade znanstvenih i obrazovnih institucija (fakulteti, škole, vrtići i slično) izvor 71",71,"Prihodi od prodaje ili zamjene nefinancijske imovine i naknade s naslova osiguranja",721]
[721290071,"Ostali poslovni građevinski objekti izvor 71",71,"Prihodi od prodaje ili zamjene nefinancijske imovine i naknade s naslova osiguranja",721]
[722110071,"Računala i računalna oprema izvor 71",71,"Prihodi od prodaje ili zamjene nefinancijske imovine i naknade s naslova osiguranja",722]
[722120071,"Uredski namještaj izvor 71",71,"Prihodi od prodaje ili zamjene nefinancijske imovine i naknade s naslova osiguranja",722]
[722190071,"Ostala uredska oprema izvor 71",71,"Prihodi od prodaje ili zamjene nefinancijske imovine i naknade s naslova osiguranja",722]
["722410071","Medicinska oprema - izvor 71",71,"Prihodi od prodaje ili zamjene nefinancijske imovine i naknade s naslova osiguranja",722]
[722620071,"Glazbeni instrumenti i oprema izvor 71",71,"Prihodi od prodaje ili zamjene nefinancijske imovine i naknade s naslova osiguranja",722]
[722720071,"Strojevi - izvor 71",71,"Prihodi od nefin. imovine i nadoknade štete s osnova osig.",722]
[722730071,"Oprema izvor 71",71,"Prihodi od prodaje ili zamjene nefinancijske imovine i naknade s naslova osiguranja",722]
[723110071,"Osobni automobili izvor 71",71,"Prihodi od prodaje ili zamjene nefinancijske imovine i naknade s naslova osiguranja",723]
[723130071,"Kombi vozila izvor 71",71,"Prihodi od prodaje ili zamjene nefinancijske imovine i naknade s naslova osiguranja",723]
[723140071,"Kamioni izvor 71",71,"Prihodi od prodaje ili zamjene nefinancijske imovine i naknade s naslova osiguranja",723]
[723150071,"Traktori izvor 71",71,"Prihodi od prodaje ili zamjene nefinancijske imovine i naknade s naslova osiguranja",723]
[723160071,"Terenska vozila (protupožarna, vojna i slično) izvor 71",71,"Prihodi od prodaje ili zamjene nefinancijske imovine i naknade s naslova osiguranja",723]
[723190071,"Ostala prijevozna sr. u cest.prometu - izvor 71",71,"Prihodi od nefin. imovine i nadoknade štete s osnova osig.",723]
[723310071,"Plovila izvor 71",71,"Prihodi od prodaje ili zamjene nefinancijske imovine i naknade s naslova osiguranja",723]
[725210071,"Osnovno stado izvor 71",71,"Prihodi od prodaje ili zamjene nefinancijske imovine i naknade s naslova osiguranja",725]
[671110552,"Tekuće pomoći od institucija i tijela EU Švicarski instrument",552,"Švicarski instrument",671]
[671120552,"Kapitalne pomoći od institucija i tijela EU Švicarski instrument",552,"Švicarski instrument",671]
[671110559,"Tekuće pomoći od institucija i tijela EU – ostale refundacije",559,"Ostale refundacije iz pomoći EU",671]
[671120559,"Kapitalne pomoći od institucija i tijela EU - ostale refundacije",559,"Ostale refundacije iz pomoći EU",671]
[671110561,"Europski socijalni fond (ESF)",561,"Europski socijalni fond (ESF)",671]
[671120561,"Europski socijalni fond (ESF)",561,"Europski socijalni fond (ESF)",671]
[671110563,"Europski fond za regionalni razvoj (EFRR)",563,"Europski fond za regionalni razvoj (ERDF)",671]
[671120563,"Europski fond za regionalni razvoj (EFRR)",563,"Europski fond za regionalni razvoj (ERDF)",671]
[671110573,"Tekuće pomoći od institucija i tijela EU – Instrumenti europskog gospodarskog prostora",573,"Instrumenti Europskog gospodarskog prostora i ostali instrumenti",671]
[671120573,"Kapitalne pomoći od institucija i tijela EU - Instrumenti europskog gospodarskog prostora",573,"Instrumenti Europskog gospodarskog prostora i ostali instrumenti",671]
[671110581,"Tek.pom.od instit. tijela EU - Mehanizam za oporavak i otpornost",581,"Mehanizam za oporavak i otpornost",671]
[671120581,"Kapitalne pom.od instit. tijela EU - Mehanizam za oporavak i otpornost",581,"Mehanizam za oporavak i otpornost",671]
[841320000,"Primljeni zajmovi od međunarodnih organizacija - dugoročni",810,"Namjenski primici od zaduživanja ",841]
["84431","Primljeni krediti od tuzemnih kreditnih institucija izvan javnog sektora - kratkoročni",810,"Namjenski primici od zaduživanja ",844]
[844320000,"Primljeni krediti od tuzemnih kreditnih institucija izvan javnog sektora - dugoročni namjenski",810,"Namjenski primici od zaduživanja ",844]
[842220081,"Primljeni krediti od kreditnih institucija u javnom sektoru - dugoročni - namjenski",810,"Namjenski primici od zaduživanja ",842]
[841320150,"Proj.održivog, prav. i učink.obrazov. IBRD 93030",810,"Namjenski primici od zaduživanja ",841]
[841320151,"Proj.digitalne inovat. i zelene tehnol. IBRD 95580",810,"Namjenski primici od zaduživanja ",841]

{"sheet":"KORISNICI DP","index":13,"n_rows":560,"n_cols":7,"rows_kept":560}
["RKP","Naziv subjekta","Nadležni korisnik","Matični broj","Matični broj","Osobni identifikacijski broj","Razina"]
[19,"HRVATSKI SABOR"," - ",{"$f":"A2&\" \"&B2","v":"19 HRVATSKI SABOR"},"03205860","38597506234","11"]
[35,"URED PREDSJEDNIKA REPUBLIKE HRVATSKE"," - ","35 URED PREDSJEDNIKA REPUBLIKE HRVATSKE","03220346","10162055275","11"]
[51,"VLADA REPUBLIKE HRVATSKE"," - ","51 VLADA REPUBLIKE HRVATSKE","03205924","64434885131","11"]
[115,"URED ZA ZAKONODAVSTVO","020 - VLADA REPUBLIKE HRVATSKE","115 URED ZA ZAKONODAVSTVO","03205959","62409285700","11"]
[123,"URED ZA OPĆE POSLOVE HRVATSKOG  SABORA I VLADE REPUBLIKE HRVATSKE","020 - VLADA REPUBLIKE HRVATSKE","123 URED ZA OPĆE POSLOVE HRVATSKOG  SABORA I VLADE REPUBLIKE HRVATSKE","03205916","03055728877","11"]
[174,"MINISTARSTVO OBRANE"," - ","174 MINISTARSTVO OBRANE","03207595","66486182714","11"]
[713,"MINISTARSTVO UNUTARNJIH POSLOVA"," - ","713 MINISTARSTVO UNUTARNJIH POSLOVA","03281418","36162371878","11"]
[721,"MINISTARSTVO VANJSKIH I EUROPSKIH POSLOVA REPUBLIKE HRVATSKE"," - ","721 MINISTARSTVO VANJSKIH I EUROPSKIH POSLOVA REPUBLIKE HRVATSKE","03230040","43541122224","11"]
[756,"MINISTARSTVO KULTURE I MEDIJA"," - ","756 MINISTARSTVO KULTURE I MEDIJA","00931608","37836302645","11"]
[764,"HRVATSKI DRŽAVNI ARHIV","055 - MINISTARSTVO KULTURE I MEDIJA","764 HRVATSKI DRŽAVNI ARHIV","03205380","46144176176","11"]
[789,"DRŽAVNI ARHIV U BJELOVARU","055 - MINISTARSTVO KULTURE I MEDIJA","789 DRŽAVNI ARHIV U BJELOVARU","03316734","80099091562","11"]
[797,"DRŽAVNI ARHIV U DUBROVNIKU","055 - MINISTARSTVO KULTURE I MEDIJA","797 DRŽAVNI ARHIV U DUBROVNIKU","03303870","01076882554","11"]
[801,"DRŽAVNI ARHIV U KARLOVCU","055 - MINISTARSTVO KULTURE I MEDIJA","801 DRŽAVNI ARHIV U KARLOVCU","03123367","99575902022","11"]
[810,"DRŽAVNI ARHIV U OSIJEKU","055 - MINISTARSTVO KULTURE I MEDIJA","810 DRŽAVNI ARHIV U OSIJEKU","03014223","61338774671","11"]
[828,"DRŽAVNI ARHIV U PAZINU","055 - MINISTARSTVO KULTURE I MEDIJA","828 DRŽAVNI ARHIV U PAZINU","03089240","55059300119","11"]
[836,"DRŽAVNI ARHIV U RIJECI","055 - MINISTARSTVO KULTURE I MEDIJA","836 DRŽAVNI ARHIV U RIJECI","03321088","16391096016","11"]
[844,"DRŽAVNI ARHIV U SISKU","055 - MINISTARSTVO KULTURE I MEDIJA","844 DRŽAVNI ARHIV U SISKU","03313824","35994268014","11"]
[852,"DRŽAVNI ARHIV U SLAVONSKOM BRODU","055 - MINISTARSTVO KULTURE I MEDIJA","852 DRŽAVNI ARHIV U SLAVONSKOM BRODU","03071162","11265594372","11"]
[869,"DRŽAVNI ARHIV U SPLITU","055 - MINISTARSTVO KULTURE I MEDIJA","869 DRŽAVNI ARHIV U SPLITU","03118452","61469620638","11"]
[877,"DRŽAVNI ARHIV U VARAŽDINU","055 - MINISTARSTVO KULTURE I MEDIJA","877 DRŽAVNI ARHIV U VARAŽDINU","03006166","72801109643","11"]
[885,"DRŽAVNI ARHIV U ZADRU","055 - MINISTARSTVO KULTURE I MEDIJA","885 DRŽAVNI ARHIV U ZADRU","03142019","46156591639","11"]
[893,"DRŽAVNI ARHIV U ZAGREBU","055 - MINISTARSTVO KULTURE I MEDIJA","893 DRŽAVNI ARHIV U ZAGREBU","03224953","37363837470","11"]
[908,"ARHEOLOŠKI MUZEJ U SPLITU","055 - MINISTARSTVO KULTURE I MEDIJA","908 ARHEOLOŠKI MUZEJ U SPLITU","03118380","57340203536","11"]
[916,"ARHEOLOŠKI MUZEJ ZADAR","055 - MINISTARSTVO KULTURE I MEDIJA","916 ARHEOLOŠKI MUZEJ ZADAR","03132170","88252913683","11"]
[924,"ARHEOLOŠKI MUZEJ ISTRE","055 - MINISTARSTVO KULTURE I MEDIJA","924 ARHEOLOŠKI MUZEJ ISTRE","03203727","76185043859","11"]
[932,"DVOR TRAKOŠĆAN","055 - MINISTARSTVO KULTURE I MEDIJA","932 DVOR TRAKOŠĆAN","03125483","24929691978","11"]
[949,"MUZEJI IVANA MEŠTROVIĆA","055 - MINISTARSTVO KULTURE I MEDIJA","949 MUZEJI IVANA MEŠTROVIĆA","03751783","49483564012","11"]
[965,"HRVATSKI POVIJESNI MUZEJ","055 - MINISTARSTVO KULTURE I MEDIJA","965 HRVATSKI POVIJESNI MUZEJ","03212084","10624495854","11"]
[973,"NACIONALNI MUZEJ MODERNE UMJETNOSTI","055 - MINISTARSTVO KULTURE I MEDIJA","973 NACIONALNI MUZEJ MODERNE UMJETNOSTI","03205240","94391499491","11"]
[990,"MUZEJ HRVATSKIH ARHEOLOŠKIH SPOMENIKA SPLIT","055 - MINISTARSTVO KULTURE I MEDIJA","990 MUZEJ HRVATSKIH ARHEOLOŠKIH SPOMENIKA SPLIT","03119904","88269740410","11"]
[1003,"MUZEJ SLAVONIJE","055 - MINISTARSTVO KULTURE I MEDIJA","1003 MUZEJ SLAVONIJE","03014207","45589739612","11"]
[1011,"MUZEJI HRVATSKOG ZAGORJA","055 - MINISTARSTVO KULTURE I MEDIJA","1011 MUZEJI HRVATSKOG ZAGORJA","00207349","11298572202","11"]
[1020,"MUZEJSKI DOKUMENTACIJSKI CENTAR","055 - MINISTARSTVO KULTURE I MEDIJA","1020 MUZEJSKI DOKUMENTACIJSKI CENTAR","03205258","28048960411","11"]
[1038,"TIFLOLOŠKI MUZEJ","055 - MINISTARSTVO KULTURE I MEDIJA","1038 TIFLOLOŠKI MUZEJ","03270564","04200585015","11"]
[1046,"ANSAMBL NARODNIH PLESOVA I PJESAMA HRVATSKE LADO","055 - MINISTARSTVO KULTURE I MEDIJA","1046 ANSAMBL NARODNIH PLESOVA I PJESAMA HRVATSKE LADO","03213862","28251263363","11"]
[1079,"MINISTARSTVO POLJOPRIVREDE, ŠUMARSTVA I RIBARSTVA"," - ","1079 MINISTARSTVO POLJOPRIVREDE, ŠUMARSTVA I RIBARSTVA","03271005","76767369197","11"]
[1087,"MINISTARSTVO MORA, PROMETA I INFRASTRUKTURE"," - ","1087 MINISTARSTVO MORA, PROMETA I INFRASTRUKTURE","03277097","22874515170","11"]
[1222,"MINISTARSTVO ZNANOSTI, OBRAZOVANJA I MLADIH"," - ","1222 MINISTARSTVO ZNANOSTI, OBRAZOVANJA I MLADIH","03271030","49508397045","11"]
[1757,"SVEUČILIŠTE U ZAGREBU FAKULTET ELEKTROTEHNIKE I RAČUNARSTVA","080 - MINISTARSTVO ZNANOSTI, OBRAZOVANJA I MLADIH","1757 SVEUČILIŠTE U ZAGREBU FAKULTET ELEKTROTEHNIKE I RAČUNARSTVA","03276643","57029260362","11"]
[1781,"SVEUČILIŠTE U ZAGREBU - PRIRODOSLOVNO-MATEMATIČKI FAKULTET","080 - MINISTARSTVO ZNANOSTI, OBRAZOVANJA I MLADIH","1781 SVEUČILIŠTE U ZAGREBU - PRIRODOSLOVNO-MATEMATIČKI FAKULTET","03270149","28163265527","11"]
[1790,"SVEUČILIŠTE U ZAGREBU FAKULTET KEMIJSKOG INŽENJERSTVA I TEHNOLOGIJE","080 - MINISTARSTVO ZNANOSTI, OBRAZOVANJA I MLADIH","1790 SVEUČILIŠTE U ZAGREBU FAKULTET KEMIJSKOG INŽENJERSTVA I TEHNOLOGIJE","03250270","71259740533","11"]
[1804,"SVEUČILIŠTE U ZAGREBU - TEKSTILNO-TEHNOLOŠKI FAKULTET","080 - MINISTARSTVO ZNANOSTI, OBRAZOVANJA I MLADIH","1804 SVEUČILIŠTE U ZAGREBU - TEKSTILNO-TEHNOLOŠKI FAKULTET","03207064","43097527965","11"]
[1812,"Sveučilište u Zagrebu FAKULTET PROMETNIH ZNANOSTI","080 - MINISTARSTVO ZNANOSTI, OBRAZOVANJA I MLADIH","1812 Sveučilište u Zagrebu FAKULTET PROMETNIH ZNANOSTI","03260771","25410051374","11"]
[1829,"SVEUČILIŠTE U ZAGREBU, FAKULTET STROJARSTVA I BRODOGRADNJE","080 - MINISTARSTVO ZNANOSTI, OBRAZOVANJA I MLADIH","1829 SVEUČILIŠTE U ZAGREBU, FAKULTET STROJARSTVA I BRODOGRADNJE","03276546","22910368449","11"]
[1837,"SVEUČILIŠTE U ZAGREBU  GRAĐEVINSKI FAKULTET","080 - MINISTARSTVO ZNANOSTI, OBRAZOVANJA I MLADIH","1837 SVEUČILIŠTE U ZAGREBU  GRAĐEVINSKI FAKULTET","03227120","62924153420","11"]
[1845,"SVEUČILIŠTE U ZAGREBU - PREHRAMBENO-BIOTEHNOLOŠKI FAKULTET","080 - MINISTARSTVO ZNANOSTI, OBRAZOVANJA I MLADIH","1845 SVEUČILIŠTE U ZAGREBU - PREHRAMBENO-BIOTEHNOLOŠKI FAKULTET","03207102","47824453867","11"]
[1853,"SVEUČILIŠTE U ZAGREBU - GEODETSKI FAKULTET","080 - MINISTARSTVO ZNANOSTI, OBRAZOVANJA I MLADIH","1853 SVEUČILIŠTE U ZAGREBU - GEODETSKI FAKULTET","03204987","43594593297","11"]
[1861,"SVEUČILIŠTE U ZAGREBU - ARHITEKTONSKI FAKULTET","080 - MINISTARSTVO ZNANOSTI, OBRAZOVANJA I MLADIH","1861 SVEUČILIŠTE U ZAGREBU - ARHITEKTONSKI FAKULTET","03204952","42061107444","11"]
[1870,"SVEUČILIŠTE U ZAGREBU - STOMATOLOŠKI FAKULTET","080 - MINISTARSTVO ZNANOSTI, OBRAZOVANJA I MLADIH","1870 SVEUČILIŠTE U ZAGREBU - STOMATOLOŠKI FAKULTET","03204995","70221464726","11"]
[1888,"SVEUČILIŠTE U ZAGREBU, MEDICINSKI FAKULTET","080 - MINISTARSTVO ZNANOSTI, OBRAZOVANJA I MLADIH","1888 SVEUČILIŠTE U ZAGREBU, MEDICINSKI FAKULTET","03270211","45001686598","11"]
[1896,"SVEUČILIŠTE U ZAGREBU - FAKULTET ŠUMARSTVA I DRVNE TEHNOLOGIJE","080 - MINISTARSTVO ZNANOSTI, OBRAZOVANJA I MLADIH","1896 SVEUČILIŠTE U ZAGREBU - FAKULTET ŠUMARSTVA I DRVNE TEHNOLOGIJE","03281485","07699719217","11"]
[1907,"SVEUČILIŠTE U ZAGREBU - FAKULTET POLITIČKIH ZNANOSTI","080 - MINISTARSTVO ZNANOSTI, OBRAZOVANJA I MLADIH","1907 SVEUČILIŠTE U ZAGREBU - FAKULTET POLITIČKIH ZNANOSTI","03270262","28011548575","11"]
[1915,"SVEUČILIŠTE U ZAGREBU - PRAVNI FAKULTET","080 - MINISTARSTVO ZNANOSTI, OBRAZOVANJA I MLADIH","1915 SVEUČILIŠTE U ZAGREBU - PRAVNI FAKULTET","03225909","38583303160","11"]
[1923,"SVEUČILIŠTE U ZAGREBU - AGRONOMSKI FAKULTET","080 - MINISTARSTVO ZNANOSTI, OBRAZOVANJA I MLADIH","1923 SVEUČILIŠTE U ZAGREBU - AGRONOMSKI FAKULTET","03283097","76023745044","11"]
[1931,"SVEUČILIŠTE U ZAGREBU - EKONOMSKI FAKULTET","080 - MINISTARSTVO ZNANOSTI, OBRAZOVANJA I MLADIH","1931 SVEUČILIŠTE U ZAGREBU - EKONOMSKI FAKULTET","03272079","27208467122","11"]
[1940,"SVEUČILIŠTE U ZAGREBU - UČITELJSKI FAKULTET","080 - MINISTARSTVO ZNANOSTI, OBRAZOVANJA I MLADIH","1940 SVEUČILIŠTE U ZAGREBU - UČITELJSKI FAKULTET","01422545","72226488129","11"]
[1958,"SVEUČILIŠTE U ZAGREBU - FILOZOFSKI FAKULTET","080 - MINISTARSTVO ZNANOSTI, OBRAZOVANJA I MLADIH","1958 SVEUČILIŠTE U ZAGREBU - FILOZOFSKI FAKULTET","03254852","90633715804","11"]
[1966,"SVEUČILIŠTE U ZAGREBU - EDUKCIJSKO-REHABILITACIJSKI FAKULTET","080 - MINISTARSTVO ZNANOSTI, OBRAZOVANJA I MLADIH","1966 SVEUČILIŠTE U ZAGREBU - EDUKCIJSKO-REHABILITACIJSKI FAKULTET","03219780","34967762426","11"]
[1974,"SVEUČILIŠTE U ZAGREBU - AKADEMIJA DRAMSKE UMJETNOSTI ","080 - MINISTARSTVO ZNANOSTI, OBRAZOVANJA I MLADIH","1974 SVEUČILIŠTE U ZAGREBU - AKADEMIJA DRAMSKE UMJETNOSTI ","03205029","52097842295","11"]
[1982,"SVEUČILIŠTE U ZAGREBU AKADEMIJA LIKOVNIH UMJETNOSTI","080 - MINISTARSTVO ZNANOSTI, OBRAZOVANJA I MLADIH","1982 SVEUČILIŠTE U ZAGREBU AKADEMIJA LIKOVNIH UMJETNOSTI","03207919","95847257607","11"]
[1999,"SVEUČILIŠTE U ZAGREBU - MUZIČKA AKADEMIJA","080 - MINISTARSTVO ZNANOSTI, OBRAZOVANJA I MLADIH","1999 SVEUČILIŠTE U ZAGREBU - MUZIČKA AKADEMIJA","03205002","18422925218","11"]
[2006,"SVEUČILIŠTE U ZAGREBU KINEZIOLOŠKI FAKULTET","080 - MINISTARSTVO ZNANOSTI, OBRAZOVANJA I MLADIH","2006 SVEUČILIŠTE U ZAGREBU KINEZIOLOŠKI FAKULTET","03274080","25329931628","11"]
[2014,"SVEUČILIŠTE U ZAGREBU FARMACEUTSKO-BIOKEMIJSKI FAKULTET","080 - MINISTARSTVO ZNANOSTI, OBRAZOVANJA I MLADIH","2014 SVEUČILIŠTE U ZAGREBU FARMACEUTSKO-BIOKEMIJSKI FAKULTET","03205037","14509285435","11"]
[2022,"SVEUČILIŠTE U ZAGREBU VETERINARSKI FAKULTET","080 - MINISTARSTVO ZNANOSTI, OBRAZOVANJA I MLADIH","2022 SVEUČILIŠTE U ZAGREBU VETERINARSKI FAKULTET","03225755","36389528408","11"]
[2047,"SVEUČILIŠTE U ZAGREBU RUDARSKO-GEOLOŠKO-NAFTNI FAKULTET","080 - MINISTARSTVO ZNANOSTI, OBRAZOVANJA I MLADIH",{"$f":"A66&\" \"&B66","v":"2047 SVEUČILIŠTE U ZAGREBU RUDARSKO-GEOLOŠKO-NAFTNI FAKULTET"},"03207005","99534693762","11"]
[2063,"SVEUČILIŠTE U ZAGREBU FAKULTET ORGANIZACIJE I INFORMATIKE","080 - MINISTARSTVO ZNANOSTI, OBRAZOVANJA I MLADIH","2063 SVEUČILIŠTE U ZAGREBU FAKULTET ORGANIZACIJE I INFORMATIKE","03006107","02024882310","11"]
[2071,"SVEUČILIŠTE U ZAGREBU - METALURŠKI FAKULTET SISAK","080 - MINISTARSTVO ZNANOSTI, OBRAZOVANJA I MLADIH","2071 SVEUČILIŠTE U ZAGREBU - METALURŠKI FAKULTET SISAK","03313786","48006703414","11"]
[2080,"SVEUČILIŠTE U ZAGREBU - GRAFIČKI FAKULTET","080 - MINISTARSTVO ZNANOSTI, OBRAZOVANJA I MLADIH","2080 SVEUČILIŠTE U ZAGREBU - GRAFIČKI FAKULTET","03219763","25564990903","11"]
[2102,"SVEUČILIŠTE U ZAGREBU - GEOTEHNIČKI FAKULTET","080 - MINISTARSTVO ZNANOSTI, OBRAZOVANJA I MLADIH","2102 SVEUČILIŠTE U ZAGREBU - GEOTEHNIČKI FAKULTET","03042316","16146181375","11"]
[2135,"SVEUČILIŠTE U ZAGREBU - KATOLIČKI BOGOSLOVNI FAKULTET","080 - MINISTARSTVO ZNANOSTI, OBRAZOVANJA I MLADIH","2135 SVEUČILIŠTE U ZAGREBU - KATOLIČKI BOGOSLOVNI FAKULTET","03703088","48987767944","11"]
[2151,"SVEUČILIŠTE U RIJECI - TEHNIČKI FAKULTET","080 - MINISTARSTVO ZNANOSTI, OBRAZOVANJA I MLADIH","2151 SVEUČILIŠTE U RIJECI - TEHNIČKI FAKULTET","03334317","46319717480","11"]
[2160,"SVEUČILIŠTE U RIJECI - GRAĐEVINSKI FAKULTET","080 - MINISTARSTVO ZNANOSTI, OBRAZOVANJA I MLADIH","2160 SVEUČILIŠTE U RIJECI - GRAĐEVINSKI FAKULTET","03395855","92037849504","11"]
[2186,"SVEUČILIŠTE U RIJECI, EKONOMSKI FAKULTET","080 - MINISTARSTVO ZNANOSTI, OBRAZOVANJA I MLADIH","2186 SVEUČILIŠTE U RIJECI, EKONOMSKI FAKULTET","03328627","26093119930","11"]
[2194,"SVEUČILIŠTE U RIJECI - FAKULTET ZA MENADŽMENT U TURIZMU I UGOSTITELJSTVU","080 - MINISTARSTVO ZNANOSTI, OBRAZOVANJA I MLADIH","2194 SVEUČILIŠTE U RIJECI - FAKULTET ZA MENADŽMENT U TURIZMU I UGOSTITELJSTVU","03091732","85799845149","11"]
[2217,"SVEUČILIŠTE U RIJECI, PRAVNI FAKULTET","080 - MINISTARSTVO ZNANOSTI, OBRAZOVANJA I MLADIH","2217 SVEUČILIŠTE U RIJECI, PRAVNI FAKULTET","03328562","43767699965","11"]
[2225,"SVEUČILIŠTE U RIJECI - MEDICINSKI FAKULTET","080 - MINISTARSTVO ZNANOSTI, OBRAZOVANJA I MLADIH","2225 SVEUČILIŠTE U RIJECI - MEDICINSKI FAKULTET","03328554","98164324541","11"]
[2250,"SVEUČILIŠTE JOSIPA JURJA  STROSSMAYERA U OSIJEKU, GRAĐEVINSKI I ARHITEKTONSKI FAKULTET OSIJEK","080 - MINISTARSTVO ZNANOSTI, OBRAZOVANJA I MLADIH","2250 SVEUČILIŠTE JOSIPA JURJA  STROSSMAYERA U OSIJEKU, GRAĐEVINSKI I ARHITEKTONSKI FAKULTET OSIJEK","03397335","04150850819","11"]
[2268,"SVEUČILIŠTE J.J. STROSSMAYERA U OSIJEKU - FAKULTET AGROBIOTEHNIČKIH ZNANOSTI OSIJEK","080 - MINISTARSTVO ZNANOSTI, OBRAZOVANJA I MLADIH","2268 SVEUČILIŠTE J.J. STROSSMAYERA U OSIJEKU - FAKULTET AGROBIOTEHNIČKIH ZNANOSTI OSIJEK","03058212","98816779821","11"]
[2276,"SVEUČILIŠTE J.J. STROSSMAYERA U OSIJEKU - PREHRAMBENO-TEHNOLOŠKI FAKULTET","080 - MINISTARSTVO ZNANOSTI, OBRAZOVANJA I MLADIH","2276 SVEUČILIŠTE J.J. STROSSMAYERA U OSIJEKU - PREHRAMBENO-TEHNOLOŠKI FAKULTET","03058204","96371000697","11"]
[2284,"SVEUČILIŠTE J.J. STROSSMAYERA U OSIJEKU - EKONOMSKI FAKULTET","080 - MINISTARSTVO ZNANOSTI, OBRAZOVANJA I MLADIH","2284 SVEUČILIŠTE J.J. STROSSMAYERA U OSIJEKU - EKONOMSKI FAKULTET","03021645","52778515544","11"]
[2292,"SVEUČILIŠTE JOSIPA JURJA STROSSMAYERA U OSIJEKU - PRAVNI FAKULTET","080 - MINISTARSTVO ZNANOSTI, OBRAZOVANJA I MLADIH","2292 SVEUČILIŠTE JOSIPA JURJA STROSSMAYERA U OSIJEKU - PRAVNI FAKULTET","03014193","26416570803","11"]
[2313,"SVEUČILIŠTE J.J. STROSSMAYERA  U OSIJEKU - FAKULTET ELEKTROTEHNIKE, RAČUNARSTVA I INFORMACIJSKIH TEHNOLOGIJA OSIJEK","080 - MINISTARSTVO ZNANOSTI, OBRAZOVANJA I MLADIH","2313 SVEUČILIŠTE J.J. STROSSMAYERA  U OSIJEKU - FAKULTET ELEKTROTEHNIKE, RAČUNARSTVA I INFORMACIJSKIH TEHNOLOGIJA OSIJEK","03392589","95494259952","11"]
[2321,"SVEUČILIŠTE J.J. STROSSMAYERA U OSIJEKU - FILOZOFSKI FAKULTET","080 - MINISTARSTVO ZNANOSTI, OBRAZOVANJA I MLADIH","2321 SVEUČILIŠTE J.J. STROSSMAYERA U OSIJEKU - FILOZOFSKI FAKULTET","03014185","58868871646","11"]
[2330,"SVEUČILIŠTE U SPLITU, FAKULTET ELEKTROTEHNIKE, STROJARSTVA I BRODOGRADNJE","080 - MINISTARSTVO ZNANOSTI, OBRAZOVANJA I MLADIH","2330 SVEUČILIŠTE U SPLITU, FAKULTET ELEKTROTEHNIKE, STROJARSTVA I BRODOGRADNJE","03118339","00857144221","11"]
[2348,"SVEUČILIŠTE U SPLITU - FAKULTET GRAĐEVINARSTVA, ARHITEKTURE I GEODEZIJE","080 - MINISTARSTVO ZNANOSTI, OBRAZOVANJA I MLADIH","2348 SVEUČILIŠTE U SPLITU - FAKULTET GRAĐEVINARSTVA, ARHITEKTURE I GEODEZIJE","03149463","83615500218","11"]
[2356,"SVEUČILIŠTE U SPLITU - KEMIJSKO-TEHNOLOŠKI FAKULTET","080 - MINISTARSTVO ZNANOSTI, OBRAZOVANJA I MLADIH","2356 SVEUČILIŠTE U SPLITU - KEMIJSKO-TEHNOLOŠKI FAKULTET","03119068","99401575594","11"]
[2372,"SVEUČILIŠTE U SPLITU - EKONOMSKI FAKULTET","080 - MINISTARSTVO ZNANOSTI, OBRAZOVANJA I MLADIH","2372 SVEUČILIŠTE U SPLITU - EKONOMSKI FAKULTET","03119076","84477684422","11"]
[2397,"SVEUČILIŠTE U SPLITU -  PRAVNI FAKULTET","080 - MINISTARSTVO ZNANOSTI, OBRAZOVANJA I MLADIH","2397 SVEUČILIŠTE U SPLITU -  PRAVNI FAKULTET","03118347","03541568700","11"]
[2410,"SVEUČILIŠTE U SPLITU, PRIRODOSLOVNO-MATEMATIČKI FAKULTET","080 - MINISTARSTVO ZNANOSTI, OBRAZOVANJA I MLADIH","2410 SVEUČILIŠTE U SPLITU, PRIRODOSLOVNO-MATEMATIČKI FAKULTET","03199622","20858497843","11"]
[2436,"SVEUČILIŠTE U ZAGREBU","080 - MINISTARSTVO ZNANOSTI, OBRAZOVANJA I MLADIH","2436 SVEUČILIŠTE U ZAGREBU","03211592","36612267447","11"]
[2444,"SVEUČILIŠTE U RIJECI","080 - MINISTARSTVO ZNANOSTI, OBRAZOVANJA I MLADIH","2444 SVEUČILIŠTE U RIJECI","03337413","64218323816","11"]
[2452,"SVEUČILIŠTE J.J. STROSSMAYERA U OSIJEKU","080 - MINISTARSTVO ZNANOSTI, OBRAZOVANJA I MLADIH","2452 SVEUČILIŠTE J.J. STROSSMAYERA U OSIJEKU","03049779","78808975734","11"]
[2469,"SVEUČILIŠTE U SPLITU","080 - MINISTARSTVO ZNANOSTI, OBRAZOVANJA I MLADIH","2469 SVEUČILIŠTE U SPLITU","03129306","29845096215","11"]
[2493,"SVEUČILIŠTE U RIJECI - SVEUČILIŠNA KNJIŽNICA","080 - MINISTARSTVO ZNANOSTI, OBRAZOVANJA I MLADIH","2493 SVEUČILIŠTE U RIJECI - SVEUČILIŠNA KNJIŽNICA","03328686","84122581314","11"]
[2508,"SVEUČILIŠTE JOSIPA JURJA STROSSMAYERA U OSIJEKU GRADSKA I SVEUČILIŠNA KNJIŽNICA OSIJEK","080 - MINISTARSTVO ZNANOSTI, OBRAZOVANJA I MLADIH","2508 SVEUČILIŠTE JOSIPA JURJA STROSSMAYERA U OSIJEKU GRADSKA I SVEUČILIŠNA KNJIŽNICA OSIJEK","03014347","46627536930","11"]
[2524,"SVEUČILIŠTE U SPLITU - SVEUČILIŠNA KNJIŽNICA","080 - MINISTARSTVO ZNANOSTI, OBRAZOVANJA I MLADIH","2524 SVEUČILIŠTE U SPLITU - SVEUČILIŠNA KNJIŽNICA","03118436","40099344720","11"]
[2532,"SVEUČILIŠTE U ZADRU, ZNANSTVENA KNJIŽNICA ","080 - MINISTARSTVO ZNANOSTI, OBRAZOVANJA I MLADIH","2532 SVEUČILIŠTE U ZADRU, ZNANSTVENA KNJIŽNICA ","03141993","94403503942","11"]
[2900,"INSTITUT ZA OCEANOGRAFIJU I RIBARSTVO","080 - MINISTARSTVO ZNANOSTI, OBRAZOVANJA I MLADIH","2900 INSTITUT ZA OCEANOGRAFIJU I RIBARSTVO","03118355","86235185568","11"]
[2918,"EKONOMSKI INSTITUT, ZAGREB","080 - MINISTARSTVO ZNANOSTI, OBRAZOVANJA I MLADIH","2918 EKONOMSKI INSTITUT, ZAGREB","03219925","70925432731","11"]
[2934,"HRVATSKI INSTITUT ZA POVIJEST","080 - MINISTARSTVO ZNANOSTI, OBRAZOVANJA I MLADIH","2934 HRVATSKI INSTITUT ZA POVIJEST","03207153","23296176633","11"]
[2942,"INSTITUT ZA POVIJEST UMJETNOSTI","080 - MINISTARSTVO ZNANOSTI, OBRAZOVANJA I MLADIH","2942 INSTITUT ZA POVIJEST UMJETNOSTI","01339958","59451980348","11"]
[2959,"INSTITUT ZA MEDICINSKA ISTRAŽIVANJA I MEDICINU RADA","080 - MINISTARSTVO ZNANOSTI, OBRAZOVANJA I MLADIH","2959 INSTITUT ZA MEDICINSKA ISTRAŽIVANJA I MEDICINU RADA","03270475","30285469659","11"]
[2967,"HRVATSKI ŠUMARSKI INSTITUT","080 - MINISTARSTVO ZNANOSTI, OBRAZOVANJA I MLADIH","2967 HRVATSKI ŠUMARSKI INSTITUT","03115879","13579392023","11"]
[2975,"INSTITUT ZA FIZIKU","080 - MINISTARSTVO ZNANOSTI, OBRAZOVANJA I MLADIH","2975 INSTITUT ZA FIZIKU","03270424","77627408491","11"]
[2983,"HRVATSKI VETERINARSKI INSTITUT","060 - MINISTARSTVO POLJOPRIVREDE, ŠUMARSTVA I RIBARSTVA","2983 HRVATSKI VETERINARSKI INSTITUT","03274098","29059177553","11"]
[2991,"POLJOPRIVREDNI INSTITUT OSIJEK","080 - MINISTARSTVO ZNANOSTI, OBRAZOVANJA I MLADIH","2991 POLJOPRIVREDNI INSTITUT OSIJEK","03058239","03665720049","11"]
[3009,"INSTITUT ZA MIGRACIJE I NARODNOSTI","080 - MINISTARSTVO ZNANOSTI, OBRAZOVANJA I MLADIH","3009 INSTITUT ZA MIGRACIJE I NARODNOSTI","03287572","80265403319","11"]
[3025,"INSTITUT ZA JADRANSKE KULTURE I MELIORACIJU KRŠA","080 - MINISTARSTVO ZNANOSTI, OBRAZOVANJA I MLADIH","3025 INSTITUT ZA JADRANSKE KULTURE I MELIORACIJU KRŠA","03140792","90884993104","11"]
[3041,"INSTITUT RUĐER BOŠKOVIĆ","080 - MINISTARSTVO ZNANOSTI, OBRAZOVANJA I MLADIH","3041 INSTITUT RUĐER BOŠKOVIĆ","03270289","69715301002","11"]
[3050,"INSTITUT ZA DRUŠTVENA ISTRAŽIVANJA U ZAGREBU","080 - MINISTARSTVO ZNANOSTI, OBRAZOVANJA I MLADIH","3050 INSTITUT ZA DRUŠTVENA ISTRAŽIVANJA U ZAGREBU","03205118","11986338639","11"]
[3068,"INSTITUT ZA TURIZAM","080 - MINISTARSTVO ZNANOSTI, OBRAZOVANJA I MLADIH","3068 INSTITUT ZA TURIZAM","03208001","10264179101","11"]
[3076,"INSTITUT ZA POLJOPRIVREDU I TURIZAM","080 - MINISTARSTVO ZNANOSTI, OBRAZOVANJA I MLADIH","3076 INSTITUT ZA POLJOPRIVREDU I TURIZAM","03421031","03850982961","11"]
[3084,"INSTITUT ZA ETNOLOGIJU I FOLKLORISTIKU","080 - MINISTARSTVO ZNANOSTI, OBRAZOVANJA I MLADIH","3084 INSTITUT ZA ETNOLOGIJU I FOLKLORISTIKU","03724042","37781872772","11"]
[3092,"INSTITUT ZA FILOZOFIJU","080 - MINISTARSTVO ZNANOSTI, OBRAZOVANJA I MLADIH","3092 INSTITUT ZA FILOZOFIJU","03772047","43667021597","11"]
[3105,"INSTITUT DRUŠTVENIH ZNANOSTI  IVO PILAR","080 - MINISTARSTVO ZNANOSTI, OBRAZOVANJA I MLADIH","3105 INSTITUT DRUŠTVENIH ZNANOSTI  IVO PILAR","03793028","32840574937","11"]
[3113,"INSTITUT ZA ANTROPOLOGIJU","080 - MINISTARSTVO ZNANOSTI, OBRAZOVANJA I MLADIH","3113 INSTITUT ZA ANTROPOLOGIJU","03817121","93710699926","11"]
[3121,"INSTITUT ZA ARHEOLOGIJU","080 - MINISTARSTVO ZNANOSTI, OBRAZOVANJA I MLADIH","3121 INSTITUT ZA ARHEOLOGIJU","03937658","59796264563","11"]
[3148,"ZATVORSKA BOLNICA U ZAGREBU","109 - MINISTARSTVO PRAVOSUĐA, UPRAVE I DIGITALNE TRANSFORMACIJE ","3148 ZATVORSKA BOLNICA U ZAGREBU","03283089","13812320938","11"]
[3156,"ODGOJNI ZAVOD TUROPOLJE","109 - MINISTARSTVO PRAVOSUĐA, UPRAVE I DIGITALNE TRANSFORMACIJE ","3156 ODGOJNI ZAVOD TUROPOLJE","03126498","71207730103","11"]
[3164,"KAZNIONICA U LEPOGLAVI","109 - MINISTARSTVO PRAVOSUĐA, UPRAVE I DIGITALNE TRANSFORMACIJE ","3164 KAZNIONICA U LEPOGLAVI","03125971","10236446484","11"]
[3172,"KAZNIONICA U LIPOVICI - POPOVAČA","109 - MINISTARSTVO PRAVOSUĐA, UPRAVE I DIGITALNE TRANSFORMACIJE ","3172 KAZNIONICA U LIPOVICI - POPOVAČA","03331482","22519877219","11"]
[3197,"KAZNIONICA U  TUROPOLJU","109 - MINISTARSTVO PRAVOSUĐA, UPRAVE I DIGITALNE TRANSFORMACIJE ","3197 KAZNIONICA U  TUROPOLJU","03230015","19085780732","11"]
[3201,"KAZNIONICA U VALTURI","109 - MINISTARSTVO PRAVOSUĐA, UPRAVE I DIGITALNE TRANSFORMACIJE ","3201 KAZNIONICA U VALTURI","03221784","17231519023","11"]
[3210,"ZATVOR U  BJELOVARU","109 - MINISTARSTVO PRAVOSUĐA, UPRAVE I DIGITALNE TRANSFORMACIJE ","3210 ZATVOR U  BJELOVARU","03331369","81776072137","11"]
[3228,"ZATVOR U DUBROVNIKU","109 - MINISTARSTVO PRAVOSUĐA, UPRAVE I DIGITALNE TRANSFORMACIJE ","3228 ZATVOR U DUBROVNIKU","03312062","67505868091","11"]
[3236,"ZATVOR U GOSPIĆU","109 - MINISTARSTVO PRAVOSUĐA, UPRAVE I DIGITALNE TRANSFORMACIJE ","3236 ZATVOR U GOSPIĆU","03345971","22146074849","11"]
[3244,"ZATVOR U KARLOVCU","109 - MINISTARSTVO PRAVOSUĐA, UPRAVE I DIGITALNE TRANSFORMACIJE ","3244 ZATVOR U KARLOVCU","03141667","95460314688","11"]
[3252,"ZATVOR U OSIJEKU","109 - MINISTARSTVO PRAVOSUĐA, UPRAVE I DIGITALNE TRANSFORMACIJE ","3252 ZATVOR U OSIJEKU","03055264","41454229611","11"]
[3277,"ZATVOR U PULI-POLA","109 - MINISTARSTVO PRAVOSUĐA, UPRAVE I DIGITALNE TRANSFORMACIJE ",{"$f":"A130&\" \"&B130","v":"3277 ZATVOR U PULI-POLA"},"03227693","17447075545","11"]
[3285,"ZATVOR U RIJECI","109 - MINISTARSTVO PRAVOSUĐA, UPRAVE I DIGITALNE TRANSFORMACIJE ","3285 ZATVOR U RIJECI","03341640","33722890668","11"]
[3293,"ZATVOR U SISKU","109 - MINISTARSTVO PRAVOSUĐA, UPRAVE I DIGITALNE TRANSFORMACIJE ","3293 ZATVOR U SISKU","03314707","02167221104","11"]
[3308,"ZATVOR U SPLITU","109 - MINISTARSTVO PRAVOSUĐA, UPRAVE I DIGITALNE TRANSFORMACIJE ","3308 ZATVOR U SPLITU","03148262","76049012642","11"]
[3316,"ZATVOR U ŠIBENIKU","109 - MINISTARSTVO PRAVOSUĐA, UPRAVE I DIGITALNE TRANSFORMACIJE ","3316 ZATVOR U ŠIBENIKU","03060870","63458186326","11"]
[3324,"ZATVOR U VARAŽDINU","109 - MINISTARSTVO PRAVOSUĐA, UPRAVE I DIGITALNE TRANSFORMACIJE ","3324 ZATVOR U VARAŽDINU","03048560","81202714807","11"]
[3332,"ZATVOR U ZADRU","109 - MINISTARSTVO PRAVOSUĐA, UPRAVE I DIGITALNE TRANSFORMACIJE ","3332 ZATVOR U ZADRU","03159973","39019469578","11"]
[3349,"ZATVOR U  ZAGREBU","109 - MINISTARSTVO PRAVOSUĐA, UPRAVE I DIGITALNE TRANSFORMACIJE ","3349 ZATVOR U  ZAGREBU","03226476","92668153620","11"]
[3357,"VRHOVNI SUD REPUBLIKE HRVATSKE","109 - MINISTARSTVO PRAVOSUĐA, UPRAVE I DIGITALNE TRANSFORMACIJE ","3357 VRHOVNI SUD REPUBLIKE HRVATSKE","03206050","20599635268","11"]
[3365,"DRŽAVNO ODVJETNIŠTVO REPUBLIKE HRVATSKE","109 - MINISTARSTVO PRAVOSUĐA, UPRAVE I DIGITALNE TRANSFORMACIJE ","3365 DRŽAVNO ODVJETNIŠTVO REPUBLIKE HRVATSKE","03277151","43539267895","11"]
[3381,"VISOKI PREKRŠAJNI SUD REPUBLIKE HRVATSKE","109 - MINISTARSTVO PRAVOSUĐA, UPRAVE I DIGITALNE TRANSFORMACIJE ","3381 VISOKI PREKRŠAJNI SUD REPUBLIKE HRVATSKE","03206068","02594920860","11"]
[3390,"ŽUPANIJSKI SUD U DUBROVNIKU","109 - MINISTARSTVO PRAVOSUĐA, UPRAVE I DIGITALNE TRANSFORMACIJE ","3390 ŽUPANIJSKI SUD U DUBROVNIKU","03304680","89577096924","11"]
[3412,"ŽUPANIJSKI SUD U KARLOVCU","109 - MINISTARSTVO PRAVOSUĐA, UPRAVE I DIGITALNE TRANSFORMACIJE ","3412 ŽUPANIJSKI SUD U KARLOVCU","03123502","03592261620","11"]
[3429,"ŽUPANIJSKI SUD U OSIJEKU","109 - MINISTARSTVO PRAVOSUĐA, UPRAVE I DIGITALNE TRANSFORMACIJE ","3429 ŽUPANIJSKI SUD U OSIJEKU","03014819","84896920817","11"]
[3445,"ŽUPANIJSKI SUD U PULI - POLA","109 - MINISTARSTVO PRAVOSUĐA, UPRAVE I DIGITALNE TRANSFORMACIJE ","3445 ŽUPANIJSKI SUD U PULI - POLA","03204138","69281755283","11"]
[3453,"ŽUPANIJSKI SUD U RIJECI","109 - MINISTARSTVO PRAVOSUĐA, UPRAVE I DIGITALNE TRANSFORMACIJE ","3453 ŽUPANIJSKI SUD U RIJECI","03321401","22883124500","11"]
[3461,"ŽUPANIJSKI SUD U SISKU","109 - MINISTARSTVO PRAVOSUĐA, UPRAVE I DIGITALNE TRANSFORMACIJE ","3461 ŽUPANIJSKI SUD U SISKU","03314731","27877699046","11"]
[3470,"ŽUPANIJSKI SUD U SPLITU","109 - MINISTARSTVO PRAVOSUĐA, UPRAVE I DIGITALNE TRANSFORMACIJE ","3470 ŽUPANIJSKI SUD U SPLITU","03118673","11748694684","11"]
[3488,"ŽUPANIJSKI SUD U VARAŽDINU","109 - MINISTARSTVO PRAVOSUĐA, UPRAVE I DIGITALNE TRANSFORMACIJE ","3488 ŽUPANIJSKI SUD U VARAŽDINU","03006719","03344665749","11"]
[3496,"ŽUPANIJSKI SUD U ZADRU","109 - MINISTARSTVO PRAVOSUĐA, UPRAVE I DIGITALNE TRANSFORMACIJE ","3496 ŽUPANIJSKI SUD U ZADRU","03142434","97465301721","11"]
[3507,"ŽUPANIJSKI SUD U  ZAGREBU","109 - MINISTARSTVO PRAVOSUĐA, UPRAVE I DIGITALNE TRANSFORMACIJE ","3507 ŽUPANIJSKI SUD U  ZAGREBU","03206076","87134069158","11"]
[3515,"TRGOVAČKI SUD U BJELOVARU","109 - MINISTARSTVO PRAVOSUĐA, UPRAVE I DIGITALNE TRANSFORMACIJE ","3515 TRGOVAČKI SUD U BJELOVARU","03333299","07942269267","11"]
[3531,"TRGOVAČKI SUD U OSIJEKU","109 - MINISTARSTVO PRAVOSUĐA, UPRAVE I DIGITALNE TRANSFORMACIJE ","3531 TRGOVAČKI SUD U OSIJEKU","03014797","37588811552","11"]
[3540,"TRGOVAČKI SUD U RIJECI","109 - MINISTARSTVO PRAVOSUĐA, UPRAVE I DIGITALNE TRANSFORMACIJE ","3540 TRGOVAČKI SUD U RIJECI","03321410","88785964957","11"]
[3566,"TRGOVAČKI SUD U SPLITU","109 - MINISTARSTVO PRAVOSUĐA, UPRAVE I DIGITALNE TRANSFORMACIJE ","3566 TRGOVAČKI SUD U SPLITU","03119505","30842297926","11"]
[3574,"TRGOVAČKI SUD U VARAŽDINU","109 - MINISTARSTVO PRAVOSUĐA, UPRAVE I DIGITALNE TRANSFORMACIJE ","3574 TRGOVAČKI SUD U VARAŽDINU","03365042","07397915111","11"]
[3582,"VISOKI TRGOVAČKI SUD REPUBLIKE HRVATSKE","109 - MINISTARSTVO PRAVOSUĐA, UPRAVE I DIGITALNE TRANSFORMACIJE ","3582 VISOKI TRGOVAČKI SUD REPUBLIKE HRVATSKE","03271064","97349366519","11"]
[3599,"ŽUPANIJSKO DRŽAVNO ODVJETNIŠTVO U DUBROVNIKU","109 - MINISTARSTVO PRAVOSUĐA, UPRAVE I DIGITALNE TRANSFORMACIJE ","3599 ŽUPANIJSKO DRŽAVNO ODVJETNIŠTVO U DUBROVNIKU","03304698","44737751634","11"]
[3611,"ŽUPANIJSKO DRŽAVNO ODVJETNIŠTVO U KARLOVCU","109 - MINISTARSTVO PRAVOSUĐA, UPRAVE I DIGITALNE TRANSFORMACIJE ","3611 ŽUPANIJSKO DRŽAVNO ODVJETNIŠTVO U KARLOVCU","03123545","96351974803","11"]
[3620,"ŽUPANIJSKO DRŽAVNO ODVJETNIŠTVO U OSIJEKU","109 - MINISTARSTVO PRAVOSUĐA, UPRAVE I DIGITALNE TRANSFORMACIJE ","3620 ŽUPANIJSKO DRŽAVNO ODVJETNIŠTVO U OSIJEKU","03014835","61379160880","11"]
[3646,"ŽUPANIJSKO DRŽAVNO ODVJETNIŠTVO U PULI - POLA","109 - MINISTARSTVO PRAVOSUĐA, UPRAVE I DIGITALNE TRANSFORMACIJE ","3646 ŽUPANIJSKO DRŽAVNO ODVJETNIŠTVO U PULI - POLA","03204154","93993757343","11"]
[3654,"ŽUPANIJSKO DRŽAVNO ODVJETNIŠTVO U RIJECI","109 - MINISTARSTVO PRAVOSUĐA, UPRAVE I DIGITALNE TRANSFORMACIJE ","3654 ŽUPANIJSKO DRŽAVNO ODVJETNIŠTVO U RIJECI","03332101","03377753055","11"]
[3662,"ŽUPANIJSKO DRŽAVNO ODVJETNIŠTVO U SISKU","109 - MINISTARSTVO PRAVOSUĐA, UPRAVE I DIGITALNE TRANSFORMACIJE ","3662 ŽUPANIJSKO DRŽAVNO ODVJETNIŠTVO U SISKU","03314758","05526850490","11"]
[3679,"ŽUPANIJSKO DRŽAVNO ODVJETNIŠTVO U SPLITU","109 - MINISTARSTVO PRAVOSUĐA, UPRAVE I DIGITALNE TRANSFORMACIJE ","3679 ŽUPANIJSKO DRŽAVNO ODVJETNIŠTVO U SPLITU","03118681","70793241859","11"]
[3687,"ŽUPANIJSKO DRŽAVNO ODVJETNIŠTVO U ŠIBENIKU","109 - MINISTARSTVO PRAVOSUĐA, UPRAVE I DIGITALNE TRANSFORMACIJE ","3687 ŽUPANIJSKO DRŽAVNO ODVJETNIŠTVO U ŠIBENIKU","03023508","62915793914","11"]
[3695,"ŽUPANIJSKO DRŽAVNO ODVJETNIŠTVO U VARAŽDINU","109 - MINISTARSTVO PRAVOSUĐA, UPRAVE I DIGITALNE TRANSFORMACIJE ","3695 ŽUPANIJSKO DRŽAVNO ODVJETNIŠTVO U VARAŽDINU","03006743","23987413075","11"]
[3700,"ŽUPANIJSKO DRŽAVNO ODVJETNIŠTVO U ZADRU","109 - MINISTARSTVO PRAVOSUĐA, UPRAVE I DIGITALNE TRANSFORMACIJE ","3700 ŽUPANIJSKO DRŽAVNO ODVJETNIŠTVO U ZADRU","03142469","17132768561","11"]
[3718,"ŽUPANIJSKO DRŽAVNO ODVJETNIŠTVO U ZAGREBU","109 - MINISTARSTVO PRAVOSUĐA, UPRAVE I DIGITALNE TRANSFORMACIJE ","3718 ŽUPANIJSKO DRŽAVNO ODVJETNIŠTVO U ZAGREBU","03277143","16488001145","11"]
[3742,"OPĆINSKI SUD U BJELOVARU","109 - MINISTARSTVO PRAVOSUĐA, UPRAVE I DIGITALNE TRANSFORMACIJE ","3742 OPĆINSKI SUD U BJELOVARU","03317072","57362618039","11"]
[3783,"OPĆINSKI SUD U ČAKOVCU","109 - MINISTARSTVO PRAVOSUĐA, UPRAVE I DIGITALNE TRANSFORMACIJE ","3783 OPĆINSKI SUD U ČAKOVCU","03110761","55277272395","11"]
[3847,"OPĆINSKI SUD U DUBROVNIKU","109 - MINISTARSTVO PRAVOSUĐA, UPRAVE I DIGITALNE TRANSFORMACIJE ","3847 OPĆINSKI SUD U DUBROVNIKU","03304671","48074464528","11"]
[3919,"OPĆINSKI SUD U GOSPIĆU","109 - MINISTARSTVO PRAVOSUĐA, UPRAVE I DIGITALNE TRANSFORMACIJE ","3919 OPĆINSKI SUD U GOSPIĆU","03315886","29608777564","11"]
[3994,"OPĆINSKI SUD U KOPRIVNICI","109 - MINISTARSTVO PRAVOSUĐA, UPRAVE I DIGITALNE TRANSFORMACIJE ","3994 OPĆINSKI SUD U KOPRIVNICI","03010805","68516938975","11"]
[4132,"OPĆINSKI SUD U OSIJEKU","109 - MINISTARSTVO PRAVOSUĐA, UPRAVE I DIGITALNE TRANSFORMACIJE ","4132 OPĆINSKI SUD U OSIJEKU","03014789","38625793303","11"]
[4212,"OPĆINSKI SUD  U POŽEGI","109 - MINISTARSTVO PRAVOSUĐA, UPRAVE I DIGITALNE TRANSFORMACIJE ","4212 OPĆINSKI SUD  U POŽEGI","03310302","49328464172","11"]
[4237,"OPĆINSKI SUD U PULI - POLA","109 - MINISTARSTVO PRAVOSUĐA, UPRAVE I DIGITALNE TRANSFORMACIJE ","4237 OPĆINSKI SUD U PULI - POLA","03204120","38304616284","11"]
[4253,"OPĆINSKI SUD U RIJECI","109 - MINISTARSTVO PRAVOSUĐA, UPRAVE I DIGITALNE TRANSFORMACIJE ","4253 OPĆINSKI SUD U RIJECI","03321428","54566384631","11"]
[4307,"OPĆINSKI SUD U SISKU","109 - MINISTARSTVO PRAVOSUĐA, UPRAVE I DIGITALNE TRANSFORMACIJE ","4307 OPĆINSKI SUD U SISKU","03314723","74610670107","11"]
[4323,"OPĆINSKI SUD U SLAVONSKOM BRODU","109 - MINISTARSTVO PRAVOSUĐA, UPRAVE I DIGITALNE TRANSFORMACIJE ","4323 OPĆINSKI SUD U SLAVONSKOM BRODU","03071456","28673386029","11"]
[4340,"OPĆINSKI SUD U ŠIBENIKU","109 - MINISTARSTVO PRAVOSUĐA, UPRAVE I DIGITALNE TRANSFORMACIJE ","4340 OPĆINSKI SUD U ŠIBENIKU","03019772","29399232217","11"]
[4366,"OPĆINSKI SUD U VARAŽDINU","109 - MINISTARSTVO PRAVOSUĐA, UPRAVE I DIGITALNE TRANSFORMACIJE ","4366 OPĆINSKI SUD U VARAŽDINU","03006697","14828046348","11"]
[4374,"OPĆINSKI SUD U VELIKOJ GORICI","109 - MINISTARSTVO PRAVOSUĐA, UPRAVE I DIGITALNE TRANSFORMACIJE ","4374 OPĆINSKI SUD U VELIKOJ GORICI","03216365","32284739479","11"]
[4399,"OPĆINSKI SUD U VIROVITICI","109 - MINISTARSTVO PRAVOSUĐA, UPRAVE I DIGITALNE TRANSFORMACIJE ","4399 OPĆINSKI SUD U VIROVITICI","03106071","47974453918","11"]
[4420,"OPĆINSKI SUD U VUKOVARU","109 - MINISTARSTVO PRAVOSUĐA, UPRAVE I DIGITALNE TRANSFORMACIJE ","4420 OPĆINSKI SUD U VUKOVARU","03008886","69370038985","11"]
[4446,"OPĆINSKI SUD U ZADRU","109 - MINISTARSTVO PRAVOSUĐA, UPRAVE I DIGITALNE TRANSFORMACIJE ","4446 OPĆINSKI SUD U ZADRU","03142442","78866932443","11"]
[4462,"OPĆINSKI SUD U ZLATARU","109 - MINISTARSTVO PRAVOSUĐA, UPRAVE I DIGITALNE TRANSFORMACIJE ","4462 OPĆINSKI SUD U ZLATARU","03100952","26566866925","11"]
[4500,"OPĆINSKO DRŽAVNO ODVJETNIŠTVO U BJELOVARU","109 - MINISTARSTVO PRAVOSUĐA, UPRAVE I DIGITALNE TRANSFORMACIJE ","4500 OPĆINSKO DRŽAVNO ODVJETNIŠTVO U BJELOVARU","03308693","57370630720","11"]
[4526,"OPĆINSKO DRŽAVNO ODVJETNIŠTVO U ČAKOVCU","109 - MINISTARSTVO PRAVOSUĐA, UPRAVE I DIGITALNE TRANSFORMACIJE ","4526 OPĆINSKO DRŽAVNO ODVJETNIŠTVO U ČAKOVCU","03110770","35997508988","11"]
[4567,"OPĆINSKO DRŽAVNO ODVJETNIŠTVO U DUBROVNIKU","109 - MINISTARSTVO PRAVOSUĐA, UPRAVE I DIGITALNE TRANSFORMACIJE ","4567 OPĆINSKO DRŽAVNO ODVJETNIŠTVO U DUBROVNIKU","03364968","29897835912","11"]
[4606,"OPĆINSKO DRŽAVNO ODVJETNIŠTVO U GOSPIĆU","109 - MINISTARSTVO PRAVOSUĐA, UPRAVE I DIGITALNE TRANSFORMACIJE ","4606 OPĆINSKO DRŽAVNO ODVJETNIŠTVO U GOSPIĆU","03315908","72336759011","11"]
[4655,"OPĆINSKO DRŽAVNO ODVJETNIŠTVO U KOPRIVNICI","109 - MINISTARSTVO PRAVOSUĐA, UPRAVE I DIGITALNE TRANSFORMACIJE ","4655 OPĆINSKO DRŽAVNO ODVJETNIŠTVO U KOPRIVNICI","03010813","32308927283","11"]
[4760,"OPĆINSKO DRŽAVNO ODVJETNIŠTVO U OSIJEKU","109 - MINISTARSTVO PRAVOSUĐA, UPRAVE I DIGITALNE TRANSFORMACIJE ","4760 OPĆINSKO DRŽAVNO ODVJETNIŠTVO U OSIJEKU","03014827","23673736199","11"]
[4809,"OPĆINSKO DRŽAVNO ODVJETNIŠTVO U POŽEGI","109 - MINISTARSTVO PRAVOSUĐA, UPRAVE I DIGITALNE TRANSFORMACIJE ","4809 OPĆINSKO DRŽAVNO ODVJETNIŠTVO U POŽEGI","03310744","25760780719","11"]
[4817,"OPĆINSKO DRŽAVNO ODVJETNIŠTVO U PULI - POLA","109 - MINISTARSTVO PRAVOSUĐA, UPRAVE I DIGITALNE TRANSFORMACIJE ","4817 OPĆINSKO DRŽAVNO ODVJETNIŠTVO U PULI - POLA","03204146","76040308062","11"]
[4825,"OPĆINSKO DRŽAVNO ODVJETNIŠTVO U RIJECI","109 - MINISTARSTVO PRAVOSUĐA, UPRAVE I DIGITALNE TRANSFORMACIJE ",{"$f":"A194&\" \"&B194","v":"4825 OPĆINSKO DRŽAVNO ODVJETNIŠTVO U RIJECI"},"03321436","79067711474","11"]
[4868,"OPĆINSKO DRŽAVNO ODVJETNIŠTVO U SISKU","109 - MINISTARSTVO PRAVOSUĐA, UPRAVE I DIGITALNE TRANSFORMACIJE ","4868 OPĆINSKO DRŽAVNO ODVJETNIŠTVO U SISKU","03314740","85077656753","11"]
[4876,"OPĆINSKO DRŽAVNO ODVJETNIŠTVO U SLAVONSKOM BRODU","109 - MINISTARSTVO PRAVOSUĐA, UPRAVE I DIGITALNE TRANSFORMACIJE ","4876 OPĆINSKO DRŽAVNO ODVJETNIŠTVO U SLAVONSKOM BRODU","03071472","86687204743","11"]
[4884,"OPĆINSKO DRŽAVNO ODVJETNIŠTVO U SPLITU","109 - MINISTARSTVO PRAVOSUĐA, UPRAVE I DIGITALNE TRANSFORMACIJE ","4884 OPĆINSKO DRŽAVNO ODVJETNIŠTVO U SPLITU","03161242","88116062296","11"]
[4892,"OPĆINSKO DRŽAVNO ODVJETNIŠTVO U ŠIBENIKU","109 - MINISTARSTVO PRAVOSUĐA, UPRAVE I DIGITALNE TRANSFORMACIJE ","4892 OPĆINSKO DRŽAVNO ODVJETNIŠTVO U ŠIBENIKU","03019829","83225778075","11"]
[4913,"OPĆINSKO DRŽAVNO ODVJETNIŠTVO U VARAŽDINU","109 - MINISTARSTVO PRAVOSUĐA, UPRAVE I DIGITALNE TRANSFORMACIJE ","4913 OPĆINSKO DRŽAVNO ODVJETNIŠTVO U VARAŽDINU","03006735","95993665997","11"]
[4921,"OPĆINSKO DRŽAVNO ODVJETNIŠTVO U VELIKOJ GORICI","109 - MINISTARSTVO PRAVOSUĐA, UPRAVE I DIGITALNE TRANSFORMACIJE ","4921 OPĆINSKO DRŽAVNO ODVJETNIŠTVO U VELIKOJ GORICI","03216373","85707330778","11"]
[4948,"OPĆINSKO DRŽAVNO ODVJETNIŠTVO U VIROVITICI","109 - MINISTARSTVO PRAVOSUĐA, UPRAVE I DIGITALNE TRANSFORMACIJE ","4948 OPĆINSKO DRŽAVNO ODVJETNIŠTVO U VIROVITICI","03149625","62300321754","11"]
[4956,"OPĆINSKO DRŽAVNO ODVJETNIŠTVO U VUKOVARU","109 - MINISTARSTVO PRAVOSUĐA, UPRAVE I DIGITALNE TRANSFORMACIJE ","4956 OPĆINSKO DRŽAVNO ODVJETNIŠTVO U VUKOVARU","03008894","41070350826","11"]
[4972,"OPĆINSKO DRŽAVNO ODVJETNIŠTVO U ZADRU","109 - MINISTARSTVO PRAVOSUĐA, UPRAVE I DIGITALNE TRANSFORMACIJE ","4972 OPĆINSKO DRŽAVNO ODVJETNIŠTVO U ZADRU","03174786","72580451114","11"]
[4989,"OPĆINSKO KAZNENO DRŽAVNO ODVJETNIŠTVO U ZAGREBU","109 - MINISTARSTVO PRAVOSUĐA, UPRAVE I DIGITALNE TRANSFORMACIJE ","4989 OPĆINSKO KAZNENO DRŽAVNO ODVJETNIŠTVO U ZAGREBU","03277135","96423371665","11"]
[4997,"OPĆINSKO DRŽAVNO ODVJETNIŠTVO U ZLATARU","109 - MINISTARSTVO PRAVOSUĐA, UPRAVE I DIGITALNE TRANSFORMACIJE ","4997 OPĆINSKO DRŽAVNO ODVJETNIŠTVO U ZLATARU","03433811","11393950527","11"]
[6031,"USTAVNI SUD RH"," - ","6031 USTAVNI SUD RH","03206084","43530726662","11"]
[6040,"PUČKI PRAVOBRANITELJ"," - ","6040 PUČKI PRAVOBRANITELJ","00515655","08026537914","11"]
[6066,"HRVATSKI HIDROGRAFSKI INSTITUT","065 - MINISTARSTVO MORA, PROMETA I INFRASTRUKTURE","6066 HRVATSKI HIDROGRAFSKI INSTITUT","03878724","51867618130","11"]
[6082,"DRŽAVNI ZAVOD ZA  MJERITELJSTVO","077 - MINISTARSTVO GOSPODARSTVA","6082 DRŽAVNI ZAVOD ZA  MJERITELJSTVO","03799166","99875008081","11"]
[6099,"DRŽAVNI ZAVOD ZA STATISTIKU"," - ","6099 DRŽAVNI ZAVOD ZA STATISTIKU","03220338","49337502853","11"]
[6120,"DRŽAVNA GEODETSKA UPRAVA","076 - MINISTARSTVO PROSTORNOGA UREĐENJA, GRADITELJSTVA I DRŽAVNE IMOVINE","6120 DRŽAVNA GEODETSKA UPRAVA","00936693","84891127540","11"]
[6138,"DRŽAVNI URED ZA REVIZIJU"," - ","6138 DRŽAVNI URED ZA REVIZIJU","00687979","55448281176","11"]
[6146,"HRVATSKI MUZEJ NAIVNE UMJETNOSTI","055 - MINISTARSTVO KULTURE I MEDIJA","6146 HRVATSKI MUZEJ NAIVNE UMJETNOSTI","00738751","57897955082","11"]
[6154,"SVEUČILIŠTE U ZAGREBU - FAKULTET FILOZOFIJE I RELIGIJSKIH ZNANOSTI","080 - MINISTARSTVO ZNANOSTI, OBRAZOVANJA I MLADIH","6154 SVEUČILIŠTE U ZAGREBU - FAKULTET FILOZOFIJE I RELIGIJSKIH ZNANOSTI","01235664","26975482530","11"]
[6179,"DRŽAVNI ZAVOD ZA INTELEKTUALNO VLASNIŠTVO","080 - MINISTARSTVO ZNANOSTI, OBRAZOVANJA I MLADIH","6179 DRŽAVNI ZAVOD ZA INTELEKTUALNO VLASNIŠTVO","03899772","89755384389","11"]
[7083,"CENTAR ZA PRUŽANJE USLUGA U ZAJEDNICI MASLINA","086 - MINISTARSTVO RADA, MIROVINSKOGA SUSTAVA, OBITELJI I SOCIJALNE POLITIKE","7083 CENTAR ZA PRUŽANJE USLUGA U ZAJEDNICI MASLINA","03304167","53238046672","11"]
[7091,"CENTAR ZA PRUŽANJE USLUGA U ZAJEDNICI VLADIMIR NAZOR","086 - MINISTARSTVO RADA, MIROVINSKOGA SUSTAVA, OBITELJI I SOCIJALNE POLITIKE","7091 CENTAR ZA PRUŽANJE USLUGA U ZAJEDNICI VLADIMIR NAZOR","03123464","85866981630","11"]
[7106,"CENTAR ZA PRUŽANJE USLUGA U ZAJEDNICI SVITANJE","086 - MINISTARSTVO RADA, MIROVINSKOGA SUSTAVA, OBITELJI I SOCIJALNE POLITIKE","7106 CENTAR ZA PRUŽANJE USLUGA U ZAJEDNICI SVITANJE","03009971","75430947376","11"]
[7114,"CENTAR ZA PRUŽANJE USLUGA U ZAJEDNICI LIPIK","086 - MINISTARSTVO RADA, MIROVINSKOGA SUSTAVA, OBITELJI I SOCIJALNE POLITIKE","7114 CENTAR ZA PRUŽANJE USLUGA U ZAJEDNICI LIPIK","03084981","57285376027","11"]
[7122,"Centar za pružanje usluga u zajednici Ivana Brlić Mažuranić","086 - MINISTARSTVO RADA, MIROVINSKOGA SUSTAVA, OBITELJI I SOCIJALNE POLITIKE","7122 Centar za pružanje usluga u zajednici Ivana Brlić Mažuranić","03090353","74578677561","11"]
[7147,"CENTAR ZA PRUŽANJE USLUGA U ZAJEDNICI KLASJE OSIJEK","086 - MINISTARSTVO RADA, MIROVINSKOGA SUSTAVA, OBITELJI I SOCIJALNE POLITIKE","7147 CENTAR ZA PRUŽANJE USLUGA U ZAJEDNICI KLASJE OSIJEK","03014410","13771936999","11"]
[7155,"CENTAR ZA PRUŽANJE USLUGA U ZAJEDNICI RUŽA PETROVIĆ","086 - MINISTARSTVO RADA, MIROVINSKOGA SUSTAVA, OBITELJI I SOCIJALNE POLITIKE","7155 CENTAR ZA PRUŽANJE USLUGA U ZAJEDNICI RUŽA PETROVIĆ","03203824","27209159252","11"]
[7163,"CENTAR ZA PRUŽANJE USLUGA U ZAJEDNICI IZVOR, SELCE","086 - MINISTARSTVO RADA, MIROVINSKOGA SUSTAVA, OBITELJI I SOCIJALNE POLITIKE","7163 CENTAR ZA PRUŽANJE USLUGA U ZAJEDNICI IZVOR, SELCE","03148637","75733262824","11"]
[7171,"CENTAR ZA PRUŽANJE USLUGA U ZAJEDNICI VRBINA SISAK","086 - MINISTARSTVO RADA, MIROVINSKOGA SUSTAVA, OBITELJI I SOCIJALNE POLITIKE","7171 CENTAR ZA PRUŽANJE USLUGA U ZAJEDNICI VRBINA SISAK","03313964","43355278379","11"]
[7180,"CENTAR ZA PRUŽANJE USLUGA U ZAJEDNICI KUĆA SRETNIH CIGLICA","086 - MINISTARSTVO RADA, MIROVINSKOGA SUSTAVA, OBITELJI I SOCIJALNE POLITIKE","7180 CENTAR ZA PRUŽANJE USLUGA U ZAJEDNICI KUĆA SRETNIH CIGLICA","03071332","81369633612","11"]
[7198,"Centar za pružanje usluga u zajednici Maestral","086 - MINISTARSTVO RADA, MIROVINSKOGA SUSTAVA, OBITELJI I SOCIJALNE POLITIKE","7198 Centar za pružanje usluga u zajednici Maestral","03118606","97141575055","11"]
[7202,"DJEČJI DOM SV. ANA VINKOVCI","086 - MINISTARSTVO RADA, MIROVINSKOGA SUSTAVA, OBITELJI I SOCIJALNE POLITIKE","7202 DJEČJI DOM SV. ANA VINKOVCI","03367819","57830965536","11"]
[7219,"CENTAR ZA PRUŽANJE USLUGA U ZAJEDNICI ZAGREB","086 - MINISTARSTVO RADA, MIROVINSKOGA SUSTAVA, OBITELJI I SOCIJALNE POLITIKE","7219 CENTAR ZA PRUŽANJE USLUGA U ZAJEDNICI ZAGREB","03289745","04517778727","11"]
[7227,"CENTAR ZA PRUŽANJE USLUGA U ZAJEDNICI ZAGORJE","086 - MINISTARSTVO RADA, MIROVINSKOGA SUSTAVA, OBITELJI I SOCIJALNE POLITIKE","7227 CENTAR ZA PRUŽANJE USLUGA U ZAJEDNICI ZAGORJE","03016692","71367732581","11"]
[7243,"CENTAR ZA PRUŽANJE USLUGA U ZAJEDNICI IVANEC","086 - MINISTARSTVO RADA, MIROVINSKOGA SUSTAVA, OBITELJI I SOCIJALNE POLITIKE","7243 CENTAR ZA PRUŽANJE USLUGA U ZAJEDNICI IVANEC","03126013","03530904023","11"]
[7251,"CENTAR ZA PRUŽANJE USLUGA U ZAJEDNICI BANIJA- KARLOVAC","086 - MINISTARSTVO RADA, MIROVINSKOGA SUSTAVA, OBITELJI I SOCIJALNE POLITIKE","7251 CENTAR ZA PRUŽANJE USLUGA U ZAJEDNICI BANIJA- KARLOVAC","03130576","18126711159","11"]
[7260,"ODGOJNI DOM MALI LOŠINJ","086 - MINISTARSTVO RADA, MIROVINSKOGA SUSTAVA, OBITELJI I SOCIJALNE POLITIKE","7260 ODGOJNI DOM MALI LOŠINJ","03040216","31173278276","11"]
[7278,"CENTAR ZA PRUŽANJE USLUGA U ZAJEDNICI OSIJEK","086 - MINISTARSTVO RADA, MIROVINSKOGA SUSTAVA, OBITELJI I SOCIJALNE POLITIKE","7278 CENTAR ZA PRUŽANJE USLUGA U ZAJEDNICI OSIJEK","03014428","61997429886","11"]
[7286,"CENTAR ZA PRUŽANJE USLUGA U ZAJEDNICI PULA-POLA","086 - MINISTARSTVO RADA, MIROVINSKOGA SUSTAVA, OBITELJI I SOCIJALNE POLITIKE","7286 CENTAR ZA PRUŽANJE USLUGA U ZAJEDNICI PULA-POLA","03203832","61688478244","11"]
[7294,"CENTAR ZA PRUŽANJE USLUGA U ZAJEDNICI RIJEKA","086 - MINISTARSTVO RADA, MIROVINSKOGA SUSTAVA, OBITELJI I SOCIJALNE POLITIKE","7294 CENTAR ZA PRUŽANJE USLUGA U ZAJEDNICI RIJEKA","03321282","94000861535","11"]
[7309,"CENTAR ZA PRUŽANJE USLUGA U ZAJEDNICI SPLIT","086 - MINISTARSTVO RADA, MIROVINSKOGA SUSTAVA, OBITELJI I SOCIJALNE POLITIKE","7309 CENTAR ZA PRUŽANJE USLUGA U ZAJEDNICI SPLIT","03133745","55330565464","11"]
[7317,"CENTAR ZA PRUŽANJE USLUGA U ZAJEDNICI ZADAR","086 - MINISTARSTVO RADA, MIROVINSKOGA SUSTAVA, OBITELJI I SOCIJALNE POLITIKE","7317 CENTAR ZA PRUŽANJE USLUGA U ZAJEDNICI ZADAR","03153037","67719867859","11"]
[7325,"CENTAR ZA PRUŽANJE USLUGA U ZAJEDNICI ZAGREB-DUGAVE","086 - MINISTARSTVO RADA, MIROVINSKOGA SUSTAVA, OBITELJI I SOCIJALNE POLITIKE","7325 CENTAR ZA PRUŽANJE USLUGA U ZAJEDNICI ZAGREB-DUGAVE","03207536","88189190821","11"]
[7333,"CENTAR RUDOLF STEINER DARUVAR","086 - MINISTARSTVO RADA, MIROVINSKOGA SUSTAVA, OBITELJI I SOCIJALNE POLITIKE","7333 CENTAR RUDOLF STEINER DARUVAR","03099598","26028963136","11"]
[7341,"Centar za rehabilitaciju Sveti Filip i Jakov","086 - MINISTARSTVO RADA, MIROVINSKOGA SUSTAVA, OBITELJI I SOCIJALNE POLITIKE","7341 Centar za rehabilitaciju Sveti Filip i Jakov","03334392","84459154077","11"]
[7350,"CENTAR ZA PRUŽANJE USLUGA U ZAJEDNICI OZALJ","086 - MINISTARSTVO RADA, MIROVINSKOGA SUSTAVA, OBITELJI I SOCIJALNE POLITIKE","7350 CENTAR ZA PRUŽANJE USLUGA U ZAJEDNICI OZALJ","03187381","87620790803","11"]
[7376,"CENTAR ZA REHABILITACIJU SLAVA RAŠKAJ RIJEKA","086 - MINISTARSTVO RADA, MIROVINSKOGA SUSTAVA, OBITELJI I SOCIJALNE POLITIKE","7376 CENTAR ZA REHABILITACIJU SLAVA RAŠKAJ RIJEKA","03321266","90729071839","11"]
[7384,"CENTAR ZA REHABILITACIJU RIJEKA","086 - MINISTARSTVO RADA, MIROVINSKOGA SUSTAVA, OBITELJI I SOCIJALNE POLITIKE","7384 CENTAR ZA REHABILITACIJU RIJEKA","03417778","53418402939","11"]
[7392,"CENTAR ZA ODGOJ I OBRAZOVANJE SLAVA RAŠKAJ SPLIT","086 - MINISTARSTVO RADA, MIROVINSKOGA SUSTAVA, OBITELJI I SOCIJALNE POLITIKE","7392 CENTAR ZA ODGOJ I OBRAZOVANJE SLAVA RAŠKAJ SPLIT","03120104","22392556339","11"]
[7405,"CENTAR ZA ODGOJ I OBRAZOVANJE JURAJ BONAČI","086 - MINISTARSTVO RADA, MIROVINSKOGA SUSTAVA, OBITELJI I SOCIJALNE POLITIKE","7405 CENTAR ZA ODGOJ I OBRAZOVANJE JURAJ BONAČI","03133737","00475993244","11"]
[7413,"CENTAR ZA  REHABILITACIJU STANČIĆ","086 - MINISTARSTVO RADA, MIROVINSKOGA SUSTAVA, OBITELJI I SOCIJALNE POLITIKE","7413 CENTAR ZA  REHABILITACIJU STANČIĆ","03348431","82103973646","11"]
[7421,"CENTAR ZA ODGOJ I OBRAZOVANJE ŠUBIĆEVAC","086 - MINISTARSTVO RADA, MIROVINSKOGA SUSTAVA, OBITELJI I SOCIJALNE POLITIKE","7421 CENTAR ZA ODGOJ I OBRAZOVANJE ŠUBIĆEVAC","03019683","34291257605","11"]
[7430,"CENTAR ZA REHABILITACIJU PULA","086 - MINISTARSTVO RADA, MIROVINSKOGA SUSTAVA, OBITELJI I SOCIJALNE POLITIKE","7430 CENTAR ZA REHABILITACIJU PULA","03549496","97096220014","11"]
[7456,"CENTAR ZA ODGOJ I OBRAZOVANJE LUG","086 - MINISTARSTVO RADA, MIROVINSKOGA SUSTAVA, OBITELJI I SOCIJALNE POLITIKE","7456 CENTAR ZA ODGOJ I OBRAZOVANJE LUG","03102947","33776947373","11"]
[7464,"CENTAR ZA REHABILITACIJU ZAGREB","086 - MINISTARSTVO RADA, MIROVINSKOGA SUSTAVA, OBITELJI I SOCIJALNE POLITIKE","7464 CENTAR ZA REHABILITACIJU ZAGREB","03256251","32686631843","11"]
[7472,"CENTAR ZA ODGOJ I OBRAZOVANJE DUBRAVA","086 - MINISTARSTVO RADA, MIROVINSKOGA SUSTAVA, OBITELJI I SOCIJALNE POLITIKE","7472 CENTAR ZA ODGOJ I OBRAZOVANJE DUBRAVA","03217191","31982620821","11"]
[7489,"CENTAR ZA ODGOJ I OBRAZOVANJE SLAVA RAŠKAJ ZAGREB","086 - MINISTARSTVO RADA, MIROVINSKOGA SUSTAVA, OBITELJI I SOCIJALNE POLITIKE","7489 CENTAR ZA ODGOJ I OBRAZOVANJE SLAVA RAŠKAJ ZAGREB","03205835","16745501648","11"]
[7497,"CENTAR ZA ODGOJ I OBRAZOVANJE VINKO BEK","086 - MINISTARSTVO RADA, MIROVINSKOGA SUSTAVA, OBITELJI I SOCIJALNE POLITIKE","7497 CENTAR ZA ODGOJ I OBRAZOVANJE VINKO BEK","03205819","16898882733","11"]
[7501,"CENTAR ZA ODGOJ I OBRAZOVANJE VELIKA GORICA","086 - MINISTARSTVO RADA, MIROVINSKOGA SUSTAVA, OBITELJI I SOCIJALNE POLITIKE","7501 CENTAR ZA ODGOJ I OBRAZOVANJE VELIKA GORICA","03216284","28129388615","11"]
[7528,"CENTAR ZA ODGOJ I OBRAZOVANJE TUŠKANAC","086 - MINISTARSTVO RADA, MIROVINSKOGA SUSTAVA, OBITELJI I SOCIJALNE POLITIKE","7528 CENTAR ZA ODGOJ I OBRAZOVANJE TUŠKANAC","03205827","34634200382","11"]
[7536,"CENTAR ZA ODGOJ I OBRAZOVANJE ZAJEZDA","086 - MINISTARSTVO RADA, MIROVINSKOGA SUSTAVA, OBITELJI I SOCIJALNE POLITIKE","7536 CENTAR ZA ODGOJ I OBRAZOVANJE ZAJEZDA","03126862","03599152506","11"]
[7544,"DOM ZA  ODRASLE OSOBE BJELOVAR","086 - MINISTARSTVO RADA, MIROVINSKOGA SUSTAVA, OBITELJI I SOCIJALNE POLITIKE","7544 DOM ZA  ODRASLE OSOBE BJELOVAR","03316998","62693385109","11"]
[7569,"DOM ZA PSIHIČKI BOLESNE ODRASLE OSOBE BLATO","086 - MINISTARSTVO RADA, MIROVINSKOGA SUSTAVA, OBITELJI I SOCIJALNE POLITIKE",{"$f":"A258&\" \"&B258","v":"7569 DOM ZA PSIHIČKI BOLESNE ODRASLE OSOBE BLATO"},"03081192","99467043079","11"]
[7624,"DOM ZA  ODRASLE OSOBE JALŽABET","086 - MINISTARSTVO RADA, MIROVINSKOGA SUSTAVA, OBITELJI I SOCIJALNE POLITIKE","7624 DOM ZA  ODRASLE OSOBE JALŽABET","03006441","40551161324","11"]
[7665,"DOM ZA ODRASLE OSOBE LOBOR-GRAD","086 - MINISTARSTVO RADA, MIROVINSKOGA SUSTAVA, OBITELJI I SOCIJALNE POLITIKE","7665 DOM ZA ODRASLE OSOBE LOBOR-GRAD","03126889","45761692556","11"]
[7673,"DOM ZA ODRASLE OSOBE LJESKOVICA","086 - MINISTARSTVO RADA, MIROVINSKOGA SUSTAVA, OBITELJI I SOCIJALNE POLITIKE","7673 DOM ZA ODRASLE OSOBE LJESKOVICA","03346366","66458920794","11"]
[7690,"DOM ZA PSIHIČKI BOLESNE ODRASLE OSOBE MOTOVUN","086 - MINISTARSTVO RADA, MIROVINSKOGA SUSTAVA, OBITELJI I SOCIJALNE POLITIKE","7690 DOM ZA PSIHIČKI BOLESNE ODRASLE OSOBE MOTOVUN","03089304","06458028548","11"]
[7704,"DOM ZA ODRASLE OSOBE NEDEŠĆINA","086 - MINISTARSTVO RADA, MIROVINSKOGA SUSTAVA, OBITELJI I SOCIJALNE POLITIKE","7704 DOM ZA ODRASLE OSOBE NEDEŠĆINA","03075184","52406673119","11"]
[7729,"DOM ZA ODRASLE OSOBE NUŠTAR","086 - MINISTARSTVO RADA, MIROVINSKOGA SUSTAVA, OBITELJI I SOCIJALNE POLITIKE","7729 DOM ZA ODRASLE OSOBE NUŠTAR","03301451","12399538329","11"]
[7745,"DOM ZA ODRASLE OSOBE OREHOVICA","086 - MINISTARSTVO RADA, MIROVINSKOGA SUSTAVA, OBITELJI I SOCIJALNE POLITIKE","7745 DOM ZA ODRASLE OSOBE OREHOVICA","03110150","67610036162","11"]
[7761,"CENTAR ZA PRUŽANJE USLUGA U ZAJEDNICI OSIJEK - JA KAO I TI","086 - MINISTARSTVO RADA, MIROVINSKOGA SUSTAVA, OBITELJI I SOCIJALNE POLITIKE","7761 CENTAR ZA PRUŽANJE USLUGA U ZAJEDNICI OSIJEK - JA KAO I TI","03014452","81122081473","11"]
[7840,"DOM ZA ODRASLE OSOBE BOROVA","086 - MINISTARSTVO RADA, MIROVINSKOGA SUSTAVA, OBITELJI I SOCIJALNE POLITIKE","7840 DOM ZA ODRASLE OSOBE BOROVA","03105407","75988025471","11"]
[7866,"DOM ZA PSIHIČKI BOLESNE ODRASLE OSOBE TROGIR","086 - MINISTARSTVO RADA, MIROVINSKOGA SUSTAVA, OBITELJI I SOCIJALNE POLITIKE","7866 DOM ZA PSIHIČKI BOLESNE ODRASLE OSOBE TROGIR","03039200","50259535567","11"]
[7938,"DOM ZA ODRASLE OSOBE SVETI FRANE ZADAR","086 - MINISTARSTVO RADA, MIROVINSKOGA SUSTAVA, OBITELJI I SOCIJALNE POLITIKE","7938 DOM ZA ODRASLE OSOBE SVETI FRANE ZADAR","03132226","65698739290","11"]
[8051,"DOM ZA PSIHIČKI BOLESNE ODRASLE OSOBE ZAGREB","086 - MINISTARSTVO RADA, MIROVINSKOGA SUSTAVA, OBITELJI I SOCIJALNE POLITIKE","8051 DOM ZA PSIHIČKI BOLESNE ODRASLE OSOBE ZAGREB","01354256","70271854148","11"]
[20157,"MINISTARSTVO FINANCIJA"," - ","20157 MINISTARSTVO FINANCIJA","03205991","18683136487","11"]
[20165,"CARINSKA UPRAVA, SREDIŠNJI URED","025 - MINISTARSTVO FINANCIJA","20165 CARINSKA UPRAVA, SREDIŠNJI URED","03205991","18683136487","11"]
[20181,"POREZNA UPRAVA","025 - MINISTARSTVO FINANCIJA","20181 POREZNA UPRAVA","03205991","18683136487","11"]
[20270,"OPĆINSKO DRŽAVNO ODVJETNIŠTVO U KARLOVCU","109 - MINISTARSTVO PRAVOSUĐA, UPRAVE I DIGITALNE TRANSFORMACIJE ","20270 OPĆINSKO DRŽAVNO ODVJETNIŠTVO U KARLOVCU","03123537","69488952897","11"]
[20454,"OPĆINSKI PREKRŠAJNI SUD U ZAGREBU","109 - MINISTARSTVO PRAVOSUĐA, UPRAVE I DIGITALNE TRANSFORMACIJE ","20454 OPĆINSKI PREKRŠAJNI SUD U ZAGREBU","03206041","95308842799","11"]
[20622,"OPĆINSKI PREKRŠAJNI SUD U SPLITU","109 - MINISTARSTVO PRAVOSUĐA, UPRAVE I DIGITALNE TRANSFORMACIJE ","20622 OPĆINSKI PREKRŠAJNI SUD U SPLITU","03133800","38198969688","11"]
[20639,"VISOKI UPRAVNI SUD REPUBLIKE HRVATSKE","109 - MINISTARSTVO PRAVOSUĐA, UPRAVE I DIGITALNE TRANSFORMACIJE ","20639 VISOKI UPRAVNI SUD REPUBLIKE HRVATSKE","03232719","13613360068","11"]
[20647,"ŽUPANIJSKO DRŽAVNO ODVJETNIŠTVO U BJELOVARU","109 - MINISTARSTVO PRAVOSUĐA, UPRAVE I DIGITALNE TRANSFORMACIJE ","20647 ŽUPANIJSKO DRŽAVNO ODVJETNIŠTVO U BJELOVARU","03308685","86821435474","11"]
[20727,"KAZNIONICA U GLINI","109 - MINISTARSTVO PRAVOSUĐA, UPRAVE I DIGITALNE TRANSFORMACIJE ","20727 KAZNIONICA U GLINI","01149695","19601823684","11"]
[20735,"TRGOVAČKI SUD U ZAGREBU","109 - MINISTARSTVO PRAVOSUĐA, UPRAVE I DIGITALNE TRANSFORMACIJE ","20735 TRGOVAČKI SUD U ZAGREBU","03206092","37388188772","11"]
[20743,"ŽUPANIJSKI SUD U BJELOVARU","109 - MINISTARSTVO PRAVOSUĐA, UPRAVE I DIGITALNE TRANSFORMACIJE ","20743 ŽUPANIJSKI SUD U BJELOVARU","03308677","26346076385","11"]
[20778,"ŽUPANIJSKI SUD U SLAVONSKOM BRODU","109 - MINISTARSTVO PRAVOSUĐA, UPRAVE I DIGITALNE TRANSFORMACIJE ","20778 ŽUPANIJSKI SUD U SLAVONSKOM BRODU","01228226","88717538459","11"]
[20786,"ŽUPANIJSKI SUD U ŠIBENIKU","109 - MINISTARSTVO PRAVOSUĐA, UPRAVE I DIGITALNE TRANSFORMACIJE ","20786 ŽUPANIJSKI SUD U ŠIBENIKU","03019799","88341107822","11"]
[20809,"ŽUPANIJSKI SUD U VUKOVARU","109 - MINISTARSTVO PRAVOSUĐA, UPRAVE I DIGITALNE TRANSFORMACIJE ","20809 ŽUPANIJSKI SUD U VUKOVARU","01210696","92599990351","11"]
[20833,"AGENCIJA ZA ZAŠTITU TRŽIŠNOG NATJECANJA"," - ","20833 AGENCIJA ZA ZAŠTITU TRŽIŠNOG NATJECANJA","01253433","54882480048","11"]
[20892,"OPĆINSKI SUD U KARLOVCU","109 - MINISTARSTVO PRAVOSUĐA, UPRAVE I DIGITALNE TRANSFORMACIJE ","20892 OPĆINSKI SUD U KARLOVCU","03123499","05541256968","11"]
[21004,"OPĆINSKI SUD U SPLITU","109 - MINISTARSTVO PRAVOSUĐA, UPRAVE I DIGITALNE TRANSFORMACIJE ","21004 OPĆINSKI SUD U SPLITU","03118665","61980608934","11"]
[21053,"VELEUČILIŠTE U KARLOVCU","080 - MINISTARSTVO ZNANOSTI, OBRAZOVANJA I MLADIH","21053 VELEUČILIŠTE U KARLOVCU","01286030","62820859976","11"]
[21061,"INSTITUT ZA HRVATSKI JEZIK I JEZIKOSLOVLJE","080 - MINISTARSTVO ZNANOSTI, OBRAZOVANJA I MLADIH","21061 INSTITUT ZA HRVATSKI JEZIK I JEZIKOSLOVLJE","01259571","12268324202","11"]
[21070,"STAROSLAVENSKI INSTITUT","080 - MINISTARSTVO ZNANOSTI, OBRAZOVANJA I MLADIH","21070 STAROSLAVENSKI INSTITUT","01259563","15291942541","11"]
[21609,"DRŽAVNI HIDROMETEOROLOŠKI ZAVOD","077 - MINISTARSTVO GOSPODARSTVA","21609 DRŽAVNI HIDROMETEOROLOŠKI ZAVOD","03206017","74660437164","11"]
[21789,"CENTAR ZA REHABILITACIJU SAMARITANAC SPLIT","086 - MINISTARSTVO RADA, MIROVINSKOGA SUSTAVA, OBITELJI I SOCIJALNE POLITIKE","21789 CENTAR ZA REHABILITACIJU SAMARITANAC SPLIT","01140370","60945415147","11"]
[21797,"CENTAR ZA REHABILITACIJU JOSIPOVAC","086 - MINISTARSTVO RADA, MIROVINSKOGA SUSTAVA, OBITELJI I SOCIJALNE POLITIKE","21797 CENTAR ZA REHABILITACIJU JOSIPOVAC","01151703","62252145399","11"]
[21801,"CENTAR ZA REHABILITACIJU FRA ANTE SEKELEZ","086 - MINISTARSTVO RADA, MIROVINSKOGA SUSTAVA, OBITELJI I SOCIJALNE POLITIKE","21801 CENTAR ZA REHABILITACIJU FRA ANTE SEKELEZ","01284797","51139896464","11"]
[21810,"CENTAR ZA REHABILITACIJU MIR","086 - MINISTARSTVO RADA, MIROVINSKOGA SUSTAVA, OBITELJI I SOCIJALNE POLITIKE","21810 CENTAR ZA REHABILITACIJU MIR","01284789","20663023892","11"]
[21828,"HRVATSKA AKADEMIJA ZNANOSTI I UMJETNOSTI"," - ","21828 HRVATSKA AKADEMIJA ZNANOSTI I UMJETNOSTI","03205207","61989185242","11"]
[21836,"NACIONALNA I SVEUČILIŠNA KNJIŽNICA U ZAGREBU","080 - MINISTARSTVO ZNANOSTI, OBRAZOVANJA I MLADIH","21836 NACIONALNA I SVEUČILIŠNA KNJIŽNICA U ZAGREBU","03205363","84838770814","11"]
[21852,"HRVATSKA AKADEMSKA ISTRAŽIVAČKA MREŽA - CARNET","080 - MINISTARSTVO ZNANOSTI, OBRAZOVANJA I MLADIH","21852 HRVATSKA AKADEMSKA ISTRAŽIVAČKA MREŽA - CARNET","01147820","58101996540","11"]
[21869,"LEKSIKOGRAFSKI ZAVOD MIROSLAV KRLEŽA","080 - MINISTARSTVO ZNANOSTI, OBRAZOVANJA I MLADIH","21869 LEKSIKOGRAFSKI ZAVOD MIROSLAV KRLEŽA","03211622","49894241709","11"]
[21949,"ŽUPANIJSKO DRŽAVNO ODVJETNIŠTVO U VUKOVARU","109 - MINISTARSTVO PRAVOSUĐA, UPRAVE I DIGITALNE TRANSFORMACIJE ","21949 ŽUPANIJSKO DRŽAVNO ODVJETNIŠTVO U VUKOVARU","01312278","81618487055","11"]
[22058,"AGENCIJA ZA PRAVNI PROMET I POSREDOVANJE NEKRETNINAMA","076 - MINISTARSTVO PROSTORNOGA UREĐENJA, GRADITELJSTVA I DRŽAVNE IMOVINE","22058 AGENCIJA ZA PRAVNI PROMET I POSREDOVANJE NEKRETNINAMA","01294164","69331375926","11"]
[22138,"JAVNA USTANOVA NACIONALNI PARK  KORNATI","077 - MINISTARSTVO GOSPODARSTVA","22138 JAVNA USTANOVA NACIONALNI PARK  KORNATI","03957772","63763133364","11"]
[22154,"J. U.  PARK PRIRODE KOPAČKI RIT","077 - MINISTARSTVO GOSPODARSTVA","22154 J. U.  PARK PRIRODE KOPAČKI RIT","01334239","98988824554","11"]
[22162,"JAVNA USTANOVA NACIONALNI PARK BRIJUNI","077 - MINISTARSTVO GOSPODARSTVA","22162 JAVNA USTANOVA NACIONALNI PARK BRIJUNI","03286436","79193158584","11"]
[22179,"J. U.  N. P.  MLJET","077 - MINISTARSTVO GOSPODARSTVA","22179 J. U.  N. P.  MLJET","03324974","41720834491","11"]
[22187,"J. U.  N. P.  RISNJAK","077 - MINISTARSTVO GOSPODARSTVA","22187 J. U.  N. P.  RISNJAK","03033619","09269345925","11"]
[22195,"J. U.  PARK PRIRODE TELAŠĆICA","077 - MINISTARSTVO GOSPODARSTVA","22195 J. U.  PARK PRIRODE TELAŠĆICA","03439780","39112943608","11"]
[22200,"J. U.  N. P.  PAKLENICA","077 - MINISTARSTVO GOSPODARSTVA","22200 J. U.  N. P.  PAKLENICA","03142027","24913665146","11"]
[22218,"Javna ustanova Nacionalni park Plitvička jezera","077 - MINISTARSTVO GOSPODARSTVA","22218 Javna ustanova Nacionalni park Plitvička jezera","03310850","91109303119","11"]
[22226,"JAVNA USTANOVA  PARK PRIRODE LONJSKO POLJE","077 - MINISTARSTVO GOSPODARSTVA","22226 JAVNA USTANOVA  PARK PRIRODE LONJSKO POLJE","01300997","13092477849","11"]
[22234,"J. U.  N. P.  KRKA","077 - MINISTARSTVO GOSPODARSTVA","22234 J. U.  N. P.  KRKA","03418103","67969498372","11"]
[22242,"GALERIJA KLOVIĆEVI DVORI ZAGREB","055 - MINISTARSTVO KULTURE I MEDIJA","22242 GALERIJA KLOVIĆEVI DVORI ZAGREB","01426672","78027759648","11"]
[22275,"URED ZA UDRUGE","020 - VLADA REPUBLIKE HRVATSKE","22275 URED ZA UDRUGE","01404113","51456675076","11"]
[22283,"DOM ZA ODRASLE OSOBE BIDRUŽICA","086 - MINISTARSTVO RADA, MIROVINSKOGA SUSTAVA, OBITELJI I SOCIJALNE POLITIKE","22283 DOM ZA ODRASLE OSOBE BIDRUŽICA","01354248","47145266223","11"]
[22322,"CENTAR ZA PRUŽANJE USLUGA U ZAJEDNICI ZEMUNIK","086 - MINISTARSTVO RADA, MIROVINSKOGA SUSTAVA, OBITELJI I SOCIJALNE POLITIKE","22322 CENTAR ZA PRUŽANJE USLUGA U ZAJEDNICI ZEMUNIK","01364464","26462059731","11"]
[22339,"HRVATSKI RESTAURATORSKI ZAVOD","055 - MINISTARSTVO KULTURE I MEDIJA","22339 HRVATSKI RESTAURATORSKI ZAVOD","01250795","08647229584","11"]
[22347,"Javna ustanova Zbirka umjetnina Ante i Wiltrude Topić Mimara-Muzej Mimara","055 - MINISTARSTVO KULTURE I MEDIJA","22347 Javna ustanova Zbirka umjetnina Ante i Wiltrude Topić Mimara-Muzej Mimara","01425684","78141312758","11"]
[22371,"VELEUČILIŠTE U KRIŽEVCIMA","080 - MINISTARSTVO ZNANOSTI, OBRAZOVANJA I MLADIH","22371 VELEUČILIŠTE U KRIŽEVCIMA","01411942","75480885018","11"]
[22427,"TEHNIČKO VELEUČILIŠTE U ZAGREBU","080 - MINISTARSTVO ZNANOSTI, OBRAZOVANJA I MLADIH","22427 TEHNIČKO VELEUČILIŠTE U ZAGREBU","01398270","08814003451","11"]
[22435,"SVEUČILIŠTE U SPLITU -  FILOZOFSKI FAKULTET SPLIT","080 - MINISTARSTVO ZNANOSTI, OBRAZOVANJA I MLADIH","22435 SVEUČILIŠTE U SPLITU -  FILOZOFSKI FAKULTET SPLIT","01413236","98004523293","11"]
[22451,"SVEUČILIŠTE U SPLITU - MEDICINSKI FAKULTET","080 - MINISTARSTVO ZNANOSTI, OBRAZOVANJA I MLADIH","22451 SVEUČILIŠTE U SPLITU - MEDICINSKI FAKULTET","01315366","02879747067","11"]
[22460,"SVEUČILIŠTE U SPLITU - POMORSKI FAKULTET","080 - MINISTARSTVO ZNANOSTI, OBRAZOVANJA I MLADIH",{"$f":"A322&\" \"&B322","v":"22460 SVEUČILIŠTE U SPLITU - POMORSKI FAKULTET"},"01406043","24624257529","11"]
[22478,"Sveučilište u Splitu, Umjetnička akademija ","080 - MINISTARSTVO ZNANOSTI, OBRAZOVANJA I MLADIH","22478 Sveučilište u Splitu, Umjetnička akademija ","01321358","38960125358","11"]
[22486,"Sveučilište Josipa Jurja Strossmayera u Osijeku, Fakultet za odgojne i obrazovne znanosti","080 - MINISTARSTVO ZNANOSTI, OBRAZOVANJA I MLADIH","22486 Sveučilište Josipa Jurja Strossmayera u Osijeku, Fakultet za odgojne i obrazovne znanosti","01404881","28082679513","11"]
[22494,"VELEUČILIŠTE U RIJECI","080 - MINISTARSTVO ZNANOSTI, OBRAZOVANJA I MLADIH","22494 VELEUČILIŠTE U RIJECI","01387332","29573709870","11"]
[22525,"HRVATSKI GEOLOŠKI INSTITUT","080 - MINISTARSTVO ZNANOSTI, OBRAZOVANJA I MLADIH","22525 HRVATSKI GEOLOŠKI INSTITUT","03219518","43733878539","11"]
[22568,"SVEUČILIŠTE U RIJECI, POMORSKI FAKULTET","080 - MINISTARSTVO ZNANOSTI, OBRAZOVANJA I MLADIH","22568 SVEUČILIŠTE U RIJECI, POMORSKI FAKULTET","01580485","76722145702","11"]
[22621,"INSTITUT ZA RAZVOJ I MEĐUNARODNE ODNOSE","080 - MINISTARSTVO ZNANOSTI, OBRAZOVANJA I MLADIH","22621 INSTITUT ZA RAZVOJ I MEĐUNARODNE ODNOSE","03205177","31120185175","11"]
[22824,"VELEUČILIŠTE U ŠIBENIKU","080 - MINISTARSTVO ZNANOSTI, OBRAZOVANJA I MLADIH","22824 VELEUČILIŠTE U ŠIBENIKU","02100673","61727512157","11"]
[22832,"ZDRAVSTVENO VELEUČILIŠTE","080 - MINISTARSTVO ZNANOSTI, OBRAZOVANJA I MLADIH","22832 ZDRAVSTVENO VELEUČILIŠTE","01274597","50952646228","11"]
[22849,"SVEUČILIŠTE J.J. STROSSMAYERA U OSIJEKU - MEDICINSKI FAKULTET","080 - MINISTARSTVO ZNANOSTI, OBRAZOVANJA I MLADIH","22849 SVEUČILIŠTE J.J. STROSSMAYERA U OSIJEKU - MEDICINSKI FAKULTET","01388142","16214165873","11"]
[22857,"SVEUČILIŠTE U RIJECI - FILOZOFSKI FAKULTET","080 - MINISTARSTVO ZNANOSTI, OBRAZOVANJA I MLADIH","22857 SVEUČILIŠTE U RIJECI - FILOZOFSKI FAKULTET","03368491","70505505759","11"]
[23243,"J. U. PARK PRIRODE BIOKOVO","077 - MINISTARSTVO GOSPODARSTVA","23243 J. U. PARK PRIRODE BIOKOVO","01408232","63685777958","11"]
[23286,"INSTITUT ZA JAVNE FINANCIJE","080 - MINISTARSTVO ZNANOSTI, OBRAZOVANJA I MLADIH","23286 INSTITUT ZA JAVNE FINANCIJE","03226344","41683226810","11"]
[23368,"SVEUČILIŠTE U SPLITU , KATOLIČKI BOGOSLOVNI FAKULTET","080 - MINISTARSTVO ZNANOSTI, OBRAZOVANJA I MLADIH","23368 SVEUČILIŠTE U SPLITU , KATOLIČKI BOGOSLOVNI FAKULTET","01465643","36149548625","11"]
[23405,"TRGOVAČKI SUD U ZADRU","109 - MINISTARSTVO PRAVOSUĐA, UPRAVE I DIGITALNE TRANSFORMACIJE ","23405 TRGOVAČKI SUD U ZADRU","01476793","39670464653","11"]
[23421,"ŽUPANIJSKI SUD U VELIKOJ GORICI","109 - MINISTARSTVO PRAVOSUĐA, UPRAVE I DIGITALNE TRANSFORMACIJE ","23421 ŽUPANIJSKI SUD U VELIKOJ GORICI","01476351","18580057518","11"]
[23456,"ŽUPANIJSKO DRŽAVNO ODVJETNIŠTVO U SLAVONSKOM BRODU","109 - MINISTARSTVO PRAVOSUĐA, UPRAVE I DIGITALNE TRANSFORMACIJE ","23456 ŽUPANIJSKO DRŽAVNO ODVJETNIŠTVO U SLAVONSKOM BRODU","01490141","12144806706","11"]
[23497,"J. U.  PARK PRIRODE MEDVEDNICA","077 - MINISTARSTVO GOSPODARSTVA","23497 J. U.  PARK PRIRODE MEDVEDNICA","01463080","59832224817","11"]
[23569,"DOM ZA ODRASLE OSOBE TURNIĆ","086 - MINISTARSTVO RADA, MIROVINSKOGA SUSTAVA, OBITELJI I SOCIJALNE POLITIKE","23569 DOM ZA ODRASLE OSOBE TURNIĆ","02848317","27939942401","11"]
[23577,"DRŽAVNI ARHIV U GOSPIĆU","055 - MINISTARSTVO KULTURE I MEDIJA","23577 DRŽAVNI ARHIV U GOSPIĆU","01475444","34694889661","11"]
[23585,"HRVATSKA KNJIŽNICA ZA SLIJEPE","055 - MINISTARSTVO KULTURE I MEDIJA","23585 HRVATSKA KNJIŽNICA ZA SLIJEPE","01494449","12091168733","11"]
[23593,"J. U. SPOMEN PODRUČJE JASENOVAC","055 - MINISTARSTVO KULTURE I MEDIJA","23593 J. U. SPOMEN PODRUČJE JASENOVAC","03201678","37280079200","11"]
[23616,"IMUNOLOŠKI ZAVOD","096 - MINISTARSTVO ZDRAVSTVA","23616 IMUNOLOŠKI ZAVOD","04440153","51786203438","11"]
[23649,"DRŽAVNO ODVJETNIŠTVO URED ZA SUZBIJANJE KORUPCIJE I ORGANIZIRANOG KRIMINALITETA","109 - MINISTARSTVO PRAVOSUĐA, UPRAVE I DIGITALNE TRANSFORMACIJE ","23649 DRŽAVNO ODVJETNIŠTVO URED ZA SUZBIJANJE KORUPCIJE I ORGANIZIRANOG KRIMINALITETA","01597965","32807825145","11"]
[23657,"DOM ZA ODRASLE OSOBE VILA MARIA ","086 - MINISTARSTVO RADA, MIROVINSKOGA SUSTAVA, OBITELJI I SOCIJALNE POLITIKE","23657 DOM ZA ODRASLE OSOBE VILA MARIA ","01599585","71297971198","11"]
[23665,"SVEUČILIŠTE U ZAGREBU  SVEUČILIŠNI RAČUNSKI CENTAR","080 - MINISTARSTVO ZNANOSTI, OBRAZOVANJA I MLADIH","23665 SVEUČILIŠTE U ZAGREBU  SVEUČILIŠNI RAČUNSKI CENTAR","03283020","34016189309","11"]
[23673,"URED ZA PROTOKOL","020 - VLADA REPUBLIKE HRVATSKE","23673 URED ZA PROTOKOL","01594478","71103687780","11"]
[23690,"DIREKCIJA ZA KORIŠTENJE SLUŽBENIH ZRAKOPLOVA","020 - VLADA REPUBLIKE HRVATSKE","23690 DIREKCIJA ZA KORIŠTENJE SLUŽBENIH ZRAKOPLOVA","01604686","34718613532","11"]
[23745,"URED  VLADE RH ZA UNUTARNJU REVIZIJU","020 - VLADA REPUBLIKE HRVATSKE","23745 URED  VLADE RH ZA UNUTARNJU REVIZIJU","01654098","58889799307","11"]
[23753,"URED PREDSJEDNIKA VLADE RH","020 - VLADA REPUBLIKE HRVATSKE","23753 URED PREDSJEDNIKA VLADE RH","01676504","76193608922","11"]
[23807,"ŽUPANIJSKO DRŽAVNO ODVJETNIŠTVO U VELIKOJ GORICI","109 - MINISTARSTVO PRAVOSUĐA, UPRAVE I DIGITALNE TRANSFORMACIJE ","23807 ŽUPANIJSKO DRŽAVNO ODVJETNIŠTVO U VELIKOJ GORICI","01693646","96292040276","11"]
[23815,"SVEUČILIŠTE U ZADRU","080 - MINISTARSTVO ZNANOSTI, OBRAZOVANJA I MLADIH","23815 SVEUČILIŠTE U ZADRU","01695525","10839679016","11"]
[23962,"AGENCIJA ZA ODGOJ I OBRAZOVANJE","080 - MINISTARSTVO ZNANOSTI, OBRAZOVANJA I MLADIH","23962 AGENCIJA ZA ODGOJ I OBRAZOVANJE","01778129","72193628411","11"]
[23979,"STRUČNA SLUŽBA SAVJETA ZA NACIONALNE MANJINE","020 - VLADA REPUBLIKE HRVATSKE","23979 STRUČNA SLUŽBA SAVJETA ZA NACIONALNE MANJINE","01730118","35036123402","11"]
[24027,"PRAVOBRANITELJ ZA DJECU"," - ","24027 PRAVOBRANITELJ ZA DJECU","01748068","71628985886","11"]
[24051,"URED ZA RAVNOPRAVNOST SPOLOVA","020 - VLADA REPUBLIKE HRVATSKE","24051 URED ZA RAVNOPRAVNOST SPOLOVA","01815342","66558259304","11"]
[24060,"PRAVOBRANITELJ/ICA ZA RAVNOPRAVNOST SPOLOVA"," - ","24060 PRAVOBRANITELJ/ICA ZA RAVNOPRAVNOST SPOLOVA","01768832","18164416576","11"]
[24086,"CENTAR ZA IZOBRAZBU","109 - MINISTARSTVO PRAVOSUĐA, UPRAVE I DIGITALNE TRANSFORMACIJE ","24086 CENTAR ZA IZOBRAZBU","01740024","22515399253","11"]
[24094,"DRŽAVNA KOMISIJA ZA KONTROLU POSTUPAKA JAVNE NABAVE"," - ","24094 DRŽAVNA KOMISIJA ZA KONTROLU POSTUPAKA JAVNE NABAVE","01777831","95857869241","11"]
[24141,"SVEUČILIŠTE U DUBROVNIKU","080 - MINISTARSTVO ZNANOSTI, OBRAZOVANJA I MLADIH","24141 SVEUČILIŠTE U DUBROVNIKU","01787578","01338491514","11"]
[24168,"SREDIŠNJI REGISTAR OSIGURANIKA","086 - MINISTARSTVO RADA, MIROVINSKOGA SUSTAVA, OBITELJI I SOCIJALNE POLITIKE","24168 SREDIŠNJI REGISTAR OSIGURANIKA","01469819","93161265507","11"]
[25860,"AGENCIJA ZA ZAŠTITU OSOBNIH PODATAKA"," - ","25860 AGENCIJA ZA ZAŠTITU OSOBNIH PODATAKA","01837907","28454963989","11"]
[25878,"HRVATSKO NARODNO KAZALIŠTE U ZAGREBU","055 - MINISTARSTVO KULTURE I MEDIJA","25878 HRVATSKO NARODNO KAZALIŠTE U ZAGREBU","03205479","10852199405","11"]
[25917,"HRVATSKA MATICA ISELJENIKA","032 - SREDIŠNJI DRŽAVNI URED ZA HRVATE IZVAN REPUBLIKE HRVATSKE","25917 HRVATSKA MATICA ISELJENIKA","03277348","28639480902","11"]
[25925,"Javna ustanova Park prirode Učka","077 - MINISTARSTVO GOSPODARSTVA","25925 Javna ustanova Park prirode Učka","01508342","64113345521","11"]
[25933,"Javna ustanova PARK PRIRODE VELEBIT","077 - MINISTARSTVO GOSPODARSTVA","25933 Javna ustanova PARK PRIRODE VELEBIT","01439863","65211368646","11"]
[25968,"KLINIČKA BOLNICA SVETI DUH","096 - MINISTARSTVO ZDRAVSTVA","25968 KLINIČKA BOLNICA SVETI DUH","03214770","65119154523","11"]
[26346,"HRVATSKI ZAVOD ZA JAVNO ZDRAVSTVO","096 - MINISTARSTVO ZDRAVSTVA","26346 HRVATSKI ZAVOD ZA JAVNO ZDRAVSTVO","03270963","75297532041","11"]
[26354,"HRVATSKI ZAVOD ZA TRANSFUZIJSKU MEDICINU","096 - MINISTARSTVO ZDRAVSTVA","26354 HRVATSKI ZAVOD ZA TRANSFUZIJSKU MEDICINU","03281973","61248075289","11"]
[26379,"KLINIČKI BOLNIČKI CENTAR RIJEKA","096 - MINISTARSTVO ZDRAVSTVA","26379 KLINIČKI BOLNIČKI CENTAR RIJEKA","03368041","40237608715","11"]
[26387,"KLINIČKA BOLNICA MERKUR","096 - MINISTARSTVO ZDRAVSTVA","26387 KLINIČKA BOLNICA MERKUR","03279057","25883882856","11"]
[26395,"KLINIČKI BOLNIČKI CENTAR SESTRE MILOSRDNICE","096 - MINISTARSTVO ZDRAVSTVA","26395 KLINIČKI BOLNIČKI CENTAR SESTRE MILOSRDNICE","03208036","84924656517","11"]
[26400,"KLINIČKI BOLNIČKI CENTAR OSIJEK","096 - MINISTARSTVO ZDRAVSTVA","26400 KLINIČKI BOLNIČKI CENTAR OSIJEK","03018822","89819375646","11"]
[26418,"KLINIČKI BOLNIČKI CENTAR SPLIT","096 - MINISTARSTVO ZDRAVSTVA","26418 KLINIČKI BOLNIČKI CENTAR SPLIT","00242870","51401063283","11"]
[26426,"KLINIKA ZA ORTOPEDIJU LOVRAN","096 - MINISTARSTVO ZDRAVSTVA","26426 KLINIKA ZA ORTOPEDIJU LOVRAN","03090302","09777091543","11"]
[26459,"KLINIKA ZA INFEKTIVNE BOLESTI DR. FRAN MIHALJEVIĆ","096 - MINISTARSTVO ZDRAVSTVA","26459 KLINIKA ZA INFEKTIVNE BOLESTI DR. FRAN MIHALJEVIĆ","03270793","47767714195","11"]
[26506,"J. U.  NACIONALNI PARK  SJEVERNI VELEBIT","077 - MINISTARSTVO GOSPODARSTVA","26506 J. U.  NACIONALNI PARK  SJEVERNI VELEBIT","01486993","24661445515","11"]
[26514,"J. U.  PARK PRIRODE PAPUK","077 - MINISTARSTVO GOSPODARSTVA","26514 J. U.  PARK PRIRODE PAPUK","01503847","09100391705","11"]
[26522," Javna ustanova Park prirode Vransko jezero","077 - MINISTARSTVO GOSPODARSTVA","26522  Javna ustanova Park prirode Vransko jezero","01504495","62106126299","11"]
[26539,"J. U.  PARK PRIRODE ŽUMBERAK-SAMOBORSKO GORJE","077 - MINISTARSTVO GOSPODARSTVA","26539 J. U.  PARK PRIRODE ŽUMBERAK-SAMOBORSKO GORJE","01481517","11528798664","11"]
[26547,"DOM ZA ODRASLE OSOBE I REHABILITACIJU METKOVIĆ","086 - MINISTARSTVO RADA, MIROVINSKOGA SUSTAVA, OBITELJI I SOCIJALNE POLITIKE","26547 DOM ZA ODRASLE OSOBE I REHABILITACIJU METKOVIĆ","01831976","61844359091","11"]
[26555,"CENTAR ZA REHABILITACIJU MALA TEREZIJA","086 - MINISTARSTVO RADA, MIROVINSKOGA SUSTAVA, OBITELJI I SOCIJALNE POLITIKE","26555 CENTAR ZA REHABILITACIJU MALA TEREZIJA","01738925","54117433109","11"]
[26571,"KLINIČKA BOLNICA DUBRAVA","096 - MINISTARSTVO ZDRAVSTVA","26571 KLINIČKA BOLNICA DUBRAVA","03799913","32206148371","11"]
[26635,"OPĆA BOLNICA GOSPIĆ","096 - MINISTARSTVO ZDRAVSTVA","26635 OPĆA BOLNICA GOSPIĆ","00734985","75672221336","11"]
[27280,"OPĆA BOLNICA I BOLNICA BRANITELJA DOMOVINSKG RATA OGULIN","096 - MINISTARSTVO ZDRAVSTVA",{"$f":"A386&\" \"&B386","v":"27280 OPĆA BOLNICA I BOLNICA BRANITELJA DOMOVINSKG RATA OGULIN"},"00814415","88206161418","11"]
[27298,"OPĆA BOLNICA KARLOVAC","096 - MINISTARSTVO ZDRAVSTVA","27298 OPĆA BOLNICA KARLOVAC","00728730","95156346215","11"]
[27773,"OPĆA BOLNICA DR. TOMISLAV BARDEK KOPRIVNICA","096 - MINISTARSTVO ZDRAVSTVA","27773 OPĆA BOLNICA DR. TOMISLAV BARDEK KOPRIVNICA","00659916","44899993850","11"]
[29244,"OPĆA BOLNICA DR. IVO PEDIŠIĆ SISAK","096 - MINISTARSTVO ZDRAVSTVA","29244 OPĆA BOLNICA DR. IVO PEDIŠIĆ SISAK","00687561","01066571771","11"]
[31528,"OPĆA BOLNICA DUBROVNIK","096 - MINISTARSTVO ZDRAVSTVA","31528 OPĆA BOLNICA DUBROVNIK","00976741","75970517069","11"]
[32328,"OPĆA BOLNICA VARAŽDIN","096 - MINISTARSTVO ZDRAVSTVA","32328 OPĆA BOLNICA VARAŽDIN","03376982","59638828302","11"]
[32336,"OPĆA BOLNICA DR. JOSIP BENČEVIĆ, SLAVONSKI BROD","096 - MINISTARSTVO ZDRAVSTVA","32336 OPĆA BOLNICA DR. JOSIP BENČEVIĆ, SLAVONSKI BROD","00623849","91554844265","11"]
[32352,"OPĆA BOLNICA NOVA GRADIŠKA","096 - MINISTARSTVO ZDRAVSTVA","32352 OPĆA BOLNICA NOVA GRADIŠKA","04762037","71630358814","11"]
[32432,"ŽUPANIJSKA BOLNICA ČAKOVEC","096 - MINISTARSTVO ZDRAVSTVA","32432 ŽUPANIJSKA BOLNICA ČAKOVEC","00695238","83506206752","11"]
[32457,"OPĆA ŽUPANIJSKA BOLNICA POŽEGA","096 - MINISTARSTVO ZDRAVSTVA","32457 OPĆA ŽUPANIJSKA BOLNICA POŽEGA","00541109","40589450667","11"]
[32481,"OPĆA ŽUPANIJSKA BOLNICA PAKRAC I BOLNICA HRVATSKIH VETERANA","096 - MINISTARSTVO ZDRAVSTVA","32481 OPĆA ŽUPANIJSKA BOLNICA PAKRAC I BOLNICA HRVATSKIH VETERANA","04833163","18103492590","11"]
[33185,"OPĆA BOLNICA VIROVITICA","096 - MINISTARSTVO ZDRAVSTVA","33185 OPĆA BOLNICA VIROVITICA","00648191","82844035780","11"]
[33634,"CENTAR ZA PROFESIONALNU REHABILITACIJU OSIJEK","086 - MINISTARSTVO RADA, MIROVINSKOGA SUSTAVA, OBITELJI I SOCIJALNE POLITIKE","33634 CENTAR ZA PROFESIONALNU REHABILITACIJU OSIJEK","03021866","57200304958","11"]
[33739,"OPĆA ŽUPANIJSKA BOLNICA NAŠICE","096 - MINISTARSTVO ZDRAVSTVA","33739 OPĆA ŽUPANIJSKA BOLNICA NAŠICE","00627291","93759115921","11"]
[33933,"Opća bolnica \"Dr Anđelko Višić\" Bjelovar","096 - MINISTARSTVO ZDRAVSTVA","33933 Opća bolnica \"Dr Anđelko Višić\" Bjelovar","00647039","34506547848","11"]
[34024,"OPĆA BOLNICA ZADAR","096 - MINISTARSTVO ZDRAVSTVA","34024 OPĆA BOLNICA ZADAR","00712990","11854878552","11"]
[34717,"OPĆA ŽUPANIJSKA BOLNICA VINKOVCI","096 - MINISTARSTVO ZDRAVSTVA","34717 OPĆA ŽUPANIJSKA BOLNICA VINKOVCI","00724955","10731502631","11"]
[37068,"Opća bolnica Pula - Ospedale Generale di Pola ","096 - MINISTARSTVO ZDRAVSTVA","37068 Opća bolnica Pula - Ospedale Generale di Pola ","00714178","16089706543","11"]
[37839,"OPĆA BOLNICA ZABOK I BOLNICA HRVATSKIH VETERANA","096 - MINISTARSTVO ZDRAVSTVA","37839 OPĆA BOLNICA ZABOK I BOLNICA HRVATSKIH VETERANA","00859621","34938158599","11"]
[37847,"OPĆA BOLNICA ŠIBENSKO-KNINSKE ŽUPANIJE","096 - MINISTARSTVO ZDRAVSTVA","37847 OPĆA BOLNICA ŠIBENSKO-KNINSKE ŽUPANIJE","00759031","03861060066","11"]
[38028,"Nacionalna memorijalna bolnica \"Dr. Juraj Njavro\" Vukovar","096 - MINISTARSTVO ZDRAVSTVA","38028 Nacionalna memorijalna bolnica \"Dr. Juraj Njavro\" Vukovar","00772208","54896856295","11"]
[38069,"KLINIČKI BOLNIČKI CENTAR ZAGREB","096 - MINISTARSTVO ZDRAVSTVA","38069 KLINIČKI BOLNIČKI CENTAR ZAGREB","03270777","46377257342","11"]
[38438,"VELEUČILIŠTE MARKO MARULIĆ U KNINU","080 - MINISTARSTVO ZNANOSTI, OBRAZOVANJA I MLADIH","38438 VELEUČILIŠTE MARKO MARULIĆ U KNINU","01963813","13664089430","11"]
[38446,"VELEUČILIŠTE LAVOSLAV RUŽIČKA U VUKOVARU","080 - MINISTARSTVO ZNANOSTI, OBRAZOVANJA I MLADIH","38446 VELEUČILIŠTE LAVOSLAV RUŽIČKA U VUKOVARU","01970828","21720825730","11"]
[38454,"SVEUČILIŠTE U RIJECI, AKADEMIJA PRIMIJENJENIH UMJETNOSTI","080 - MINISTARSTVO ZNANOSTI, OBRAZOVANJA I MLADIH","38454 SVEUČILIŠTE U RIJECI, AKADEMIJA PRIMIJENJENIH UMJETNOSTI","01954253","55704161999","11"]
[38479,"KATOLIČKI BOGOSLOVNI FAKULTET U ĐAKOVU","080 - MINISTARSTVO ZNANOSTI, OBRAZOVANJA I MLADIH","38479 KATOLIČKI BOGOSLOVNI FAKULTET U ĐAKOVU","01986490","05384220316","11"]
[38487,"AGENCIJA ZA ZNANOST I VISOKO OBRAZOVANJE","080 - MINISTARSTVO ZNANOSTI, OBRAZOVANJA I MLADIH","38487 AGENCIJA ZA ZNANOST I VISOKO OBRAZOVANJE","01922548","83358955356","11"]
[38495,"HRVATSKI ZAVOD ZA NORME","077 - MINISTARSTVO GOSPODARSTVA","38495 HRVATSKI ZAVOD ZA NORME","01957406","76844168802","11"]
[38500,"HRVATSKA AKREDITACIJSKA AGENCIJA","077 - MINISTARSTVO GOSPODARSTVA","38500 HRVATSKA AKREDITACIJSKA AGENCIJA","01956868","98834727195","11"]
[38655,"DOM ZDRAVLJA MINISTARSTVA UNUTARNJIH POSLOVA REPUBLIKE HRVATSKE","096 - MINISTARSTVO ZDRAVSTVA","38655 DOM ZDRAVLJA MINISTARSTVA UNUTARNJIH POSLOVA REPUBLIKE HRVATSKE","03274314","10561585601","11"]
[40623,"HRVATSKI MEMORIJALNO-DOKUMENTACIJSKI CENTAR DOMOVINSKOGA RATA","055 - MINISTARSTVO KULTURE I MEDIJA","40623 HRVATSKI MEMORIJALNO-DOKUMENTACIJSKI CENTAR DOMOVINSKOGA RATA","01909592","57527861125","11"]
[40631,"ARHEOLOŠKI MUZEJ NARONA","055 - MINISTARSTVO KULTURE I MEDIJA","40631 ARHEOLOŠKI MUZEJ NARONA","02071061","85570198172","11"]
[40682,"HRVATSKI ŠPORTSKI MUZEJ","055 - MINISTARSTVO KULTURE I MEDIJA","40682 HRVATSKI ŠPORTSKI MUZEJ","01783815","61689362030","11"]
[40883,"NACIONALNI CENTAR ZA VANJSKO VREDNOVANJE OBRAZOVANJA","080 - MINISTARSTVO ZNANOSTI, OBRAZOVANJA I MLADIH","40883 NACIONALNI CENTAR ZA VANJSKO VREDNOVANJE OBRAZOVANJA","01943430","94833993984","11"]
[40947,"SVEUČILIŠTE U RIJECI, UČITELJSKI FAKULTET","080 - MINISTARSTVO ZNANOSTI, OBRAZOVANJA I MLADIH","40947 SVEUČILIŠTE U RIJECI, UČITELJSKI FAKULTET","02116073","96996385705","11"]
[41185,"VELEUČILIŠTE NIKOLA TESLA U GOSPIĆU","080 - MINISTARSTVO ZNANOSTI, OBRAZOVANJA I MLADIH","41185 VELEUČILIŠTE NIKOLA TESLA U GOSPIĆU","02103133","42552392522","11"]
[41546,"AGENCIJA ZA OBALNI LINIJSKI POMORSKI PROMET","065 - MINISTARSTVO MORA, PROMETA I INFRASTRUKTURE","41546 AGENCIJA ZA OBALNI LINIJSKI POMORSKI PROMET","02097958","27735395987","11"]
[42024,"SVEUČILIŠTE JURJA DOBRILE U PULI","080 - MINISTARSTVO ZNANOSTI, OBRAZOVANJA I MLADIH","42024 SVEUČILIŠTE JURJA DOBRILE U PULI","02161753","61738073226","11"]
[42112,"MUZEJ ANTIČKOG STAKLA U ZADRU","055 - MINISTARSTVO KULTURE I MEDIJA","42112 MUZEJ ANTIČKOG STAKLA U ZADRU","02106698","74294482659","11"]
[42434,"DRŽAVNO IZBORNO POVJERENSTVO REPUBLIKE HRVATSKE"," - ","42434 DRŽAVNO IZBORNO POVJERENSTVO REPUBLIKE HRVATSKE","02197278","79269920246","11"]
[42598,"Javna ustanova  \"Park prirode Lastovsko otočje\"","077 - MINISTARSTVO GOSPODARSTVA","42598 Javna ustanova  \"Park prirode Lastovsko otočje\"","02175843","15186719674","11"]
[42910,"OPĆINSKI GRAĐANSKI SUD U ZAGREBU","109 - MINISTARSTVO PRAVOSUĐA, UPRAVE I DIGITALNE TRANSFORMACIJE ","42910 OPĆINSKI GRAĐANSKI SUD U ZAGREBU","02279215","01252163117","11"]
[42928,"OPĆINSKI KAZNENI SUD U ZAGREBU","109 - MINISTARSTVO PRAVOSUĐA, UPRAVE I DIGITALNE TRANSFORMACIJE ","42928 OPĆINSKI KAZNENI SUD U ZAGREBU","02279223","64719361972","11"]
[42993,"VELEUČILIŠTE U VIROVITICI","080 - MINISTARSTVO ZNANOSTI, OBRAZOVANJA I MLADIH","42993 VELEUČILIŠTE U VIROVITICI","02282208","46576407858","11"]
[43214,"MINISTARSTVO TURIZMA I SPORTA"," - ","43214 MINISTARSTVO TURIZMA I SPORTA","02323427","87892589782","11"]
[43255,"SREDIŠNJA AGENCIJA ZA FINANCIRANJE I UGOVARANJE PROGRAMA I PROJEKATA EUROPSKE UNIJE","061 - MINISTARSTVO REGIONALNOGA RAZVOJA I FONDOVA EUROPSKE UNIJE","43255 SREDIŠNJA AGENCIJA ZA FINANCIRANJE I UGOVARANJE PROGRAMA I PROJEKATA EUROPSKE UNIJE","02288028","11548277852","11"]
[43327,"DOM ZA STARIJE   OSOBE \"MAJKA MARIJA PETKOVIĆ\"","086 - MINISTARSTVO RADA, MIROVINSKOGA SUSTAVA, OBITELJI I SOCIJALNE POLITIKE","43327 DOM ZA STARIJE   OSOBE \"MAJKA MARIJA PETKOVIĆ\"","02263696","03115808250","11"]
[43335,"AGENCIJA ZA MOBILNOST I PROGRAME EUROPSKE UNIJE","080 - MINISTARSTVO ZNANOSTI, OBRAZOVANJA I MLADIH","43335 AGENCIJA ZA MOBILNOST I PROGRAME EUROPSKE UNIJE","02298007","25385906011","11"]
[43564,"PRAVOBRANITELJ ZA OSOBE S INVALIDITETOM"," - ","43564 PRAVOBRANITELJ ZA OSOBE S INVALIDITETOM","02397161","39572892750","11"]
[43636,"DRžAVNI ARHIV U VUKOVARU","055 - MINISTARSTVO KULTURE I MEDIJA","43636 DRžAVNI ARHIV U VUKOVARU","02334712","05275803945","11"]
[43644,"DRŽAVNI ARHIV ZA MEĐIMURJE","055 - MINISTARSTVO KULTURE I MEDIJA","43644 DRŽAVNI ARHIV ZA MEĐIMURJE","02326086","13768042762","11"]
[43732,"AGENCIJA ZA REVIZIJU SUSTAVA PROVEDBE PROGRAMA EUROPSKE UNIJE","025 - MINISTARSTVO FINANCIJA","43732 AGENCIJA ZA REVIZIJU SUSTAVA PROVEDBE PROGRAMA EUROPSKE UNIJE","02400774","94432282335","11"]
[43749,"MEĐIMURSKO VELEUČILIŠTE U ČAKOVCU","080 - MINISTARSTVO ZNANOSTI, OBRAZOVANJA I MLADIH","43749 MEĐIMURSKO VELEUČILIŠTE U ČAKOVCU","02382512","31444990605","11"]
[43773,"SVEUČILIŠTE U SPLITU, KINEZIOLOŠKI FAKULTET","080 - MINISTARSTVO ZNANOSTI, OBRAZOVANJA I MLADIH","43773 SVEUČILIŠTE U SPLITU, KINEZIOLOŠKI FAKULTET","02393255","57848936921","11"]
[43804,"OPĆA I VETERANSKA BOLNICA HRVATSKI PONOS KNIN","096 - MINISTARSTVO ZDRAVSTVA","43804 OPĆA I VETERANSKA BOLNICA HRVATSKI PONOS KNIN","02410737","70948165237","11"]
[43907,"HRVATSKI MUZEJ TURIZMA","055 - MINISTARSTVO KULTURE I MEDIJA","43907 HRVATSKI MUZEJ TURIZMA","02298651","47076735780","11"]
[43915,"DRŽAVNI ARHIV U ŠIBENIKU","055 - MINISTARSTVO KULTURE I MEDIJA","43915 DRŽAVNI ARHIV U ŠIBENIKU","02435411","97880836355","11"]
[44493,"DRŽAVNI ARHIV U VIROVITICI","055 - MINISTARSTVO KULTURE I MEDIJA","44493 DRŽAVNI ARHIV U VIROVITICI","02494841","37777848565","11"]
[44508,"AGENCIJA ZA OSIGURANJE RADNIČKIH TRAŽBINA","086 - MINISTARSTVO RADA, MIROVINSKOGA SUSTAVA, OBITELJI I SOCIJALNE POLITIKE","44508 AGENCIJA ZA OSIGURANJE RADNIČKIH TRAŽBINA","02456257","04323472109","11"]
[44565,"HRVATSKA AGENCIJA ZA POLJOPRIVREDU I HRANU","060 - MINISTARSTVO POLJOPRIVREDE, ŠUMARSTVA I RIBARSTVA","44565 HRVATSKA AGENCIJA ZA POLJOPRIVREDU I HRANU","02528614","35506269186","11"]
[44573,"HRVATSKI ZAVOD ZA HITNU MEDICINU","096 - MINISTARSTVO ZDRAVSTVA","44573 HRVATSKI ZAVOD ZA HITNU MEDICINU","02536145","45218167072","11"]
[44926,"HRVATSKI AUDIOVIZUALNI CENTAR","055 - MINISTARSTVO KULTURE I MEDIJA","44926 HRVATSKI AUDIOVIZUALNI CENTAR","02275341","27103918402","11"]
[45189,"MEĐUNARODNI CENTAR ZA PODVODNU ARHEOLOGIJU","055 - MINISTARSTVO KULTURE I MEDIJA","45189 MEĐUNARODNI CENTAR ZA PODVODNU ARHEOLOGIJU","02479184","42850342757","11"]
[45228,"AGENCIJA ZA SIGURNOST ŽELJEZNIČKOG PROMETA","065 - MINISTARSTVO MORA, PROMETA I INFRASTRUKTURE","45228 AGENCIJA ZA SIGURNOST ŽELJEZNIČKOG PROMETA","02559633","99256282044","11"]
[45902,"HRVATSKA REGULATORNA AGENCIJA ZA MREŽNE DJELATNOSTI","065 - MINISTARSTVO MORA, PROMETA I INFRASTRUKTURE",{"$f":"A450&\" \"&B450","v":"45902 HRVATSKA REGULATORNA AGENCIJA ZA MREŽNE DJELATNOSTI"},"01865862","87950783661","11"]
[45927,"AGENCIJA ZA PLAĆANJA U POLJOPRIVREDI, RIBARSTVU I RURALNOM RAZVOJU","060 - MINISTARSTVO POLJOPRIVREDE, ŠUMARSTVA I RIBARSTVA","45927 AGENCIJA ZA PLAĆANJA U POLJOPRIVREDI, RIBARSTVU I RURALNOM RAZVOJU","02593262","99122235709","11"]
[45978,"PRAVOSUDNA AKADEMIJA","109 - MINISTARSTVO PRAVOSUĐA, UPRAVE I DIGITALNE TRANSFORMACIJE ","45978 PRAVOSUDNA AKADEMIJA","02601168","45836640931","11"]
[45986,"CENTAR ZA REHABILITACIJU KOMAREVO","086 - MINISTARSTVO RADA, MIROVINSKOGA SUSTAVA, OBITELJI I SOCIJALNE POLITIKE","45986 CENTAR ZA REHABILITACIJU KOMAREVO","02506327","07830685349","11"]
[46028,"URED PREDSJEDNICE REPUBLIKE HRVATSKE PO PRESTANKU OBNAŠANJA DUŽNOSTI"," - ","46028 URED PREDSJEDNICE REPUBLIKE HRVATSKE PO PRESTANKU OBNAŠANJA DUŽNOSTI","02611660","90648505547","11"]
[46052,"DOM ZA STARIJE OSOBE OKLAJ","086 - MINISTARSTVO RADA, MIROVINSKOGA SUSTAVA, OBITELJI I SOCIJALNE POLITIKE","46052 DOM ZA STARIJE OSOBE OKLAJ","01917790","66528573284","11"]
[46173,"AGENCIJA ZA STRUKOVNO OBRAZOVANJE I OBRAZOVANJE ODRASLIH","080 - MINISTARSTVO ZNANOSTI, OBRAZOVANJA I MLADIH","46173 AGENCIJA ZA STRUKOVNO OBRAZOVANJE I OBRAZOVANJE ODRASLIH","02650029","40719411729","11"]
[46237,"HRVATSKA AGENCIJA ZA MALO GOSPODARSTVO, INOVACIJE I INVESTICIJE","077 - MINISTARSTVO GOSPODARSTVA","46237 HRVATSKA AGENCIJA ZA MALO GOSPODARSTVO, INOVACIJE I INVESTICIJE","00767875","25609559342","11"]
[46366,"FOND ZA OBNOVU I RAZVOJ GRADA VUKOVARA","061 - MINISTARSTVO REGIONALNOGA RAZVOJA I FONDOVA EUROPSKE UNIJE","46366 FOND ZA OBNOVU I RAZVOJ GRADA VUKOVARA","01606492","32997192616","11"]
[46420,"DRŽAVNA ŠKOLA ZA JAVNU UPRAVU","109 - MINISTARSTVO PRAVOSUĐA, UPRAVE I DIGITALNE TRANSFORMACIJE ","46420 DRŽAVNA ŠKOLA ZA JAVNU UPRAVU","02720736","01681646554","11"]
[46614,"ODGOJNI ZAVOD U POŽEGI","109 - MINISTARSTVO PRAVOSUĐA, UPRAVE I DIGITALNE TRANSFORMACIJE ","46614 ODGOJNI ZAVOD U POŽEGI","03342719","63220735836","11"]
[46841,"OPĆINSKI RADNI SUD U ZAGREBU","109 - MINISTARSTVO PRAVOSUĐA, UPRAVE I DIGITALNE TRANSFORMACIJE ","46841 OPĆINSKI RADNI SUD U ZAGREBU","02808285","04755372979","11"]
[47037,"MINISTARSTVO HRVATSKIH BRANITELJA"," - ","47037 MINISTARSTVO HRVATSKIH BRANITELJA","02829541","95131524528","11"]
[47053,"MINISTARSTVO GOSPODARSTVA"," - ","47053 MINISTARSTVO GOSPODARSTVA","02831309","19370100881","11"]
[47061,"MINISTARSTVO PROSTORNOGA UREĐENJA, GRADITELJSTVA I DRŽAVNE IMOVINE"," - ","47061 MINISTARSTVO PROSTORNOGA UREĐENJA, GRADITELJSTVA I DRŽAVNE IMOVINE","02831317","95093210687","11"]
[47096,"MINISTARSTVO RADA, MIROVINSKOGA SUSTAVA, OBITELJI I SOCIJALNE POLITIKE"," - ","47096 MINISTARSTVO RADA, MIROVINSKOGA SUSTAVA, OBITELJI I SOCIJALNE POLITIKE","02830949","53969486500","11"]
[47107,"MINISTARSTVO ZDRAVSTVA"," - ","47107 MINISTARSTVO ZDRAVSTVA","02830396","88362248492","11"]
[47123,"MINISTARSTVO REGIONALNOGA RAZVOJA I FONDOVA EUROPSKE UNIJE"," - ","47123 MINISTARSTVO REGIONALNOGA RAZVOJA I FONDOVA EUROPSKE UNIJE","02830442","69608914212","11"]
[47131,"MINISTARSTVO GOSPODARSTVA  - RAVNATELJSTVO ZA ROBNE ZALIHE","077 - MINISTARSTVO GOSPODARSTVA","47131 MINISTARSTVO GOSPODARSTVA  - RAVNATELJSTVO ZA ROBNE ZALIHE","02831309","19370100881","11"]
[47140,"UPRAVNI SUD U OSIJEKU","109 - MINISTARSTVO PRAVOSUĐA, UPRAVE I DIGITALNE TRANSFORMACIJE ","47140 UPRAVNI SUD U OSIJEKU","02790416","03091658132","11"]
[47158,"UPRAVNI SUD U RIJECI","109 - MINISTARSTVO PRAVOSUĐA, UPRAVE I DIGITALNE TRANSFORMACIJE ","47158 UPRAVNI SUD U RIJECI","02790424","46227608101","11"]
[47199,"UPRAVNI SUD U ZAGREBU","109 - MINISTARSTVO PRAVOSUĐA, UPRAVE I DIGITALNE TRANSFORMACIJE ","47199 UPRAVNI SUD U ZAGREBU","02790467","65338495447","11"]
[47203,"UPRAVNI SUD U SPLITU","109 - MINISTARSTVO PRAVOSUĐA, UPRAVE I DIGITALNE TRANSFORMACIJE ","47203 UPRAVNI SUD U SPLITU","02790432","45765887838","11"]
[47287,"DRŽAVNO ODVJETNIČKO VIJEĆE","109 - MINISTARSTVO PRAVOSUĐA, UPRAVE I DIGITALNE TRANSFORMACIJE ","47287 DRŽAVNO ODVJETNIČKO VIJEĆE","02797712","45840051274","11"]
[47295,"DRŽAVNO SUDBENO VIJEĆE","109 - MINISTARSTVO PRAVOSUĐA, UPRAVE I DIGITALNE TRANSFORMACIJE ","47295 DRŽAVNO SUDBENO VIJEĆE","02747987","66951444283","11"]
[47334,"SREDIŠNJI DRŽAVNI URED ZA SREDIŠNJU JAVNU NABAVU"," - ","47334 SREDIŠNJI DRŽAVNI URED ZA SREDIŠNJU JAVNU NABAVU","02840731","17683204722","11"]
[47406,"URED ZASTUPNIKA REPUBLIKE HRVATSKE PRED EUROPSKIM SUDOM ZA LJUDSKA PRAVA","020 - VLADA REPUBLIKE HRVATSKE","47406 URED ZASTUPNIKA REPUBLIKE HRVATSKE PRED EUROPSKIM SUDOM ZA LJUDSKA PRAVA","02864851","98898752468","11"]
[47422,"URED ZA LJUDSKA PRAVA I PRAVA NACIONALNIH MANJINA","020 - VLADA REPUBLIKE HRVATSKE","47422 URED ZA LJUDSKA PRAVA I PRAVA NACIONALNIH MANJINA","02872781","83342260912","11"]
[47439,"SREDIŠNJI DRŽAVNI URED ZA HRVATE IZVAN REPUBLIKE HRVATSKE"," - ","47439 SREDIŠNJI DRŽAVNI URED ZA HRVATE IZVAN REPUBLIKE HRVATSKE","02875004","03416985458","11"]
[47668,"CENTAR ZA DIJAGNOSTIKU U ZAGREBU","109 - MINISTARSTVO PRAVOSUĐA, UPRAVE I DIGITALNE TRANSFORMACIJE ","47668 CENTAR ZA DIJAGNOSTIKU U ZAGREBU","02903989","95770301332","11"]
[47852,"POVJERENSTVO ZA ODLUČIVANJE O SUKOBU INTERESA"," - ","47852 POVJERENSTVO ZA ODLUČIVANJE O SUKOBU INTERESA","01850113","60383416394","11"]
[47893,"KLINIKA ZA DJEČJE BOLESTI ZAGREB","096 - MINISTARSTVO ZDRAVSTVA","47893 KLINIKA ZA DJEČJE BOLESTI ZAGREB","02874989","70641763756","11"]
[47908,"MUZEJ VUČEDOLSKE KULTURE","055 - MINISTARSTVO KULTURE I MEDIJA","47908 MUZEJ VUČEDOLSKE KULTURE","04016408","05703458858","11"]
[48023,"SVEUČILIŠTE U RIJECI - FAKULTET ZDRAVSTVENIH STUDIJA U RIJECI","080 - MINISTARSTVO ZNANOSTI, OBRAZOVANJA I MLADIH","48023 SVEUČILIŠTE U RIJECI - FAKULTET ZDRAVSTVENIH STUDIJA U RIJECI","04052510","19213484918","11"]
[48031,"AGENCIJA ZA ISTRAŽIVANJE NESREĆA U ZRAČNOM, POMORSKOM I ŽELJEZNIČKOM PROMETU","065 - MINISTARSTVO MORA, PROMETA I INFRASTRUKTURE","48031 AGENCIJA ZA ISTRAŽIVANJE NESREĆA U ZRAČNOM, POMORSKOM I ŽELJEZNIČKOM PROMETU","04077199","40956403978","11"]
[48066,"URED KOMISIJE ZA ODNOSE S VJERSKIM ZAJEDNICAMA","020 - VLADA REPUBLIKE HRVATSKE","48066 URED KOMISIJE ZA ODNOSE S VJERSKIM ZAJEDNICAMA","04131754","49974392262","11"]
[48103,"DRŽAVNA ERGELA ĐAKOVO I LIPIK","060 - MINISTARSTVO POLJOPRIVREDE, ŠUMARSTVA I RIBARSTVA","48103 DRŽAVNA ERGELA ĐAKOVO I LIPIK","02725029","59493690843","11"]
[48226,"POVJERENIK ZA INFORMIRANJE"," - ","48226 POVJERENIK ZA INFORMIRANJE","04126904","68011638990","11"]
[48242,"ZAVOD ZA VJEŠTAČENJE, PROFESIONALNU REHABILITACIJU I ZAPOŠLJAVANJE OSOBA S INVALIDITETOM","086 - MINISTARSTVO RADA, MIROVINSKOGA SUSTAVA, OBITELJI I SOCIJALNE POLITIKE","48242 ZAVOD ZA VJEŠTAČENJE, PROFESIONALNU REHABILITACIJU I ZAPOŠLJAVANJE OSOBA S INVALIDITETOM","04166159","20502470829","11"]
[48267,"SVEUČILIŠTE SJEVER","080 - MINISTARSTVO ZNANOSTI, OBRAZOVANJA I MLADIH","48267 SVEUČILIŠTE SJEVER","02752298","59624928052","11"]
[48314,"JAVNA USTANOVA MEMORIJALNI CENTAR DOMOVINSKOG RATA VUKOVAR","041 - MINISTARSTVO HRVATSKIH BRANITELJA","48314 JAVNA USTANOVA MEMORIJALNI CENTAR DOMOVINSKOG RATA VUKOVAR","04140966","18534327031","11"]
[48402,"CENTAR ZA POSEBNO SKRBNIŠTVO","086 - MINISTARSTVO RADA, MIROVINSKOGA SUSTAVA, OBITELJI I SOCIJALNE POLITIKE","48402 CENTAR ZA POSEBNO SKRBNIŠTVO","04250257","15916354928","11"]
[48710,"DOM HRVATSKIH VETERANA","041 - MINISTARSTVO HRVATSKIH BRANITELJA","48710 DOM HRVATSKIH VETERANA","04335635","08099901687","11"]
[48752,"TRGOVAČKI SUD U PAZINU","109 - MINISTARSTVO PRAVOSUĐA, UPRAVE I DIGITALNE TRANSFORMACIJE ","48752 TRGOVAČKI SUD U PAZINU","04344677","46543732715","11"]
[48769,"OPĆINSKI SUD U NOVOM ZAGREBU","109 - MINISTARSTVO PRAVOSUĐA, UPRAVE I DIGITALNE TRANSFORMACIJE ","48769 OPĆINSKI SUD U NOVOM ZAGREBU","04341872","87297014856","11"]
[48785,"OPĆINSKO DRŽAVNO ODVJETNIŠTVO U NOVOM ZAGREBU","109 - MINISTARSTVO PRAVOSUĐA, UPRAVE I DIGITALNE TRANSFORMACIJE ","48785 OPĆINSKO DRŽAVNO ODVJETNIŠTVO U NOVOM ZAGREBU","04355784","22739488071","11"]
[48865,"CENTAR ZA PROFESIONALNU REHABILITACIJU ZAGREB","086 - MINISTARSTVO RADA, MIROVINSKOGA SUSTAVA, OBITELJI I SOCIJALNE POLITIKE","48865 CENTAR ZA PROFESIONALNU REHABILITACIJU ZAGREB","04370503","69410598395","11"]
[49059,"CENTAR ZA PROFESIONALNU REHABILITACIJU RIJEKA","086 - MINISTARSTVO RADA, MIROVINSKOGA SUSTAVA, OBITELJI I SOCIJALNE POLITIKE","49059 CENTAR ZA PROFESIONALNU REHABILITACIJU RIJEKA","04453433","99737296287","11"]
[49075,"AGENCIJA ZA ELEKTRONIČKE MEDIJE","055 - MINISTARSTVO KULTURE I MEDIJA","49075 AGENCIJA ZA ELEKTRONIČKE MEDIJE","02307014","35237547014","11"]
[49083,"HRVATSKA AGENCIJA ZA CIVILNO ZRAKOPLOVSTVO","065 - MINISTARSTVO MORA, PROMETA I INFRASTRUKTURE","49083 HRVATSKA AGENCIJA ZA CIVILNO ZRAKOPLOVSTVO","02371219","76108805525","11"]
[49091,"HRVATSKA ENERGETSKA REGULATORNA AGENCIJA","077 - MINISTARSTVO GOSPODARSTVA","49091 HRVATSKA ENERGETSKA REGULATORNA AGENCIJA","01624482","83764654530","11"]
[49286,"ODBOR ZA STANDARDE FINANCIJSKOG IZVJEŠTAVANJA","025 - MINISTARSTVO FINANCIJA","49286 ODBOR ZA STANDARDE FINANCIJSKOG IZVJEŠTAVANJA","02052644","58499994900","11"]
[49585,"SREDIŠNJI DRŽAVNI URED ZA RAZVOJ DIGITALNOG DRUŠTVA"," - ","49585 SREDIŠNJI DRŽAVNI URED ZA RAZVOJ DIGITALNOG DRUŠTVA","04626265","55422358623","11"]
[49649,"AGENCIJA ZA UGLJIKOVODIKE","077 - MINISTARSTVO GOSPODARSTVA","49649 AGENCIJA ZA UGLJIKOVODIKE","04171667","72156517632","11"]
[49729,"CENTAR ZA PROFESIONALNU REHABILITACIJU SPLIT","086 - MINISTARSTVO RADA, MIROVINSKOGA SUSTAVA, OBITELJI I SOCIJALNE POLITIKE","49729 CENTAR ZA PROFESIONALNU REHABILITACIJU SPLIT","04451660","60142045282","11"]
[49796,"SVEUČILIŠTE J.J. STROSMAYERA U OSIJEKU - FAKULTET ZA DENTALNU MEDICINU I ZDRAVSTVO","080 - MINISTARSTVO ZNANOSTI, OBRAZOVANJA I MLADIH","49796 SVEUČILIŠTE J.J. STROSMAYERA U OSIJEKU - FAKULTET ZA DENTALNU MEDICINU I ZDRAVSTVO","04748875","83830458507","11"]
[50090,"ARHEOLOŠKI MUZEJ OSIJEK","055 - MINISTARSTVO KULTURE I MEDIJA","50090 ARHEOLOŠKI MUZEJ OSIJEK","04857283","36551793962","11"]
[50215,"SVEUČILIŠTE JOSIPA JURJA STROSSMAYERA U OSIJEKU - AKADEMIJA ZA UMJETNOST I KULTURU U OSIJEKU","080 - MINISTARSTVO ZNANOSTI, OBRAZOVANJA I MLADIH","50215 SVEUČILIŠTE JOSIPA JURJA STROSSMAYERA U OSIJEKU - AKADEMIJA ZA UMJETNOST I KULTURU U OSIJEKU","04907361","60277424315","11"]
[50395,"KAZNIONICA U POŽEGI","109 - MINISTARSTVO PRAVOSUĐA, UPRAVE I DIGITALNE TRANSFORMACIJE ","50395 KAZNIONICA U POŽEGI","04982495","28324816977","11"]
[50400,"ZATVOR U POŽEGI","109 - MINISTARSTVO PRAVOSUĐA, UPRAVE I DIGITALNE TRANSFORMACIJE ","50400 ZATVOR U POŽEGI","04982533","74353238879","11"]
[50483,"OPĆINSKO DRŽAVNO ODVJETNIŠTVO U METKOVIĆU","109 - MINISTARSTVO PRAVOSUĐA, UPRAVE I DIGITALNE TRANSFORMACIJE ","50483 OPĆINSKO DRŽAVNO ODVJETNIŠTVO U METKOVIĆU","03107965","09719135686","11"]
[50491,"OPĆINSKO DRŽAVNO ODVJETNIŠTVO U PAZINU","109 - MINISTARSTVO PRAVOSUĐA, UPRAVE I DIGITALNE TRANSFORMACIJE ","50491 OPĆINSKO DRŽAVNO ODVJETNIŠTVO U PAZINU","03374572","44887120463","11"]
[50506,"OPĆINSKO DRŽAVNO ODVJETNIŠTVO U VINKOVCIMA","109 - MINISTARSTVO PRAVOSUĐA, UPRAVE I DIGITALNE TRANSFORMACIJE ","50506 OPĆINSKO DRŽAVNO ODVJETNIŠTVO U VINKOVCIMA","03301826","68615020157","11"]
[50514,"OPĆINSKI SUD U CRIKVENICI","109 - MINISTARSTVO PRAVOSUĐA, UPRAVE I DIGITALNE TRANSFORMACIJE ","50514 OPĆINSKI SUD U CRIKVENICI","03127320","74084245037","11"]
[50522,"OPĆINSKI SUD U ĐAKOVU","109 - MINISTARSTVO PRAVOSUĐA, UPRAVE I DIGITALNE TRANSFORMACIJE ",{"$f":"A514&\" \"&B514","v":"50522 OPĆINSKI SUD U ĐAKOVU"},"03012069","18244017371","11"]
[50539,"OPĆINSKI SUD U KUTINI","109 - MINISTARSTVO PRAVOSUĐA, UPRAVE I DIGITALNE TRANSFORMACIJE ","50539 OPĆINSKI SUD U KUTINI","03319164","69359602385","11"]
[50547,"OPĆINSKI SUD U MAKARSKOJ","109 - MINISTARSTVO PRAVOSUĐA, UPRAVE I DIGITALNE TRANSFORMACIJE ","50547 OPĆINSKI SUD U MAKARSKOJ","03309568","10188505675","11"]
[50555,"OPĆINSKI SUD U METKOVIĆU","109 - MINISTARSTVO PRAVOSUĐA, UPRAVE I DIGITALNE TRANSFORMACIJE ","50555 OPĆINSKI SUD U METKOVIĆU","03107957","46522572970","11"]
[50563,"OPĆINSKI SUD U PAZINU","109 - MINISTARSTVO PRAVOSUĐA, UPRAVE I DIGITALNE TRANSFORMACIJE ","50563 OPĆINSKI SUD U PAZINU","03089541","27672461276","11"]
[50571,"OPĆINSKI SUD U SESVETAMA","109 - MINISTARSTVO PRAVOSUĐA, UPRAVE I DIGITALNE TRANSFORMACIJE ","50571 OPĆINSKI SUD U SESVETAMA","03389014","72931567836","11"]
[50580,"OPĆINSKI SUD U VINKOVCIMA","109 - MINISTARSTVO PRAVOSUĐA, UPRAVE I DIGITALNE TRANSFORMACIJE ","50580 OPĆINSKI SUD U VINKOVCIMA","03301818","77561654785","11"]
[50598,"TRGOVAČKI SUD U DUBROVNIKU","109 - MINISTARSTVO PRAVOSUĐA, UPRAVE I DIGITALNE TRANSFORMACIJE ","50598 TRGOVAČKI SUD U DUBROVNIKU","01422936","74081602357","11"]
[50709,"DRŽAVNI INSPEKTORAT"," - ","50709 DRŽAVNI INSPEKTORAT","05068711","33706439962","11"]
[50848,"VELEUČILIŠTE HRVATSKO ZAGORJE KRAPINA","080 - MINISTARSTVO ZNANOSTI, OBRAZOVANJA I MLADIH","50848 VELEUČILIŠTE HRVATSKO ZAGORJE KRAPINA","02271354","16465214888","11"]
[50928,"VISOKI KAZNENI SUD REPUBLIKE HRVATSKE","109 - MINISTARSTVO PRAVOSUĐA, UPRAVE I DIGITALNE TRANSFORMACIJE ","50928 VISOKI KAZNENI SUD REPUBLIKE HRVATSKE","05090890","66513030326","11"]
[50985,"HRVATSKA VATROGASNA ZAJEDNICA"," - ","50985 HRVATSKA VATROGASNA ZAJEDNICA","05205689","08474627795","11"]
[51191,"Sveučilište u Zagrebu Fakultet hrvatskih studija","080 - MINISTARSTVO ZNANOSTI, OBRAZOVANJA I MLADIH","51191 Sveučilište u Zagrebu Fakultet hrvatskih studija","05214068","99454315441","11"]
[51255,"JAVNA USTANOVA LUČKA UPRAVA SISAK","065 - MINISTARSTVO MORA, PROMETA I INFRASTRUKTURE","51255 JAVNA USTANOVA LUČKA UPRAVA SISAK","01534475","80303023744","11"]
[51263,"JAVNA USTANOVALUČKA UPRAVA SLAVONSKI BROD","065 - MINISTARSTVO MORA, PROMETA I INFRASTRUKTURE","51263 JAVNA USTANOVALUČKA UPRAVA SLAVONSKI BROD","01515845","14562482156","11"]
[51271,"LUČKA UPRAVA ZADAR","065 - MINISTARSTVO MORA, PROMETA I INFRASTRUKTURE","51271 LUČKA UPRAVA ZADAR","01284649","03457471323","11"]
[51280,"LUČKA UPRAVA VUKOVAR","065 - MINISTARSTVO MORA, PROMETA I INFRASTRUKTURE","51280 LUČKA UPRAVA VUKOVAR","01541455","43504091006","11"]
[51298,"LUČKA UPRAVA PLOČE","065 - MINISTARSTVO MORA, PROMETA I INFRASTRUKTURE","51298 LUČKA UPRAVA PLOČE","01283847","98749709951","11"]
[51302,"LUČKA UPRAVA RIJEKA","065 - MINISTARSTVO MORA, PROMETA I INFRASTRUKTURE","51302 LUČKA UPRAVA RIJEKA","01212109","60521475400","11"]
[51319,"LUČKA UPRAVA OSIJEK","065 - MINISTARSTVO MORA, PROMETA I INFRASTRUKTURE","51319 LUČKA UPRAVA OSIJEK","01541838","78159614650","11"]
[51327,"LUČKA UPRAVA SPLIT","065 - MINISTARSTVO MORA, PROMETA I INFRASTRUKTURE","51327 LUČKA UPRAVA SPLIT","01308106","06992092556","11"]
[51335,"LUČKA UPRAVA ŠIBENIK","065 - MINISTARSTVO MORA, PROMETA I INFRASTRUKTURE","51335 LUČKA UPRAVA ŠIBENIK","01961063","98609040957","11"]
[51343,"LUČKA UPRAVA DUBROVNIK","065 - MINISTARSTVO MORA, PROMETA I INFRASTRUKTURE","51343 LUČKA UPRAVA DUBROVNIK","01317857","51303627909","11"]
[51360,"SVEUČILIŠTE U SLAVONSKOM BRODU","080 - MINISTARSTVO ZNANOSTI, OBRAZOVANJA I MLADIH","51360 SVEUČILIŠTE U SLAVONSKOM BRODU","05290538","33027834374","11"]
[51386,"URED POTPREDSJEDNICE VLADE REPUBLIKE HRVATSKE","020 - VLADA REPUBLIKE HRVATSKE","51386 URED POTPREDSJEDNICE VLADE REPUBLIKE HRVATSKE","05294584","77620149940","11"]
[51409,"SREDIŠNJI DRŽAVNI URED ZA DEMOGRAFIJU I MLADE"," - ","51409 SREDIŠNJI DRŽAVNI URED ZA DEMOGRAFIJU I MLADE","05292441","63214615893","11"]
[51441,"MINISTARSTVO PRAVOSUĐA, UPRAVE I DIGITALNE TRANSFORMACIJE "," - ","51441 MINISTARSTVO PRAVOSUĐA, UPRAVE I DIGITALNE TRANSFORMACIJE ","05287260","72910430276","11"]
[51450,"SVEUČILIŠTE JOSIPA JURJA STROSSMAYERA U OSIJEKU - KINEZIOLOŠKI FAKULTET OSIJEK","080 - MINISTARSTVO ZNANOSTI, OBRAZOVANJA I MLADIH","51450 SVEUČILIŠTE JOSIPA JURJA STROSSMAYERA U OSIJEKU - KINEZIOLOŠKI FAKULTET OSIJEK","05302099","70788591483","11"]
[51853,"DRŽAVNA VATROGASNA ŠKOLA","039 - HRVATSKA VATROGASNA ZAJEDNICA","51853 DRŽAVNA VATROGASNA ŠKOLA","05379229","68850110329","11"]
[52209,"HRVATSKA ZAKLADA ZA ZNANOST","080 - MINISTARSTVO ZNANOSTI, OBRAZOVANJA I MLADIH","52209 HRVATSKA ZAKLADA ZA ZNANOST","01626841","88776522763","11"]
[52305,"CENTAR ZA PRUŽANJEUSLUGA U ZAJEDNICI MOCIRE","086 - MINISTARSTVO RADA, MIROVINSKOGA SUSTAVA, OBITELJI I SOCIJALNE POLITIKE","52305 CENTAR ZA PRUŽANJEUSLUGA U ZAJEDNICI MOCIRE","05343020","01092203507","11"]
[52313,"VETERANSKI CENTAR","041 - MINISTARSTVO HRVATSKIH BRANITELJA","52313 VETERANSKI CENTAR","05475139","38617796847","11"]
[52321,"POVJERENSTVO ZA FISKALNU POLITIKU"," - ","52321 POVJERENSTVO ZA FISKALNU POLITIKU","05513260","24871013494","11"]
[52356,"OPĆINSKO GRAĐANSKO DRŽAVNO ODVJETNIŠTVO U ZAGREBU","109 - MINISTARSTVO PRAVOSUĐA, UPRAVE I DIGITALNE TRANSFORMACIJE ","52356 OPĆINSKO GRAĐANSKO DRŽAVNO ODVJETNIŠTVO U ZAGREBU","05545471","89381255328","11"]
[52469,"Institut za vode Josip Juraj Strossmayer","077 - MINISTARSTVO GOSPODARSTVA","52469 Institut za vode Josip Juraj Strossmayer","05552729","04716643151","11"]
[52565,"SVEUČILIŠTE JOSIPA JURJA STROSSMAYERA U OSIJEKU, FAKULTET TURIZMA I RURALNOG RAZVOJA U POŽEGI","080 - MINISTARSTVO ZNANOSTI, OBRAZOVANJA I MLADIH","52565 SVEUČILIŠTE JOSIPA JURJA STROSSMAYERA U OSIJEKU, FAKULTET TURIZMA I RURALNOG RAZVOJA U POŽEGI","05619696","11614501047","11"]
[52645,"Hrvatski zavod za socijalni rad","086 - MINISTARSTVO RADA, MIROVINSKOGA SUSTAVA, OBITELJI I SOCIJALNE POLITIKE","52645 Hrvatski zavod za socijalni rad","05695007","52966791065","11"]
[52653,"Obiteljski centar","086 - MINISTARSTVO RADA, MIROVINSKOGA SUSTAVA, OBITELJI I SOCIJALNE POLITIKE","52653 Obiteljski centar","05695902","34989146384","11"]
[53919,"Sveučilište u Osijeku, Fakultet primijenjene matematike i informatike","080 - MINISTARSTVO ZNANOSTI, OBRAZOVANJA I MLADIH","53919 Sveučilište u Osijeku, Fakultet primijenjene matematike i informatike","05769159","56597320763","11"]
[53951,"SVEUČILIŠTE OBRANE I SIGURNOSTI Dr. FRANJO TUĐMAN","030 - MINISTARSTVO OBRANE","53951 SVEUČILIŠTE OBRANE I SIGURNOSTI Dr. FRANJO TUĐMAN","05790255","36752094474","11"]
[53960,"Centar za mirno rješavanje sporova","109 - MINISTARSTVO PRAVOSUĐA, UPRAVE I DIGITALNE TRANSFORMACIJE ","53960 Centar za mirno rješavanje sporova","05800315","80113121575","11"]
[53978,"Centar za pružanje usluga u zajednici Međimurje","086 - MINISTARSTVO RADA, MIROVINSKOGA SUSTAVA, OBITELJI I SOCIJALNE POLITIKE","53978 Centar za pružanje usluga u zajednici Međimurje","05759064","60893945273","11"]
[54108,"Dom za odrasle osobe Delnice","086 - MINISTARSTVO RADA, MIROVINSKOGA SUSTAVA, OBITELJI I SOCIJALNE POLITIKE","54108 Dom za odrasle osobe Delnice","02848325","89506438216","11"]
[54149,"Akademija socijalne skrbi","086 - MINISTARSTVO RADA, MIROVINSKOGA SUSTAVA, OBITELJI I SOCIJALNE POLITIKE","54149 Akademija socijalne skrbi","05862051","86317641207","11"]
[54173,"MINISTARSTVO ZAŠTITE OKOLIŠA I ZELENE TRANZICIJE"," - ","54173 MINISTARSTVO ZAŠTITE OKOLIŠA I ZELENE TRANZICIJE","05953081","59951999361","11"]
[54181,"MINISTARSTVO DEMOGRAFIJE I USELJENIŠTVA"," - ","54181 MINISTARSTVO DEMOGRAFIJE I USELJENIŠTVA","05952026","43609566625","11"]
[2532," SVEUČILIŠTE U ZADRU, ZNANSTVENA KNJIŽNICA",null,"2532 SVEUČILIŠTE U ZADRU, ZNANSTVENA KNJIŽNICA"]