Workbook

Sheet A. SAŽETAK
A1: AKADEMIJA PRIMIJENJENIH UMJETNOSTI
A2: Slavka Krautzeka 83
A3: 51000 Rijeka
A4: OIB: 55704161999
A5: RKP: 38454
A7: Polugodišnji izvještaj o izvršenju financijskog plana
A8: Za razdoblje od 01.01.2025. do 30.06.2025.
G11: I. OPĆI DIO
E12: SAŽETAK RAČUNA PRIHODA I RASHODA I RAČUNA FINANCIRANJA
A14: SAŽETAK RAČUNA PRIHODA I RASHODA | M14: Izvršenje 2024. | O14: Izvorni plan 2025. | Q14: Izvršenje 2025. | S14: Indeks 3/1 | U14: Indeks 3/2
A15: A. RAČUN PRIHODA I RASHODA | M15: 1 | O15: 2 | Q15: 3 | S15: 4 | U15: 5
A16: 6 Prihodi poslovanja | M16: 1466090.8 | O16: 3376426 | Q16: 1876796.6 | S16: 128.01 | U16: 55.59
A17: 7 Prihodi od prodaje nefinancijske imovine | M17: 0 | O17: 0 | Q17: 0
A18: UKUPNI PRIHODI | M18: 1466090.8 | O18: 3376426 | Q18: 1876796.6 | S18: 128.01 | U18: 55.59
A19: 3 Rashodi poslovanja | M19: 1513663.6 | O19: 3357710 | Q19: ='A.1. PRIHODI I RASHODI EK'!Q34 -> 1781342.6 | S19: 134.39 | U19: 60.58
A20: 4 Rashodi za nabavu nefinancijske imovine | M20: 14774.72 | O20: 33299 | Q20: ='A.1. PRIHODI I RASHODI EK'!Q80 -> 20706.98 | S20: 138.89 | U20: 61.32
A21: UKUPNI RASHODI | M21: 1528438.4 | O21: 3391009 | Q21: =Q19+Q20 -> 1802049.5 | S21: 134.43 | U21: 60.59
A22: RAZLIKA- VIŠAK / MANJAK | M22: -62347.58 | O22: -14583 | Q22: =Q18-Q21 -> 74747.1 | S22: 285.67 | U22: 1219.15
A24: SAŽETAK RAČUNA FINANCIRANJA | M24: Izvršenje 2024. | O24: Izvorni plan 2025. | Q24: Izvršenje 2025. | S24: Indeks 3/1 | U24: Indeks 3/2
A25: B. RAČUN ZADUŽIVANJA / FINANCIRANJA | M25: 1 | O25: 2 | Q25: 3 | S25: 4 | U25: 5
A26: 8 Primici od financijske imovine i zaduživanja | M26: 0 | O26: 0 | Q26: 0 | S26: 0 | U26: 0
A27: 5 Izdaci za financijsku imovinu i otplate zajmova | M27: 0 | O27: 0 | Q27: 0 | S27: 0 | U27: 0
A28: RAZLIKA PRIMITAKA I IZDATAKA | M28: 0 | O28: 0 | Q28: 0 | S28: 0 | U28: 0
A29: PRIJENOS SREDSTAVA IZ PRETHODNE GODINE | M29: 0 | O29: 81538 | Q29: 66955
A30: PRIJENOS SREDSTAVA U SLJEDEĆE RAZDOBLJE | M30: 0 | O30: -66955 | Q30: -141702.1 | S30: 0 | U30: 0
A31: NETO FINANCIRANJE
A32: VIŠAK/MANJAK + NETO FINANCIRANJE | M32: -62347.58 | O32: =O29+O30+O22 -> 0 | Q32: =Q29+Q30+Q22 -> -1.4551915e-10 | S32: 0 | U32: 0

Sheet A.1. PRIHODI I RASHODI EK
A1: AKADEMIJA PRIMIJENJENIH UMJETNOSTI
A2: Slavka Krautzeka 83
A3: 51000 Rijeka
A4: OIB: 55704161999
A5: RKP: 38454
A6: Izvještaj o prihodima i rashodima prema ekonomskoj klasifikaciji
A7: Za razdoblje od 01.01.2025. do 30.06.2025.
F11: SAŽETAK RAČUNA PRIHODA I RASHODA I RAČUNA FINANCIRANJA
A14: Račun / opis | M14: Izvršenje 2024. | O14: Izvorni plan 2025. | Q14: Izvršenje 2025. | S14: Indeks 3/1 | U14: Indeks 3/2
A15: A.1. RAČUN PRIHODA I RASHODA | M15: 1 | O15: 2 | Q15: 3 | S15: 4 | U15: 5
A16: 6 Prihodi poslovanja | M16: 1466090.8 | O16: 3376426 | Q16: 1876796.6 | S16: 128.01 | U16: 55.59
A17: 63 Pomoći iz inozemstva i od subjekata unutar općeg proračuna | M17: 18540.86 | O17: 7100 | Q17: 54789.23 | S17: 295.51 | U17: =Q17/O17 -> 7.716793
A18: 632 Pomoći od međunarodnih organizacija te institucija i tijela EU | M18: 13436.16 | S18: 0
A19: 6323 Tekuće pomoći od institucija i tijela EU | M19: 13436.16 | S19: 0
A20: 636 Pomoći proračunskim korisnicima iz proračuna koji im nije nadležan | Q20: 7780 | S20: 0
A21: 6361 Tekuće pomoći proračunskim korisnicima iz proračuna koji im nije nadležan | Q21: 7780 | S21: 0
A22: 639 Prijenosi između proračunskih korisnika istog proračuna | M22: 5104.7 | Q22: 47009.23 | S22: 920.9
A23: 6391 Tekući prijenosi između proračunskih korisnika istog proračuna | M23: 5104.7 | Q23: 47009.23 | S23: 920.9
A24: 65 Prihodi od upravnih i administrativnih pristojbi, pristojbi po posebnim propisima i naknada | M24: 5608.95 | O24: 80000 | Q24: 7674.96 | S24: 136.83 | U24: =Q24/O24 -> 0.095937
A25: 652 Prihodi po posebnim propisima | M25: 5608.95 | Q25: 7674.96 | S25: 136.83
A26: 6526 Ostali nespomenuti prihodi | M26: 5608.95 | Q26: 7674.96 | S26: 136.83
A27: 66 Prihodi od prodaje proizvoda i robe te pruženih usluga, prihodi od donacija te povrati po protestira | M27: 10370.11 | O27: 23000 | Q27: 21989.61 | S27: 212.05 | U27: =Q27/O27 -> 0.95607
A28: 661 Prihodi od prodaje proizvoda i robe te pruženih usluga | M28: 10370.11 | Q28: 21989.61 | S28: 212.05
A29: 6614 Prihodi od prodaje proizvoda i robe | M29: 5760 | Q29: 9898.6 | S29: 171.85
A30: 6615 Prihodi od pruženih usluga | M30: 4610.11 | Q30: 12091.01 | S30: 262.27
A31: 67 Prihodi iz nadležnog proračuna i od HZZO-a temeljem ugovornih obveza | M31: 1431570.9 | O31: 3266326 | Q31: 1792342.8 | S31: 125.2 | U31: =Q31/O31 -> 0.5487336
A32: 671 Prihodi iz nadležnog proračuna za financiranje redovne djelatnosti proračunskih korisnika | M32: 1431570.9 | Q32: 1792342.8 | S32: 125.2
A33: 6711 Prihodi iz nadležnog proračuna za financiranje rashoda poslovanja | M33: 1431570.9 | Q33: 1792342.8 | S33: 125.2
A34: 3 Rashodi poslovanja | M34: 1513663.6 | O34: 3357710 | Q34: =Q35+Q43+Q73+Q77 -> 1781342.6 | S34: =Q34/M34 -> 1.1768418 | U34: =Q34/O34 -> 0.53052305
A35: 31 Rashodi za zaposlene | M35: 1257692.8 | O35: 2834110 | Q35: =Q36+Q39+Q41 -> 1477962.5 | S35: =Q35/M35 -> 1.175138 | U35: =Q35/O35 -> 0.52149088
A36: 311 Plaće (Bruto) | M36: 1049798.3 | Q36: =Q37+Q38 -> 1237311.6 | S36: =Q36/M36 -> 1.1786185
A37: 3111 Plaće za redovan rad | M37: 1046026.2 | Q37: ='II. POSEBNI DIO'!M21+'II. POSEBNI DIO'!M64+'II. POSEBNI DIO'!M90 -> 1231147.7 | S37: =Q37/M37 -> 1.1769761
A38: 3114 Plaće za posebne uvjete rada | M38: 3772.11 | Q38: ='II. POSEBNI DIO'!M22 -> 6163.87 | S38: =Q38/M38 -> 1.6340642
A39: 312 Ostali rashodi za zaposlene | M39: 34573.81 | Q39: =Q40 -> 36494.33 | S39: =Q39/M39 -> 1.0555484
A40: 3121 Ostali rashodi za zaposlene | M40: 34573.81 | Q40: ='II. POSEBNI DIO'!M23+'II. POSEBNI DIO'!M77+'II. POSEBNI DIO'!M91 -> 36494.33 | S40: =Q40/M40 -> 1.0555484
A41: 313 Doprinosi na plaće | M41: 173320.69 | Q41: =Q42 -> 204156.59 | S41: =Q41/M41 -> 1.1779124
A42: 3132 Doprinosi za obvezno zdravstveno osiguranje | M42: 173320.69 | Q42: ='II. POSEBNI DIO'!M24+'II. POSEBNI DIO'!M65+'II. POSEBNI DIO'!M92 -> 204156.59 | S42: =Q42/M42 -> 1.1779124
A43: 32 Materijalni rashodi | M43: 254817.04 | O43: 519440 | Q43: =Q44+Q49+Q55+Q65+Q67 -> 298133.62 | S43: =Q43/M43 -> 1.1699909 | U43: =Q43/O43 -> 0.57395199
A44: 321 Naknade troškova zaposlenima | M44: 33244.12 | Q44: =Q45+Q46+Q47+Q48 -> 34247.86 | S44: =Q44/M44 -> 1.030193
A45: 3211 Službena putovanja | M45: 6977.83 | Q45: ='II. POSEBNI DIO'!M35+'II. POSEBNI DIO'!M94+'II. POSEBNI DIO'!M123 -> 8344.98 | S45: =Q45/M45 -> 1.1959277
...

Sheet A.2. PRIHODI I RASHODI IF
A1: AKADEMIJA PRIMIJENJENIH UMJETNOSTI
A2: Slavka Krautzeka 83
A3: 51000 Rijeka
A4: OIB: 55704161999
A5: RKP: 38454
A6: Izvještaj o prihodima i rashodima prema izvorima financiranja
A7: Za razdoblje od 01.01.2025. do 30.06.2025.
F11: SAŽETAK RAČUNA PRIHODA I RASHODA I RAČUNA FINANCIRANJA
A14: Račun / opis | M14: Izvršenje 2024. | O14: Izvorni plan 2025. | Q14: Izvršenje 2025. | S14: Indeks 3/1 | U14: Indeks 3/2
A15: A.2. PRIHODI I RASHODI PREMA IZVORIMA FINANCIRANJA | M15: 1 | O15: 2 | Q15: 3 | S15: 4 | U15: 5
A16: SVEUKUPNI PRIHODI | M16: 1466090.8 | O16: 3376426 | Q16: 1876796.6 | S16: 128.01 | U16: 55.59
A17: Izvor 1.1. OPĆI PRIHODI I PRIMICI | M17: 1431570.9 | O17: 3266326 | Q17: 1792342.8 | S17: 125.2 | U17: 54.87
A18: Izvor 3.1. VLASTITI PRIHODI | M18: 10370.11 | O18: 23000 | Q18: 21989.61 | S18: 212.05 | U18: 95.61
A19: Izvor 4.3. OSTALI PRIHODI ZA POSEBNE NAMJENE | M19: 5608.95 | O19: 80000 | Q19: 7674.96 | S19: 136.83 | U19: 9.59
A20: Izvor 5.1. POMOĆI EU | M20: 13436.16 | O20: 6720 | S20: =Q20/M20 -> 0 | U20: =Q20/O20 -> 0
A21: Izvor 5.2. OSTALE POMOĆI | M21: 5104.7 | O21: 380 | Q21: 54789.23 | S21: =Q21/M21 -> 10.733095 | U21: =Q21/O21 -> 144.18218
A22: SVEUKUPNI RASHODI | M22: 1528438.4 | O22: 3391009 | Q22: =Q23+Q24+Q25+Q26+Q27 -> 1802049.5 | S22: =Q22/M22 -> 1.1790136 | U22: =Q22/O22 -> 0.53141986
A23: Izvor 1.1. OPĆI PRIHODI I PRIMICI | M23: 1470018.9 | O23: 3266326 | Q23: ='II. POSEBNI DIO'!M19+'II. POSEBNI DIO'!M33+'II. POSEBNI DIO'!M121 -> 1719228.8 | S23: =Q23/M23 -> 1.1695284 | U23: =Q23/O23 -> 0.52634943
A24: Izvor 3.1. VLASTITI PRIHODI | M24: 2806.93 | O24: 22010 | Q24: ='II. POSEBNI DIO'!M75 -> 21003.07 | S24: =Q24/M24 -> 7.4825771 | U24: =Q24/O24 -> 0.95425125
A25: Izvor 4.3. OSTALI PRIHODI ZA POSEBNE NAMJENE | M25: 26284.75 | O25: 73495 | Q25: ='II. POSEBNI DIO'!M88 -> 44023.24 | S25: =Q25/M25 -> 1.6748586 | U25: =Q25/O25 -> 0.59899639
A26: Izvor 5.1. POMOĆI | M26: 4827.71 | O26: 9000 | Q26: ='II. POSEBNI DIO'!M61 -> 7148.78 | S26: =Q26/M26 -> 1.4807807 | U26: =Q26/O26 -> 0.79430889
A27: Izvor 5.2. OSTALE POMOĆI | M27: 24500.1 | O27: 20178 | Q27: ='II. POSEBNI DIO'!M111 -> 10645.62 | S27: =Q27/M27 -> 0.43451333 | U27: =Q27/O27 -> 0.52758549

Sheet A.3. RASHODI FUNKC
A1: AKADEMIJA PRIMIJENJENIH UMJETNOSTI
A2: Slavka Krautzeka 83
A3: 51000 Rijeka
A4: OIB: 55704161999
A5: RKP: 38454
A6: Izvještaj o rashodima prema funkcijskoj klasifikaciji
A7: Za razdoblje od 01.01.2025. do 30.06.2025.
A9: Račun/Opis | G9: Izvršenje 2024 | I9: Izvorni plan 2025 | K9: Izvršenje 2025 | M9: Indeks 3/1 | O9: Indeks 3/2
A10: A.3. IZVJEŠTAJ O RASHODIMA PREMA FUNKCIJSKOJ KLASIFIKACIJI | G10: 1 | I10: 2 | K10: 3 | M10: 4 | O10: 5
A11: Funkcijska klasifikacija SVEUKUPNI RASHODI | G11: 1528438.4 | I11: 3391009 | K11: =K12 -> 1802049.5 | M11: =K11/G11 -> 1.1790136 | O11: =K11/I11 -> 0.53141986
A12: 09 Obrazovanje | G12: 1528438.4 | I12: 3391009 | K12: =K13 -> 1802049.5 | M12: =K12/G12 -> 1.1790136 | O12: =K12/I12 -> 0.53141986
A13: 094 Visoka naobrazba | G13: 1528438.4 | I13: 3391009 | K13: ='II. POSEBNI DIO'!M17 -> 1802049.5 | M13: =K13/G13 -> 1.1790136 | O13: =K13/I13 -> 0.53141986

Sheet B.1. RAČUN FINANC EK
A1: AKADEMIJA PRIMIJENJENIH UMJETNOSTI
A2: Slavka Krautzeka 83
A3: 51000 Rijeka
A4: OIB: 55704161999
A5: RKP: 38454
A6: Izvještaj računa financiranja prema ekonomskoj klasifikaciji
A7: Za razdoblje od 01.01.2025. do 30.06.2025.
A9: Racun/Opis | G9: Izvršenje 2024 | I9: Izvorni plan 2025 | K9: Izvršenje 2025 | M9: Indeks 3/1 | O9: Indeks 3/2
A10: B.1. RAČUN FINANCIRANJA PREMA EKONOMSKOJ KLASIFIKACIJI | G10: 1 | I10: 2 | K10: 3 | M10: 4 | O10: 5
A11: 8 | B11: Primici od financijske imovine i zaduživanja
A12: 5 | B12: Izdaci za financijsku imovinu i otplate zajmova

Sheet B.2. RAČUN FINANC IF
A1: AKADEMIJA PRIMIJENJENIH UMJETNOSTI
A2: Slavka Krautzeka 83
A3: 51000 Rijeka
A4: OIB: 55704161999
A5: RKP: 38454
A6: Izvještaj računa financiranja prema izvorima financiranja
A7: Za razdoblje od 01.01.2025. do 30.06.2025.
A10: Račun / opis | F10: Izvršenje 2024. | H10: Izvorni plan 2025. | J10: Izvršenje 2025. | L10: Indeks 3/1 | N10: Indeks 3/2
A11: B.2. RAČUN FINANCIRANJA PREMA IZVORIMA | F11: 1 | H11: 2 | J11: 3 | L11: 4 | N11: 5
A13: PRIMICI
A14: IZDACI

Sheet II. POSEBNI DIO
A1: AKADEMIJA PRIMIJENJENIH UMJETNOSTI
A2: Slavka Krautzeka 83
A3: 51000 Rijeka
A4: OIB: 55704161999
A5: RKP: 38454
F6: II. POSEBNI DIO
A7: Izvještaj po programskoj klasifikaciji
A8: Za razdoblje od 01.01.2025. do 30.06.2025.
E12: VRSTA RASHODA I IZDATAKA | K12: Izvorni plan 2025 | M12: Izvršenje 2025 | O12: Indeks 2/1
K13: 1 | M13: 2 | O13: 3
C14: UKUPNO RASHODI I IZDATCI | K14: 3391009 | M14: =M15 -> 1802049.5 | O14: 60.59
C15: RAZDJEL 080 MINISTARSTVO ZNANOSTI, OBRAZOVANJA I SPORTA | K15: 3391009 | M15: =M16 -> 1802049.5 | O15: =M15/K15 -> 0.53141986
C16: GLAVA 08006 SVEUČILIŠTA I VELEUČILIŠTA U RH | K16: 3391009 | M16: =M17 -> 1802049.5 | O16: =M16/K16 -> 0.53141986
C17: 3705 | E17: Program: VISOKO OBRAZOVANJE | K17: 3391009 | M17: =M18+M29+M32+M61+M74+M120 -> 1802049.5 | O17: =M17/K17 -> 0.53141986
C18: A621002 | E18: Aktivnost: REDOVNA DJELATNOST SVEUČILIŠTA U RIJECI | K18: 2863314 | M18: =M19 -> 1480282.6 | O18: =M18/K18 -> 0.51698228
C19: Izvor 1.1. OPĆI PRIHODI I PRIMICI | K19: 2863314 | M19: =M20+M25 -> 1480282.6 | O19: =M19/K19 -> 0.51698228
C20: 31 | E20: Rashodi za zaposlene | K20: 2808579 | M20: =M21+M22+M23+M24 -> 1453088.7 | O20: =M20/K20 -> 0.51737506
C21: 3111 | E21: Plaće za redovan rad | M21: =1419388.68-206544.62 -> 1212844.1
C22: 3114 | E22: Plaće za posebne uvjete rada | M22: 6163.87
C23: 3121 | E23: Ostali rashodi za zaposlene | M23: =33634.74-911.13+220.72 -> 32944.33
C24: 3132 | E24: Doprinosi za obvezno zdravstveno osiguranje | M24: =235387.46-34251 -> 201136.46
C25: 32 | E25: Materijalni rashodi | K25: 54735 | M25: =M26+M27+M28 -> 27193.87 | O25: =M25/K25 -> 0.49682781
C26: 3212 | E26: Naknade za prijevoz, za rad na terenu i odvojeni život | M26: =28489.58-4051.71 -> 24437.87
C27: 3236 | E27: Zdravstvene i veterinarske usluge | M27: 480
C28: 3295 | E28: Pristojbe i naknade | M28: =2664-388 -> 2276
C29: A621038 | E29: Aktivnost: PROGRAMI VJEŽBAONICA VISOKIH UČILIŠTA | K29: 1162 | M29: 0 | O29: 0
C30: Izvor 1.1. OPĆI PRIHODI I PRIMICI | K30: 1162 | M30: 0 | O30: 0
C31: 32 | E31: Materijalni rashodi | K31: 1162 | M31: 0 | O31: 0
C32: A622122 | E32: Aktivnost: TROŠKOVI ŠKOLARINE ZA DIPLOMSKI I PREDDIPLOMSKI STUDIJ | K32: 401850 | M32: =M33 -> 115036.42 | O32: =M32/K32 -> 0.28626706
C33: Izvor 1.1. OPĆI PRIHODI I PRIMICI | K33: 401850 | M33: =M34+M56 -> 115036.42 | O33: =M33/K33 -> 0.28626706
C34: 32 | E34: Materijalni rashodi | K34: 379850 | M34: =M35+M36+M37+M38+M39+M40+M41+M42+M43+M44+M45+M47+M46+M48+M49+M51+M50+M52+M53+M54+M55 -> 105062.62 | O34: =M34/K34 -> 0.27658976
C35: 3211 | E35: Službena putovanja | M35: 93.6
C36: 3213 | E36: Stručno usavršavanje zaposlenika | M36: 460
C37: 3214 | E37: Ostale naknade troškova zaposlenima | M37: 253
C38: 3221 | E38: Uredski materijal i ostali materijalni rashodi | M38: =8910.18-396.63 -> 8513.55
C39: 3222 | E39: Materijal i sirovine | M39: 1096.48
C40: 3223 | E40: Energija | M40: =23308.5+5132.3-32.3 -> 28408.5
C41: 3224 | E41: Materijal i dijelovi za tekuće i investicijsko održavanje | M41: =5364.26+530.22 -> 5894.48
C42: 3225 | E42: Sitni inventar i autogume | M42: 385.8
C43: 3231 | E43: Usluge telefona, interneta, pošte i prijevoza | M43: =2806.74+463.45-393.26 -> 2876.93
...
