Workbook

Sheet A. SAŽETAK
A1: AKADEMIJA PRIMIJENJENIH UMJETNOSTI
A2: Slavka Krautzeka 83
A3: 51000 Rijeka
A4: OIB: 55704161999
A5: RKP: 38454
A7: Polugodišnji izvještaj o izvršenju financijskog plana
A8: Za razdoblje od 01.01.2025. do 30.06.2025.
G11: I. OPĆI DIO
E12: SAŽETAK RAČUNA PRIHODA I RASHODA I RAČUNA FINANCIRANJA
A14: SAŽETAK RAČUNA PRIHODA I RASHODA | M14: Izvršenje 2024. | O14: Izvorni plan 2025. | Q14: Izvršenje 2025. | S14: Indeks 3/1 | U14: Indeks 3/2
A15: A. RAČUN PRIHODA I RASHODA | M15: 1 | O15: 2 | Q15: 3 | S15: 4 | U15: 5
A16: 6 Prihodi poslovanja | M16: 1466090.8 | O16: 3376426 | Q16: 1876796.6 | S16: 128.01 | U16: 55.59
A17: 7 Prihodi od prodaje nefinancijske imovine | M17: 0 | O17: 0 | Q17: 0
A18: UKUPNI PRIHODI | M18: 1466090.8 | O18: 3376426 | Q18: 1876796.6 | S18: 128.01 | U18: 55.59
A19: 3 Rashodi poslovanja | M19: 1513663.6 | O19: 3357710 | Q19: ='A.1. PRIHODI I RASHODI EK'!Q34 -> 1781342.6 | S19: 134.39 | U19: 60.58
A20: 4 Rashodi za nabavu nefinancijske imovine | M20: 14774.72 | O20: 33299 | Q20: ='A.1. PRIHODI I RASHODI EK'!Q80 -> 20706.98 | S20: 138.89 | U20: 61.32
A21: UKUPNI RASHODI | M21: 1528438.4 | O21: 3391009 | Q21: =Q19+Q20 -> 1802049.5 | S21: 134.43 | U21: 60.59
A22: RAZLIKA- VIŠAK / MANJAK | M22: -62347.58 | O22: -14583 | Q22: =Q18-Q21 -> 74747.1 | S22: 285.67 | U22: 1219.15
A24: SAŽETAK RAČUNA FINANCIRANJA | M24: Izvršenje 2024. | O24: Izvorni plan 2025. | Q24: Izvršenje 2025. | S24: Indeks 3/1 | U24: Indeks 3/2
A25: B. RAČUN ZADUŽIVANJA / FINANCIRANJA | M25: 1 | O25: 2 | Q25: 3 | S25: 4 | U25: 5
A26: 8 Primici od financijske imovine i zaduživanja | M26: 0 | O26: 0 | Q26: 0 | S26: 0 | U26: 0
A27: 5 Izdaci za financijsku imovinu i otplate zajmova | M27: 0 | O27: 0 | Q27: 0 | S27: 0 | U27: 0
A28: RAZLIKA PRIMITAKA I IZDATAKA | M28: 0 | O28: 0 | Q28: 0 | S28: 0 | U28: 0
A29: PRIJENOS SREDSTAVA IZ PRETHODNE GODINE | M29: 0 | O29: 81538 | Q29: 66955
A30: PRIJENOS SREDSTAVA U SLJEDEĆE RAZDOBLJE | M30: 0 | O30: -66955 | Q30: -141702.1 | S30: 0 | U30: 0
A31: NETO FINANCIRANJE
A32: VIŠAK/MANJAK + NETO FINANCIRANJE | M32: -62347.58 | O32: =O29+O30+O22 -> 0 | Q32: =Q29+Q30+Q22 -> -1.4551915e-10 | S32: 0 | U32: 0

Sheet A.1. PRIHODI I RASHODI EK
A1: AKADEMIJA PRIMIJENJENIH UMJETNOSTI
A2: Slavka Krautzeka 83
A3: 51000 Rijeka
A4: OIB: 55704161999
A5: RKP: 38454
A6: Izvještaj o prihodima i rashodima prema ekonomskoj klasifikaciji
A7: Za razdoblje od 01.01.2025. do 30.06.2025.
F11: SAŽETAK RAČUNA PRIHODA I RASHODA I RAČUNA FINANCIRANJA
A14: Račun / opis | M14: Izvršenje 2024. | O14: Izvorni plan 2025. | Q14: Izvršenje 2025. | S14: Indeks 3/1 | U14: Indeks 3/2
A15: A.1. RAČUN PRIHODA I RASHODA | M15: 1 | O15: 2 | Q15: 3 | S15: 4 | U15: 5
A16: 6 Prihodi poslovanja | M16: 1466090.8 | O16: 3376426 | Q16: 1876796.6 | S16: 128.01 | U16: 55.59
A17: 63 Pomoći iz inozemstva i od subjekata unutar općeg proračuna | M17: 18540.86 | O17: 7100 | Q17: 54789.23 | S17: 295.51 | U17: =Q17/O17 -> 7.716793
A18: 632 Pomoći od međunarodnih organizacija te institucija i tijela EU | M18: 13436.16 | S18: 0
A19: 6323 Tekuće pomoći od institucija i tijela EU | M19: 13436.16 | S19: 0
A20: 636 Pomoći proračunskim korisnicima iz proračuna koji im nije nadležan | Q20: 7780 | S20: 0
A21: 6361 Tekuće pomoći proračunskim korisnicima iz proračuna koji im nije nadležan | Q21: 7780 | S21: 0
A22: 639 Prijenosi između proračunskih korisnika istog proračuna | M22: 5104.7 | Q22: 47009.23 | S22: 920.9
A23: 6391 Tekući prijenosi između proračunskih korisnika istog proračuna | M23: 5104.7 | Q23: 47009.23 | S23: 920.9
A24: 65 Prihodi od upravnih i administrativnih pristojbi, pristojbi po posebnim propisima i naknada | M24: 5608.95 | O24: 80000 | Q24: 7674.96 | S24: 136.83 | U24: =Q24/O24 -> 0.095937
A25: 652 Prihodi po posebnim propisima | M25: 5608.95 | Q25: 7674.96 | S25: 136.83
A26: 6526 Ostali nespomenuti prihodi | M26: 5608.95 | Q26: 7674.96 | S26: 136.83
A27: 66 Prihodi od prodaje proizvoda i robe te pruženih usluga, prihodi od donacija te povrati po protestira | M27: 10370.11 | O27: 23000 | Q27: 21989.61 | S27: 212.05 | U27: =Q27/O27 -> 0.95607
A28: 661 Prihodi od prodaje proizvoda i robe te pruženih usluga | M28: 10370.11 | Q28: 21989.61 | S28: 212.05
A29: 6614 Prihodi od prodaje proizvoda i robe | M29: 5760 | Q29: 9898.6 | S29: 171.85
A30: 6615 Prihodi od pruženih usluga | M30: 4610.11 | Q30: 12091.01 | S30: 262.27
A31: 67 Prihodi iz nadležnog proračuna i od HZZO-a temeljem ugovornih obveza | M31: 1431570.9 | O31: 3266326 | Q31: 1792342.8 | S31: 125.2 | U31: =Q31/O31 -> 0.5487336
A32: 671 Prihodi iz nadležnog proračuna za financiranje redovne djelatnosti proračunskih korisnika | M32: 1431570.9 | Q32: 1792342.8 | S32: 125.2
A33: 6711 Prihodi iz nadležnog proračuna za financiranje rashoda poslovanja | M33: 1431570.9 | Q33: 1792342.8 | S33: 125.2
A34: 3 Rashodi poslovanja | M34: 1513663.6 | O34: 3357710 | Q34: =Q35+Q43+Q73+Q77 -> 1781342.6 | S34: =Q34/M34 -> 1.1768418 | U34: =Q34/O34 -> 0.53052305
A35: 31 Rashodi za zaposlene | M35: 1257692.8 | O35: 2834110 | Q35: =Q36+Q39+Q41 -> 1477962.5 | S35: =Q35/M35 -> 1.175138 | U35: =Q35/O35 -> 0.52149088
A36: 311 Plaće (Bruto) | M36: 1049798.3 | Q36: =Q37+Q38 -> 1237311.6 | S36: =Q36/M36 -> 1.1786185
A37: 3111 Plaće za redovan rad | M37: 1046026.2 | Q37: ='II. POSEBNI DIO'!M21+'II. POSEBNI DIO'!M64+'II. POSEBNI DIO'!M90 -> 1231147.7 | S37: =Q37/M37 -> 1.1769761
A38: 3114 Plaće za posebne uvjete rada | M38: 3772.11 | Q38: ='II. POSEBNI DIO'!M22 -> 6163.87 | S38: =Q38/M38 -> 1.6340642
A39: 312 Ostali rashodi za zaposlene | M39: 34573.81 | Q39: =Q40 -> 36494.33 | S39: =Q39/M39 -> 1.0555484
A40: 3121 Ostali rashodi za zaposlene | M40: 34573.81 | Q40: ='II. POSEBNI DIO'!M23+'II. POSEBNI DIO'!M77+'II. POSEBNI DIO'!M91 -> 36494.33 | S40: =Q40/M40 -> 1.0555484
A41: 313 Doprinosi na plaće | M41: 173320.69 | Q41: =Q42 -> 204156.59 | S41: =Q41/M41 -> 1.1779124
A42: 3132 Doprinosi za obvezno zdravstveno osiguranje | M42: 173320.69 | Q42: ='II. POSEBNI DIO'!M24+'II. POSEBNI DIO'!M65+'II. POSEBNI DIO'!M92 -> 204156.59 | S42: =Q42/M42 -> 1.1779124
A43: 32 Materijalni rashodi | M43: 254817.04 | O43: 519440 | Q43: =Q44+Q49+Q55+Q65+Q67 -> 298133.62 | S43: =Q43/M43 -> 1.1699909 | U43: =Q43/O43 -> 0.57395199
A44: 321 Naknade troškova zaposlenima | M44: 33244.12 | Q44: =Q45+Q46+Q47+Q48 -> 34247.86 | S44: =Q44/M44 -> 1.030193
A45: 3211 Službena putovanja | M45: 6977.83 | Q45: ='II. POSEBNI DIO'!M35+'II. POSEBNI DIO'!M94+'II. POSEBNI DIO'!M123 -> 8344.98 | S45: =Q45/M45 -> 1.1959277
A46: 3212 Naknade za prijevoz, za rad na terenu i odvojeni život | M46: 23351.29 | Q46: ='II. POSEBNI DIO'!M26+'II. POSEBNI DIO'!M67+'II. POSEBNI DIO'!M95 -> 25049.88 | S46: =Q46/M46 -> 1.0727407
A47: 3213 Stručno usavršavanje zaposlenika | M47: 2915 | Q47: ='II. POSEBNI DIO'!M36+'II. POSEBNI DIO'!M124 -> 600 | S47: =Q47/M47 -> 0.2058319
A48: 3214 Ostale naknade troškova zaposlenima | Q48: ='II. POSEBNI DIO'!M37 -> 253
A49: 322 Rashodi za materijal i energiju | M49: 41418.25 | Q49: =Q50+Q51+Q52+Q53+Q54 -> 55876.69 | S49: =Q49/M49 -> 1.3490838
A50: 3221 Uredski materijal i ostali materijalni rashodi | M50: 6611.55 | Q50: ='II. POSEBNI DIO'!M38+'II. POSEBNI DIO'!M79+'II. POSEBNI DIO'!M96+'II. POSEBNI DIO'!M125 -> 10052.57 | S50: =Q50/M50 -> 1.5204559
A51: 3222 Materijal i sirovine | M51: 8678.05 | Q51: 10054.97 | S51: =Q51/M51 -> 1.158667
A52: 3223 Energija | M52: 18527.3 | Q52: ='II. POSEBNI DIO'!M40 -> 28408.5 | S52: =Q52/M52 -> 1.5333319
A53: 3224 Materijal i dijelovi za tekuće i investicijsko održavanje | M53: 5483.16 | Q53: ='II. POSEBNI DIO'!M41+'II. POSEBNI DIO'!M81+'II. POSEBNI DIO'!M98 -> 6026.11 | S53: =Q53/M53 -> 1.0990214
A54: 3225 Sitni inventar i autogume | M54: 2118.19 | Q54: ='II. POSEBNI DIO'!M42+'II. POSEBNI DIO'!M68+'II. POSEBNI DIO'!M99+'II. POSEBNI DIO'!M127 -> 1334.54 | S54: =Q54/M54 -> 0.63003791
A55: 323 Rashodi za usluge | M55: 172780.86 | Q55: =Q56+Q57+Q58+Q59+Q60+Q61+Q63+Q64+Q62 -> 188590.96 | S55: =Q55/M55 -> 1.0915038
A56: 3231 Usluge telefona, interneta, pošte i prijevoza | M56: 2721.19 | Q56: ='II. POSEBNI DIO'!M43+'II. POSEBNI DIO'!M128 -> 4631.93 | S56: =Q56/M56 -> 1.7021707
A57: 3232 Usluge tekućeg i investicijskog održavanja | M57: 3856.04 | Q57: ='II. POSEBNI DIO'!M44 -> 3019.08 | S57: =Q57/M57 -> 0.78294831
A58: 3233 Usluge promidžbe i informiranja | M58: 860.5 | Q58: ='II. POSEBNI DIO'!M45+'II. POSEBNI DIO'!M114+'II. POSEBNI DIO'!M129 -> 10406.07 | S58: =Q58/M58 -> 12.093051
A59: 3234 Komunalne usluge | M59: 14054.18 | Q59: ='II. POSEBNI DIO'!M46 -> 13139.91 | S59: =Q59/M59 -> 0.93494676
A60: 3235 Zakupnine i najamnine | M60: 11330.83 | Q60: ='II. POSEBNI DIO'!M47+'II. POSEBNI DIO'!M69+'II. POSEBNI DIO'!M100+'II. POSEBNI DIO'!M130 -> 28215.41 | S60: =Q60/M60 -> 2.490145
A61: 3236 Zdravstvene i veterinarske usluge | Q61: ='II. POSEBNI DIO'!M27+'II. POSEBNI DIO'!M48 -> 895.41
A62: 3237 Intelektualne i osobne usluge | M62: 122444.72 | Q62: ='II. POSEBNI DIO'!M49+'II. POSEBNI DIO'!M70+'II. POSEBNI DIO'!M82+'II. POSEBNI DIO'!M101+'II. POSEBNI DIO'!M115+'II. POSEBNI DIO'!M131 -> 114804.45 | S62: =Q62/M62 -> 0.93760229
A63: 3238 Računalne usluge | M63: 8897.37 | Q63: ='II. POSEBNI DIO'!M50 -> 6959.51 | S63: =Q63/M63 -> 0.78219856
A64: 3239 Ostale usluge | M64: 8616.03 | Q64: ='II. POSEBNI DIO'!M51 -> 6519.19 | S64: =Q64/M64 -> 0.75663502
A65: 324 Naknade troškova osobama izvan radnog odnosa | M65: 310.5 | Q65: =Q66 -> 4870.79 | S65: =Q65/M65 -> 15.686924
A66: 3241 Naknade troškova osobama izvan radnog odnosa | M66: 310.5 | Q66: ='II. POSEBNI DIO'!M102+'II. POSEBNI DIO'!M116+'II. POSEBNI DIO'!M132 -> 4870.79 | S66: =Q66/M66 -> 15.686924
A67: 329 Ostali nespomenuti rashodi poslovanja | M67: 7063.31 | Q67: =Q68+Q69+Q70+Q71+Q72 -> 14547.32 | S67: =Q67/M67 -> 2.0595613
A68: 3292 Premije osiguranja | M68: 2889 | Q68: ='II. POSEBNI DIO'!M52 -> 2791 | S68: =Q68/M68 -> 0.96607823
A69: 3293 Reprezentacija | M69: 1474.49 | Q69: ='II. POSEBNI DIO'!M53+'II. POSEBNI DIO'!M71+'II. POSEBNI DIO'!M133 -> 8510.29 | S69: =Q69/M69 -> 5.7716838
A70: 3294 Članarine i norme | Q70: ='II. POSEBNI DIO'!M103 -> 727.16
A71: 3295 Pristojbe i naknade | M71: 2047.62 | Q71: ='II. POSEBNI DIO'!M28+'II. POSEBNI DIO'!M54 -> 2339.72 | S71: =Q71/M71 -> 1.1426534
A72: 3299 Ostali nespomenuti rashodi poslovanja | M72: 652.2 | Q72: ='II. POSEBNI DIO'!M55 -> 179.15 | S72: =Q72/M72 -> 0.27468568
A73: 34 Financijski rashodi | M73: 706.76 | O73: 2000 | Q73: =Q74 -> 739.21 | S73: =Q73/M73 -> 1.0459137 | U73: =Q73/O73 -> 0.369605
A74: 343 Ostali financijski rashodi | M74: 706.76 | Q74: =Q75+Q76 -> 739.21 | S74: =Q74/M74 -> 1.0459137
A75: 3431 Bankarske usluge i usluge platnog prometa | M75: 681.72 | Q75: ='II. POSEBNI DIO'!M105 -> 727.81 | S75: =Q75/M75 -> 1.0676084
A76: 3433 Zatezne kamate | M76: 25.04 | Q76: ='II. POSEBNI DIO'!M106 -> 11.4 | S76: =Q76/M76 -> 0.45527157
A77: 36 Pomoći dane u inozemstvo i unutar općeg proračuna | M77: 447.07 | O77: 2160 | Q77: =Q78 -> 4507.2 | S77: =Q77/M77 -> 10.081643 | U77: =Q77/O77 -> 2.0866667
A78: 369 Prijenosi između proračunskih korisnika istog proračuna | M78: 447.07 | Q78: =Q79 -> 4507.2 | S78: =Q78/M78 -> 10.081643
A79: 3691 Tekući prijenosi između proračunskih korisnika istog proračuna | M79: 447.07 | Q79: ='II. POSEBNI DIO'!M84+'II. POSEBNI DIO'!M108+'II. POSEBNI DIO'!M118 -> 4507.2 | S79: =Q79/M79 -> 10.081643
A80: 4 Rashodi za nabavu nefinancijske imovine | M80: 14774.72 | O80: 33299 | Q80: =Q81 -> 20706.98 | S80: =Q80/M80 -> 1.4015142 | U80: =Q80/O80 -> 0.62184991
A81: 42 Rashodi za nabavu proizvedene dugotrajne imovine | M81: 14774.72 | O81: 33299 | Q81: =Q82 -> 20706.98 | S81: =Q81/M81 -> 1.4015142 | U81: =Q81/O81 -> 0.62184991
A82: 422 Postrojenja i oprema | M82: 14774.72 | Q82: =Q83+Q84+Q85+Q86+Q87 -> 20706.98 | S82: =Q82/M82 -> 1.4015142
A83: 4221 Uredska oprema i namještaj | M83: 11287.4 | Q83: ='II. POSEBNI DIO'!M57+'II. POSEBNI DIO'!M86+'II. POSEBNI DIO'!M110+'II. POSEBNI DIO'!M135 -> 5331.97 | S83: =Q83/M83 -> 0.47238248
A84: 4222 Komunikacijska oprema | M84: 380 | Q84: ='II. POSEBNI DIO'!M73 -> 291.85 | S84: =Q84/M84 -> 0.76802632
A85: 4223 Oprema za održavanje i zaštitu | Q85: ='II. POSEBNI DIO'!M58 -> 5562.5
A86: 4225 Instrumenti i uređaji | M86: 259.94 | Q86: ='II. POSEBNI DIO'!M59 -> 1971.03
A87: 4227 Uređaji, strojevi i oprema za ostale namjene | M87: 2847.38 | Q87: ='II. POSEBNI DIO'!M60+'II. POSEBNI DIO'!M87+'II. POSEBNI DIO'!M136 -> 7549.63 | S87: =Q87/M87 -> 2.6514304

Sheet A.2. PRIHODI I RASHODI IF
A1: AKADEMIJA PRIMIJENJENIH UMJETNOSTI
A2: Slavka Krautzeka 83
A3: 51000 Rijeka
A4: OIB: 55704161999
A5: RKP: 38454
A6: Izvještaj o prihodima i rashodima prema izvorima financiranja
A7: Za razdoblje od 01.01.2025. do 30.06.2025.
F11: SAŽETAK RAČUNA PRIHODA I RASHODA I RAČUNA FINANCIRANJA
A14: Račun / opis | M14: Izvršenje 2024. | O14: Izvorni plan 2025. | Q14: Izvršenje 2025. | S14: Indeks 3/1 | U14: Indeks 3/2
A15: A.2. PRIHODI I RASHODI PREMA IZVORIMA FINANCIRANJA | M15: 1 | O15: 2 | Q15: 3 | S15: 4 | U15: 5
A16: SVEUKUPNI PRIHODI | M16: 1466090.8 | O16: 3376426 | Q16: 1876796.6 | S16: 128.01 | U16: 55.59
A17: Izvor 1.1. OPĆI PRIHODI I PRIMICI | M17: 1431570.9 | O17: 3266326 | Q17: 1792342.8 | S17: 125.2 | U17: 54.87
A18: Izvor 3.1. VLASTITI PRIHODI | M18: 10370.11 | O18: 23000 | Q18: 21989.61 | S18: 212.05 | U18: 95.61
A19: Izvor 4.3. OSTALI PRIHODI ZA POSEBNE NAMJENE | M19: 5608.95 | O19: 80000 | Q19: 7674.96 | S19: 136.83 | U19: 9.59
A20: Izvor 5.1. POMOĆI EU | M20: 13436.16 | O20: 6720 | S20: =Q20/M20 -> 0 | U20: =Q20/O20 -> 0
A21: Izvor 5.2. OSTALE POMOĆI | M21: 5104.7 | O21: 380 | Q21: 54789.23 | S21: =Q21/M21 -> 10.733095 | U21: =Q21/O21 -> 144.18218
A22: SVEUKUPNI RASHODI | M22: 1528438.4 | O22: 3391009 | Q22: =Q23+Q24+Q25+Q26+Q27 -> 1802049.5 | S22: =Q22/M22 -> 1.1790136 | U22: =Q22/O22 -> 0.53141986
A23: Izvor 1.1. OPĆI PRIHODI I PRIMICI | M23: 1470018.9 | O23: 3266326 | Q23: ='II. POSEBNI DIO'!M19+'II. POSEBNI DIO'!M33+'II. POSEBNI DIO'!M121 -> 1719228.8 | S23: =Q23/M23 -> 1.1695284 | U23: =Q23/O23 -> 0.52634943
A24: Izvor 3.1. VLASTITI PRIHODI | M24: 2806.93 | O24: 22010 | Q24: ='II. POSEBNI DIO'!M75 -> 21003.07 | S24: =Q24/M24 -> 7.4825771 | U24: =Q24/O24 -> 0.95425125
A25: Izvor 4.3. OSTALI PRIHODI ZA POSEBNE NAMJENE | M25: 26284.75 | O25: 73495 | Q25: ='II. POSEBNI DIO'!M88 -> 44023.24 | S25: =Q25/M25 -> 1.6748586 | U25: =Q25/O25 -> 0.59899639
A26: Izvor 5.1. POMOĆI | M26: 4827.71 | O26: 9000 | Q26: ='II. POSEBNI DIO'!M61 -> 7148.78 | S26: =Q26/M26 -> 1.4807807 | U26: =Q26/O26 -> 0.79430889
A27: Izvor 5.2. OSTALE POMOĆI | M27: 24500.1 | O27: 20178 | Q27: ='II. POSEBNI DIO'!M111 -> 10645.62 | S27: =Q27/M27 -> 0.43451333 | U27: =Q27/O27 -> 0.52758549

Sheet A.3. RASHODI FUNKC
A1: AKADEMIJA PRIMIJENJENIH UMJETNOSTI
A2: Slavka Krautzeka 83
A3: 51000 Rijeka
A4: OIB: 55704161999
A5: RKP: 38454
A6: Izvještaj o rashodima prema funkcijskoj klasifikaciji
A7: Za razdoblje od 01.01.2025. do 30.06.2025.
A9: Račun/Opis | G9: Izvršenje 2024 | I9: Izvorni plan 2025 | K9: Izvršenje 2025 | M9: Indeks 3/1 | O9: Indeks 3/2
A10: A.3. IZVJEŠTAJ O RASHODIMA PREMA FUNKCIJSKOJ KLASIFIKACIJI | G10: 1 | I10: 2 | K10: 3 | M10: 4 | O10: 5
A11: Funkcijska klasifikacija SVEUKUPNI RASHODI | G11: 1528438.4 | I11: 3391009 | K11: =K12 -> 1802049.5 | M11: =K11/G11 -> 1.1790136 | O11: =K11/I11 -> 0.53141986
A12: 09 Obrazovanje | G12: 1528438.4 | I12: 3391009 | K12: =K13 -> 1802049.5 | M12: =K12/G12 -> 1.1790136 | O12: =K12/I12 -> 0.53141986
A13: 094 Visoka naobrazba | G13: 1528438.4 | I13: 3391009 | K13: ='II. POSEBNI DIO'!M17 -> 1802049.5 | M13: =K13/G13 -> 1.1790136 | O13: =K13/I13 -> 0.53141986

Sheet B.1. RAČUN FINANC EK
A1: AKADEMIJA PRIMIJENJENIH UMJETNOSTI
A2: Slavka Krautzeka 83
A3: 51000 Rijeka
A4: OIB: 55704161999
A5: RKP: 38454
A6: Izvještaj računa financiranja prema ekonomskoj klasifikaciji
A7: Za razdoblje od 01.01.2025. do 30.06.2025.
A9: Racun/Opis | G9: Izvršenje 2024 | I9: Izvorni plan 2025 | K9: Izvršenje 2025 | M9: Indeks 3/1 | O9: Indeks 3/2
A10: B.1. RAČUN FINANCIRANJA PREMA EKONOMSKOJ KLASIFIKACIJI | G10: 1 | I10: 2 | K10: 3 | M10: 4 | O10: 5
A11: 8 | B11: Primici od financijske imovine i zaduživanja
A12: 5 | B12: Izdaci za financijsku imovinu i otplate zajmova

Sheet B.2. RAČUN FINANC IF
A1: AKADEMIJA PRIMIJENJENIH UMJETNOSTI
A2: Slavka Krautzeka 83
A3: 51000 Rijeka
A4: OIB: 55704161999
A5: RKP: 38454
A6: Izvještaj računa financiranja prema izvorima financiranja
A7: Za razdoblje od 01.01.2025. do 30.06.2025.
A10: Račun / opis | F10: Izvršenje 2024. | H10: Izvorni plan 2025. | J10: Izvršenje 2025. | L10: Indeks 3/1 | N10: Indeks 3/2
A11: B.2. RAČUN FINANCIRANJA PREMA IZVORIMA | F11: 1 | H11: 2 | J11: 3 | L11: 4 | N11: 5
A13: PRIMICI
A14: IZDACI

Sheet II. POSEBNI DIO
A1: AKADEMIJA PRIMIJENJENIH UMJETNOSTI
A2: Slavka Krautzeka 83
A3: 51000 Rijeka
A4: OIB: 55704161999
A5: RKP: 38454
F6: II. POSEBNI DIO
A7: Izvještaj po programskoj klasifikaciji
A8: Za razdoblje od 01.01.2025. do 30.06.2025.
E12: VRSTA RASHODA I IZDATAKA | K12: Izvorni plan 2025 | M12: Izvršenje 2025 | O12: Indeks 2/1
K13: 1 | M13: 2 | O13: 3
C14: UKUPNO RASHODI I IZDATCI | K14: 3391009 | M14: =M15 -> 1802049.5 | O14: 60.59
C15: RAZDJEL 080 MINISTARSTVO ZNANOSTI, OBRAZOVANJA I SPORTA | K15: 3391009 | M15: =M16 -> 1802049.5 | O15: =M15/K15 -> 0.53141986
C16: GLAVA 08006 SVEUČILIŠTA I VELEUČILIŠTA U RH | K16: 3391009 | M16: =M17 -> 1802049.5 | O16: =M16/K16 -> 0.53141986
C17: 3705 | E17: Program: VISOKO OBRAZOVANJE | K17: 3391009 | M17: =M18+M29+M32+M61+M74+M120 -> 1802049.5 | O17: =M17/K17 -> 0.53141986
C18: A621002 | E18: Aktivnost: REDOVNA DJELATNOST SVEUČILIŠTA U RIJECI | K18: 2863314 | M18: =M19 -> 1480282.6 | O18: =M18/K18 -> 0.51698228
C19: Izvor 1.1. OPĆI PRIHODI I PRIMICI | K19: 2863314 | M19: =M20+M25 -> 1480282.6 | O19: =M19/K19 -> 0.51698228
C20: 31 | E20: Rashodi za zaposlene | K20: 2808579 | M20: =M21+M22+M23+M24 -> 1453088.7 | O20: =M20/K20 -> 0.51737506
C21: 3111 | E21: Plaće za redovan rad | M21: =1419388.68-206544.62 -> 1212844.1
C22: 3114 | E22: Plaće za posebne uvjete rada | M22: 6163.87
C23: 3121 | E23: Ostali rashodi za zaposlene | M23: =33634.74-911.13+220.72 -> 32944.33
C24: 3132 | E24: Doprinosi za obvezno zdravstveno osiguranje | M24: =235387.46-34251 -> 201136.46
C25: 32 | E25: Materijalni rashodi | K25: 54735 | M25: =M26+M27+M28 -> 27193.87 | O25: =M25/K25 -> 0.49682781
C26: 3212 | E26: Naknade za prijevoz, za rad na terenu i odvojeni život | M26: =28489.58-4051.71 -> 24437.87
C27: 3236 | E27: Zdravstvene i veterinarske usluge | M27: 480
C28: 3295 | E28: Pristojbe i naknade | M28: =2664-388 -> 2276
C29: A621038 | E29: Aktivnost: PROGRAMI VJEŽBAONICA VISOKIH UČILIŠTA | K29: 1162 | M29: 0 | O29: 0
C30: Izvor 1.1. OPĆI PRIHODI I PRIMICI | K30: 1162 | M30: 0 | O30: 0
C31: 32 | E31: Materijalni rashodi | K31: 1162 | M31: 0 | O31: 0
C32: A622122 | E32: Aktivnost: TROŠKOVI ŠKOLARINE ZA DIPLOMSKI I PREDDIPLOMSKI STUDIJ | K32: 401850 | M32: =M33 -> 115036.42 | O32: =M32/K32 -> 0.28626706
C33: Izvor 1.1. OPĆI PRIHODI I PRIMICI | K33: 401850 | M33: =M34+M56 -> 115036.42 | O33: =M33/K33 -> 0.28626706
C34: 32 | E34: Materijalni rashodi | K34: 379850 | M34: =M35+M36+M37+M38+M39+M40+M41+M42+M43+M44+M45+M47+M46+M48+M49+M51+M50+M52+M53+M54+M55 -> 105062.62 | O34: =M34/K34 -> 0.27658976
C35: 3211 | E35: Službena putovanja | M35: 93.6
C36: 3213 | E36: Stručno usavršavanje zaposlenika | M36: 460
C37: 3214 | E37: Ostale naknade troškova zaposlenima | M37: 253
C38: 3221 | E38: Uredski materijal i ostali materijalni rashodi | M38: =8910.18-396.63 -> 8513.55
C39: 3222 | E39: Materijal i sirovine | M39: 1096.48
C40: 3223 | E40: Energija | M40: =23308.5+5132.3-32.3 -> 28408.5
C41: 3224 | E41: Materijal i dijelovi za tekuće i investicijsko održavanje | M41: =5364.26+530.22 -> 5894.48
C42: 3225 | E42: Sitni inventar i autogume | M42: 385.8
C43: 3231 | E43: Usluge telefona, interneta, pošte i prijevoza | M43: =2806.74+463.45-393.26 -> 2876.93
C44: 3232 | E44: Usluge tekućeg i investicijskog održavanja | M44: =3196.98+27.5-205.4 -> 3019.08
C45: 3233 | E45: Usluge promidžbe i informiranja | M45: 920
C46: 3234 | E46: Komunalne usluge | M46: =13592.45+565.35-1017.89 -> 13139.91
C47: 3235 | E47: Zakupnine i najamnine | M47: 7195.64
C48: 3236 | E48: Zdravstvene i veterinarske usluge | M48: =280+135.41 -> 415.41
C49: 3237 | E49: Intelektualne i osobne usluge | M49: =11500.67+1457.29-1145.4 -> 11812.56
C50: 3238 | E50: Računalne usluge | M50: =6877.01+332.5-250 -> 6959.51
C51: 3239 | E51: Ostale usluge | M51: =6470.55-1160.48+1209.12 -> 6519.19
C52: 3292 | E52: Premije osiguranja | M52: =3264-473 -> 2791
C53: 3293 | E53: Reprezentacija | M53: 4065.11
C54: 3295 | E54: Pristojbe i naknade | M54: 63.72
C55: 3299 | E55: Ostali nespomenuti rashodi poslovanja | M55: 179.15
C56: 42 | E56: Rashodi za nabavu proizvedene dugotrajne imovine | K56: 22000 | M56: =M57+M58+M59+M60 -> 9973.8 | O56: =M56/K56 -> 0.45335455
C57: 4221 | E57: Uredska oprema i namještaj | M57: =2779.38-1027.4 -> 1751.98
C58: 4223 | E58: Oprema za održavanje i zaštitu | M58: 5562.5
C59: 4225 | E59: Instrumenti i uređaji | M59: 1971.03
C60: 4227 | E60: Uređaji, strojevi i oprema za ostale namjene | M60: 688.29
C61: A679072 | E61: Aktivnost: EU PROJEKTI SVEUČILIŠTA U RIJECI - OSTALI IZVORI FINANCIRANJA | K61: 9000 | M61: =M62 -> 7148.78 | O61: =M61/K61 -> 0.79430889
C62: Izvor 5.1. POMOĆI EU | K62: 9000 | M62: =M63+M66+M72 -> 7148.78 | O62: =M62/K62 -> 0.79430889
C63: 31 | E63: Rashodi za zaposlene | K63: 0 | M63: =M64+M65 -> 2240.18
C64: 3111 | E64: Plaće za redovan rad | M64: 1922.9
C65: 3132 | E65: Doprinosi za obvezno zdravstveno osiguranje | M65: 317.28
C66: 32 | E66: Materijalni rashodi | K66: 9000 | M66: =M67+M68+M69+M70+M71 -> 4616.75 | O66: 61.08
C67: 3212 | E67: Naknade za prijevoz, za rad na terenu i odvojeni život | M67: 260
C68: 3225 | E68: Sitni inventar i autogume | M68: 200
C69: 3235 | E69: Zakupnine i najamnine | M69: 2812.5
C70: 3237 | E70: Intelektualne i osobne usluge | M70: 1344.25
C71: 3293 | E71: Reprezentacija | M71: 0
C72: 42 | E72: Rashodi za nabavu proizvedene dugotrajne imovine | K72: 0 | M72: =M73 -> 291.85
C73: 4222 | E73: Komunikacijska oprema | M73: 291.85
C74: A679089 | E74: Aktivnost: REDOVNA DJELATNOST SVEUČILIŠTA U RIJECI - OSTALI IZVORI FINANCIRANJA | K74: 115683 | M74: =M75+M88+M111 -> 75671.93 | O74: =M74/K74 -> 0.65413181
C75: Izvor 3.1. VLASTITI PRIHODI | K75: 22010 | M75: =M76+M78+M83+M85 -> 21003.07 | O75: =M75/K75 -> 0.95425125
C76: 31 | E76: Rashodi za zaposlene | K76: 2200 | M76: =M77 -> 3150 | O76: 143.18
C77: 3121 | E77: Ostali rashodi za zaposlene | M77: 3150
C78: 32 | E78: Materijalni rashodi | K78: 17590 | M78: =M79+M80+M81+M82 -> 12318.89 | O78: 68.58
C79: 3221 | E79: Uredski materijal i ostali materijalni rashodi | M79: =15.78+362.25 -> 378.03
C80: 3222 | E80: Materijal i sirovine | M80: 816.66
C81: 3224 | E81: Materijal i dijelovi za tekuće i investicijsko održavanje | M81: 131.63
C82: 3237 | E82: Intelektualne i osobne usluge | M82: =11098.77-106.2 -> 10992.57
C83: 36 | E83: Pomoći dane u inozemstvo i unutar općeg proračuna | K83: 720 | M83: =M84 -> 470.39 | O83: 65.33
C84: 3691 | E84: Tekući prijenosi između proračunskih korisnika istog proračuna | M84: 470.39
C85: 42 | E85: Rashodi za nabavu proizvedene dugotrajne imovine | K85: 1500 | M85: =M87+M86 -> 5063.79 | O85: 249.96
C86: 4221 | E86: Uredska oprema i namještaj | M86: 66.95
C87: 4227 | E87: Uređaji, strojevi i oprema za ostale namjene | M87: =3682.38+1314.46 -> 4996.84
C88: Izvor 4.3. OSTALI PRIHODI ZA POSEBNE NAMJENE | K88: 73495 | M88: =M89+M93+M104+M107+M109 -> 44023.24 | O88: =M88/K88 -> 0.59899639
C89: 31 | E89: Rashodi za zaposlene | K89: 23331 | M89: =M90+M91+M92 -> 19483.63 | O89: 97.3
C90: 3111 | E90: Plaće za redovan rad | M90: =19142.96-2762.18 -> 16380.78
C91: 3121 | E91: Ostali rashodi za zaposlene | M91: 400
C92: 3132 | E92: Doprinosi za obvezno zdravstveno osiguranje | M92: =3158.61-455.76 -> 2702.85
C93: 32 | E93: Materijalni rashodi | K93: 40925 | M93: =M94+M95+M96+M97+M98+M99+M100+M101+M102+M103 -> 23403.1 | O93: 56.24
C94: 3211 | E94: Službena putovanja | M94: 5404.66
C95: 3212 | E95: Naknade za prijevoz, za rad na terenu i odvojeni život | M95: =403.07-51.06 -> 352.01
C96: 3221 | E96: Uredski materijal i ostali materijalni rashodi | M96: 3.6
C97: 3222 | E97: Materijal i sirovine | M97: 2893.47
C98: 3224 | E98: Materijal i dijelovi za tekuće i investicijsko održavanje | M98: 0
C99: 3225 | E99: Sitni inventar i autogume | M99: 139
C100: 3235 | E100: Zakupnine i najamnine | M100: 150
C101: 3237 | E101: Intelektualne i osobne usluge | M101: =13047.99+1432.29-943.08 -> 13537.2
C102: 3241 | E102: Naknade troškova osobama izvan radnog odnosa | M102: 196
C103: 3294 | E103: Članarine i norme | M103: 727.16
...
